{"text_format":"1","workbook":"xlsx","n_sheets":6,"sheets":["EP_LV_Price-list","EP_LV_Акційне обладнання","Розрахунок","КП","Заявка","MPG"],"not_rendered":{"charts":0,"images":2,"macros":1,"external_links":0,"defined_names":7,"comments":0,"pivot_tables":0},"unopened":[],"bounds":{"document_bytes":16777216,"sheet_cells":100000,"rows_first":2000,"rows_last":500,"rows_between":2000,"halvings":0,"cell_chars":16384,"cell_head_chars":4096},"cells_cut":0,"cells_raw":0,"read":"whole","date_system":"1900"}

{"sheet":"EP_LV_Price-list","index":0,"n_rows":39944,"n_cols":13,"rows_kept":4500,"cut":true,"hidden":false,"merged":[],"bounds":{"rows_first":2000,"rows_last":500,"rows_between":2000,"halvings":0}}
[]
["—"]
["Прайс-лист"]
["Обладнання низької напруги"]
[]
["ТОВ «АББ Лтд», м. Київ, Україна, www.abb.ua"]
["Дійсний з 1 липня 2019 року"]
[]
["Даний прайс-лист є індикативним і може змінюватися на розсуд компанії ТОВ «АББ Лтд» при підготовці комерційних пропозицій"]
["Поставка обладнання здійснюється на умовах ExW відповідно до правил ІНКОТЕРМС 2010 за адресою: 07402, Україна, Київська обл., Броварський р-н, с. Перемога, вул. Б. Хмельницького, 1"]
[]
[]
[]
[]
[]
["Код замовлення","Тип","Опис","Ціна, \nгрн. з ПДВ","Наявність на складі","Термін поставки, тижнів","Товарна група","Кратність замовлення","Од. вимір. \nшт.","Примітки","MPG","Завод-виробник","Гарантія"]
["1SLM004100A1100",null,"MISTRAL41F Вбуд. непр. двері 4M",432.36,"склад",1,"Consumer units",1,"шт.","без клемників","AR"]
["1SLM004100A1101",null,"MISTRAL41F Вбуд. непр. двері 6M",535.61999999999989,"склад",1,"Consumer units",1,"шт.","без клемників","AR"]
["1SLM004100A1102",null,"MISTRAL41F Вбуд. непр. двері 8M",581.52,"замовлення","4-6","Consumer units",12,"шт.","без клемників, див. закладку \"Акційне обладнання\"","AR"]
["1SLM004100A1103",null,"MISTRAL41F Вбуд. непр. двері 12M",672.41999999999985,"замовлення","4-6","Consumer units",9,"шт.","без клемників, див. закладку \"Акційне обладнання\"","AR"]
["1SLM004100A1104",null,"MISTRAL41F Вбуд. непр. двері 18M",945.95999999999992,"замовлення","4-6","Consumer units",6,"шт.","без клемників, див. закладку \"Акційне обладнання\"","AR"]
["1SLM004100A1105",null,"MISTRAL41F Вбуд. непр. двері 24M",1113.5999999999999,"замовлення","4-6","Consumer units",5,"шт.","без клемників","AR"]
["1SLM004100A1106",null,"MISTRAL41F Вбуд. непр. двері 36M",1735.74,"замовлення","4-6","Consumer units",3,"шт.","без клемників, див. закладку \"Акційне обладнання\"","AR"]
["1SLM004100A1107",null,"MISTRAL41F Вбуд. непр. двері 36M",1735.74,"замовлення","4-6","Consumer units",4,"шт.","без клемників, див. закладку \"Акційне обладнання\"","AR"]
["1SLM004100A1108",null,"MISTRAL41F Вбуд. непр. двері 48M",2695.7999999999997,"замовлення","4-6","Consumer units",1,"шт.","без клемників, див. закладку \"Акційне обладнання\"","AR"]
["1SLM004100A1109",null,"MISTRAL41F Вбуд. непр. двері 54M",2989.6799999999994,"замовлення","4-6","Consumer units",1,"шт.","без клемників, див. закладку \"Акційне обладнання\"","AR"]
["1SLM004100A1110",null,"MISTRAL41F Вбуд. непр. двері 72M",4397.0999999999995,"замовлення","4-6","Consumer units",1,"шт.","без клемників, див. закладку \"Акційне обладнання\"","AR"]
["1SLM004100A1200",null,"MISTRAL41F Вбуд. прозорі двері 4M",432.36,"склад",1,"Consumer units",1,"шт.","без клемників","AR"]
["1SLM004100A1201",null,"MISTRAL41F Вбуд. прозорі двері 6M",535.61999999999989,"склад",1,"Consumer units",1,"шт.","без клемників","AR"]
["1SLM004100A1202",null,"MISTRAL41F Вбуд. прозорі двері 8M",581.52,"замовлення","4-6","Consumer units",1,"шт.","без клемників, див. закладку \"Акційне обладнання\"","AR"]
["1SLM004100A1203",null,"MISTRAL41F Вбуд прозорі двері 12M",672.41999999999985,"замовлення","4-6","Consumer units",9,"шт.","без клемників, див. закладку \"Акційне обладнання\"","AR"]
["1SLM004100A1204",null,"MISTRAL41F Вбуд прозорі двері 18M",945.95999999999992,"замовлення","4-6","Consumer units",6,"шт.","без клемників, див. закладку \"Акційне обладнання\"","AR"]
["1SLM004100A1205",null,"MISTRAL41F Вбуд прозорі двері 24M",1113.5999999999999,"замовлення","4-6","Consumer units",5,"шт.","без клемників, див. закладку \"Акційне обладнання\"","AR"]
["1SLM004100A1206",null,"MISTRAL41F Вбуд прозорі двері 36M",1735.74,"замовлення","4-6","Consumer units",3,"шт.","без клемників, див. закладку \"Акційне обладнання\"","AR"]
["1SLM004100A1207",null,"MISTRAL41F Вбуд прозорі двері 36M",1735.74,"замовлення","4-6","Consumer units",4,"шт.","без клемників, див. закладку \"Акційне обладнання\"","AR"]
["1SLM004100A1208",null,"MISTRAL41F Вбуд прозорі двері 48M",2695.7999999999997,"замовлення","4-6","Consumer units",1,"шт.","без клемників","AR"]
["1SLM004100A1209",null,"MISTRAL41F Вбуд прозорі двері 54M",2989.6799999999994,"замовлення","4-6","Consumer units",1,"шт.","без клемників, див. закладку \"Акційне обладнання\"","AR"]
["1SLM004100A1210",null,"MISTRAL41F Вбуд прозорі двері 72M",4397.0999999999995,"замовлення","4-6","Consumer units",1,"шт.","без клемників, див. закладку \"Акційне обладнання\"","AR"]
["1SLM004100A1300",null,"MISTRAL41F 850 Вбуд непр двері 4M",502.97999999999996,"замовлення","4-6","Consumer units",24,"шт.","без клемників, див. закладку \"Акційне обладнання\"","AR"]
["1SLM004100A1301",null,"MISTRAL41F 850 Вбуд непр двері 6M",622.9799999999999,"замовлення","4-6","Consumer units",18,"шт.","без клемників","AR"]
["1SLM004100A1302",null,"MISTRAL41F 850 Вбуд непр двері 8M",674.16,"замовлення","4-6","Consumer units",12,"шт.","без клемників","AR"]
["1SLM004100A1303",null,"MISTRAL41F 850 Вбуд непр двері 12M",780.06,"замовлення","4-6","Consumer units",9,"шт.","без клемників","AR"]
["1SLM004100A1304",null,"MISTRAL41F 850 Вбуд непр двері 18M",1096.8599999999999,"замовлення","4-6","Consumer units",6,"шт.","без клемників, див. закладку \"Акційне обладнання\"","AR"]
["1SLM004100A1305",null,"MISTRAL41F 850 Вбуд непр двері 24M",1291.8599999999999,"замовлення","4-6","Consumer units",5,"шт.","без клемників","AR"]
["1SLM004100A1306",null,"MISTRAL41F 850 Вбуд. непр. двері 36M",2012.8200000000002,"замовлення","4-6","Consumer units",3,"шт.","без клемників","AR"]
["1SLM004100A1307",null,"MISTRAL41F 850 Вбуд. непр. двері 36M",2012.8200000000002,"замовлення","4-6","Consumer units",4,"шт.","без клемників","AR"]
["1SLM004100A1308",null,"MISTRAL41F 850 Вбуд. непр. двері 48M",3125.5799999999995,"замовлення","4-6","Consumer units",1,"шт.","без клемників","AR"]
["1SLM004100A1309",null,"MISTRAL41F 850 Вбуд. непр. двері 54M",3468.8399999999997,"замовлення","4-6","Consumer units",1,"шт.","без клемників","AR"]
["1SLM004100A1310",null,"MISTRAL41F 850 Вбуд. непр. двері 72M",5098.6799999999994,"замовлення","4-6","Consumer units",1,"шт.","без клемників, див. закладку \"Акційне обладнання\"","AR"]
["1SLM004100A1400",null,"MISTRAL41F 850 Вбуд. прозорі двері 4M",502.97999999999996,"замовлення","4-6","Consumer units",24,"шт.","без клемників","AR"]
["1SLM004100A1401",null,"MISTRAL41F 850 Вбуд. прозорі двері 6M",622.9799999999999,"замовлення","4-6","Consumer units",18,"шт.","без клемників","AR"]
["1SLM004100A1402",null,"MISTRAL41F 850 Вбуд. прозорі двері 8M",674.16,"замовлення","4-6","Consumer units",12,"шт.","без клемників","AR"]
["1SLM004100A1403",null,"MISTRAL41F 850 Вбуд. прозорі двері 12M",780.06,"замовлення","4-6","Consumer units",9,"шт.","без клемників","AR"]
["1SLM004100A1404",null,"MISTRAL41F 850 Вбуд. прозорі двері 18M",1096.8599999999999,"замовлення","4-6","Consumer units",1,"шт.","без клемників, див. закладку \"Акційне обладнання\"","AR"]
["1SLM004100A1405",null,"MISTRAL41F 850 Вбуд. прозорі двері 24M",1291.8599999999999,"замовлення","4-6","Consumer units",5,"шт.","без клемників","AR"]
["1SLM004100A1406",null,"MISTRAL41F 850 Вбуд. прозорі двері 36M",2012.8200000000002,"замовлення","4-6","Consumer units",3,"шт.","без клемників, див. закладку \"Акційне обладнання\"","AR"]
["1SLM004100A1407",null,"MISTRAL41F 850 Вбуд. прозорі двері 36M",2012.8200000000002,"замовлення","4-6","Consumer units",1,"шт.","без клемників, див. закладку \"Акційне обладнання\"","AR"]
["1SLM004100A1408",null,"MISTRAL41F 850 Вбуд. прозорі двері 48M",3125.5799999999995,"замовлення","4-6","Consumer units",1,"шт.","без клемників","AR"]
["1SLM004100A1409",null,"MISTRAL41F 850 Вбуд. прозорі двері 54M",3468.8399999999997,"замовлення","4-6","Consumer units",1,"шт.","без клемників","AR"]
["1SLM004100A1410",null,"MISTRAL41F 850 Вбуд. прозорі двері 72M",5098.6799999999994,"замовлення","4-6","Consumer units",1,"шт.","без клемників","AR"]
["1SLM004100A1600",null,"Фронт частина MISTRAL41F",365.34,"замовлення","4-6","Consumer units",24,"шт.",null,"AR"]
["1SLM004100A1601",null,"Фронт частина MISTRAL41F",410.34,"замовлення","4-6","Consumer units",18,"шт.",null,"AR"]
["1SLM004100A1602",null,"Фронт частина MISTRAL41F",435.06,"замовлення","4-6","Consumer units",12,"шт.",null,"AR"]
["1SLM004100A1603",null,"Фронт частина MISTRAL41F",532.08000000000004,"замовлення","4-6","Consumer units",9,"шт.",null,"AR"]
["1SLM004100A1604",null,"Фронт частина MISTRAL41F",743.88,"замовлення","4-6","Consumer units",6,"шт.",null,"AR"]
["1SLM004100A1605",null,"Фронт частина MISTRAL41F",702.41999999999985,"замовлення","4-6","Consumer units",5,"шт.",null,"AR"]
["1SLM004100A1700",null,"Тильна частина MISTRAL41F",69.719999999999985,"замовлення","4-6","Consumer units",24,"шт.",null,"AR"]
["1SLM004100A1701",null,"Тильна частина MISTRAL41F",126.18,"замовлення","4-6","Consumer units",18,"шт.",null,"AR"]
["1SLM004100A1702",null,"Тильна частина MISTRAL41F",144.72,"замовлення","4-6","Consumer units",12,"шт.",null,"AR"]
["1SLM004100A1703",null,"Тильна частина MISTRAL41F",139.43999999999997,"замовлення","4-6","Consumer units",9,"шт.",null,"AR"]
["1SLM004100A1704",null,"Тильна частина MISTRAL41F",201.18,"замовлення","4-6","Consumer units",6,"шт.",null,"AR"]
["1SLM004100A1705",null,"Тильна частина MISTRAL41F",411.24000000000007,"замовлення","4-6","Consumer units",5,"шт.",null,"AR"]
["1SLM004100A1900",null,"Непр. двері до MISTRAL41F",255,"замовлення","4-6","Consumer units",20,"шт.",null,"AR"]
["1SLM004100A1901",null,"Прозорі двері до MISTRAL41F",255,"замовлення","4-6","Consumer units",20,"шт.",null,"AR"]
["1SLM004100A1902",null,"Непр. двері до MISTRAL41F",316.8,"замовлення","4-6","Consumer units",10,"шт.",null,"AR"]
["1SLM004100A1903",null,"Прозорі двері до MISTRAL41F",316.8,"замовлення","4-6","Consumer units",10,"шт.",null,"AR"]
["1SLM004100A1904",null,"Непр. двері до MISTRAL41F",450.9,"замовлення","4-6","Consumer units",20,"шт.",null,"AR"]
["1SLM004100A1905",null,"Прозорі двері до MISTRAL41F",450.9,"замовлення","4-6","Consumer units",20,"шт.",null,"AR"]
["1SLM004100A1906",null,"Непр. двері до MISTRAL41F",561.24,"замовлення","4-6","Consumer units",20,"шт.",null,"AR"]
["1SLM004100A1907",null,"Прозорі двері до MISTRAL41F",561.24,"замовлення","4-6","Consumer units",20,"шт.",null,"AR"]
["1SLM004100A1908",null,"Непр. двері до MISTRAL41F",637.9799999999999,"замовлення","4-6","Consumer units",15,"шт.",null,"AR"]
["1SLM004100A1909",null,"Прозорі двері до MISTRAL41F",637.9799999999999,"замовлення","4-6","Consumer units",15,"шт.",null,"AR"]
["1SLM004100A1910",null,"Непр. двері до MISTRAL41F",1285.68,"замовлення","4-6","Consumer units",1,"шт.","див. закладку \"Акційне обладнання\"","AR"]
["1SLM004100A1911",null,"Прозорі двері до MISTRAL41F",1285.68,"замовлення","4-6","Consumer units",10,"шт.",null,"AR"]
["1SLM004100A1912",null,"Непр. двері до MISTRAL41F",1285.68,"замовлення","4-6","Consumer units",10,"шт.",null,"AR"]
["1SLM004100A1913",null,"Прозорі двері до MISTRAL41F",1285.68,"замовлення","4-6","Consumer units",1,"шт.","див. закладку \"Акційне обладнання\"","AR"]
["1SLM004100A1914",null,"Непр. двері до MISTRAL41F",1551.3,"замовлення","4-6","Consumer units",1,"шт.","див. закладку \"Акційне обладнання\"","AR"]
["1SLM004100A1915",null,"Прозорі двері до MISTRAL41F",1551.3,"замовлення","4-6","Consumer units",5,"шт.",null,"AR"]
["1SLM004100A1916",null,"Непр. двері до MISTRAL41F",285,"замовлення","4-6","Consumer units",20,"шт.",null,"AR"]
["1SLM004100A1917",null,"Прозорі двері до MISTRAL41F",285,"замовлення","4-6","Consumer units",20,"шт.",null,"AR"]
["1SLM004100A1920",null,"Секц перегородка до MISTRAL41F 12М",38.82,"замовлення","4-6","Consumer units",1,"шт.",null,"AR"]
["1SLM004100A1921",null,"Секц перегородка до MISTRAL41F 18М",39.72,"замовлення","4-6","Consumer units",1,"шт.","див. закладку \"Акційне обладнання\"","AR"]
["1SLM004100A1922",null,"Верт зєднувач шаф/тримач труб 12М",203.82,"замовлення","4-6","Consumer units",20,"шт.",null,"AR"]
["1SLM004100A1923",null,"Вертикальний зєднувач шаф труб 18М",232.97999999999996,"замовлення","4-6","Consumer units",15,"шт.","див. закладку \"Акційне обладнання\"","AR"]
["1SLM004100A1931",null,"Замок з ключем для IP41 Mistral вбуд.",507.41999999999996,"замовлення","4-6","Consumer units",20,"шт.","див. закладку \"Акційне обладнання\"","AR"]
["1SLM004100A1942",null,"Тримач кабелю",60,"замовлення","4-6","Consumer units",30,"шт.",null,"AR"]
["1SLM004100A1945",null,"Центр глуха панель до MISTRAL41F",71.459999999999994,"замовлення","4-6","Consumer units",20,"шт.","див. закладку \"Акційне обладнання\"","AR"]
["1SLM004100A1946",null,"Глуха панель до MISTRAL41F",71.459999999999994,"замовлення","4-6","Consumer units",20,"шт.",null,"AR"]
["1SLM004100A1947",null,"Центр глуха панель до MISTRAL41F",77.64,"замовлення","4-6","Consumer units",30,"шт.","див. закладку \"Акційне обладнання\"","AR"]
["1SLM004100A1948",null,"Глуха панель для IP41 Mistral вбуд. 18М",77.64,"замовлення","4-6","Consumer units",30,"шт.","див. закладку \"Акційне обладнання\"","AR"]
["1SLM004100A1949",null,"Горизонтальний зєднувач шаф",96.18,"замовлення","4-6","Consumer units",30,"шт.","див. закладку \"Акційне обладнання\"","AR"]
["1SLM004101A1202",null,"Mistral41F прозорі дверцята 8M12SM",561.24,"склад",1,"Consumer units",1,"шт.","з клемниками","AR"]
["1SLM004101A1203",null,"Mistral41F прозорі дверцята 12M12SM",655.62,"склад",1,"Consumer units",1,"шт.","з клемниками","AR"]
["1SLM004101A1204",null,"Mistral41F прозорі дверцята 18M22SM",936.2399999999999,"склад",1,"Consumer units",1,"шт.","з клемниками","AR"]
["1SLM004101A1205",null,"Mistral41F прозорі дверцята 24M32SM",1029.78,"склад",1,"Consumer units",1,"шт.","з клемниками","AR"]
["1SLM004101A1206",null,"Mistral41F прозорі дверцята 36M2F42SM",1404.8399999999997,"склад",1,"Consumer units",1,"шт.","з клемниками","AR"]
["1SLM004101A1207",null,"Mistral41Fпрозорі дверцята 36M3F44SM",1685.4600000000003,"склад",1,"Consumer units",1,"шт.","з клемниками","AR"]
["1SLM004101A1208",null,"Mistral41F прозорі дверцята 48M64SM",2154,"склад",1,"Consumer units",1,"шт.","з клемниками","AR"]
["1SLM004101A1209",null,"Mistral41F прозорі дверцята 54M64SM",2528.1600000000003,"склад",1,"Consumer units",1,"шт.","з клемниками","AR"]
["1SLM004101A1210",null,"Mistral41F прозорі дверцята 72M84SM",2808.78,"склад",1,"Consumer units",1,"шт.","з клемниками","AR"]
["1SLM004102A1102",null,"Mistral41F непрозорі дверцята 8M12SM",561.24,"склад",1,"Consumer units",1,"шт.","з клемниками","AR"]
["1SLM004102A1103",null,"Mistral41F непрозорі дверцята 12M12SM",655.62,"склад",1,"Consumer units",1,"шт.","з клемниками","AR"]
["1SLM004102A1104",null,"Mistral41F непрозорі дверцята 18M22SM",936.2399999999999,"склад",1,"Consumer units",1,"шт.","з клемниками","AR"]
["1SLM004102A1105",null,"Mistral41F непрозорі дверцята 24M32SM",1029.78,"склад",1,"Consumer units",1,"шт.","з клемниками","AR"]
["1SLM004102A1106",null,"Mistral41F непрозорі дверцята 36M2F42SM",1404.8399999999997,"склад",1,"Consumer units",1,"шт.","з клемниками","AR"]
["1SLM004102A1107",null,"Mistral41F непрозорі дверцята 36M3F44SM",1685.4600000000003,"склад",1,"Consumer units",1,"шт.","з клемниками","AR"]
["1SLM004102A1108",null,"Mistral41F непрозорі дверцята 48M64SM",2154,"склад",1,"Consumer units",1,"шт.","з клемниками","AR"]
["1SLM004102A1109",null,"Mistral41F непрозорі дверцята 54M64SM",2528.1600000000003,"склад",1,"Consumer units",1,"шт.","з клемниками","AR"]
["1SLM004102A1110",null,"Mistral41F непрозорі дверцята 72M84SM",2808.78,"склад",1,"Consumer units",1,"шт.","з клемниками","AR"]
["1SPE007717F0100",null,"MISTRAL41W без дверцят 2M",136.79999999999998,"склад",1,"Consumer units",1,"шт.","без клемників","AR"]
["1SPE007717F0200",null,"MISTRAL41W без дверцят 4M",187.08,"склад",1,"Consumer units",1,"шт.","без клемників","AR"]
["1SPE007717F0210",null,"MISTRAL41W непрозорі дверцята 4M",267.36,"склад",1,"Consumer units",1,"шт.","без клемників","AR"]
["1SPE007717F0220",null,"MISTRAL41W прозорі дверцята 4M",267.36,"склад",1,"Consumer units",1,"шт.","без клемників","AR"]
["1SPE007717F0300",null,"MISTRAL41W без дверцят 8M",343.26,"замовлення","4-6","Consumer units",7,"шт.","без клемників","AR"]
["1SPE007717F0310",null,"MISTRAL41W непрозорі дверцята 8M",497.7,"замовлення","4-6","Consumer units",7,"шт.","без клемників","AR"]
["1SPE007717F0320",null,"MISTRAL41W прозорі дверцята 8M",497.7,"замовлення","4-6","Consumer units",7,"шт.","без клемників, див. закладку \"Акційне обладнання\"","AR"]
["1SPE007717F0400",null,"MISTRAL41W без дверцят 12M",396.17999999999995,"замовлення","4-6","Consumer units",3,"шт.","без клемників","AR"]
["1SPE007717F0410",null,"MISTRAL41W непрозорі дверцята 12M",609.78,"замовлення","4-6","Consumer units",3,"шт.","без клемників, див. закладку \"Акційне обладнання\"","AR"]
["1SPE007717F0420",null,"MISTRAL41W прозорі дверцята 12M",609.78,"замовлення","4-6","Consumer units",5,"шт.","без клемників, див. закладку \"Акційне обладнання\"","AR"]
["1SPE007717F0500",null,"MISTRAL41W без дверцят 24M",581.52,"замовлення","4-6","Consumer units",2,"шт.","без клемників","AR"]
["1SPE007717F0510",null,"MISTRAL41W непрозорі дверцята 24M",905.33999999999992,"замовлення","4-6","Consumer units",2,"шт.","без клемників","AR"]
["1SPE007717F0520",null,"MISTRAL41W прозорі дверцята 24M",905.33999999999992,"замовлення","4-6","Consumer units",2,"шт.","без клемників, див. закладку \"Акційне обладнання\"","AR"]
["1SPE007717F0600",null,"MISTRAL41W без дверцят 36M",819.78,"замовлення","4-6","Consumer units",2,"шт.","без клемників","AR"]
["1SPE007717F0610",null,"MISTRAL41W непрозорі дверцята 36M3F",1390.68,"замовлення","4-6","Consumer units",2,"шт.","без клемників, див. закладку \"Акційне обладнання\"","AR"]
["1SPE007717F0620",null,"MISTRAL41W прозорі дверцята 36M3F",1390.68,"замовлення","4-6","Consumer units",2,"шт.","без клемників, див. закладку \"Акційне обладнання\"","AR"]
["1SPE007717F0700",null,"MISTRAL41W без дверцят 48M",1396.86,"замовлення","4-6","Consumer units",1,"шт.","без клемників","AR"]
["1SPE007717F0710",null,"MISTRAL41W непрозорі дверцята 48M",2149.56,"замовлення","4-6","Consumer units",1,"шт.","без клемників, див. закладку \"Акційне обладнання\"","AR"]
["1SPE007717F0720",null,"MISTRAL41W прозорі дверцята 48M",2149.56,"замовлення","4-6","Consumer units",1,"шт.","без клемників","AR"]
["1SPE007717F0800",null,"MISTRAL41W без дверцят 18M",510.06,"замовлення","4-6","Consumer units",3,"шт.","без клемників","AR"]
["1SPE007717F0810",null,"MISTRAL41W непрозорі дверцята 18M",785.33999999999992,"замовлення","4-6","Consumer units",3,"шт.","без клемників, див. закладку \"Акційне обладнання\"","AR"]
["1SPE007717F0820",null,"MISTRAL41W прозорі дверцята 18M",785.33999999999992,"замовлення","4-6","Consumer units",3,"шт.","без клемників, див. закладку \"Акційне обладнання\"","AR"]
["1SPE007717F0900",null,"MISTRAL41W без дверцят 36M",1021.8599999999999,"замовлення","4-6","Consumer units",2,"шт.","без клемників","AR"]
["1SPE007717F0910",null,"MISTRAL41W непрозорі дверцята 36M2F",1571.5800000000002,"замовлення","4-6","Consumer units",2,"шт.","без клемників, див. закладку \"Акційне обладнання\"","AR"]
["1SPE007717F0920",null,"MISTRAL41W прозорі дверцята 36M2F",1571.5800000000002,"замовлення","4-6","Consumer units",2,"шт.","без клемників, див. закладку \"Акційне обладнання\"","AR"]
["1SPE007717F1000",null,"MISTRAL41W без дверцят 54M",1667.76,"замовлення","4-6","Consumer units",2,"шт.","без клемників","AR"]
["1SPE007717F1010",null,"MISTRAL41W непрозорі дверцята 54M",2418.7199999999998,"замовлення","4-6","Consumer units",2,"шт.","без клемників, див. закладку \"Акційне обладнання\"","AR"]
["1SPE007717F1020",null,"MISTRAL41W прозорі дверцята 54M",2418.7199999999998,"замовлення","4-6","Consumer units",2,"шт.","без клемників, див. закладку \"Акційне обладнання\"","AR"]
["1SPE007717F1100",null,"MISTRAL41W без дверцят 72M",2446.08,"замовлення","4-6","Consumer units",1,"шт.","без клемників","AR"]
["1SPE007717F1110",null,"MISTRAL41W непрозорі дверцята 72M",3346.1400000000003,"замовлення","4-6","Consumer units",1,"шт.","без клемників, див. закладку \"Акційне обладнання\"","AR"]
["1SPE007717F1120",null,"MISTRAL41W прозорі дверцята 72M",3346.1400000000003,"замовлення","4-6","Consumer units",1,"шт.","без клемників, див. закладку \"Акційне обладнання\"","AR"]
["1SPE007717F0321",null,"Mistral41W650 прозорі дверцята 8M12SM",467.7,"склад",1,"Consumer units",1,"шт.","з клемниками","AR"]
["1SPE007717F0421",null,"Mistral41W650 прозорі дверцята 12M12SM",543.6,"склад",1,"Consumer units",1,"шт.","з клемниками","AR"]
["1SPE007717F0821",null,"Mistral41W650 прозорі дверцята 18M22SM",749.16,"склад",1,"Consumer units",1,"шт.","з клемниками","AR"]
["1SPE007717F0521",null,"Mistral41W650 прозорі дверцята 24M32SM",814.5,"склад",1,"Consumer units",1,"шт.","з клемниками","AR"]
["1SPE007717F0921",null,"Mistral41W650 прозорі дверцята 36M2F42SM",1892.8200000000002,"склад",1,"Consumer units",1,"шт.","з клемниками","AR"]
["1SPE007717F0621",null,"Mistral41W650 прозорі дверцята 36M3F44SM",1170.9599999999998,"склад",1,"Consumer units",1,"шт.","з клемниками","AR"]
["1SPE007717F0721",null,"Mistral41W650 прозорі дверцята 48M64SM",1563.66,"склад",1,"Consumer units",1,"шт.","з клемниками","AR"]
["1SPE007717F1021",null,"Mistral41W650 прозорі дверцята 54M64SM",1591.9199999999998,"склад",1,"Consumer units",1,"шт.","з клемниками","AR"]
["1SPE007717F1121",null,"Mistral41W650 прозорі дверцята 72M84SM",1873.38,"склад",1,"Consumer units",1,"шт.","з клемниками","AR"]
["1SLM004102A3102",null,"Mistral41W650 непрозорі дверцята 8M12SM",467.7,"склад",1,"Consumer units",1,"шт.","з клемниками","AR"]
["1SLM004102A3103",null,"Mistral41W650 непрозорі дверцята 12M12SM",543.6,"склад",1,"Consumer units",1,"шт.","з клемниками","AR"]
["1SLM004102A3104",null,"Mistral41W650 непрозорі дверцята 18M22SM",749.16,"склад",1,"Consumer units",1,"шт.","з клемниками","AR"]
["1SLM004102A3105",null,"Mistral41W650 непрозорі дверцята 24M32SM",814.5,"склад",1,"Consumer units",1,"шт.","з клемниками","AR"]
["1SLM004102A3106",null,"Mistral41W650 непроз дверцята 36M2F42SM",917.69999999999993,"склад",1,"Consumer units",1,"шт.","з клемниками","AR"]
["1SLM004102A3107",null,"Mistral41W650 непроз дверцята 36M3F44SM",1170.9599999999998,"склад",1,"Consumer units",1,"шт.","з клемниками","AR"]
["1SLM004102A3108",null,"Mistral41W650 непрозорі дверцята 48M64SM",1563.66,"склад",1,"Consumer units",1,"шт.","з клемниками","AR"]
["1SLM004102A3109",null,"Mistral41W650 непрозорі дверцята 54M64SM",1591.9199999999998,"склад",1,"Consumer units",1,"шт.","з клемниками","AR"]
["1SLM004102A3110",null,"Mistral41W650 непрозорі дверцята 72M84SM",1873.38,"склад",1,"Consumer units",1,"шт.","з клемниками","AR"]
["1SLM004100A6305","M41C24X210850","M41C24X210850 Шафа Mistral41F Multimedia",1441.0199999999998,"склад",1,"Consumer units",1,"шт.",null,"AR"]
["1SLM004100A6307","M41C36X310850","M41C36X310850 Шафа Mistral41F Multimedia",2431.9799999999996,"замовлення","4-6","Consumer units",1,"шт.",null,"AR"]
["1SLM004100A6309","M41C54X310850","M41C54X310850 Шафа Mistral41F Multimedia",4007.1,"замовлення","4-6","Consumer units",1,"шт.",null,"AR"]
["1SLM004100A7105","M41P24X21","M41P24X21 Шафа Mistral41W Multimedia",1278.6600000000001,"склад",1,"Consumer units",1,"шт.",null,"AR"]
["1SLM004100A7107","M41P36X31","M41P36X31 Шафа Mistral41W Multimedia",1810.74,"замовлення","4-6","Consumer units",1,"шт.",null,"AR"]
["1SLM004100A7109","M41P54X31","M41P54X31 Шафа Mistral41W Multimedia",3116.7,"замовлення","4-6","Consumer units",1,"шт.",null,"AR"]
["1SLM004100A1956","41Z122","41Z122 Трьохпостовий блок розеток",2416.9799999999996,"замовлення","4-6","Consumer units",1,"шт.",null,"AR"]
["1SLM004100A1957","41Z123","41Z123 Патч панель на 16 підключень",713.88,"замовлення","4-6","Consumer units",1,"шт.",null,"AR"]
["1SLM004100A1958","41Z124","41Z124 Еластичний тримач",105,"склад",1,"Consumer units",1,"шт.",null,"AR"]
["1SLM004100A1959","41Z139","41Z139 Набор саморезов (10од)",17.639999999999997,"замовлення","4-6","Consumer units",1,"шт.",null,"AR"]
["1SLM004100A1960","41Z140","41Z140 Тримач проводів (5од)",38.82,"склад",1,"Consumer units",1,"шт.",null,"AR"]
["1SLM004100A3904","41Z141","41Z141 Патч панель на 10 підключень",647.69999999999993,"склад",1,"Consumer units",1,"шт.",null,"AR"]
["1SLM004100A3905","41Z119","Боковий тримач блоку ZK50B до Mistral41",105.89999999999999,"замовлення","4-6","Consumer units",1,"шт.",null,"AR"]
["1SLM004100A3907","41Z120","Тримач з блоком ZK50B до Mistral41",211.79999999999998,"склад",1,"Consumer units",1,"шт.",null,"AR"]
["1SLM004100A1961","41Z142","41Z142 Набор  до пустотілої стіні",268.26,"склад",1,"Consumer units",1,"шт.",null,"AR"]
["1SLM004100A3902","41Z143","41Z143 Монтажна плата до 12М41W",330.9,"замовлення","4-6","Consumer units",1,"шт.",null,"AR"]
["1SLM004100A3911","41Z144","41Z144 Монтажна плата до18М41W",529.43999999999994,"замовлення","4-6","Consumer units",1,"шт.",null,"AR"]
["1SLM004100A3912","41Z145","41Z145 Фіксатори еласт тримача (2шт)",50.280000000000008,"замовлення","4-6","Consumer units",1,"шт.",null,"AR"]
["1SLM004100A3913","41Z146","41Z146 Еластичний тримач без фіксаторів",64.44,"замовлення","4-6","Consumer units",1,"шт.",null,"AR"]
["1SLM004100A3914","41Z147","41Z147 Монтажна плата до 12М41F",330.9,"замовлення","4-6","Consumer units",1,"шт.",null,"AR"]
["1SLM004100A3915","41Z148","41Z148 Монтажна плата до 18М41F",529.43999999999994,"замовлення","4-6","Consumer units",1,"шт.",null,"AR"]
["1SPE007717F9900",null,"Непр. двері до MISTRAL41W",131.45999999999998,"замовлення","4-6","Consumer units",24,"шт.",null,"AR"]
["1SPE007717F9901",null,"Непр. двері до MISTRAL41W",214.44000000000003,"замовлення","4-6","Consumer units",14,"шт.",null,"AR"]
["1SPE007717F9902",null,"Непр. двері до MISTRAL41W",266.52000000000004,"замовлення","4-6","Consumer units",14,"шт.",null,"AR"]
["1SPE007717F9903",null,"Непр. двері до MISTRAL41W",411.24000000000007,"замовлення","4-6","Consumer units",15,"шт.",null,"AR"]
["1SPE007717F9904",null,"Непр. двері до MISTRAL41W",1103.04,"замовлення","4-6","Consumer units",18,"шт.",null,"AR"]
["1SPE007717F9905",null,"Непр. двері до MISTRAL41W",605.33999999999992,"замовлення","4-6","Consumer units",14,"шт.",null,"AR"]
["1SPE007717F9906",null,"Непр. двері до MISTRAL41W",1211.5800000000002,"замовлення","4-6","Consumer units",18,"шт.",null,"AR"]
["1SPE007717F9907",null,"Непр. двері до MISTRAL41W",1577.76,"замовлення","4-6","Consumer units",18,"шт.",null,"AR"]
["1SPE007717F9908",null,"Прозорі двері до MISTRAL41W",131.45999999999998,"замовлення","4-6","Consumer units",24,"шт.",null,"AR"]
["1SPE007717F9909",null,"Прозорі двері до MISTRAL41W",214.44000000000003,"замовлення","4-6","Consumer units",14,"шт.",null,"AR"]
["1SPE007717F9910",null,"Прозорі двері до MISTRAL41W",266.52000000000004,"замовлення","4-6","Consumer units",14,"шт.",null,"AR"]
["1SPE007717F9911",null,"Прозорі двері до MISTRAL41W",411.24000000000007,"замовлення","4-6","Consumer units",15,"шт.",null,"AR"]
["1SPE007717F9912",null,"Прозорі двері до MISTRAL41W",1103.04,"замовлення","4-6","Consumer units",18,"шт.",null,"AR"]
["1SPE007717F9913",null,"Прозорі двері до MISTRAL41W",605.33999999999992,"замовлення","4-6","Consumer units",14,"шт.",null,"AR"]
["1SPE007717F9914",null,"Прозорі двері до MISTRAL41W",1211.5800000000002,"замовлення","4-6","Consumer units",18,"шт.",null,"AR"]
["1SPE007717F9915",null,"Прозорі двері до MISTRAL41W",1577.76,"замовлення","4-6","Consumer units",18,"шт.",null,"AR"]
["1SPE007715F5009",null,"Замок з ключем до MISTRAL41W",424.44,"склад",1,"Consumer units",1,"шт.",null,"AR"]
["1SPE007715F5010",null,"Замок з ключем до MISTRAL41W",424.44,"склад",1,"Consumer units",1,"шт.",null,"AR"]
["1SPE007715F5012",null,"Тримач маркування",78.540000000000006,"склад",1,"Consumer units",1,"шт.",null,"AR"]
["1SPE007715F5018",null,"Тримач маркування",83.820000000000007,"склад",1,"Consumer units",1,"шт.",null,"AR"]
["1SPE007715F5112",null,"Секціонуюча перегородка MISTRAL41W",349.44,"замовлення","4-6","Consumer units",5,"шт.",null,"AR"]
["1SPE007715F5118",null,"Секціонуюча перегородка MISTRAL41W",387.36,"замовлення","4-6","Consumer units",5,"шт.",null,"AR"]
["1SPE007715F5650",null,"Модульна заглушка до MISTRAL41W",84.719999999999985,"склад",1,"Consumer units",1,"шт.",null,"AR"]
["1SPE007715F5750",null,"Модульна заглушка до MISTRAL41W",91.8,"склад",1,"Consumer units",1,"шт.",null,"AR"]
["1SL1100A00",null,"Mistral65 непрозорі дверцята 4M",470.34,"склад",1,"Consumer units",1,"шт.","без клемників","AR"]
["1SL1101A00",null,"Mistral65 непрозорі дверцята 8M",555.9,"замовлення","4-6","Consumer units",11,"шт.","без клемників, див. закладку \"Акційне обладнання\"","AR"]
["1SL1102A00",null,"Mistral65 непрозорі дверцята 12M",709.5,"замовлення","4-6","Consumer units",7,"шт.","без клемників","AR"]
["1SL1103A00",null,"Mistral65 непрозорі дверцята 18M",809.16000000000008,"замовлення","4-6","Consumer units",4,"шт.","без клемників","AR"]
["1SL1104A00",null,"Mistral65 непрозорі дверцята 24M",1219.5,"замовлення","4-6","Consumer units",4,"шт.","без клемників","AR"]
["1SL1105A00",null,"Mistral65 непрозорі дверцята 36M (18x2)",1809,"замовлення","4-6","Consumer units",2,"шт.","без клемників, див. закладку \"Акційне обладнання\"","AR"]
["1SL1106A00",null,"Mistral65 непрозорі дверцята 36M (12x3)",1809,"замовлення","4-6","Consumer units",3,"шт.","без клемників","AR"]
["1SL1107A00",null,"Mistral65 непрозорі дверцята 48M",2259.9,"замовлення","4-6","Consumer units",1,"шт.","без клемників, див. закладку \"Акційне обладнання\"","AR"]
["1SL1108A00",null,"Mistral65 непрозорі дверцята 54M",2086.9199999999996,"замовлення","4-6","Consumer units",1,"шт.","без клемників","AR"]
["1SL1109A00",null,"Mistral65 непрозорі дверцята 72M",2821.98,"замовлення","4-6","Consumer units",1,"шт.","без клемників, див. закладку \"Акційне обладнання\"","AR"]
["1SL1200A00",null,"Mistral65 прозорі дверцята 4M",470.34,"склад",1,"Consumer units",1,"шт.","без клемників","AR"]
["1SL1201A00",null,"Mistral65 прозорі дверцята 8M",555.9,"замовлення","4-6","Consumer units",11,"шт.","без клемників","AR"]
["1SL1202A00",null,"Mistral65 прозорі дверцята 12M",709.5,"замовлення","4-6","Consumer units",7,"шт.","без клемників","AR"]
["1SL1203A00",null,"Mistral65 прозорі дверцята 18M",809.16000000000008,"замовлення","4-6","Consumer units",4,"шт.","без клемників, див. закладку \"Акційне обладнання\"","AR"]
["1SL1204A00",null,"Mistral65 прозорі дверцята 24M",1219.5,"замовлення","4-6","Consumer units",4,"шт.","без клемників","AR"]
["1SL1205A00",null,"Mistral65 прозорі дверцята 36M (18x2)",1809,"замовлення","4-6","Consumer units",2,"шт.","без клемників","AR"]
["1SL1206A00",null,"Mistral65 прозорі дверцята 36M (12x3)",1809,"замовлення","4-6","Consumer units",3,"шт.","без клемників, див. закладку \"Акційне обладнання\"","AR"]
["1SL1207A00",null,"Mistral65 прозорі дверцята 48M",2259.9,"замовлення","4-6","Consumer units",1,"шт.","без клемників","AR"]
["1SL1208A00",null,"Mistral65 прозорі дверцята 54M",2086.9199999999996,"замовлення","4-6","Consumer units",1,"шт.","без клемників","AR"]
["1SL1209A00",null,"Mistral65 прозорі дверцята 72M",2821.98,"замовлення","4-6","Consumer units",1,"шт.","без клемників","AR"]
["1SL1210A00",null,"Mistral65 750 прозорі дверцята 4M",520.61999999999989,"склад",1,"Consumer units",1,"шт.","без клемників","AR"]
["1SL1211A00",null,"Mistral65 750 прозорі дверцята 8M",577.9799999999999,"склад",1,"Consumer units",1,"шт.","без клемників","AR"]
["1SL1212A00",null,"Mistral65 750 прозорі дверцята 12M",738.6,"склад",1,"Consumer units",1,"шт.","без клемників","AR"]
["1SL1213A00",null,"Mistral65 750 прозорі дверцята 18M",841.8599999999999,"склад",1,"Consumer units",1,"шт.","без клемників","AR"]
["1SL1214A00",null,"Mistral65 750 прозорі дверцята 24M",1268.04,"склад",1,"Consumer units",1,"шт.","без клемників","AR"]
["1SL1215A00",null,"Mistral65 750 прозорі дверцята 36M",1882.1999999999998,"склад",1,"Consumer units",1,"шт.","без клемників","AR"]
["1SL1216A00",null,"Mistral65 750 прозорі дверцята 36M",1882.1999999999998,"склад",1,"Consumer units",1,"шт.","без клемників","AR"]
["1SL1217A00",null,"Mistral65 750 прозорі дверцята 48M",2350.7999999999997,"склад",1,"Consumer units",1,"шт.","без клемників","AR"]
["1SL1218A00",null,"Mistral65 750 прозорі дверцята 54M",2170.7399999999998,"склад",1,"Consumer units",1,"шт.","без клемників","AR"]
["1SL1219A00",null,"Mistral65 750 прозорі дверцята 72M",2935.86,"склад",1,"Consumer units",1,"шт.","без клемників","AR"]
["1SLM006501A1201",null,"MISTRAL65 прозорі дверцята 8M 12SM",561.24,"склад",1,"Consumer units",1,"шт.","з клемниками","AR"]
["1SLM006501A1202",null,"MISTRAL65 прозорі дверцята 12M 22SM",702.41999999999985,"склад",1,"Consumer units",1,"шт.","з клемниками","AR"]
["1SLM006501A1203",null,"MISTRAL65 прозорі дверцята 18M 12SM",936.2399999999999,"склад",1,"Consumer units",1,"шт.","з клемниками","AR"]
["1SLM006501A1204",null,"MISTRAL65 прозорі дверцята 24M 22SM",1029.78,"склад",1,"Consumer units",1,"шт.","з клемниками","AR"]
["1SLM006501A1205",null,"MISTRAL65 прозорі дверцята 36M 2R 52SM",1404.8399999999997,"склад",1,"Consumer units",1,"шт.","з клемниками","AR"]
["1SLM006501A1206",null,"MISTRAL65 прозорі дверцята 36M 3R 42SM",1638.66,"склад",1,"Consumer units",1,"шт.","з клемниками","AR"]
["1SLM006501A1207",null,"MISTRAL65 прозорі дверцята 48M 52SM",1966.9199999999998,"склад",1,"Consumer units",1,"шт.","з клемниками","AR"]
["1SLM006501A1208",null,"MISTRAL65 прозорі дверцята 54M 52SM",2247.5399999999995,"склад",1,"Consumer units",1,"шт.","з клемниками","AR"]
["1SLM006501A1209",null,"MISTRAL65 прозорі дверцята 72M 52SM",2621.7,"склад",1,"Consumer units",1,"шт.","з клемниками","AR"]
["1SLM006502A1203",null,"MISTRAL65 прозорі дверцята 18M 32SM",983.04,"склад",1,"Consumer units",1,"шт.","з клемниками","AR"]
["1SLM006502A1204",null,"MISTRAL65 прозорі дверцята 24M 42SM",1311.3,"склад",1,"Consumer units",1,"шт.","з клемниками","AR"]
["1SLM006501A1101",null,"MISTRAL65 непрозорі дверцята 8M 12SM",561.24,"склад",1,"Consumer units",1,"шт.","з клемниками","AR"]
["1SLM006501A1102",null,"MISTRAL65 непрозорі дверцята 12M 22SM",702.41999999999985,"склад",1,"Consumer units",1,"шт.","з клемниками","AR"]
["1SLM006501A1103",null,"MISTRAL65 непрозорі дверцята 18M 12SM",936.2399999999999,"склад",1,"Consumer units",1,"шт.","з клемниками","AR"]
["1SLM006501A1104",null,"MISTRAL65 непрозорі дверцята 24M 22SM",1029.78,"склад",1,"Consumer units",1,"шт.","з клемниками","AR"]
["1SLM006501A1105",null,"MISTRAL65 непрозорі дверцята 36M 2R 52SM",1404.8399999999997,"склад",1,"Consumer units",1,"шт.","з клемниками","AR"]
["1SLM006501A1106",null,"MISTRAL65 непрозорі дверцята 36M 3R 42SM",1638.66,"склад",1,"Consumer units",1,"шт.","з клемниками","AR"]
["1SLM006501A1107",null,"MISTRAL65 непрозорі дверцята 48M 52SM",1966.9199999999998,"склад",1,"Consumer units",1,"шт.","з клемниками","AR"]
["1SLM006501A1108",null,"MISTRAL65 непрозорі дверцята 54M 52SM",2247.5399999999995,"склад",1,"Consumer units",1,"шт.","з клемниками","AR"]
["1SLM006501A1109",null,"MISTRAL65 непрозорі дверцята 72M 52SM",2621.7,"склад",1,"Consumer units",1,"шт.","з клемниками","AR"]
["1SLM006502A1103",null,"MISTRAL65 непрозорі дверцята 18M 32SM",983.04,"склад",1,"Consumer units",1,"шт.","з клемниками","AR"]
["1SLM006502A1104",null,"MISTRAL65 непрозорі дверцята 24M 42SM",1311.3,"склад",1,"Consumer units",1,"шт.","з клемниками","AR"]
["1SL1900A00",null,"Двері непрозорі 4M Mistral65",202.97999999999996,"замовлення","4-6","Consumer units",15,"шт.",null,"AR"]
["1SL1901A00",null,"Двері прозорі 4M Mistral65",202.97999999999996,"замовлення","4-6","Consumer units",15,"шт.",null,"AR"]
["1SL1902A00",null,"Двері непрозорі 8M Mistral65",272.64,"замовлення","4-6","Consumer units",20,"шт.",null,"AR"]
["1SL1903A00",null,"Двері прозорі 8M Mistral65",272.64,"замовлення","4-6","Consumer units",20,"шт.",null,"AR"]
["1SL1904A00",null,"Двері непрозорі 12M Mistral65",314.16000000000003,"замовлення","4-6","Consumer units",10,"шт.",null,"AR"]
["1SL1905A00",null,"Двері прозорі 12M Mistral65",314.16000000000003,"замовлення","4-6","Consumer units",10,"шт.","див. закладку \"Акційне обладнання\"","AR"]
["1SL1906A00",null,"Двері непрозорі 18M Mistral65",390.9,"замовлення","4-6","Consumer units",20,"шт.",null,"AR"]
["1SL1907A00",null,"Двері прозорі 18M Mistral65",390.9,"замовлення","4-6","Consumer units",20,"шт.",null,"AR"]
["1SL1908A00",null,"Двері непрозорі 24M / 48M Mistral65",412.08000000000004,"замовлення","4-6","Consumer units",6,"шт.",null,"AR"]
["1SL1909A00",null,"Двері прозорі 24M / 48M Mistral65",412.08000000000004,"замовлення","4-6","Consumer units",6,"шт.",null,"AR"]
["1SL1910A00",null,"Двері непрозорі 36M Mistral65",704.16,"замовлення","4-6","Consumer units",10,"шт.",null,"AR"]
["1SL1911A00",null,"Двері прозорі 36M Mistral65",704.16,"замовлення","4-6","Consumer units",10,"шт.",null,"AR"]
["1SL1912A00",null,"Двері непрозорі 36M / 72M Mistral65",704.16,"замовлення","4-6","Consumer units",14,"шт.",null,"AR"]
["1SL1913A00",null,"Двері прозорі 36M / 72M Mistral65",704.16,"замовлення","4-6","Consumer units",14,"шт.",null,"AR"]
["1SL1914A00",null,"Двері непрозорі 54M Mistral65",885.95999999999992,"замовлення","4-6","Consumer units",8,"шт.",null,"AR"]
["1SL1915A00",null,"Двері прозорі 54M Mistral65",885.95999999999992,"замовлення","4-6","Consumer units",8,"шт.",null,"AR"]
["1SL1920A00",null,"Металева плата 12M Mistral65",238.26,"замовлення","4-6","Consumer units",12,"шт.",null,"AR"]
["1SL1921A00",null,"Металева плата 2х12M Mistral65",375.9,"замовлення","4-6","Consumer units",4,"шт.",null,"AR"]
["1SL1922A00",null,"Металева плата 18M Mistral65",288.54000000000002,"замовлення","4-6","Consumer units",8,"шт.",null,"AR"]
["1SL1923A00",null,"Металева плата 2х18M Mistral65",592.9799999999999,"замовлення","4-6","Consumer units",4,"шт.",null,"AR"]
["1SL1927A00",null,"Скоби до монтажу Mistral65",110.27999999999999,"склад",1,"Consumer units",1,"шт.",null,"AR"]
["1SL1929A00",null,"Заглушка 12м Mistral65",90.899999999999991,"склад",1,"Consumer units",1,"шт.",null,"AR"]
["1SL1931A00",null,"Замок з ключем Mistral65",229.44000000000003,"склад",1,"Consumer units",1,"шт.",null,"AR"]
["1SL1935A00",null,"Кабельний ввід Ø 16",40.61999999999999,"склад",1,"Consumer units",1,"шт.",null,"AR"]
["1SL1936A00",null,"Кабельний ввід Ø 20",45,"склад",1,"Consumer units",1,"шт.",null,"AR"]
["1SL1937A00",null,"Кабельний ввід Ø 25",64.44,"склад",1,"Consumer units",1,"шт.",null,"AR"]
["1SL1938A00",null,"Кабельний ввід Ø 32",107.64,"замовлення","4-6","Consumer units",5,"шт.","див. закладку \"Акційне обладнання\"","AR"]
["1SL1942A00",null,"Адаптер для вводу кабелів",479.15999999999997,"замовлення","4-6","Consumer units",10,"шт.","див. закладку \"Акційне обладнання\"","AR"]
["1SL1945A00",null,"Центр глуха фальшпанель 12М Mistral65",204.72,"склад",1,"Consumer units",1,"шт.",null,"AR"]
["1SL1946A00",null,"Глуха фальшпанель 12М Mistral65",204.72,"склад",1,"Consumer units",1,"шт.",null,"AR"]
["1SL1947A00",null,"Центр глуха фальшпанель 18М Mistral65",231.18,"замовлення","4-6","Consumer units",30,"шт.","див. закладку \"Акційне обладнання\"","AR"]
["1SL1948A00",null,"Глуха фальшпанель 18М Mistral65",231.18,"замовлення","4-6","Consumer units",30,"шт.","див. закладку \"Акційне обладнання\"","AR"]
["1SL1949A00",null,"З'єднювач Ø 28,5",505.61999999999995,"замовлення","4-6","Consumer units",30,"шт.","див. закладку \"Акційне обладнання\"","AR"]
["1SL1950A00",null,"комплект для пломбування",175.61999999999998,"замовлення","4-6","Consumer units",50,"шт.",null,"AR"]
["1SPE007715F0731",null,"Гвинт клем блок N 3x6+3x16мм2",52.92,"склад",1,"Consumer units",1,"шт.","гвинтові","AR"]
["1SPE007715F0732",null,"Гвинт клем блок N 6x6+5x16мм2",90.899999999999991,"склад",1,"Consumer units",1,"шт.","гвинтові","AR"]
["1SPE007715F0733",null,"Гвинт клем блок N 9x6+7x16мм2",123.53999999999999,"склад",1,"Consumer units",1,"шт.","гвинтові","AR"]
["1SPE007715F0734",null,"Гвинт клем блок N 12x6+9x16мм2",152.63999999999999,"склад",1,"Consumer units",1,"шт.","гвинтові","AR"]
["1SPE007715F0735",null,"Гвинт клем блок N 15x6+11x16мм2",201.18,"склад",1,"Consumer units",1,"шт.","гвинтові","AR"]
["1SPE007715F0741",null,"Гвинт клем блок PE 3x6+3x16мм2",52.92,"склад",1,"Consumer units",1,"шт.","гвинтові","AR"]
["1SPE007715F0742",null,"Гвинт клем блок PE 6x6+5x16мм2",90.899999999999991,"склад",1,"Consumer units",1,"шт.","гвинтові","AR"]
["1SPE007715F0743",null,"Гвинт клем блок PE 9x6+7x16мм2",123.53999999999999,"склад",1,"Consumer units",1,"шт.","гвинтові","AR"]
["1SPE007715F0744",null,"Гвинт клем блок PE 12x6+9x16мм2",152.63999999999999,"склад",1,"Consumer units",1,"шт.","гвинтові","AR"]
["1SPE007715F0745",null,"Гвинт клем блок PE 15x6+11x16мм2",201.18,"склад",1,"Consumer units",1,"шт.","гвинтові","AR"]
["1SPE007715F9701",null,"Клемний блок N 5*1,5-4мм²",65.28,"склад",1,"Consumer units",1,"шт.","комбіновані (безгвинтові+гвинтові) клеми","AR"]
["1SPE007715F9702",null,"Клемний блок  N 5*1,5-4мм²+1*25мм²",91.8,"склад",1,"Consumer units",1,"шт.","комбіновані (безгвинтові+гвинтові) клеми","AR"]
["1SPE007715F9703",null,"Клемний блок  N 8*1,5-4мм²+2*25мм²",134.1,"склад",1,"Consumer units",1,"шт.","комбіновані (безгвинтові+гвинтові) клеми","AR"]
["1SPE007715F9704",null,"Клемний блок  N 11*1,5-4мм²+3*25мм²",187.08,"склад",1,"Consumer units",1,"шт.","комбіновані (безгвинтові+гвинтові) клеми","AR"]
["1SPE007715F9705",null,"Клемний блок  N 14*1,5-4мм²+4*25мм²",240,"склад",1,"Consumer units",1,"шт.","комбіновані (безгвинтові+гвинтові) клеми","AR"]
["1SPE007715F9706",null,"Клемний блок  N 17*1,5-4мм²+5*25мм²",293.82,"склад",1,"Consumer units",1,"шт.","комбіновані (безгвинтові+гвинтові) клеми","AR"]
["1SPE007715F9707",null,"Клемний блок  N 20*1,5-4мм²+6*25мм²",331.8,"склад",1,"Consumer units",1,"шт.","комбіновані (безгвинтові+гвинтові) клеми","AR"]
["1SPE007715F9712",null,"Клемний блок  PE 5*1,5-4мм²+1*25мм²",91.8,"склад",1,"Consumer units",1,"шт.","комбіновані (безгвинтові+гвинтові) клеми","AR"]
["1SPE007715F9713",null,"Клемний блок  PE 8*1,5-4мм²+2*25мм²",134.1,"склад",1,"Consumer units",1,"шт.","комбіновані (безгвинтові+гвинтові) клеми","AR"]
["1SPE007715F9714",null,"Клемний блок  PE 11*1,5-4мм²+3*25мм²",187.08,"склад",1,"Consumer units",1,"шт.","комбіновані (безгвинтові+гвинтові) клеми","AR"]
["1SPE007715F9715",null,"Клемний блок  PE 14*1,5-4мм²+4*25мм²",240,"склад",1,"Consumer units",1,"шт.","комбіновані (безгвинтові+гвинтові) клеми","AR"]
["1SPE007715F9716",null,"Клемний блок  PE 17*1,5-4мм²+5*25мм²",293.82,"склад",1,"Consumer units",1,"шт.","комбіновані (безгвинтові+гвинтові) клеми","AR"]
["1SPE007715F9717",null,"Клемний блок  PE 20*1,5-4мм²+6*25мм²",331.8,"склад",1,"Consumer units",1,"шт.","комбіновані (безгвинтові+гвинтові) клеми","AR"]
["M125310000",12531,"12531 Клемний блок",53.82,"склад",1,"Consumer units",1,"шт.","гвинтові","AR"]
["M125320000",12532,"12532 Клемний блок",89.1,"склад",1,"Consumer units",1,"шт.","гвинтові","AR"]
["M125330000",12533,"12533 Клемний блок",113.82,"склад",1,"Consumer units",1,"шт.","гвинтові","AR"]
["M125340000",12534,"12534 Клемний блок",124.43999999999998,"склад",1,"Consumer units",1,"шт.","гвинтові","AR"]
["M125350000",12535,"12535 Клемний блок",136.79999999999998,"склад",1,"Consumer units",1,"шт.","гвинтові","AR"]
["1SLM004100A1953",null,"Тримач клем до Mistral 8 мод.",44.1,"склад",1,"Consumer units",1,"шт.",null,"AR"]
["1SLM004100A1954",null,"Тримач клем Mistral12 мод.",51.18,"склад",1,"Consumer units",1,"шт.",null,"AR"]
["1SLM004100A1955",null,"Тримач клем Mistral18 мод.",60,"склад",1,"Consumer units",1,"шт.",null,"AR"]
["1SPE007715F0751","ZK20","ZK20 Тримач клем 8 мод.",45,"склад",1,"Consumer units",1,"шт.",null,"AR"]
["1SPE007715F0752","ZK21","ZK21 Тримач клем 12 мод.",52.08,"склад",1,"Consumer units",1,"шт.",null,"AR"]
["1SPE007715F0753","ZK22","ZK22 Тримач клем 18 мод.",61.739999999999995,"склад",1,"Consumer units",1,"шт.",null,"AR"]
["2CPX030100R9999","U32","U32 Шафа вбудована 3Р IP31    ",7108.8,"склад",1,"Consumer units",1,"шт.",null,"AR"]
["2CPX030101R9999","U41","U41 Шафа вбудована 4Р IP31    ",5187.78,"склад",1,"Consumer units",1,"шт.",null,"AR"]
["2CPX030102R9999","U42","U42 Шафа вбудована 4Р IP31    ",7272.06,"склад",1,"Consumer units",1,"шт.",null,"AR"]
["2CPX030146R9999","U42M","U42M Шафа вбудована 4Р IP31    ",8515.3799999999992,"склад",1,"Consumer units",1,"шт.",null,"AR"]
["2CPX030147R9999","U53M","U53M Шафа вбудована 5Р IP31    ",14384.4,"склад",1,"Consumer units",1,"шт.",null,"AR"]
["2CPX030103R9999","U43","U43 Шафа вбудована 4Р IP31    ",11623.32,"склад",1,"Consumer units",1,"шт.",null,"AR"]
["2CPX030104R9999","U51","U51 Шафа вбудована 5Р IP31    ",5524.8599999999988,"склад",1,"Consumer units",1,"шт.",null,"AR"]
["2CPX030105R9999","U52","U52 Шафа вбудована 5Р IP31    ",7738.02,"склад",1,"Consumer units",1,"шт.",null,"AR"]
["2CPX030106R9999","U52K","U52K Шафа вбудована 5Р IP31    ",7936.5599999999995,"замовлення","4-6","Consumer units",1,"шт.",null,"AR"]
["2CPX030107R9999","U53","U53 Шафа вбудована 5Р IP31    ",12341.58,"склад",1,"Consumer units",1,"шт.",null,"AR"]
["2CPX030108R9999","U53K","U53K Шафа вбудована 5Р IP31    ",11504.159999999998,"замовлення","4-6","Consumer units",1,"шт.",null,"AR"]
["2CPX030109R9999","U54K","U54K Шафа вбудована 5Р IP31    ",13665.24,"замовлення","4-6","Consumer units",1,"шт.",null,"AR"]
["2CPX030110R9999","U61","U61 Шафа вбудована 6Р IP31    ",6398.4,"склад",1,"Consumer units",1,"шт.",null,"AR"]
["2CPX030111R9999","U62","U62 Шафа вбудована 6Р IP31    ",8816.4,"склад",1,"Consumer units",1,"шт.",null,"AR"]
["2CPX030112R9999","U62K","U62K Шафа вбудована 6Р IP31    ",8807.52,"замовлення","4-6","Consumer units",1,"шт.",null,"AR"]
["2CPX030113R9999","U63K","U63K Шафа вбудована 6Р IP31    ",12718.38,"замовлення","4-6","Consumer units",1,"шт.",null,"AR"]
["2CPX030117R9999","U64K","U64K Шафа вбудована 6Р IP31    ",15178.619999999999,"замовлення","4-6","Consumer units",1,"шт.",null,"AR"]
["2CPX030114R9999","U72","U72 Шафа вбудована 7Р IP31    ",10559.88,"склад",1,"Consumer units",1,"шт.",null,"AR"]
["2CPX030115R9999","U72K","U72K Шафа вбудована 7Р IP31    ",10767.359999999999,"замовлення","4-6","Consumer units",1,"шт.",null,"AR"]
["2CPX030116R9999","U73K","U73K Шафа вбудована 7Р IP31    ",13899.060000000001,"замовлення","4-6","Consumer units",1,"шт.",null,"AR"]
["2CPX030118R9999","U42/2","U42/2 Шафа вбудована 4Р IP31    ",18110.04,"замовлення","4-6","Consumer units",1,"шт.",null,"AR"]
["2CPX030119R9999","U52/2","U52/2 Шафа вбудована 5Р IP31    ",21793.26,"замовлення","4-6","Consumer units",1,"шт.",null,"AR"]
["2CPX071784R9999","U54E","U54 Шафа розподільча",17364.359999999997,"замовлення","4-6","Consumer units",1,"шт.",null,"AR"]
["2CPX071787R9999","U63","U63 Шафа розподільча",13636.98,"частково, в межах наявності на складі",1,"Consumer units",1,"шт.",null,"AR"]
["2CPX071740R9999","AT22E","AT22 Шафа розподільча",6397.56,"замовлення","4-6","Consumer units",1,"шт.",null,"AR"]
["2CPX030099R9999","AT31","AT31 Шафа навісна 3Р IP43 ",4862.3399999999992,"склад",1,"Consumer units",1,"шт.",null,"AR"]
["2CPX030120R9999","AT32","AT32 Шафа навісна 3Р IP43    ",6113.46,"склад",1,"Consumer units",1,"шт.",null,"AR"]
["2CPX030121R9999","AT41","AT41 Шафа навісна 4Р IP43    ",4518,"склад",1,"Consumer units",1,"шт.",null,"AR"]
["2CPX030122R9999","AT42","AT42 Шафа навісна 4Р IP43    ",6661.44,"склад",1,"Consumer units",1,"шт.",null,"AR"]
["2CPX030138R9999","AT42/2","AT42/2 Шафа навісна 4Р IP43    ",17577.060000000001,"замовлення","4-6","Consumer units",1,"шт.",null,"AR"]
["2CPX030148R9999","AT42M","AT42M Шафа навісна 4Р IP43    ",6904.0800000000008,"частково, в межах наявності на складі",1,"Consumer units",1,"шт.",null,"AR"]
["2CPX030123R9999","AT43","AT43 Шафа навісна 4Р IP43    ",9624.6,"склад",1,"Consumer units",1,"шт.",null,"AR"]
["2CPX030124R9999","AT51","AT51 Шафа навісна 5Р IP43    ",4830.42,"склад",1,"Consumer units",1,"шт.",null,"AR"]
["2CPX030125R9999","AT52","AT52 Шафа навісна 5Р IP43    ",7396.5,"склад",1,"Consumer units",1,"шт.",null,"AR"]
["2CPX030139R9999","AT52/2","AT52/2 Шафа навісна 5Р IP43    ",21261.18,"замовлення","4-6","Consumer units",1,"шт.",null,"AR"]
["2CPX030126R9999","AT52K","AT52K Шафа навісна 5Р IP43    ",7385.0399999999991,"замовлення","4-6","Consumer units",1,"шт.",null,"AR"]
["2CPX030127R9999","AT53","AT53 Шафа навісна 5Р IP43    ",11676.24,"склад",1,"Consumer units",1,"шт.",null,"AR"]
["2CPX030128R9999","AT53K","AT53K Шафа навісна 5Р IP43    ",10767.359999999999,"замовлення","4-6","Consumer units",1,"шт.",null,"AR"]
["2CPX030149R9999","AT53M","AT53M Шафа навісна 5Р IP43    ",13323.719999999998,"замовлення","4-6","Consumer units",1,"шт.",null,"AR"]
["2CPX071748R9999","AT54","AT54 Шафа розподільча",16858.740000000002,"замовлення","4-6","Consumer units",1,"шт.",null,"AR"]
["2CPX030129R9999","AT54K","AT54K Шафа навісна 5Р IP43    ",12560.46,"замовлення","4-6","Consumer units",1,"шт.",null,"AR"]
["2CPX030130R9999","AT61","AT61 Шафа навісна 6Р IP43    ",6447.9,"замовлення","4-6","Consumer units",1,"шт.",null,"AR"]
["2CPX030131R9999","AT62","AT62 Шафа навісна 6Р IP43    ",9143.6999999999989,"склад",1,"Consumer units",1,"шт.",null,"AR"]
["2CPX030132R9999","AT62K","AT62K Шафа навісна 6Р IP43    ",8132.46,"замовлення","4-6","Consumer units",1,"шт.",null,"AR"]
["2CPX071751R9999","AT63","AT63 Шафа розподільча",13088.28,"замовлення","4-6","Consumer units",1,"шт.",null,"AR"]
["2CPX030133R9999","AT63K","AT63K Шафа навісна 6Р IP43    ",11680.679999999998,"замовлення","4-6","Consumer units",1,"шт.",null,"AR"]
["2CPX030137R9999","AT64K","AT64K Шафа навісна 6Р IP43    ",14736.48,"замовлення","4-6","Consumer units",1,"шт.",null,"AR"]
["2CPX030134R9999","AT72","AT72 Шафа навісна 7Р IP43    ",11235.9,"склад",1,"Consumer units",1,"шт.",null,"AR"]
["2CPX030135R9999","AT72K","AT72K Шафа навісна 7Р IP43    ",10338.48,"замовлення","4-6","Consumer units",1,"шт.",null,"AR"]
["2CPX030136R9999","AT73K","AT73K Шафа навісна 7Р IP43    ",14119.680000000002,"замовлення","4-6","Consumer units",1,"шт.",null,"AR"]
["2CPX042944R9999","WR191","WR191 WR рама",1932.5399999999997,"замовлення","4-6","Consumer units",1,"шт.",null,"AR"]
["2CPX042945R9999","WR291","WR291 WR рама",2112.5399999999995,"замовлення","4-6","Consumer units",1,"шт.",null,"AR"]
["2CPX042946R9999","WR391","WR391 WR рама",2292.5399999999995,"замовлення","4-6","Consumer units",1,"шт.",null,"AR"]
["2CPX042947R9999","WR491","WR491 WR рама",2427.5399999999995,"замовлення","4-6","Consumer units",1,"шт.",null,"AR"]
["2CPX042950R9999","ZW168","ZW168 Профіль",599.16,"замовлення","4-6","Consumer units",1,"шт.",null,"AR"]
["2CPX042951R9999","ZW163","ZW163 Профіль",676.8,"замовлення","4-6","Consumer units",1,"шт.",null,"AR"]
["2CPX064982R9999","ZK13","ZK13 Скоба N+PE до Quick-terminals AT/U",143.82,"замовлення","4-6","Consumer units",1,"шт.",null,"AR"]
["2CPX064983R9999","ZK14","ZK14 Скоба N+PE до Quick-terminals TwinLine",248.82,"склад",1,"Consumer units",1,"шт.",null,"AR"]
["2CPX067709R9999","TU41","TU41 Порожня шафа вбудованого монтажу",7324.14,"замовлення","4-6","Consumer units",1,"шт.",null,"AR"]
["2CPX067710R9999","TU42","TU42 Порожня шафа вбудованого монтажу",11895.12,"замовлення","4-6","Consumer units",1,"шт.",null,"AR"]
["2CPX067711R9999","TU43","TU43 Порожня шафа вбудованого монтажу",17044.919999999998,"замовлення","4-6","Consumer units",1,"шт.",null,"AR"]
["2CPX067712R9999","TU51","TU51 Порожня шафа вбудованого монтажу",7723.8599999999988,"замовлення","4-6","Consumer units",1,"шт.",null,"AR"]
["2CPX067713R9999","TU52","TU52 Порожня шафа вбудованого монтажу",14203.5,"замовлення","4-6","Consumer units",1,"шт.",null,"AR"]
["2CPX067714R9999","TU53","TU53 Порожня шафа вбудованого монтажу",18642.12,"замовлення","4-6","Consumer units",1,"шт.",null,"AR"]
["2CPX067715R9999","TU61","TU61 Порожня шафа вбудованого монтажу",8611.6200000000008,"замовлення","4-6","Consumer units",1,"шт.",null,"AR"]
["2CPX067716R9999","TU62","TU62 Порожня шафа вбудованого монтажу",15402.719999999998,"замовлення","4-6","Consumer units",1,"шт.",null,"AR"]
["2CPX067717R9999","TU63","TU63 Порожня шафа вбудованого монтажу",19663.079999999998,"замовлення","4-6","Consumer units",1,"шт.",null,"AR"]
["2CPX068574R9999","TU54","TU54 Порожня шафа вбудованого монтажу",24058.439999999995,"замовлення","4-6","Consumer units",1,"шт.",null,"AR"]
["2CPX068575R9999","TU64","TU64 Порожня шафа вбудованого монтажу",25078.560000000001,"замовлення","4-6","Consumer units",1,"шт.",null,"AR"]
["2CPX071584R9999","AT32TE","AT32TE Шафа розподільча",22282.14,"замовлення","4-6","Consumer units",1,"шт.",null,"AR"]
["2CPX071585R9999","AT41TE","AT41TE Шафа розподільча",16866.66,"замовлення","4-6","Consumer units",1,"шт.",null,"AR"]
["2CPX071586R9999","AT42TE","AT42TE Шафа розподільча",11527.98,"замовлення","4-6","Consumer units",1,"шт.",null,"AR"]
["2CPX071587R9999","AT51TE","AT51TE Шафа розподільча",17932.68,"замовлення","4-6","Consumer units",1,"шт.",null,"AR"]
["2CPX071588R9999","AT52TE","AT52TE Шафа розподільча",27874.080000000002,"замовлення","4-6","Consumer units",1,"шт.",null,"AR"]
["2CPX071589R9999","AT61TE","AT61TE Шафа розподільча",22104.780000000002,"замовлення","4-6","Consumer units",1,"шт.",null,"AR"]
["2CPX071590R9999","AT62TE","AT62TE Шафа розподільча",30892.86,"замовлення","4-6","Consumer units",1,"шт.",null,"AR"]
["2CPX071591R9999","U32TE","U32TE Шафа розподільча",12812.819999999998,"замовлення","4-6","Consumer units",1,"шт.",null,"AR"]
["2CPX071592R9999","U41TE","U41TE Шафа розподільча",17489.7,"замовлення","4-6","Consumer units",1,"шт.",null,"AR"]
["2CPX071593R9999","U42TE","U42TE Шафа розподільча",23925.18,"замовлення","4-6","Consumer units",1,"шт.",null,"AR"]
["2CPX071594R9999","U51TE","U51TE Шафа розподільча",18463.859999999997,"замовлення","4-6","Consumer units",1,"шт.",null,"AR"]
["2CPX071595R9999","U52TE","U52TE Шафа розподільча",17246.099999999999,"замовлення","4-6","Consumer units",1,"шт.",null,"AR"]
["2CPX071596R9999","U61TE","U61TE Шафа розподільча",22815.119999999999,"замовлення","4-6","Consumer units",1,"шт.",null,"AR"]
["2CPX071597R9999","U62TE","U62TE Шафа розподільча",31869.659999999996,"замовлення","4-6","Consumer units",1,"шт.",null,"AR"]
["M127640000",12764,"12764 Шафа EUROPA IP65 непр 140X220X140",584.16,"замовлення","4-6","Consumer units",14,"шт.",null,"AR"]
["M127680020",12768,"12768 Шафа EUROPA IP65 непр 205X220X140",775.68,"замовлення","4-6","Consumer units",9,"шт.",null,"AR"]
["M127720020",12772,"12772 Шафа EUROPA IP65 непр 275X220X140",849.78,"склад",1,"Consumer units",1,"шт.",null,"AR"]
["M127740020",12774,"12774 Шафа EUROPA IP65 непр 275X370X140",1136.5800000000002,"склад",1,"Consumer units",1,"шт.",null,"AR"]
["M127760020",12776,"12776 Шафа EUROPA IP65 непр 275X570X140",1743.66,"склад",1,"Consumer units",1,"шт.",null,"AR"]
["M127780020",12778,"12778 Шафа EUROPA IP65 непр 380X570X140",2061.3599999999997,"склад",1,"Consumer units",1,"шт.",null,"AR"]
["M127840000",12784,"12784 Шафа EUROPA IP65 проз 140X220X140",584.16,"замовлення","4-6","Consumer units",14,"шт.","див. закладку \"Акційне обладнання\"","AR"]
["M127880020",12788,"12788 Шафа EUROPA IP65 проз 205X220X140",775.68,"замовлення","4-6","Consumer units",9,"шт.","див. закладку \"Акційне обладнання\"","AR"]
["M127920020",12792,"12792 Шафа EUROPA IP65 проз 275X220X140",849.78,"склад",1,"Consumer units",1,"шт.",null,"AR"]
["M127940020",12794,"12794 Шафа EUROPA IP65 проз 275X370X140",1136.5800000000002,"склад",1,"Consumer units",1,"шт.",null,"AR"]
["M127960020",12796,"12796 Шафа EUROPA IP65 проз 275X570X140",1743.66,"замовлення","4-6","Consumer units",2,"шт.",null,"AR"]
["M127980020",12798,"12798 Шафа EUROPA IP65 проз 380X570X140",2061.3599999999997,"замовлення","4-6","Consumer units",2,"шт.",null,"AR"]
["M128040000",12804,"12804 Коробка IP65 R7035-140x220x140",493.25999999999993,"замовлення","4-6","Consumer units",14,"шт.","див. закладку \"Акційне обладнання\"","AR"]
["M128080020",12808,"12808 Коробка IP65 R7035-205x220x140",567.41999999999996,"замовлення","4-6","Consumer units",9,"шт.","див. закладку \"Акційне обладнання\"","AR"]
["M128120020",12812,"12812 Коробка IP65 R7035-275x220x140",662.69999999999993,"замовлення","4-6","Consumer units",6,"шт.","див. закладку \"Акційне обладнання\"","AR"]
["M128140020",12814,"12814 Коробка IP65 R7035-275x370x140",935.4,"замовлення","4-6","Consumer units",4,"шт.",null,"AR"]
["M128160020",12816,"12816 Коробка IP65 R7035-275x570x140",1376.5800000000002,"замовлення","4-6","Consumer units",2,"шт.",null,"AR"]
["M128180020",12818,"12818 коробка IP65 R7035-380х570х140",1659.8399999999997,"замовлення","4-6","Consumer units",2,"шт.",null,"AR"]
["M128200000",12820,"12820 Модульн комплект до шафы 275X370",1071.2399999999998,"замовлення","4-6","Consumer units",8,"шт.",null,"AR"]
["M128210000",12821,"12821 Модульн комплект до шафы 275X570",1352.76,"замовлення","4-6","Consumer units",5,"шт.",null,"AR"]
["M128220000",12822,"12822 Модульн комплект до шафы 380X570",1577.76,"замовлення","4-6","Consumer units",5,"шт.",null,"AR"]
["M128250000",12825,"12825 Внутрішні двері 275х370",677.69999999999993,"замовлення","4-6","Consumer units",10,"шт.",null,"AR"]
["M128260000",12826,"12826 Внутрішні двері 275х570",1016.58,"замовлення","4-6","Consumer units",10,"шт.",null,"AR"]
["M128270000",12827,"12827 Внутрішні двері 380х570",1129.5,"замовлення","4-6","Consumer units",10,"шт.",null,"AR"]
["M128320000",12832,"12832 Монтажна плата пласт",193.26000000000002,"замовлення","4-6","Consumer units",10,"шт.",null,"AR"]
["M128350000",12835,"12835 Монтажная плата пласт",234.71999999999997,"замовлення","4-6","Consumer units",10,"шт.",null,"AR"]
["M128360000",12836,"12836 Монтажная плата пласт",303.54000000000002,"замовлення","4-6","Consumer units",5,"шт.",null,"AR"]
["M128370000",12837,"12837 Монтажная плата пласт",400.61999999999995,"замовлення","4-6","Consumer units",5,"шт.",null,"AR"]
["M128380000",12838,"12838 Монтажная плата пласт",487.08000000000004,"замовлення","4-6","Consumer units",5,"шт.",null,"AR"]
["M128390000",12839,"12839 DIN рейка 35х7,5х1",158.82,"замовлення","4-6","Consumer units",40,"шт.","Ціна за 1 шт. яка дорівнює 2м.","AR"]
["M128400000",12840,"12840 DIN рейка 35х15х1,5",292.97999999999996,"склад",1,"Consumer units",1,"шт.","Ціна за 1 шт. яка дорівнює 2м.","AR"]
["M128410000",12841,"12841 DIN рейка С-образная",292.97999999999996,"замовлення","4-6","Consumer units",20,"шт.","Ціна за 1 шт. яка дорівнює 2м.","AR"]
["M128420000",12842,"12842 Монтажна плата метал",99.720000000000013,"замовлення","4-6","Consumer units",120,"шт.",null,"AR"]
["M128440000",12844,"12844 Монтажна плата метал",130.61999999999998,"замовлення","4-6","Consumer units",10,"шт.",null,"AR"]
["M128450000",12845,"12845 Монтажна плата метал",183.54,"замовлення","4-6","Consumer units",10,"шт.",null,"AR"]
["M128460000",12846,"12846 Монтажна плата метал",268.26,"замовлення","4-6","Consumer units",5,"шт.",null,"AR"]
["M128470000",12847,"12847 Монтажна плата метал",325.62,"замовлення","4-6","Consumer units",5,"шт.",null,"AR"]
["M128480000",12848,"12848 Монтажна плата метал",482.7,"замовлення","4-6","Consumer units",5,"шт.","див. закладку \"Акційне обладнання\"","AR"]
["M128490000",12849,"12849 DIN рейка 35х7,5х1",192.36,"склад",1,"Consumer units",1,"шт.","Ціна за 1 шт. яка дорівнює 2м.","AR"]
["M128500000",12850,"12850 DIN рейка 35х15х1,5",314.16000000000003,"склад",1,"Consumer units",1,"шт.","Ціна за 1 шт. яка дорівнює 2м.","AR"]
["M128510000",12851,"12851 Пластикова рейка",420.06,"замовлення","4-6","Consumer units",10,"шт.",null,"AR"]
["M128520000",12852,"12852 DIN рейка до IP65 EUROPA 140мм",27.359999999999996,"замовлення","4-6","Consumer units",50,"шт.",null,"AR"]
["M128540000",12854,"12854 DIN рейка до IP65 EUROPA 205мм",40.61999999999999,"замовлення","4-6","Consumer units",30,"шт.",null,"AR"]
["M128550000",12855,"12855 DIN рейка до IP65 EUROPA 275мм",52.08,"замовлення","4-6","Consumer units",50,"шт.",null,"AR"]
["M128560000",12856,"12856 DIN рейка до IP65 EUROPA 380мм",60.9,"замовлення","4-6","Consumer units",50,"шт.",null,"AR"]
["M128580000",12858,"12858 Кронштейн для кріплення на стіну",35.279999999999994,"замовлення","4-6","Consumer units",20,"шт.",null,"AR"]
["M132000000",13200,"13200 Бокс глухий IP65 4M-136X540X140мм",910.68,"замовлення","4-6","Consumer units",8,"шт.","див. закладку \"Акційне обладнання\"","AR"]
["M132040020",13204,"13204 Бокс глухий IP65 12M-275X370X140мм",1112.76,"замовлення","4-6","Consumer units",4,"шт.",null,"AR"]
["M132050020",13205,"13205 Бокс глухий IP65 12M-275X455X140мм",1296.3,"замовлення","4-6","Consumer units",3,"шт.",null,"AR"]
["M132060020",13206,"13206 Бокс глухий IP65 12M-275X570X140мм",1572.4799999999998,"замовлення","4-6","Consumer units",3,"шт.",null,"AR"]
["M132080020",13208,"13208 Бокс глухий IP65 18M-380X570X140мм",1798.38,"замовлення","4-6","Consumer units",2,"шт.",null,"AR"]
["1SL0816A00","1SL0816A00","Коробка IP55 з сальником з пласт. шур.",119.1,"замовлення","4-6","Consumer units",54,"шт.",null,"AR"]
["1SL0820A00","1SL0820A00","Коробка IP55 з сальником з пласт. шур.",105,"замовлення","4-6","Consumer units",70,"шт.",null,"AR"]
["1SL0821A00","1SL0821A00","Коробка IP55 з сальником з пласт. шур.",133.26000000000002,"замовлення","4-6","Consumer units",40,"шт.",null,"AR"]
["1SL0822A00","1SL0822A00","Коробка IP55 з сальником з пласт. шур.",187.08,"замовлення","4-6","Consumer units",32,"шт.",null,"AR"]
["1SL0824A00","1SL0824A00","Коробка IP55 з сальником з пласт. шур.",240.89999999999998,"замовлення","4-6","Consumer units",18,"шт.",null,"AR"]
["1SL0826A00","1SL0826A00","Коробка IP55 з сальником з пласт. шур.",362.7,"замовлення","4-6","Consumer units",12,"шт.",null,"AR"]
["1SL0828A00","1SL0828A00","Коробка IP55 з сальником з пласт. шур.",570.9,"замовлення","4-6","Consumer units",6,"шт.",null,"AR"]
["1SL0830A00","1SL0830A00","Коробка IP55 з сальником висока",280.62,"замовлення","4-6","Consumer units",16,"шт.",null,"AR"]
["1SL0832A00","1SL0832A00","Коробка IP55 з сальником висока",441.24000000000007,"замовлення","4-6","Consumer units",8,"шт.",null,"AR"]
["1SL0834A00","1SL0834A00","Коробка IP55 з сальником висока",648.6,"замовлення","4-6","Consumer units",4,"шт.",null,"AR"]
["1SL0846A00","1SL0846A00","Коробка IP55  суцільна з пласт шур.",110.27999999999999,"замовлення","4-6","Consumer units",60,"шт.",null,"AR"]
["1SL0850A00","1SL0850A00","Коробка IP55  суцільна з пласт шур.",96.18,"замовлення","4-6","Consumer units",100,"шт.",null,"AR"]
["1SL0851A00","1SL0851A00","Коробка IP55  суцільна з пласт шур.",120,"замовлення","4-6","Consumer units",40,"шт.",null,"AR"]
["1SL0852A00","1SL0852A00","Коробка IP55  суцільна з пласт шур.",153.54,"замовлення","4-6","Consumer units",34,"шт.",null,"AR"]
["1SL0854A00","1SL0854A00","Коробка IP55  суцільна з пласт шур.",188.82,"замовлення","4-6","Consumer units",24,"шт.",null,"AR"]
["1SL0856A00","1SL0856A00","Коробка IP55  суцільна з пласт шур.",290.33999999999997,"замовлення","4-6","Consumer units",12,"шт.",null,"AR"]
["1SL0858A00","1SL0858A00","Коробка IP55  суцільна з пласт шур.",509.15999999999997,"замовлення","4-6","Consumer units",6,"шт.",null,"AR"]
["1SL0860A00","1SL0860A00","Коробка IP55 з високою глухою кр.",229.44000000000003,"замовлення","4-6","Consumer units",16,"шт.",null,"AR"]
["1SL0862A00","1SL0862A00","Коробка IP55 з високою глухою кр.",381.17999999999995,"замовлення","4-6","Consumer units",8,"шт.",null,"AR"]
["1SL0864A00","1SL0864A00","Коробка IP55 з високою глухою кр.",628.25999999999988,"замовлення","4-6","Consumer units",4,"шт.","див. закладку \"Акційне обладнання\"","AR"]
["1SL0872A00","1SL0872A00","Коробка IP55 з мет. шурупом проз. кришкою",196.79999999999998,"замовлення","4-6","Consumer units",34,"шт.",null,"AR"]
["1SL0880A00","1SL0880A00","Коробка IP55 з високою прозорою кр.",332.7,"замовлення","4-6","Consumer units",16,"шт.",null,"AR"]
["1SL0882A00","1SL0882A00","Коробка IP55 з високою прозорою кр.",543.6,"замовлення","4-6","Consumer units",8,"шт.",null,"AR"]
["1SL0884A00","1SL0884A00","Коробка IP55 з високою прозорою кр.",850.68,"замовлення","4-6","Consumer units",4,"шт.",null,"AR"]
["M008000000","00800","00800 Розпод. коробка IP44, D60, H35",46.74,"замовлення","4-6","Consumer units",6,"шт.",null,"AR"]
["M008020000","00802","00802 Розпод. коробка IP44, D80, H80",52.08,"замовлення","4-6","Consumer units",6,"шт.",null,"AR"]
["M008080000","00808","00808 Розпод. коробка IP44, 65X65X32",52.08,"замовлення","4-6","Consumer units",3,"шт.",null,"AR"]
["M008100000","00810","00810 Розпод. коробка IP44, 80X80X40",63.54,"замовлення","4-6","Consumer units",5,"шт.",null,"AR"]
["M008160000","00816","00816 Розпод. коробка IP55, 100X100X50",119.1,"замовлення","4-6","Consumer units",54,"шт.","див. закладку \"Акційне обладнання\"","AR"]
["M008200000","00820","00820 Розпод. коробка IP55 105X70X50",105,"замовлення","4-6","Consumer units",70,"шт.",null,"AR"]
["M008210000","00821","00821 Розпод. коробка IP55 100X100X80",133.26000000000002,"замовлення","4-6","Consumer units",40,"шт.",null,"AR"]
["M008220000","00822","00822 Розпод. коробка IP55 153X110X66",187.08,"замовлення","4-6","Consumer units",32,"шт.",null,"AR"]
["M008460000","00846","00846 Розпод. коробка IP55 100X100X50",110.27999999999999,"замовлення","4-6","Consumer units",60,"шт.",null,"AR"]
["M008500000","00850","00850 Розпод. коробка IP55 105X70X50",96.18,"замовлення","4-6","Consumer units",100,"шт.",null,"AR"]
["M008510000","00851","00851 Розпод. коробка IP55 100X100X80",120,"замовлення","4-6","Consumer units",40,"шт.",null,"AR"]
["M008520000","00852","00852 Розпод. коробка IP55 153X110X66",153.54,"замовлення","4-6","Consumer units",34,"шт.",null,"AR"]
["M009000000","00900","00900 Монтажна плата металл 120X149 мм",127.97999999999999,"замовлення","4-6","Consumer units",10,"шт.","див. закладку \"Акційне обладнання\"","AR"]
["M009020000","00902","00902 Монтажна плата металл 153X200 мм",187.08,"замовлення","4-6","Consumer units",5,"шт.",null,"AR"]
["M009040000","00904","00904 Монтажна плата металл 222X290 мм",307.97999999999996,"замовлення","4-6","Consumer units",5,"шт.",null,"AR"]
["M009310000","00931","00931 Кабельний сальник PG9, 5-8 мм",16.739999999999998,"замовлення","4-6","Consumer units",100,"шт.",null,"AR"]
["M009320000","00932","00932 Кабельний сальник PG11, 7-10 мм",16.739999999999998,"замовлення","4-6","Consumer units",100,"шт.",null,"AR"]
["M009330000","00933","00933 Кабельний сальник PG13.5, 9-13 мм",18.54,"замовлення","4-6","Consumer units",50,"шт.",null,"AR"]
["M009340000","00934","00934 Кабельний сальник PG16, 13-16 мм",24.720000000000002,"замовлення","4-6","Consumer units",50,"шт.",null,"AR"]
["M009350000","00935","00935 Кабельний сальник PG21, 17-20 мм",34.440000000000005,"замовлення","4-6","Consumer units",50,"шт.",null,"AR"]
["M009360000","00936","00936 Кабельний сальник PG29, 21-26 мм",53.82,"замовлення","4-6","Consumer units",25,"шт.",null,"AR"]
["M009370000","00937","00937 Кабельний сальник PG36, 30-34 мм",88.26,"замовлення","4-6","Consumer units",25,"шт.",null,"AR"]
["M009380000","00938","00938 Кабельний сальник PG42, 40-43 мм",108.54,"замовлення","4-6","Consumer units",15,"шт.","див. закладку \"Акційне обладнання\"","AR"]
["M009410000","00941","00941 Гайка до сальника PG9",3.5399999999999996,"замовлення","4-6","Consumer units",100,"шт.",null,"AR"]
["M009420000","00942","00942 Гайка до сальника PG11",3.5399999999999996,"замовлення","4-6","Consumer units",100,"шт.",null,"AR"]
["M009430000","00943","00943 Гайка до сальника PG13,5",4.4400000000000004,"замовлення","4-6","Consumer units",50,"шт.",null,"AR"]
["M009440000","00944","00944 Гайка до сальника PG16",4.4400000000000004,"замовлення","4-6","Consumer units",50,"шт.",null,"AR"]
["M009450000","00945","00945 Гайка до сальника PG21",7.0799999999999992,"замовлення","4-6","Consumer units",50,"шт.",null,"AR"]
["M009460000","00946","00946 Гайка до сальника PG29",11.459999999999999,"замовлення","4-6","Consumer units",50,"шт.",null,"AR"]
["M009470000","00947","00947 Гайка до сальника PG36",24.720000000000002,"замовлення","4-6","Consumer units",25,"шт.",null,"AR"]
["M009480000","00948","00948 Гайка до  сальника PG42",36.18,"замовлення","4-6","Consumer units",25,"шт.",null,"AR"]
["M009510000","00951","00951 Кабельний сальник M12",26.46,"замовлення","4-6","Consumer units",100,"шт.",null,"AR"]
["M009520000","00952","00952 Кабельний сальник M16",30,"склад",1,"Consumer units",100,"шт.",null,"AR"]
["M009530000","00953","00953 Кабельний сальник M20",39.72,"замовлення","4-6","Consumer units",100,"шт.","див. закладку \"Акційне обладнання\"","AR"]
["M009540000","00954","00954 Кабельний сальник M25",59.099999999999994,"замовлення","4-6","Consumer units",50,"шт.","див. закладку \"Акційне обладнання\"","AR"]
["M009550000","00955","00955 Кабельний сальник M32",104.1,"замовлення","4-6","Consumer units",25,"шт.","див. закладку \"Акційне обладнання\"","AR"]
["M009570000","00957","00957 Кабельний сальник M50",544.43999999999994,"замовлення","4-6","Consumer units",15,"шт.","див. закладку \"Акційне обладнання\"","AR"]
["M009610000","00961","00961 Гайка до сальника M12",6.1800000000000006,"замовлення","4-6","Consumer units",100,"шт.",null,"AR"]
["M009620000","00962","00962 Гайка до сальника M16",7.0799999999999992,"склад",1,"Consumer units",100,"шт.",null,"AR"]
["M009630000","00963","00963 Гайка до сальника M20",8.8199999999999985,"замовлення","4-6","Consumer units",50,"шт.",null,"AR"]
["M009640000","00964","00964 Гайка до сальника M25",13.26,"замовлення","4-6","Consumer units",50,"шт.","див. закладку \"Акційне обладнання\"","AR"]
["M009650000","00965","00965 Гайка до сальника M32",20.279999999999998,"замовлення","4-6","Consumer units",50,"шт.","див. закладку \"Акційне обладнання\"","AR"]
["M009670000","00967","00967 Гайка до сальника M50",67.08,"замовлення","4-6","Consumer units",25,"шт.","див. закладку \"Акційне обладнання\"","AR"]
["1SL0201A00","1SL0201A00","Бокс Gemini с непрозрачной дверью 24 мод. (12х2), Size 1",3339.12,"замовлення","4-6","Sub DB",1,"шт.",null,"H6"]
["1SL0202A00","1SL0202A00","Бокс Gemini с непрозрачной дверью 54 мод. (18х3), Size 2",4949.5199999999995,"замовлення","4-6","Sub DB",1,"шт.",null,"H6"]
["1SL0203A00","1SL0203A00","Бокс Gemini с непрозрачной дверью 72 мод. (18х4), Size 3",6263.46,"замовлення","4-6","Sub DB",1,"шт.",null,"H6"]
["1SL0204A00","1SL0204A00","Бокс Gemini с непрозрачной дверью 96 мод. (24х4), Size 4",7381.5,"замовлення","4-6","Sub DB",1,"шт.",null,"H6"]
["1SL0205A00","1SL0205A00","Бокс Gemini с непрозрачной дверью 120 мод. (24х5), Size 5",11527.98,"замовлення","4-6","Sub DB",1,"шт.",null,"H6"]
["1SL0206A00","1SL0206A00","Бокс Gemini с непрозрачной дверью 216 мод. (36х6), Size 6",21742.079999999998,"замовлення","4-6","Sub DB",1,"шт.",null,"H6"]
["1SL0211A00","1SL0211A00","Бокс Gemini с прозрачной дверью 24 мод. (12х2), Size 1",4069.74,"замовлення","4-6","Sub DB",1,"шт.",null,"H6"]
["1SL0212A00","1SL0212A00","Бокс Gemini с прозрачной дверью 54 мод. (18х3), Size 2",5744.579999999999,"замовлення","4-6","Sub DB",1,"шт.",null,"H6"]
["1SL0213A00","1SL0213A00","Бокс Gemini с прозрачной дверью 72 мод. (18х4), Size 3",6859.98,"замовлення","4-6","Sub DB",1,"шт.",null,"H6"]
["1SL0214A00","1SL0214A00","Бокс Gemini с прозрачной дверью 96 мод. (24х4), Size 4",8938.08,"замовлення","4-6","Sub DB",1,"шт.",null,"H6"]
["1SL0215A00","1SL0215A00","Бокс Gemini с прозрачной дверью 120 мод. (24х5), Size 5",12368.1,"замовлення","4-6","Sub DB",1,"шт.",null,"H6"]
["1SL0216A00","1SL0216A00","Бокс Gemini с прозрачной дверью 216 мод. (36х6), Size 6",23138.939999999995,"замовлення","4-6","Sub DB",1,"шт.",null,"H6"]
["1SL0221A00","1SL0221A00","Бокс Gemini 24 мод. (12х2), Size 1",2416.08,"замовлення","4-6","Sub DB",1,"шт.",null,"H6"]
["1SL0222A00","1SL0222A00","Бокс Gemini 54 мод. (18х3), Size 2",3374.4,"замовлення","4-6","Sub DB",1,"шт.",null,"H6"]
["1SL0223A00","1SL0223A00","Бокс Gemini 72 мод. (18х4), Size 3",4120.92,"замовлення","4-6","Sub DB",1,"шт.",null,"H6"]
["1SL0224A00","1SL0224A00","Бокс Gemini 96 мод. (24х4), Size 4, 700x580x260мм, IP66, IK10, 1500VDC, 750град.",4954.8,"замовлення","4-6","Sub DB",1,"шт.",null,"H6"]
["1SL0225A00","1SL0225A00","Бокс Gemini 120 мод. (24х5), Size 5, 855x585x360мм.",7984.2,"замовлення","4-6","Sub DB",1,"шт.",null,"H6"]
["1SL0226A00","1SL0226A00","Бокс Gemini 216 мод. (36х6), Size 6",14988,"замовлення","4-6","Sub DB",1,"шт.",null,"H6"]
["1SL0231A00","1SL0231A00","Двері непрозорі SIZE 1",924.78,"замовлення","4-6","Sub DB",1,"шт.",null,"H6"]
["1SL0232A00","1SL0232A00","Двері непрозорі SIZE 2",1573.38,"замовлення","4-6","Sub DB",1,"шт.",null,"H6"]
["1SL0233A00","1SL0233A00","Двері непрозорі SIZE 3",2143.44,"замовлення","4-6","Sub DB",1,"шт.",null,"H6"]
["1SL0234A00","1SL0234A00","Двері непрозорі SIZE 4",2424,"замовлення","4-6","Sub DB",1,"шт.",null,"H6"]
["1SL0235A00","1SL0235A00","Двері непрозорі SIZE 5",3546.48,"замовлення","4-6","Sub DB",1,"шт.",null,"H6"]
["1SL0236A00","1SL0236A00","Двері непрозорі SIZE 6",6752.3400000000011,"замовлення","4-6","Sub DB",1,"шт.","див. закладку \"Акційне обладнання\"","H6"]
["1SL0241A00","1SL0241A00","Двері прозорі SIZE 1",1656.3,"замовлення","4-6","Sub DB",1,"шт.","див. закладку \"Акційне обладнання\"","H6"]
["1SL0242A00","1SL0242A00","Двері прозорі SIZE 2",2373.7199999999998,"замовлення","4-6","Sub DB",1,"шт.",null,"H6"]
["1SL0243A00","1SL0243A00","Двері прозорі SIZE 3",2740.7999999999997,"замовлення","4-6","Sub DB",1,"шт.","див. закладку \"Акційне обладнання\"","H6"]
["1SL0244A00","1SL0244A00","Двері прозорі SIZE 4",3983.2799999999997,"замовлення","4-6","Sub DB",1,"шт.",null,"H6"]
["1SL0245A00","1SL0245A00","Двері прозорі SIZE 5",4383.8999999999996,"замовлення","4-6","Sub DB",1,"шт.","див. закладку \"Акційне обладнання\"","H6"]
["1SL0246A00","1SL0246A00","Двері прозорі SIZE 6",8148.2999999999993,"замовлення","4-6","Sub DB",1,"шт.",null,"H6"]
["1SL0251A00","1SL0251A00","Внутрішні двері SIZE 1",870.95999999999992,"замовлення","4-6","Sub DB",4,"шт.",null,"H6"]
["1SL0252A00","1SL0252A00","Внутрішні двері SIZE 2",1072.1400000000001,"замовлення","4-6","Sub DB",4,"шт.","див. закладку \"Акційне обладнання\"","H6"]
["1SL0253A00","1SL0253A00","Внутрішні двері,SIZE 3",1274.2199999999998,"замовлення","4-6","Sub DB",2,"шт.","див. закладку \"Акційне обладнання\"","H6"]
["1SL0254A00","1SL0254A00","Внутрішні двері,SIZE 4",1557.4799999999998,"замовлення","4-6","Sub DB",2,"шт.",null,"H6"]
["1SL0255A00","1SL0255A00","Внутрішні двері,SIZE 5",2071.9199999999996,"замовлення","4-6","Sub DB",2,"шт.",null,"H6"]
["1SL0256A00","1SL0256A00","Внутрішні двері,SIZE 6",4629.1799999999994,"замовлення","4-6","Sub DB",1,"шт.","див. закладку \"Акційне обладнання\"","H6"]
["1SL0259A00","1SL0259A00","Монтажна пластина SIZE 1",384.72,"замовлення","4-6","Sub DB",6,"шт.","див. закладку \"Акційне обладнання\"","H6"]
["1SL0260A00","1SL0260A00","Монтажна пластина SIZE 2",770.33999999999992,"замовлення","4-6","Sub DB",6,"шт.","див. закладку \"Акційне обладнання\"","H6"]
["1SL0261A00","1SL0261A00","Монтажна пластина,SIZE 3",994.5,"замовлення","4-6","Sub DB",4,"шт.",null,"H6"]
["1SL0262A00","1SL0262A00","Монтажна пластина,SIZE 4",1033.32,"замовлення","4-6","Sub DB",4,"шт.",null,"H6"]
["1SL0263A00","1SL0263A00","Монтажна пластина,SIZE 5",1534.56,"замовлення","4-6","Sub DB",4,"шт.",null,"H6"]
["1SL0264A00","1SL0264A00","Монтажна пластина,SIZE 6",2959.6799999999994,"замовлення","4-6","Sub DB",2,"шт.",null,"H6"]
["1SL0267A00","1SL0267A00","Монтажная плата пластиковая SIZE 1",445.61999999999995,"замовлення","4-6","Sub DB",6,"шт.",null,"H6"]
["1SL0268A00","1SL0268A00","Монтажная плата пластиковая SIZE 2",675.06000000000006,"замовлення","4-6","Sub DB",6,"шт.",null,"H6"]
["1SL0269A00","1SL0269A00","Монтажная плата пластиковая SIZE 3",850.68,"замовлення","4-6","Sub DB",4,"шт.",null,"H6"]
["1SL0270A00","1SL0270A00","Монтажная плата пластиковая SIZE 4",1321.0199999999998,"замовлення","4-6","Sub DB",4,"шт.",null,"H6"]
["1SL0271A00","1SL0271A00","Монтажная плата пластиковая SIZE 5",1819.56,"замовлення","4-6","Sub DB",4,"шт.",null,"H6"]
["1SL0272A00","1SL0272A00","Монтажная плата пластиковая SIZE 6",3455.5799999999995,"замовлення","4-6","Sub DB",2,"шт.","див. закладку \"Акційне обладнання\"","H6"]
["1SL0275A00","1SL0275A00","Монтажная плата перфорированная SIZE 1",770.33999999999992,"замовлення","4-6","Sub DB",6,"шт.",null,"H6"]
["1SL0276A00","1SL0276A00","Монтажная плата перфорированная SIZE 2",1807.2,"замовлення","4-6","Sub DB",6,"шт.",null,"H6"]
["1SL0277A00","1SL0277A00","Монтажная плата перфорированная SIZE 3",2396.64,"замовлення","4-6","Sub DB",4,"шт.",null,"H6"]
["1SL0278A00","1SL0278A00","Монтажная плата перфорированная SIZE 4",3211.1400000000003,"замовлення","4-6","Sub DB",4,"шт.",null,"H6"]
["1SL0279A00","1SL0279A00","Монтажная плата перфорированная SIZE 5",4113.8399999999992,"замовлення","4-6","Sub DB",4,"шт.",null,"H6"]
["1SL0280A00","1SL0280A00","Монтажная плата перфорированная SIZE 6",6783.1799999999994,"замовлення","4-6","Sub DB",2,"шт.",null,"H6"]
["1SL0283A00","1SL0283A00","Стойки вертикальные SIZE 1",422.7,"замовлення","4-6","Sub DB",4,"шт.","див. закладку \"Акційне обладнання\"","H6"]
["1SL0284A00","1SL0284A00","Стойки вертикальные SIZE 2",450.9,"замовлення","4-6","Sub DB",4,"шт.",null,"H6"]
["1SL0285A00","1SL0285A00","Стойки вертикальные SIZE 3/4",570.05999999999995,"замовлення","4-6","Sub DB",4,"шт.","див. закладку \"Акційне обладнання\"","H6"]
["1SL0286A00","1SL0286A00","Стойки вертикальные SIZE 5",686.52,"замовлення","4-6","Sub DB",2,"шт.","див. закладку \"Акційне обладнання\"","H6"]
["1SL0287A00","1SL0287A00","Стойки вертикальные SIZE 6",1195.6799999999998,"замовлення","4-6","Sub DB",1,"шт.","див. закладку \"Акційне обладнання\"","H6"]
["1SL0290A00","1SL0290A00","DIN-рейка SIZE 1, 12 мод.",191.46,"замовлення","4-6","Sub DB",10,"шт.","див. закладку \"Акційне обладнання\"","H6"]
["1SL0291A00","1SL0291A00","DIN-рейка SIZE 2/3, 18 мод.",207.36,"замовлення","4-6","Sub DB",10,"шт.",null,"H6"]
["1SL0292A00","1SL0292A00","DIN-рейка SIZE 4/5, 24 мод.",248.82,"замовлення","4-6","Sub DB",10,"шт.","див. закладку \"Акційне обладнання\"","H6"]
["1SL0293A00","1SL0293A00","DIN-рейка SIZE 6, 36 мод.",366.17999999999995,"замовлення","4-6","Sub DB",10,"шт.","див. закладку \"Акційне обладнання\"","H6"]
["1SL0296A00","1SL0296A00","Монтажная плата высотой 150 мм. SIZE 1, 12 мод.",297.36,"замовлення","4-6","Sub DB",6,"шт.","див. закладку \"Акційне обладнання\"","H6"]
["1SL0297A00","1SL0297A00","Монтажная плата высотой 150 мм. SIZE 2/3, 18 мод.",360,"замовлення","4-6","Sub DB",4,"шт.","див. закладку \"Акційне обладнання\"","H6"]
["1SL0298A00","1SL0298A00","Монтажная плата высотой 150 мм. SIZE 4/5, 24 мод.",440.34,"замовлення","4-6","Sub DB",4,"шт.","див. закладку \"Акційне обладнання\"","H6"]
["1SL0299A00","1SL0299A00","Монтажная плата высотой 150 мм. SIZE 6, 36 мод.",867.41999999999985,"замовлення","4-6","Sub DB",2,"шт.","див. закладку \"Акційне обладнання\"","H6"]
["1SL0302A00","1SL0302A00","Монтажная плата высотой 300 мм. SIZE 2/3, 18 мод.",719.16,"замовлення","4-6","Sub DB",4,"шт.","див. закладку \"Акційне обладнання\"","H6"]
["1SL0303A00","1SL0303A00","Монтажная плата высотой 300 мм. SIZE 4/5, 24 мод.",797.69999999999993,"замовлення","4-6","Sub DB",4,"шт.","див. закладку \"Акційне обладнання\"","H6"]
["1SL0304A00","1SL0304A00","Монтажная плата высотой 300 мм. SIZE 6, 36 мод.",1584.8399999999997,"замовлення","4-6","Sub DB",2,"шт.","див. закладку \"Акційне обладнання\"","H6"]
["1SL0307A00","1SL0307A00","Панель + DIN рейка H150-SIZE 1",482.7,"замовлення","4-6","Sub DB",8,"шт.","див. закладку \"Акційне обладнання\"","H6"]
["1SL0308A00","1SL0308A00","Панель + DIN рейка H150-SIZE 2-3",540.05999999999995,"замовлення","4-6","Sub DB",8,"шт.",null,"H6"]
["1SL0309A00","1SL0309A00","Панель + DIN рейка H150-SIZE 4-5",595.61999999999989,"замовлення","4-6","Sub DB",4,"шт.","див. закладку \"Акційне обладнання\"","H6"]
["1SL0310A00","1SL0310A00","Панель + DIN рейка H150-SIZE 6",885.95999999999992,"замовлення","4-6","Sub DB",2,"шт.",null,"H6"]
["1SL0313A00","1SL0313A00","Панель + DIN рейка H225-SIZE 2-3",736.8,"замовлення","4-6","Sub DB",8,"шт.",null,"H6"]
["1SL0314A00","1SL0314A00","Панель + DIN рейка H225-SIZE 4-5",807.41999999999985,"замовлення","4-6","Sub DB",4,"шт.","див. закладку \"Акційне обладнання\"","H6"]
["1SL0315A00","1SL0315A00","Панель + DIN рейка H225-SIZE 6",1201.8599999999999,"замовлення","4-6","Sub DB",2,"шт.","див. закладку \"Акційне обладнання\"","H6"]
["1SL0318A00","1SL0318A00","Фальшпанель глухая H75-SIZE 1",189.72,"замовлення","4-6","Sub DB",10,"шт.","див. закладку \"Акційне обладнання\"","H6"]
["1SL0319A00","1SL0319A00","Фальшпанель глухая H75-SIZE 2-3",216.18,"замовлення","4-6","Sub DB",10,"шт.","див. закладку \"Акційне обладнання\"","H6"]
["1SL0320A00","1SL0320A00","Фальшпанель глухая H75-SIZE 4-5",244.44,"замовлення","4-6","Sub DB",6,"шт.","див. закладку \"Акційне обладнання\"","H6"]
["1SL0321A00","1SL0321A00","Фальшпанель глухая H75-SIZE 6",324.71999999999997,"замовлення","4-6","Sub DB",4,"шт.","див. закладку \"Акційне обладнання\"","H6"]
["1SL0324A00","1SL0324A00","Фальшпанель глухая H150-SIZE 1",354.71999999999997,"замовлення","4-6","Sub DB",8,"шт.","див. закладку \"Акційне обладнання\"","H6"]
["1SL0325A00","1SL0325A00","Фальшпанель глухая H150-SIZE 2-3",399.72,"замовлення","4-6","Sub DB",8,"шт.","див. закладку \"Акційне обладнання\"","H6"]
["1SL0326A00","1SL0326A00","Фальшпанель глухая H150-SIZE 4-5",454.44,"замовлення","4-6","Sub DB",4,"шт.","див. закладку \"Акційне обладнання\"","H6"]
["1SL0327A00","1SL0327A00","Фальшпанель глухая H150-SIZE 6",598.25999999999988,"замовлення","4-6","Sub DB",4,"шт.","див. закладку \"Акційне обладнання\"","H6"]
["1SL0330A00","1SL0330A00","Фальшпанель глухая H300-SIZE 1",652.9799999999999,"замовлення","4-6","Sub DB",6,"шт.","див. закладку \"Акційне обладнання\"","H6"]
["1SL0331A00","1SL0331A00","Фальшпанель глухая H300-SIZE 2-3",737.69999999999993,"замовлення","4-6","Sub DB",6,"шт.","див. закладку \"Акційне обладнання\"","H6"]
["1SL0332A00","1SL0332A00","Фальшпанель глухая H300-SIZE 4-5",841.8599999999999,"замовлення","4-6","Sub DB",4,"шт.",null,"H6"]
["1SL0333A00","1SL0333A00","Фальшпанель глухая H300-SIZE 6",1110.1199999999999,"замовлення","4-6","Sub DB",4,"шт.","див. закладку \"Акційне обладнання\"","H6"]
["1SL0339A00","1SL0339A00","Замок под квадрат",30,"замовлення","4-6","Sub DB",10,"шт.",null,"H6"]
["1SL0340A00","1SL0340A00","Замок з ручкою",407.7,"замовлення","4-6","Sub DB",10,"шт.",null,"H6"]
["1SL0341A00","1SL0341A00","Замок под треугольник",30,"замовлення","4-6","Sub DB",10,"шт.",null,"H6"]
["1SL0342A00","1SL0342A00","Кронштейн для кріплення на стіну",238.26,"замовлення","4-6","Sub DB",10,"шт.",null,"H6"]
["1SL0343A00","1SL0343A00","Аксессуар для крепления бокса на столб SIZE 1",744.78,"замовлення","4-6","Sub DB",4,"шт.",null,"H6"]
["1SL0344A00","1SL0344A00","Аксессуар для крепления бокса на столб SIZE 2-3",809.16000000000008,"замовлення","4-6","Sub DB",4,"шт.",null,"H6"]
["1SL0345A00","1SL0345A00","Аксессуар для крепления бокса на столб SIZE 4-5",1016.58,"замовлення","4-6","Sub DB",2,"шт.",null,"H6"]
["1SL0346A00","1SL0346A00","Аксессуар для крепления бокса на столб SIZE 6",1298.94,"замовлення","4-6","Sub DB",2,"шт.",null,"H6"]
["1SL0351A00","1SL0351A00","Комплект антиконденсаційний",556.79999999999995,"замовлення","4-6","Sub DB",6,"шт.",null,"H6"]
["1SL0352A00","1SL0352A00","Підставка SIZE 1-2-3-4",6688.8,"замовлення","4-6","Sub DB",1,"шт.",null,"H6"]
["1SL0353A00","1SL0353A00","Короб перфорированный  25x60 мм. SIZE 1",184.43999999999997,"замовлення","4-6","Sub DB",4,"шт.",null,"H6"]
["1SL0354A00","1SL0354A00","Короб перфорированный  25x60 мм. SIZE 2-3",196.79999999999998,"замовлення","4-6","Sub DB",4,"шт.",null,"H6"]
["1SL0355A00","1SL0355A00","Короб перфорированный  25x60 мм. SIZE 4-5",217.08,"замовлення","4-6","Sub DB",4,"шт.",null,"H6"]
["1SL0356A00","1SL0356A00","Короб перфорированный  25x60 мм. SIZE 6",243.54000000000002,"замовлення","4-6","Sub DB",4,"шт.",null,"H6"]
["1SL0360A00","1SL0360A00","Короб перфорированный  40x60 мм. SIZE 1",184.43999999999997,"замовлення","4-6","Sub DB",4,"шт.",null,"H6"]
["1SL0361A00","1SL0361A00","Короб перфорированный  40x60 мм. SIZE 2-3",197.64,"замовлення","4-6","Sub DB",4,"шт.",null,"H6"]
["1SL0362A00","1SL0362A00","Короб перфорированный  40x60 мм. SIZE 4-5",224.16,"замовлення","4-6","Sub DB",4,"шт.",null,"H6"]
["1SL0363A00","1SL0363A00","Короб перфорированный  40x60 мм. SIZE 6",254.16,"замовлення","4-6","Sub DB",4,"шт.",null,"H6"]
["1SL0385A00","1SL0385A00","Задняя крышка бокса SIZE 1",913.32,"замовлення","4-6","Sub DB",4,"шт.",null,"H6"]
["1SL0386A00","1SL0386A00","Задняя крышка бокса SIZE 2",1401.3,"замовлення","4-6","Sub DB",4,"шт.",null,"H6"]
["1SL0387A00","1SL0387A00","Задняя крышка бокса SIZE 3",1865.46,"замовлення","4-6","Sub DB",2,"шт.",null,"H6"]
["1SL0388A00","1SL0388A00","Задняя крышка бокса SIZE 4",2201.64,"замовлення","4-6","Sub DB",2,"шт.",null,"H6"]
["1SL0390A00","1SL0390A00","Задняя крышка бокса SIZE 6",5148.0600000000004,"замовлення","4-6","Sub DB",1,"шт.",null,"H6"]
["1SL0413A00","1SL0413A00","Комплект вертикального соединения SIZE 2/3",1558.38,"замовлення","4-6","Sub DB",2,"шт.",null,"H6"]
["1SL0414A00","1SL0414A00","Комплект вертикального соединения SIZE 4",1855.74,"замовлення","4-6","Sub DB",2,"шт.",null,"H6"]
["1SL0415A00","1SL0415A00","Комплект вертикального соединения SIZE 5",2229,"замовлення","4-6","Sub DB",2,"шт.",null,"H6"]
["1SL0416A00","1SL0416A00","Комплект вертикального соединения SIZE 6",2524.62,"замовлення","4-6","Sub DB",1,"шт.",null,"H6"]
["1SL0423A00","1SL0423A00","База для крепления бокса к полу высотой 30 мм. SIZE 2/3",1558.38,"замовлення","4-6","Sub DB",2,"шт.",null,"H6"]
["1SL0424A00","1SL0424A00","База для крепления бокса к полу высотой 30 мм. SIZE 4",1855.74,"замовлення","4-6","Sub DB",2,"шт.",null,"H6"]
["1SL0425A00","1SL0425A00","База для крепления бокса к полу высотой 30 мм. SIZE 5",2229,"замовлення","4-6","Sub DB",2,"шт.",null,"H6"]
["1SL0426A00","1SL0426A00","База для крепления бокса к полу высотой 30 мм. SIZE 6",2524.62,"замовлення","4-6","Sub DB",1,"шт.",null,"H6"]
["1SL0433A00","1SL0433A00","Основание для заливки в бетон SIZE 2/3",1531.0199999999998,"замовлення","4-6","Sub DB",2,"шт.",null,"H6"]
["1SL0434A00","1SL0434A00","Основание для заливки в бетон SIZE 4",1562.76,"замовлення","4-6","Sub DB",2,"шт.",null,"H6"]
["1SL0435A00","1SL0435A00","Основание для заливки в бетон SIZE 5",1769.28,"замовлення","4-6","Sub DB",2,"шт.",null,"H6"]
["1SL0436A00","1SL0436A00","Основание для заливки в бетон SIZE 6",2322.5399999999995,"замовлення","4-6","Sub DB",1,"шт.",null,"H6"]
["1SL0451A00","1SL0451A00","RAIN HOOD - SIZE 1",5432.22,"замовлення","4-6","Sub DB",1,"шт.",null,"H6"]
["AA1203","AA1203","AA1203 Кріплення фланців M6x14 16од ",129.72,"замовлення","4-6","Sub DB",1,"шт.",null,"H6"]
["AA1206","AA1206","AA1206 Петлі монтажні до шафи SR (4од)",297.36,"замовлення","4-6","Sub DB",1,"шт.",null,"H6"]
["AA5190","AA5190","AA5190 Ключ до замку AA5200   ",149.1,"замовлення","4-6","Sub DB",1,"шт.",null,"H6"]
["AA5200","AA5200","AA5200 Замок",568.25999999999988,"замовлення","4-6","Sub DB",1,"шт.",null,"H6"]
["AA8001","AA8001","AA8001 Замок",398.88000000000005,"замовлення","4-6","Sub DB",1,"шт.",null,"H6"]
["AA8002","AA8002","AA8002 Ручка з замком YALE ",674.16,"замовлення","4-6","Sub DB",1,"шт.",null,"H6"]
["AA8003","AA8003","AA8003 Ручка з замком YALE ",1234.5,"замовлення","4-6","Sub DB",1,"шт.",null,"H6"]
["AA8010","AA8010","AA8010 Шина з отворами 20х5мм 1000мм 4од",9641.4,"замовлення","4-6","Sub DB",1,"шт.",null,"H6"]
["AA8011","AA8011","AA8011 Ізолятор 5 од",955.68,"замовлення","4-6","Sub DB",1,"шт.",null,"H6"]
["AA8025","AA8025","AA8025 Розпоркі 25мм 12од",452.7,"замовлення","4-6","Sub DB",1,"шт.",null,"H6"]
["AA8050","AA8050","AA8050 Розпоркі 50мм 12од",674.16,"замовлення","4-6","Sub DB",1,"шт.",null,"H6"]
["GD4006","GD4006","GD4006 DIN рейка w=400 мм SR kit",452.7,"замовлення","4-6","Sub DB",1,"шт.",null,"H6"]
["GD6006","GD6006","GD6006 DIN рейка w=600 мм SR kit",513.6,"замовлення","4-6","Sub DB",1,"шт.",null,"H6"]
["GD8006","GD8006","GD8006 DIN рейка w=800 мм SR kit",558.6,"замовлення","4-6","Sub DB",1,"шт.",null,"H6"]
["GZ4020","GZ4020","GZ4020 Ущільнювальна прокладка 400x200",398.88000000000005,"замовлення","4-6","Sub DB",1,"шт.",null,"H6"]
["GZ4025","GZ4025","GZ4025 Ущільнювальна прокладка 400x250",452.7,"замовлення","4-6","Sub DB",1,"шт.",null,"H6"]
["GZ6025","GZ6025","GZ6025 Ущільнювальна прокладка 600x250",558.6,"замовлення","4-6","Sub DB",1,"шт.",null,"H6"]
["GZ6030","GZ6030","GZ6030 Ущільнювальна прокладка 600x300",628.25999999999988,"замовлення","4-6","Sub DB",1,"шт.",null,"H6"]
["GZ8030","GZ8030","GZ8030 Ущільнювальна прокладка 800x300",674.16,"замовлення","4-6","Sub DB",1,"шт.",null,"H6"]
["KC1060K","KC1060K","KC1060K Внутрішні двері 1000х600 RAL7035",6438.1799999999994,"замовлення","4-6","Sub DB",1,"шт.",null,"H6"]
["KC1080K","KC1080K","KC1080K Внутрішні двері 1000х800мм RAL7035",7975.3799999999992,"замовлення","4-6","Sub DB",1,"шт.",null,"H6"]
["KC1260K","KC1260K","KC1260K Внутрішні двері 1200х600 RAL7035",7784.76,"замовлення","4-6","Sub DB",1,"шт.",null,"H6"]
["KC1280K","KC1280K","KC1280K Внутрішні двері 1200х800 RAL7035",9070.4399999999987,"замовлення","4-6","Sub DB",1,"шт.",null,"H6"]
["KC5040K","KC5040K","KC5040K Внутрішні двері 500х400 RAL7035",2801.7,"замовлення","4-6","Sub DB",1,"шт.",null,"H6"]
["KC6040K","KC6040K","KC6040K Внутрішні двері 600х400 RAL7035",3394.6799999999994,"замовлення","4-6","Sub DB",1,"шт.",null,"H6"]
["KC7050K","KC7050K","KC7050K Внутрішні двері 700х500 RAL7035",3957.66,"замовлення","4-6","Sub DB",1,"шт.",null,"H6"]
["KC8060K","KC8060K","KC8060K Внутрішні двері 800х600 RAL7035",5459.579999999999,"замовлення","4-6","Sub DB",1,"шт.",null,"H6"]
["KD1060K","KD1060K","KD1060K Рама для панелей та DIN 25Мх5",1702.2,"замовлення","4-6","Sub DB",1,"шт.",null,"H6"]
["KD1080K","KD1080K","KD1080K Рама для панелей та DIN 36Мх5",2263.44,"замовлення","4-6","Sub DB",1,"шт.",null,"H6"]
["KD1260K","KD1260K","KD1260K Рама для панелей та DIN 25Мх6",2263.44,"замовлення","4-6","Sub DB",1,"шт.",null,"H6"]
["KD1280K","KD1280K","KD1280K Рама для панелей та DIN 36Мх6",2506.08,"замовлення","4-6","Sub DB",1,"шт.",null,"H6"]
["KD5040K","KD5040K","KD5040K Рама для панелей та DIN 14Мх2",1348.32,"замовлення","4-6","Sub DB",1,"шт.",null,"H6"]
["KD6040K","KD6040K","KD6040K Рама для панелей та DIN 14Мх3",1283.94,"замовлення","4-6","Sub DB",1,"шт.",null,"H6"]
["KD8060K","KD8060K","KD8060K Рама для панелей та DIN 25Мх4",1565.3999999999999,"замовлення","4-6","Sub DB",1,"шт.",null,"H6"]
["PC1406K","PC1406K","PC1406K Глуха панель 200x400мм",1348.32,"замовлення","4-6","Sub DB",1,"шт.",null,"H6"]
["PC1606K","PC1606K","PC1606K Глуха панель 200x600мм",1510.74,"замовлення","4-6","Sub DB",1,"шт.",null,"H6"]
["PC1806K","PC1806K","PC1806K Глуха панель 200x800мм",1671.3,"замовлення","4-6","Sub DB",1,"шт.",null,"H6"]
["PC2606K","PC2606K","PC2606K Глуха панель 400x600мм",2093.1,"замовлення","4-6","Sub DB",1,"шт.",null,"H6"]
["PC2806K","PC2806K","PC2806K Глуха панель 400x800мм",2345.46,"замовлення","4-6","Sub DB",1,"шт.",null,"H6"]
["PF1060","PF1060","PF1060 Монтажна плата 1000x600 мм     ",3075.24,"замовлення","4-6","Sub DB",1,"шт.",null,"H6"]
["PF1080","PF1080","PF1080 Монтажна плата  1000x800 мм    ",3911.82,"замовлення","4-6","Sub DB",1,"шт.",null,"H6"]
["PF1260","PF1260","PF1260 Монтажна плата  1200x600 мм    ",4484.4599999999991,"замовлення","4-6","Sub DB",1,"шт.",null,"H6"]
["PF1280","PF1280","PF1280 Монтажна плата  1200x800 мм    ",4848.8999999999996,"замовлення","4-6","Sub DB",1,"шт.",null,"H6"]
["PF3020","PF3020","PF3020 Монтажна плата  300x200 мм     ",903.6,"замовлення","4-6","Sub DB",1,"шт.",null,"H6"]
["PF3030","PF3030","PF3030 Монтажна плата  300x300 мм     ",903.6,"замовлення","4-6","Sub DB",1,"шт.",null,"H6"]
["PF3040","PF3040","PF3040 Монтажна плата 300x400 мм      ",955.68,"замовлення","4-6","Sub DB",1,"шт.",null,"H6"]
["PF4030","PF4030","PF4030 Монтажна плата  400x300 мм     ",955.68,"замовлення","4-6","Sub DB",1,"шт.",null,"H6"]
["PF4040","PF4040","PF4040 Монтажна плата  400x400 мм     ",955.68,"замовлення","4-6","Sub DB",1,"шт.",null,"H6"]
["PF4060","PF4060","PF4060 Монтажна плата  400x600 мм     ",955.68,"замовлення","4-6","Sub DB",1,"шт.",null,"H6"]
["PF5030","PF5030","PF5030 Монтажна плата  500x300 мм     ",1013.8799999999999,"замовлення","4-6","Sub DB",1,"шт.",null,"H6"]
["PF5040","PF5040","PF5040 Монтажна плата  500x400 мм     ",1013.8799999999999,"замовлення","4-6","Sub DB",1,"шт.",null,"H6"]
["PF6040","PF6040","PF6040 Монтажна плата  600x400 мм     ",1342.14,"замовлення","4-6","Sub DB",1,"шт.",null,"H6"]
["PF6060","PF6060","PF6060 Монтажна плата  600x600 мм     ",1739.28,"замовлення","4-6","Sub DB",1,"шт.",null,"H6"]
["PF7050","PF7050","PF7050 Монтажна плата 700x500 мм     ",1901.6399999999999,"замовлення","4-6","Sub DB",1,"шт.",null,"H6"]
["PF8060","PF8060","PF8060 Монтажна плата 800x600 мм     ",2461.98,"замовлення","4-6","Sub DB",1,"шт.",null,"H6"]
["PF8080","PF8080","PF8080 Монтажна плата 800x800 мм     ",2853.78,"замовлення","4-6","Sub DB",1,"шт.",null,"H6"]
["PM1414K","PM1414K","PM1414K панель 14 DIN + рейка 185х400",1590.12,"замовлення","4-6","Sub DB",1,"шт.",null,"H6"]
["PM1625K","PM1625K","PM1625K  панель 25 DIN + рейка 200x600",1671.3,"замовлення","4-6","Sub DB",1,"шт.",null,"H6"]
["PRN1066K","PRN1066K","PRN1066K Глухі двері 1000x600 мм   ",4738.62,"замовлення","4-6","Sub DB",1,"шт.",null,"H6"]
["PRN1086K","PRN1086K","PRN1086K Глухі двері 1000x800 мм   ",5312.22,"замовлення","4-6","Sub DB",1,"шт.",null,"H6"]
["PRN1266K","PRN1266K","PRN1266K Глухі двері 1200x600 мм   ",5271.5999999999995,"замовлення","4-6","Sub DB",1,"шт.",null,"H6"]
["PRN1286K","PRN1286K","PRN1286K Глухі двері 1200x800 мм   ",5744.579999999999,"замовлення","4-6","Sub DB",1,"шт.",null,"H6"]
["PRN3006K","PRN3006K","PRN3006K Глухі двері 300x300 мм    ",1792.2,"замовлення","4-6","Sub DB",1,"шт.",null,"H6"]
["PRN3026K","PRN3026K","PRN3026K Глухі двері 300x200 мм    ",1679.28,"замовлення","4-6","Sub DB",1,"шт.",null,"H6"]
["PRN3046K","PRN3046K","PRN3046K Глухі двері 300x400 мм    ",2064,"замовлення","4-6","Sub DB",1,"шт.",null,"H6"]
["PRN4036K","PRN4036K","PRN4036K Глухі двері 400x300 мм    ",2064,"замовлення","4-6","Sub DB",1,"шт.",null,"H6"]
["PRN4046K","PRN4046K","PRN4046K Глухі двері 400x400 мм    ",2128.44,"замовлення","4-6","Sub DB",1,"шт.",null,"H6"]
["PRN4066K","PRN4066K","PRN4066K Глухі двері 400x600 мм    ",2797.2599999999998,"замовлення","4-6","Sub DB",1,"шт.",null,"H6"]
["PRN5036K","PRN5036K","PRN5036K Глухі двері 500x300 мм    ",2064,"замовлення","4-6","Sub DB",1,"шт.",null,"H6"]
["PRN5046K","PRN5046K","PRN5046K Глухі двері 500x400 мм    ",2241.3599999999997,"замовлення","4-6","Sub DB",1,"шт.",null,"H6"]
["PRN6046K","PRN6046K","PRN6046K Глухі двері 600x400 мм    ",2797.2599999999998,"замовлення","4-6","Sub DB",1,"шт.",null,"H6"]
["PRN6066K","PRN6066K","PRN6066K Глухі двері 600x600 мм    ",3075.24,"замовлення","4-6","Sub DB",1,"шт.",null,"H6"]
["PRN7056K","PRN7056K","PRN7056K Глухі двері 700x500 мм    ",3408.8399999999997,"замовлення","4-6","Sub DB",1,"шт.",null,"H6"]
["PRN8066K","PRN8066K","PRN8066K Глухі двері 800x600 мм    ",3520.8599999999997,"замовлення","4-6","Sub DB",1,"шт.",null,"H6"]
["PRN8086K","PRN8086K","PRN8086K Глухі двері 800x800 мм    ",3911.82,"замовлення","4-6","Sub DB",1,"шт.",null,"H6"]
["PTN1066K","PTN1066K","PTN1066K Двері прозорі 1000x600 мм",10995,"замовлення","4-6","Sub DB",1,"шт.",null,"H6"]
["PTN1086K","PTN1086K","PTN1086K Двері прозорі 1000x800 мм",11721.24,"замовлення","4-6","Sub DB",1,"шт.",null,"H6"]
["PTN1266K","PTN1266K","PTN1266K Двері прозорі 1200x600 мм",11721.24,"замовлення","4-6","Sub DB",1,"шт.",null,"H6"]
["PTN1286K","PTN1286K","PTN1286K Двері прозорі 1200x800 мм",12377.759999999998,"замовлення","4-6","Sub DB",1,"шт.",null,"H6"]
["PTN5046K","PTN5046K","PTN5046K Двері прозорі 500x400 мм ",4843.62,"замовлення","4-6","Sub DB",1,"шт.",null,"H6"]
["PTN6046K","PTN6046K","PTN6046K Двері прозорі 600x400 мм ",6008.46,"замовлення","4-6","Sub DB",1,"шт.",null,"H6"]
["PTN7056K","PTN7056K","PTN7056K Двері прозорі 700x500 мм ",7281.7800000000007,"замовлення","4-6","Sub DB",1,"шт.",null,"H6"]
["PTN8066K","PTN8066K","PTN8066K Двері прозорі 800x600 мм ",7645.32,"замовлення","4-6","Sub DB",1,"шт.",null,"H6"]
["SRN10625K","SRN10625K","SRN10625K Шафа 1000x600x250 з платою ",8428.02,"склад",1,"Sub DB",1,"шт.",null,"H6"]
["SRN10625VK","SRN10625VK","SRN10625VK Шафа проз двері 1000x600x250",14490.3,"замовлення","4-6","Sub DB",1,"шт.",null,"H6"]
["SRN10630K","SRN10630K","SRN10630K Шафа 1000x600x300 з платою ",8615.1,"склад",1,"Sub DB",1,"шт.",null,"H6"]
["SRN10630VK","SRN10630VK","SRN10630VK Шафа проз двері 1000x600x300",15724.8,"замовлення","4-6","Sub DB",1,"шт.",null,"H6"]
["SRN10830K","SRN10830K","SRN10830K Шафа 1000x800x300 з платою ",11237.699999999999,"склад",1,"Sub DB",1,"шт.",null,"H6"]
["SRN10830VK","SRN10830VK","SRN10830VK Шафа проз двері 1000x800x300",17326.439999999999,"замовлення","4-6","Sub DB",1,"шт.",null,"H6"]
["SRN12630K","SRN12630K","SRN12630K Шафа 1200x600x300 з платою ",13286.699999999999,"склад",1,"Sub DB",1,"шт.",null,"H6"]
["SRN12630VK","SRN12630VK","SRN12630VK Шафа проз двері 1200x600x300",17762.339999999997,"замовлення","4-6","Sub DB",1,"шт.",null,"H6"]
["SRN12830K","SRN12830K","SRN12830K Шафа 1200x800x300 з платою ",12173.94,"склад",1,"Sub DB",1,"шт.",null,"H6"]
["SRN12830VK","SRN12830VK","SRN12830VK Шафа проз двері 1200x800x300",19001.280000000002,"замовлення","4-6","Sub DB",1,"шт.",null,"H6"]
["SRN3215K","SRN3215K","SRN3215K Шафа 300x200x150 з платою",2060.46,"склад",1,"Sub DB",1,"шт.",null,"H6"]
["SRN3315K","SRN3315K","SRN3315K Шафа 300x300x150 з платою",2952.6,"склад",1,"Sub DB",1,"шт.",null,"H6"]
["SRN3415K","SRN3415K","SRN3415K Шафа 300x400x150 з платою",2528.1600000000003,"склад",1,"Sub DB",1,"шт.",null,"H6"]
["SRN4315K","SRN4315K","SRN4315K Шафа400x300x150 з платою",2621.7,"склад",1,"Sub DB",1,"шт.",null,"H6"]
["SRN4320K","SRN4320K","SRN4320K Шафа400x300x200 з платою",2808.78,"склад",1,"Sub DB",1,"шт.",null,"H6"]
["SRN4420K","SRN4420K","SRN4420K Шафа 400x400x200 з платою",3183.78,"склад",1,"Sub DB",1,"шт.",null,"H6"]
["SRN4620K","SRN4620K","SRN4620K Шафа 400x600x200 з платою",3745.92,"склад",1,"Sub DB",1,"шт.",null,"H6"]
["SRN5320K","SRN5320K","SRN5320K Шафа500x300x200 з платою",3558.8399999999997,"склад",1,"Sub DB",1,"шт.",null,"H6"]
["SRN5420K","SRN5420K","SRN5420K Шафа 500x400x200 з платою",3652.38,"склад",1,"Sub DB",1,"шт.",null,"H6"]
["SRN5420VK","SRN5420VK","SRN5420VK Шафа проз двері 500x400x200",6008.46,"замовлення","4-6","Sub DB",1,"шт.",null,"H6"]
["SRN5425K","SRN5425K","SRN5425K Шафа 500x400x250 з платою",3745.92,"склад",1,"Sub DB",1,"шт.",null,"H6"]
["SRN5425VK","SRN5425VK","SRN5425VK Шафа проз двері 500x400x250",6275.8200000000006,"замовлення","4-6","Sub DB",1,"шт.",null,"H6"]
["SRN6420K","SRN6420K","SRN6420K Шафа 600x400x200 з платою",3839.4599999999996,"склад",1,"Sub DB",1,"шт.",null,"H6"]
["SRN6420VK","SRN6420VK","SRN6420VK Шафа проз двері 600x500x200",7206.7800000000007,"замовлення","4-6","Sub DB",1,"шт.",null,"H6"]
["SRN6425K","SRN6425K","SRN6425K Шафа 600x400x250 з платою",3933,"склад",1,"Sub DB",1,"шт.",null,"H6"]
["SRN6425VK","SRN6425VK","SRN6425VK Шафа проз двері 600x400x250",7643.58,"замовлення","4-6","Sub DB",1,"шт.",null,"H6"]
["SRN6625K","SRN6625K","SRN6625K Шафа 600x600x250 з платою",4962.78,"склад",1,"Sub DB",1,"шт.",null,"H6"]
["SRN7520K","SRN7520K","SRN7520K Шафа 700x500x200 з платою",5431.3200000000006,"склад",1,"Sub DB",1,"шт.",null,"H6"]
["SRN7520VK","SRN7520VK","SRN7520VK Шафа проз двері 700x500x200",8882.52,"замовлення","4-6","Sub DB",1,"шт.",null,"H6"]
["SRN7525K","SRN7525K","SRN7525K Шафа 700x500x250 з платою",5618.4,"склад",1,"Sub DB",1,"шт.",null,"H6"]
["SRN7525VK","SRN7525VK","SRN7525VK Шафа проз двері 700x500x250",9539.0399999999991,"замовлення","4-6","Sub DB",1,"шт.",null,"H6"]
["SRN8625K","SRN8625K","SRN8625K Шафа 800x600x250 з платою",5647.5,"склад",1,"Sub DB",1,"шт.",null,"H6"]
["SRN8625VK","SRN8625VK","SRN8625VK Шафа проз двері 800x600x2",11357.699999999999,"замовлення","4-6","Sub DB",1,"шт.",null,"H6"]
["SRN8630K","SRN8630K","SRN8630K Шафа 800x600x300 з платою",7116.7800000000007,"склад",1,"Sub DB",1,"шт.",null,"H6"]
["SRN8630VK","SRN8630VK","SRN8630VK Шафа проз двері 800x600x300",12811.92,"замовлення","4-6","Sub DB",1,"шт.",null,"H6"]
["SRN8830K","SRN8830K","SRN8830K Шафа 800x800x300 з платою",8428.02,"склад",1,"Sub DB",1,"шт.",null,"H6"]
["TQ1060","TQ1060","Перфорована монтажна плата SRN 1000x600 мм. (hxw)           ",9706.6799999999985,"замовлення","4-6","Sub DB",1,"шт.",null,"H6"]
["TQ1080","TQ1080","Перфорована монтажна плата SRN 1000x800 мм. (hxw)           ",12132.48,"замовлення","4-6","Sub DB",1,"шт.",null,"H6"]
["TQ1260","TQ1260","Перфорована монтажна плата SRN 1200x600 мм. (hxw)           ",13954.680000000002,"замовлення","4-6","Sub DB",1,"шт.",null,"H6"]
["TQ1280","TQ1280","Перфорована монтажна плата SRN 1200x800 мм. (hxw)           ",15235.079999999998,"замовлення","4-6","Sub DB",1,"шт.",null,"H6"]
["TQ3020","TQ3020","Перфорована монтажна плата SRN 300x200 мм. (hxw)            ",1965.1799999999998,"замовлення","4-6","Sub DB",1,"шт.",null,"H6"]
["TQ3030","TQ3030","Перфорована монтажна плата SRN 300x300 мм. (hxw)            ",2300.46,"замовлення","4-6","Sub DB",1,"шт.",null,"H6"]
["TQ3040","TQ3040","Перфорована монтажна плата SRN 300x400 мм. (hxw)            ",2300.46,"замовлення","4-6","Sub DB",1,"шт.",null,"H6"]
["TQ4030","TQ4030","Перфорована монтажна плата SRN 400x300 мм. (hxw)            ",2576.6999999999998,"замовлення","4-6","Sub DB",1,"шт.",null,"H6"]
["TQ4040","TQ4040","Перфорована монтажна плата SRN 400x400 мм. (hxw)            ",2681.7,"замовлення","4-6","Sub DB",1,"шт.",null,"H6"]
["TQ4060","TQ4060","Перфорована монтажна плата SRN 400x600 мм. (hxw)            ",2797.2599999999998,"замовлення","4-6","Sub DB",1,"шт.",null,"H6"]
["TQ5030","TQ5030","Перфорована монтажна плата SRN 500x600 мм. (hxw)            ",2797.2599999999998,"замовлення","4-6","Sub DB",1,"шт.",null,"H6"]
["TQ5040","TQ5040","Перфорована монтажна плата SRN 500x400 мм. (hxw)            ",2913.78,"замовлення","4-6","Sub DB",1,"шт.",null,"H6"]
["TQ6040","TQ6040","Перфорована монтажна плата SRN 600x400 мм. (hxw)            ",4127.0999999999995,"замовлення","4-6","Sub DB",1,"шт.",null,"H6"]
["TQ6060","TQ6060","Перфорована монтажна плата SRN 600x600 мм. (hxw)            ",5810.76,"замовлення","4-6","Sub DB",1,"шт.",null,"H6"]
["TQ6610","TQ6610","Гайка M6x10 20 шт.      ",715.62,"замовлення","4-6","Sub DB",1,"шт.",null,"H6"]
["TQ7050","TQ7050","Перфорована монтажна плата SRN 700x500 мм. (hxw)            ",5810.76,"замовлення","4-6","Sub DB",1,"шт.",null,"H6"]
["TQ8060","TQ8060","Перфорована монтажна плата SRN 800x600 мм. (hxw)            ",7753.02,"замовлення","4-6","Sub DB",1,"шт.",null,"H6"]
["TQ8080","TQ8080","Перфорована монтажна плата SRN 800x800 мм. (hxw)            ",9641.4,"замовлення","4-6","Sub DB",1,"шт.",null,"H6"]
["TS6009","TS6009","Монтажний профіль на двері, 2шт,,SR H=60",1055.3999999999999,"замовлення","4-6","Sub DB",1,"шт.",null,"H6"]
["TS7009","TS7009","Монтажний профіль на двері, 2шт, SR H=70",1236.3,"замовлення","4-6","Sub DB",1,"шт.",null,"H6"]
["TS8009","TS8009","Монтажний профіль на двері, 2шт,,SR H=80",1415.3999999999999,"замовлення","4-6","Sub DB",1,"шт.",null,"H6"]
["TT2015K","TT2015K","Дах від опадів SRN 200x150 мм., ШхГ",2116.08,"замовлення","4-6","Sub DB",1,"шт.",null,"H6"]
["TT3015K","TT3015K","Дах від опадів SRN 300x150 мм., ШхГ",2279.2800000000002,"замовлення","4-6","Sub DB",1,"шт.",null,"H6"]
["TT3020K","TT3020K","Дах від опадів SRN 300x200 мм., ШхГ",2341.08,"замовлення","4-6","Sub DB",1,"шт.",null,"H6"]
["TT4015K","TT4015K","Дах від опадів SRN 400x150 мм., ШхГ",2502.5399999999995,"замовлення","4-6","Sub DB",1,"шт.",null,"H6"]
["TT4020K","TT4020K","Дах від опадів SRN 400x200 мм., ШхГ",2724.06,"замовлення","4-6","Sub DB",1,"шт.",null,"H6"]
["TT4025K","TT4025K","Дах від опадів SRN 400x250 мм., ШхГ",3674.4,"замовлення","4-6","Sub DB",1,"шт.",null,"H6"]
["TT5020K","TT5020K","Дах від опадів SRN 500x200 мм., ШхГ",3298.5,"замовлення","4-6","Sub DB",1,"шт.",null,"H6"]
["TT5025K","TT5025K","Дах від опадів SRN 500x250 мм., ШхГ",3630.2999999999997,"замовлення","4-6","Sub DB",1,"шт.",null,"H6"]
["TT6020K","TT6020K","Дах від опадів SRN 600x200 мм., ШхГ",3734.3999999999996,"замовлення","4-6","Sub DB",1,"шт.",null,"H6"]
["TT6025K","TT6025K","Дах від опадів SRN 600x250 мм., ШхГ",4127.0999999999995,"замовлення","4-6","Sub DB",1,"шт.",null,"H6"]
["TT6030K","TT6030K","Дах від опадів SRN 600x300 мм., ШхГ",4414.8,"замовлення","4-6","Sub DB",1,"шт.",null,"H6"]
["TT8030K","TT8030K","Дах від опадів SRN 800x300 мм., ШхГ",4848.8999999999996,"замовлення","4-6","Sub DB",1,"шт.",null,"H6"]
["ZA4020","ZA4020","Цоколь для SRN 100x400x200(hxwxd)           ",2636.7,"замовлення","4-6","Sub DB",1,"шт.",null,"H6"]
["ZA4025","ZA4025","Цоколь для SRN 100x400x250 (hxwxd)          ",2681.7,"замовлення","4-6","Sub DB",1,"шт.",null,"H6"]
["ZA6025","ZA6025","Цоколь для SRN 100x600x250 (hxwxd)          ",3298.5,"замовлення","4-6","Sub DB",1,"шт.",null,"H6"]
["ZA6030","ZA6030","Цоколь для SRN 100x600x300 (hxwxd)          ",3520.8599999999997,"замовлення","4-6","Sub DB",1,"шт.",null,"H6"]
["ZA8030","ZA8030","Цоколь для SRN 100x800x300 (hxwxd)          ",3580.8599999999997,"замовлення","4-6","Sub DB",1,"шт.",null,"H6"]
["2CPX010000R9999","TG104G","Шафа навісна G 650х300х225 мм. IP55",6621.7199999999993,"замовлення","4-6","Sub DB",1,"шт.",null,"H6"]
["2CPX010001R9999","TG204G","Шафа навісна G 650х550х225 мм. IP55",7611.7800000000007,"замовлення","4-6","Sub DB",1,"шт.",null,"H6"]
["2CPX010002R9999","TG304G","Шафа навісна G 650х800х225 мм. IP55",9288.4199999999983,"замовлення","4-6","Sub DB",1,"шт.",null,"H6"]
["2CPX010003R9999","TG404G","Шафа навісна G 650х1050х225 мм. IP55",13215.180000000002,"замовлення","4-6","Sub DB",1,"шт.",null,"H6"]
["2CPX010004R9999","TG504G","Шафа навісна G 650х1300х225 мм. IP55",15342.719999999998,"замовлення","4-6","Sub DB",1,"шт.",null,"H6"]
["2CPX010005R9999","TG105G","Шафа навісна G 800х300х225 мм. IP55",7220.8799999999992,"замовлення","4-6","Sub DB",1,"шт.",null,"H6"]
["2CPX010006R9999","TG205G","Шафа навісна G 800х550х225 мм. IP55",8390.1,"замовлення","4-6","Sub DB",1,"шт.",null,"H6"]
["2CPX010007R9999","TG305G","Шафа навісна G 800х800х225 мм. IP55",10218.48,"замовлення","4-6","Sub DB",1,"шт.",null,"H6"]
["2CPX010008R9999","TG405G","Шафа навісна G 800х1050х225 мм. IP55",14533.560000000001,"замовлення","4-6","Sub DB",1,"шт.",null,"H6"]
["2CPX010009R9999","TG505G","Шафа навісна G 800х1300х225 мм. IP55",16871.099999999999,"замовлення","4-6","Sub DB",1,"шт.",null,"H6"]
["2CPX010010R9999","TG106G","Шафа навісна G 950х300х225 мм. IP55",8660.1,"замовлення","4-6","Sub DB",1,"шт.",null,"H6"]
["2CPX010011R9999","TG206G","Шафа навісна G 950х550х225 мм. IP55",9798.48,"замовлення","4-6","Sub DB",1,"шт.",null,"H6"]
["2CPX010012R9999","TG306G","Шафа навісна G 950х800х225 мм. IP55",11566.859999999999,"замовлення","4-6","Sub DB",1,"шт.",null,"H6"]
["2CPX010013R9999","TG406G","Шафа навісна G 950х1050х225 мм. IP55",16092.78,"замовлення","4-6","Sub DB",1,"шт.",null,"H6"]
["2CPX010014R9999","TG506G","Шафа навісна G 950х1300х225 мм. IP55",18099.419999999998,"замовлення","4-6","Sub DB",1,"шт.",null,"H6"]
["2CPX010015R9999","TG107G","Шафа навісна G 1100х300х225 мм. IP55",9918.48,"замовлення","4-6","Sub DB",1,"шт.",null,"H6"]
["2CPX010016R9999","TG207G","Шафа навісна G 1100х550х225 мм. IP55",12166.02,"замовлення","4-6","Sub DB",1,"шт.",null,"H6"]
["2CPX010017R9999","TG307G","Шафа навісна G 1100х800х225 мм. IP55",13935.24,"замовлення","4-6","Sub DB",1,"шт.",null,"H6"]
["2CPX010018R9999","TG407G","Шафа навісна G 1100х1050х225 мм. IP55",17890.319999999996,"замовлення","4-6","Sub DB",1,"шт.",null,"H6"]
["2CPX010019R9999","TG507G","Шафа навісна G 1100х1300х225 мм. IP55",20526.12,"замовлення","4-6","Sub DB",1,"шт.",null,"H6"]
["2CPX010020R9999","TG108G","Шафа навісна G 1250х300х225 мм. IP55",11147.699999999999,"замовлення","4-6","Sub DB",1,"шт.",null,"H6"]
["2CPX010021R9999","TG208G","Шафа навісна G 1250х550х225 мм. IP55",13155.180000000002,"замовлення","4-6","Sub DB",1,"шт.",null,"H6"]
["2CPX010022R9999","TG308G","Шафа навісна G 1250х800х225 мм. IP55",15642.78,"замовлення","4-6","Sub DB",1,"шт.",null,"H6"]
["2CPX010023R9999","TG408G","Шафа навісна G 1250х1050х225 мм. IP55",19178.64,"замовлення","4-6","Sub DB",1,"шт.",null,"H6"]
["2CPX010024R9999","TG508G","Шафа навісна G 1250х1300х225 мм. IP55",22504.5,"замовлення","4-6","Sub DB",1,"шт.",null,"H6"]
["2CPX010025R9999","TG109G","Шафа навісна G 1400х300х225 мм. IP55",12256.02,"замовлення","4-6","Sub DB",1,"шт.",null,"H6"]
["2CPX010026R9999","TG209G","Шафа навісна G 1400х550х225 мм. IP55",13845.24,"замовлення","4-6","Sub DB",1,"шт.",null,"H6"]
["2CPX010027R9999","TG309G","Шафа навісна G 1400х800х225 мм. IP55",16391.04,"замовлення","4-6","Sub DB",1,"шт.",null,"H6"]
["2CPX010028R9999","TG409G","Шафа навісна G 1400х1050х225 мм. IP55",20616.12,"замовлення","4-6","Sub DB",1,"шт.",null,"H6"]
["2CPX010029R9999","TG509G","Шафа навісна G 1400х1300х225 мм. IP55",23972.880000000001,"замовлення","4-6","Sub DB",1,"шт.",null,"H6"]
["2CPX010030R9999","TG112G","Шафа напольна G 1850х300х225 мм. IP55",16211.04,"замовлення","4-6","Sub DB",1,"шт.",null,"H6"]
["2CPX010031R9999","TG212G","Шафа напольна G 1850х550х225 мм. IP55",16661.099999999999,"замовлення","4-6","Sub DB",1,"шт.",null,"H6"]
["2CPX010032R9999","TG312G","Шафа напольна G 1850х800х225 мм. IP55",20676.12,"замовлення","4-6","Sub DB",1,"шт.",null,"H6"]
["2CPX010033R9999","TG412G","Шафа напольна G 1850х1050х225 мм. IP55",24722.04,"замовлення","4-6","Sub DB",1,"шт.",null,"H6"]
["2CPX010034R9999","TG512G","Шафа напольна G 1850х1300х225 мм. IP55",29157.120000000003,"замовлення","4-6","Sub DB",1,"шт.",null,"H6"]
["2CPX010948R9999","TH112G","TH112G Шафа напольна 1850 x 300 x 225 IP44",11516.52,"замовлення","4-6","Sub DB",1,"шт.",null,"H6"]
["2CPX010950R9999","TH212G","TH212G Шафа напольна 1850 x 550 x 225 IP44",14160.3,"замовлення","4-6","Sub DB",1,"шт.",null,"H6"]
["2CPX010952R9999","TH312G","TH312G Шафа напольна 1850 x 800 x 225 IP44",17421.719999999998,"замовлення","4-6","Sub DB",1,"шт.",null,"H6"]
["2CPX010954R9999","TH412G","TH412G Шафа напольна 1850 x 1050 x 225 IP44",20564.939999999995,"замовлення","4-6","Sub DB",1,"шт.",null,"H6"]
["2CPX010957R9999","TH512G","TH512G Шафа напольна 1850 x 1300 x 225 IP44",25705.919999999998,"замовлення","4-6","Sub DB",1,"шт.",null,"H6"]
["2CPX010949R9999","TH112S","TH112S Шафа напольна IP44 PCII",16715.759999999998,"замовлення","4-6","Sub DB",1,"шт.",null,"H6"]
["2CPX010951R9999","TH212S","TH212S Шафа напольна IP44 PCII",18978.3,"замовлення","4-6","Sub DB",1,"шт.",null,"H6"]
["2CPX010953R9999","TH312S","TH312S Шафа напольна IP44 PCII",22621.859999999997,"замовлення","4-6","Sub DB",1,"шт.",null,"H6"]
["2CPX010955R9999","TH412S","TH412S Шафа напольна IP44 PCII",27528.179999999997,"замовлення","4-6","Sub DB",1,"шт.",null,"H6"]
["2CPX010958R9999","TH512S","TH512S Шафа напольна IP44 PCII",34431.360000000001,"замовлення","4-6","Sub DB",1,"шт.",null,"H6"]
["2CPX010035R9999","TG104S","Шафа навісна G IP55 клас ізоляції 2",10008.48,"замовлення","4-6","Sub DB",1,"шт.",null,"H6"]
["2CPX010036R9999","TG204S","Шафа навісна G IP55 клас ізоляції 2",11805.960000000001,"замовлення","4-6","Sub DB",1,"шт.",null,"H6"]
["2CPX010037R9999","TG304S","Шафа навісна G IP55 клас ізоляції 2",14354.4,"замовлення","4-6","Sub DB",1,"шт.",null,"H6"]
["2CPX010038R9999","TG404S","Шафа навісна G IP55 клас ізоляції 2",18188.579999999998,"замовлення","4-6","Sub DB",1,"шт.",null,"H6"]
["2CPX010039R9999","TG504S","Шафа навісна G IP55 клас ізоляції 2",21845.34,"замовлення","4-6","Sub DB",1,"шт.",null,"H6"]
["2CPX010040R9999","TG105S","Шафа навісна G IP55 клас ізоляції 2",10967.640000000001,"замовлення","4-6","Sub DB",1,"шт.",null,"H6"]
["2CPX010041R9999","TG205S","Шафа навісна G IP55 клас ізоляції 2",13005.180000000002,"замовлення","4-6","Sub DB",1,"шт.",null,"H6"]
["2CPX010042R9999","TG305S","Шафа навісна G IP55 клас ізоляції 2",15761.88,"замовлення","4-6","Sub DB",1,"шт.",null,"H6"]
["2CPX010043R9999","TG405S","Шафа навісна G IP55 клас ізоляції 2",19986.96,"замовлення","4-6","Sub DB",1,"шт.",null,"H6"]
["2CPX010044R9999","TG505S","Шафа навісна G IP55 клас ізоляції 2",24032.880000000001,"замовлення","4-6","Sub DB",1,"шт.",null,"H6"]
["2CPX010045R9999","TG106S","Шафа навісна G IP55 клас ізоляції 2",12466.02,"замовлення","4-6","Sub DB",1,"шт.",null,"H6"]
["2CPX010046R9999","TG206S","Шафа навісна G IP55 клас ізоляції 2",15192.719999999998,"замовлення","4-6","Sub DB",1,"шт.",null,"H6"]
["2CPX010047R9999","TG306S","Шафа навісна G IP55 клас ізоляції 2",17859.419999999998,"замовлення","4-6","Sub DB",1,"шт.",null,"H6"]
["2CPX010048R9999","TG406S","Шафа навісна G IP55 клас ізоляції 2",22984.560000000001,"замовлення","4-6","Sub DB",1,"шт.",null,"H6"]
["2CPX010049R9999","TG506S","Шафа навісна G IP55 клас ізоляції 2",26160.42,"замовлення","4-6","Sub DB",1,"шт.",null,"H6"]
["2CPX010050R9999","TG107S","Шафа навісна G IP55 клас ізоляції 2",13845.24,"замовлення","4-6","Sub DB",1,"шт.",null,"H6"]
["2CPX010051R9999","TG207S","Шафа навісна G IP55 клас ізоляції 2",17081.099999999999,"замовлення","4-6","Sub DB",1,"шт.",null,"H6"]
["2CPX010052R9999","TG307S","Шафа навісна G IP55 клас ізоляції 2",19986.96,"замовлення","4-6","Sub DB",1,"шт.",null,"H6"]
["2CPX010053R9999","TG407S","Шафа навісна G IP55 клас ізоляції 2",25052.04,"замовлення","4-6","Sub DB",1,"шт.",null,"H6"]
["2CPX010054R9999","TG507S","Шафа навісна G IP55 клас ізоляції 2",28767.06,"замовлення","4-6","Sub DB",1,"шт.",null,"H6"]
["2CPX010055R9999","TG108S","Шафа навісна G IP55 клас ізоляції 2",15851.88,"замовлення","4-6","Sub DB",1,"шт.",null,"H6"]
["2CPX010056R9999","TG208S","Шафа навісна G IP55 клас ізоляції 2",19567.8,"замовлення","4-6","Sub DB",1,"шт.",null,"H6"]
["2CPX010057R9999","TG308S","Шафа навісна G IP55 клас ізоляції 2",22923.66,"замовлення","4-6","Sub DB",1,"шт.",null,"H6"]
["2CPX010058R9999","TG408S","Шафа навісна G IP55 клас ізоляції 2",28047.899999999998,"замовлення","4-6","Sub DB",1,"шт.",null,"H6"]
["2CPX010059R9999","TG508S","Шафа навісна G IP55 клас ізоляції 2",32512.080000000002,"замовлення","4-6","Sub DB",1,"шт.",null,"H6"]
["2CPX010060R9999","TG109S","Шафа навісна G IP55 клас ізоляції 2",16691.099999999999,"замовлення","4-6","Sub DB",1,"шт.",null,"H6"]
["2CPX010061R9999","TG209S","Шафа навісна G IP55 клас ізоляції 2",20017.8,"замовлення","4-6","Sub DB",1,"шт.",null,"H6"]
["2CPX010062R9999","TG309S","Шафа навісна G IP55 клас ізоляції 2",23642.819999999996,"замовлення","4-6","Sub DB",1,"шт.",null,"H6"]
["2CPX010063R9999","TG409S","Шафа навісна G IP55 клас ізоляції 2",29457.120000000003,"замовлення","4-6","Sub DB",1,"шт.",null,"H6"]
["2CPX010064R9999","TG509S","Шафа навісна G IP55 клас ізоляції 2",34191.360000000001,"замовлення","4-6","Sub DB",1,"шт.",null,"H6"]
["2CPX010065R9999","TG112S","Шафа напольна G IP55 клас ізоляції 2",23583.719999999998,"замовлення","4-6","Sub DB",1,"шт.",null,"H6"]
["2CPX010066R9999","TG212S","Шафа напольна G IP55 клас ізоляції 2",24692.04,"замовлення","4-6","Sub DB",1,"шт.",null,"H6"]
["2CPX010067R9999","TG312S","Шафа напольна G IP55 клас ізоляції 2",29547.120000000003,"замовлення","4-6","Sub DB",1,"шт.",null,"H6"]
["2CPX010068R9999","TG412S","Шафа напольна G IP55 клас ізоляції 2",35868.839999999997,"замовлення","4-6","Sub DB",1,"шт.",null,"H6"]
["2CPX010069R9999","TG512S","Шафа напольна G IP55 клас ізоляції 2",41952.299999999996,"замовлення","4-6","Sub DB",1,"шт.",null,"H6"]
["2CPX010070R9999","TL104G","Шафа навісна L 650х300х275 мм. IP55",5678.4,"замовлення","4-6","Sub DB",1,"шт.",null,"H6"]
["2CPX010071R9999","TL204G","Шафа навісна L 650х550х275 мм. IP55",6854.7,"замовлення","4-6","Sub DB",1,"шт.",null,"H6"]
["2CPX010072R9999","TL304G","Шафа навісна L 650х800х275 мм. IP55",8364.5399999999991,"замовлення","4-6","Sub DB",1,"шт.",null,"H6"]
["2CPX010073R9999","TL404G","Шафа навісна L 650х1050х275 мм. IP55",11920.679999999998,"замовлення","4-6","Sub DB",1,"шт.",null,"H6"]
["2CPX010074R9999","TL504G","Шафа навісна L 650х1300х275 мм. IP55",13786.140000000001,"замовлення","4-6","Sub DB",1,"шт.",null,"H6"]
["2CPX010075R9999","TL105G","Шафа навісна L 800х300х275 мм. IP55",6292.56,"замовлення","4-6","Sub DB",1,"шт.",null,"H6"]
["2CPX010076R9999","TL205G","Шафа навісна L 800х550х275 мм. IP55",7545.5999999999995,"замовлення","4-6","Sub DB",1,"шт.",null,"H6"]
["2CPX010077R9999","TL305G","Шафа навісна L 800х800х275 мм. IP55",9182.52,"замовлення","4-6","Sub DB",1,"шт.",null,"H6"]
["2CPX010078R9999","TL405G","Шафа навісна L 800х1050х275 мм. IP55",13122.54,"замовлення","4-6","Sub DB",1,"шт.",null,"H6"]
["2CPX010079R9999","TL505G","Шафа навісна L 800х1300х275 мм. IP55",15142.439999999999,"замовлення","4-6","Sub DB",1,"шт.",null,"H6"]
["2CPX010080R9999","TL106G","Шафа навісна L 950х300х275 мм. IP55",7341.7800000000007,"замовлення","4-6","Sub DB",1,"шт.",null,"H6"]
["2CPX010081R9999","TL206G","Шафа навісна L 950х550х275 мм. IP55",8799.5399999999991,"замовлення","4-6","Sub DB",1,"шт.",null,"H6"]
["2CPX010082R9999","TL306G","Шафа навісна L 950х800х275 мм. IP55",10436.460000000001,"замовлення","4-6","Sub DB",1,"шт.",null,"H6"]
["2CPX010083R9999","TL406G","Шафа навісна L 950х1050х275 мм. IP55",14605.92,"замовлення","4-6","Sub DB",1,"шт.",null,"H6"]
["2CPX010084R9999","TL506G","Шафа навісна L 950х1300х275 мм. IP55",16321.319999999998,"замовлення","4-6","Sub DB",1,"шт.",null,"H6"]
["2CPX010085R9999","TL107G","Шафа навісна L 1100х300х275 мм. IP55",8083.02,"замовлення","4-6","Sub DB",1,"шт.",null,"H6"]
["2CPX010086R9999","TL207G","Шафа навісна L 1100х550х275 мм. IP55",9694.32,"замовлення","4-6","Sub DB",1,"шт.",null,"H6"]
["2CPX010087R9999","TL307G","Шафа навісна L 1100х800х275 мм. IP55",11460.06,"замовлення","4-6","Sub DB",1,"шт.",null,"H6"]
["2CPX010088R9999","TL407G","Шафа навісна L 1100х1050х275 мм. IP55",16038.060000000001,"замовлення","4-6","Sub DB",1,"шт.",null,"H6"]
["2CPX010089R9999","TL507G","Шафа навісна L 1100х1300х275 мм. IP55",17905.319999999996,"замовлення","4-6","Sub DB",1,"шт.",null,"H6"]
["2CPX010090R9999","TL108G","Шафа навісна L 1250х300х275 мм. IP55",9899.0399999999991,"замовлення","4-6","Sub DB",1,"шт.",null,"H6"]
["2CPX010091R9999","TL208G","Шафа навісна L 1250х550х275 мм. IP55",11894.219999999998,"замовлення","4-6","Sub DB",1,"шт.",null,"H6"]
["2CPX010092R9999","TL308G","Шафа навісна L 1250х800х275 мм. IP55",14121.48,"замовлення","4-6","Sub DB",1,"шт.",null,"H6"]
["2CPX010093R9999","TL408G","Шафа навісна L 1250х1050х275 мм. IP55",17317.62,"замовлення","4-6","Sub DB",1,"шт.",null,"H6"]
["2CPX010094R9999","TL508G","Шафа навісна L 1250х1300х275 мм. IP55",20258.7,"замовлення","4-6","Sub DB",1,"шт.",null,"H6"]
["2CPX010095R9999","TL109G","Шафа навісна L 1400х300х275 мм. IP55",10436.460000000001,"замовлення","4-6","Sub DB",1,"шт.",null,"H6"]
["2CPX010096R9999","TL209G","Шафа навісна L 1400х550х275 мм. IP55",12482.819999999998,"замовлення","4-6","Sub DB",1,"шт.",null,"H6"]
["2CPX010097R9999","TL309G","Шафа навісна L 1400х800х275 мм. IP55",14785.92,"замовлення","4-6","Sub DB",1,"шт.",null,"H6"]
["2CPX010098R9999","TL409G","Шафа навісна L 1400х1050х275 мм. IP55",18646.560000000001,"замовлення","4-6","Sub DB",1,"шт.",null,"H6"]
["2CPX010099R9999","TL509G","Шафа навісна L 1400х1300х275 мм. IP55",22177.14,"замовлення","4-6","Sub DB",1,"шт.",null,"H6"]
["2CPX010100R9999","TL112G","Шафа напольна L 1850х300х275 IP55",16871.099999999999,"замовлення","4-6","Sub DB",1,"шт.",null,"H6"]
["2CPX010101R9999","TL212G","Шафа напольна L 1850х550х275 IP55",17739.419999999998,"замовлення","4-6","Sub DB",1,"шт.",null,"H6"]
["2CPX010102R9999","TL312G","Шафа напольна L 1850х800х275 IP55",22024.439999999995,"замовлення","4-6","Sub DB",1,"шт.",null,"H6"]
["2CPX010103R9999","TL412G","Шафа напольна L 1850х1050х275 IP55",26369.519999999997,"замовлення","4-6","Sub DB",1,"шт.",null,"H6"]
["2CPX010104R9999","TL512G","Шафа напольна L 1850х1300х275 IP55",31014.6,"замовлення","4-6","Sub DB",1,"шт.",null,"H6"]
["2CPX010105R9999","TL104S","Шафа навісна L IP55 клас ізоляції 2",10068.48,"замовлення","4-6","Sub DB",1,"шт.",null,"H6"]
["2CPX010106R9999","TL204S","Шафа навісна L IP55 клас ізоляції 2",11926.859999999999,"замовлення","4-6","Sub DB",1,"шт.",null,"H6"]
["2CPX010107R9999","TL304S","Шафа навісна L IP55 клас ізоляції 2",14563.560000000001,"замовлення","4-6","Sub DB",1,"шт.",null,"H6"]
["2CPX010108R9999","TL404S","Шафа навісна L IP55 клас ізоляції 2",20706.12,"замовлення","4-6","Sub DB",1,"шт.",null,"H6"]
["2CPX010109R9999","TL504S","Шафа навісна L IP55 клас ізоляції 2",23972.880000000001,"замовлення","4-6","Sub DB",1,"шт.",null,"H6"]
["2CPX010110R9999","TL105S","Шафа навісна L IP55 клас ізоляції 2",11027.699999999999,"замовлення","4-6","Sub DB",1,"шт.",null,"H6"]
["2CPX010111R9999","TL205S","Шафа навісна L IP55 клас ізоляції 2",13095.180000000002,"замовлення","4-6","Sub DB",1,"шт.",null,"H6"]
["2CPX010112R9999","TL305S","Шафа навісна L IP55 клас ізоляції 2",16002.78,"замовлення","4-6","Sub DB",1,"шт.",null,"H6"]
["2CPX010113R9999","TL405S","Шафа навісна L IP55 клас ізоляції 2",22804.5,"замовлення","4-6","Sub DB",1,"шт.",null,"H6"]
["2CPX010114R9999","TL505S","Шафа навісна L IP55 клас ізоляції 2",26369.519999999997,"замовлення","4-6","Sub DB",1,"шт.",null,"H6"]
["2CPX010115R9999","TL106S","Шафа навісна L IP55 клас ізоляції 2",12856.08,"замовлення","4-6","Sub DB",1,"шт.",null,"H6"]
["2CPX010116R9999","TL206S","Шафа навісна L IP55 клас ізоляції 2",15312.719999999998,"замовлення","4-6","Sub DB",1,"шт.",null,"H6"]
["2CPX010117R9999","TL306S","Шафа навісна L IP55 клас ізоляції 2",18160.319999999996,"замовлення","4-6","Sub DB",1,"шт.",null,"H6"]
["2CPX010118R9999","TL406S","Шафа навісна L IP55 клас ізоляції 2",25412.1,"замовлення","4-6","Sub DB",1,"шт.",null,"H6"]
["2CPX010119R9999","TL506S","Шафа навісна L IP55 клас ізоляції 2",28377.899999999998,"замовлення","4-6","Sub DB",1,"шт.",null,"H6"]
["2CPX010120R9999","TL107S","Шафа навісна L IP55 клас ізоляції 2",14053.5,"замовлення","4-6","Sub DB",1,"шт.",null,"H6"]
["2CPX010121R9999","TL207S","Шафа навісна L IP55 клас ізоляції 2",16841.099999999999,"замовлення","4-6","Sub DB",1,"шт.",null,"H6"]
["2CPX010122R9999","TL307S","Шафа навісна L IP55 клас ізоляції 2",20556.96,"замовлення","4-6","Sub DB",1,"шт.",null,"H6"]
["2CPX010123R9999","TL407S","Шафа навісна L IP55 клас ізоляції 2",27927.899999999998,"замовлення","4-6","Sub DB",1,"шт.",null,"H6"]
["2CPX010124R9999","TL507S","Шафа навісна L IP55 клас ізоляції 2",31194.6,"замовлення","4-6","Sub DB",1,"шт.",null,"H6"]
["2CPX010125R9999","TL108S","Шафа навісна L IP55 клас ізоляції 2",17230.259999999998,"замовлення","4-6","Sub DB",1,"шт.",null,"H6"]
["2CPX010126R9999","TL208S","Шафа навісна L IP55 клас ізоляції 2",20676.12,"замовлення","4-6","Sub DB",1,"шт.",null,"H6"]
["2CPX010127R9999","TL308S","Шафа навісна L IP55 клас ізоляції 2",24572.04,"замовлення","4-6","Sub DB",1,"шт.",null,"H6"]
["2CPX010128R9999","TL408S","Шафа навісна L IP55 клас ізоляції 2",30115.439999999995,"замовлення","4-6","Sub DB",1,"шт.",null,"H6"]
["2CPX010129R9999","TL508S","Шафа навісна L IP55 клас ізоляції 2",35240.58,"замовлення","4-6","Sub DB",1,"шт.",null,"H6"]
["2CPX010130R9999","TL109S","Шафа навісна L IP55 клас ізоляції 2",18160.319999999996,"замовлення","4-6","Sub DB",1,"шт.",null,"H6"]
["2CPX010131R9999","TL209S","Шафа навісна L IP55 клас ізоляції 2",21755.34,"замовлення","4-6","Sub DB",1,"шт.",null,"H6"]
["2CPX010132R9999","TL309S","Шафа навісна L IP55 клас ізоляції 2",25741.26,"замовлення","4-6","Sub DB",1,"шт.",null,"H6"]
["2CPX010133R9999","TL409S","Шафа навісна L IP55 клас ізоляції 2",32483.879999999997,"замовлення","4-6","Sub DB",1,"шт.",null,"H6"]
["2CPX010134R9999","TL509S","Шафа навісна L IP55 клас ізоляції 2",38625.54,"замовлення","4-6","Sub DB",1,"шт.",null,"H6"]
["2CPX010135R9999","TL112S","Шафа напольна L IP55 клас ізоляції 2",26070.360000000004,"замовлення","4-6","Sub DB",1,"шт.",null,"H6"]
["2CPX010136R9999","TL212S","Шафа напольна L IP55 клас ізоляції 2",27299.58,"замовлення","4-6","Sub DB",1,"шт.",null,"H6"]
["2CPX010137R9999","TL312S","Шафа напольна L IP55 клас ізоляції 2",33652.199999999997,"замовлення","4-6","Sub DB",1,"шт.",null,"H6"]
["2CPX010138R9999","TL412S","Шафа напольна L IP55 клас ізоляції 2",39495.599999999999,"замовлення","4-6","Sub DB",1,"шт.",null,"H6"]
["2CPX010139R9999","TL512S","Шафа напольна L IP55 клас ізоляції 2",46357.32,"замовлення","4-6","Sub DB",1,"шт.",null,"H6"]
["2CPX010140R9999","TW104G","Шафа навісна W 650х300х350 мм. IP55",8990.159999999998,"замовлення","4-6","Sub DB",1,"шт.",null,"H6"]
["2CPX010141R9999","TW204G","Шафа навісна W 650х550х350 мм. IP55",10817.640000000001,"замовлення","4-6","Sub DB",1,"шт.",null,"H6"]
["2CPX010142R9999","TW304G","Шафа навісна W 650х800х350 мм. IP55",12975.180000000002,"замовлення","4-6","Sub DB",1,"шт.",null,"H6"]
["2CPX010143R9999","TW404G","Шафа навісна W 650х1050х350 мм. IP55",15552.78,"замовлення","4-6","Sub DB",1,"шт.",null,"H6"]
["2CPX010144R9999","TW504G","Шафа навісна W 650х1300х350 мм. IP55",18669.48,"замовлення","4-6","Sub DB",1,"шт.",null,"H6"]
["2CPX010145R9999","TW106G","Шафа навісна W 950х300х350 мм. IP55",11597.699999999999,"замовлення","4-6","Sub DB",1,"шт.",null,"H6"]
["2CPX010146R9999","TW206G","Шафа навісна W 950х550х350 мм. IP55",13935.24,"замовлення","4-6","Sub DB",1,"шт.",null,"H6"]
["2CPX010147R9999","TW306G","Шафа навісна W 950х800х350 мм. IP55",15971.88,"замовлення","4-6","Sub DB",1,"шт.",null,"H6"]
["2CPX010148R9999","TW406G","Шафа навісна W 950х1050х350 мм. IP55",19297.740000000002,"замовлення","4-6","Sub DB",1,"шт.",null,"H6"]
["2CPX010149R9999","TW506G","Шафа навісна W 950х1300х350 мм. IP55",21516.18,"замовлення","4-6","Sub DB",1,"шт.",null,"H6"]
["2CPX010150R9999","TW107G","Шафа навісна W 1100х300х350 мм. IP55",12766.08,"замовлення","4-6","Sub DB",1,"шт.",null,"H6"]
["2CPX010151R9999","TW207G","Шафа навісна W 1100х550х350 мм. IP55",15312.719999999998,"замовлення","4-6","Sub DB",1,"шт.",null,"H6"]
["2CPX010152R9999","TW307G","Шафа навісна W 1100х800х350 мм. IP55",17560.259999999998,"замовлення","4-6","Sub DB",1,"шт.",null,"H6"]
["2CPX010153R9999","TW407G","Шафа навісна W 1100х1050х350 мм. IP55",21215.280000000002,"замовлення","4-6","Sub DB",1,"шт.",null,"H6"]
["2CPX010154R9999","TW507G","Шафа навісна W 1100х1300х350 мм. IP55",23642.819999999996,"замовлення","4-6","Sub DB",1,"шт.",null,"H6"]
["2CPX010155R9999","TW108G","Шафа навісна W 1250х300х350 мм. IP55",13845.24,"замовлення","4-6","Sub DB",1,"шт.",null,"H6"]
["2CPX010156R9999","TW208G","Шафа навісна W 1250х550х350 мм. IP55",16631.099999999999,"замовлення","4-6","Sub DB",1,"шт.",null,"H6"]
["2CPX010157R9999","TW308G","Шафа навісна W 1250х800х350 мм. IP55",19088.64,"замовлення","4-6","Sub DB",1,"шт.",null,"H6"]
["2CPX010158R9999","TW408G","Шафа навісна W 1250х1050х350 мм. IP55",23493.719999999998,"замовлення","4-6","Sub DB",1,"шт.",null,"H6"]
["2CPX010159R9999","TW508G","Шафа навісна W 1250х1300х350 мм. IP55",26580.42,"замовлення","4-6","Sub DB",1,"шт.",null,"H6"]
["2CPX010160R9999","TW109G","Шафа навісна W 1400х300х350 мм. IP55",15252.719999999998,"замовлення","4-6","Sub DB",1,"шт.",null,"H6"]
["2CPX010161R9999","TW209G","Шафа навісна W 1400х550х350 мм. IP55",18309.48,"замовлення","4-6","Sub DB",1,"шт.",null,"H6"]
["2CPX010162R9999","TW309G","Шафа навісна W 1400х800х350 мм. IP55",21007.019999999997,"замовлення","4-6","Sub DB",1,"шт.",null,"H6"]
["2CPX010163R9999","TW409G","Шафа навісна W 1400х1050х350 мм. IP55",25831.26,"замовлення","4-6","Sub DB",1,"шт.",null,"H6"]
["2CPX010164R9999","TW509G","Шафа навісна W 1400х1300х350 мм. IP55",29247.120000000003,"замовлення","4-6","Sub DB",1,"шт.",null,"H6"]
["2CPX010165R9999","TW112G","Шафа напольна W 1850х300х350 IP55",19158.359999999997,"замовлення","4-6","Sub DB",1,"шт.",null,"H6"]
["2CPX010166R9999","TW212G","Шафа напольна W 1850х550х350 IP55",16150.14,"склад",1,"Sub DB",1,"шт.",null,"H6"]
["2CPX010167R9999","TW312G","Шафа напольна W 1850х800х350 IP55",18376.5,"склад",1,"Sub DB",1,"шт.",null,"H6"]
["2CPX010168R9999","TW412G","Шафа напольна W 1850х1050х350 IP55",28623.24,"склад",1,"Sub DB",1,"шт.",null,"H6"]
["2CPX010169R9999","TW512G","Шафа напольна W 1850х1300х350 IP55",34199.279999999999,"замовлення","4-6","Sub DB",1,"шт.",null,"H6"]
["2CPX010170R9999","TW612G","Шафа напольна W 1850х1550х350 IP55",39929.760000000002,"замовлення","4-6","Sub DB",1,"шт.",null,"H6"]
["2CPX010171R9999","TW104S","Шафа навісна W IP55 клас ізоляції 2",12256.02,"замовлення","4-6","Sub DB",1,"шт.",null,"H6"]
["2CPX010172R9999","TW204S","Шафа навісна W IP55 клас ізоляції 2",15103.619999999999,"замовлення","4-6","Sub DB",1,"шт.",null,"H6"]
["2CPX010173R9999","TW304S","Шафа навісна W IP55 клас ізоляції 2",18160.319999999996,"замовлення","4-6","Sub DB",1,"шт.",null,"H6"]
["2CPX010174R9999","TW404S","Шафа навісна W IP55 клас ізоляції 2",21785.34,"замовлення","4-6","Sub DB",1,"шт.",null,"H6"]
["2CPX010175R9999","TW504S","Шафа навісна W IP55 клас ізоляції 2",26130.360000000004,"замовлення","4-6","Sub DB",1,"шт.",null,"H6"]
["2CPX010176R9999","TW106S","Шафа навісна W IP55 клас ізоляції 2",16511.939999999999,"замовлення","4-6","Sub DB",1,"шт.",null,"H6"]
["2CPX010177R9999","TW206S","Шафа навісна W IP55 клас ізоляції 2",19807.8,"замовлення","4-6","Sub DB",1,"шт.",null,"H6"]
["2CPX010178R9999","TW306S","Шафа навісна W IP55 клас ізоляції 2",22683.66,"замовлення","4-6","Sub DB",1,"шт.",null,"H6"]
["2CPX010179R9999","TW406S","Шафа навісна W IP55 клас ізоляції 2",27418.74,"замовлення","4-6","Sub DB",1,"шт.",null,"H6"]
["2CPX010180R9999","TW506S","Шафа навісна W IP55 клас ізоляції 2",30146.28,"замовлення","4-6","Sub DB",1,"шт.",null,"H6"]
["2CPX010181R9999","TW107S","Шафа навісна W IP55 клас ізоляції 2",18188.579999999998,"замовлення","4-6","Sub DB",1,"шт.",null,"H6"]
["2CPX010182R9999","TW207S","Шафа навісна W IP55 клас ізоляції 2",21785.34,"замовлення","4-6","Sub DB",1,"шт.",null,"H6"]
["2CPX010183R9999","TW307S","Шафа навісна W IP55 клас ізоляції 2",24962.04,"замовлення","4-6","Sub DB",1,"шт.",null,"H6"]
["2CPX010184R9999","TW407S","Шафа навісна W IP55 клас ізоляції 2",30146.28,"замовлення","4-6","Sub DB",1,"шт.",null,"H6"]
["2CPX010185R9999","TW507S","Шафа навісна W IP55 клас ізоляції 2",33142.139999999992,"замовлення","4-6","Sub DB",1,"шт.",null,"H6"]
["2CPX010186R9999","TW108S","Шафа навісна W IP55 клас ізоляції 2",19717.8,"замовлення","4-6","Sub DB",1,"шт.",null,"H6"]
["2CPX010187R9999","TW208S","Шафа навісна W IP55 клас ізоляції 2",23612.819999999996,"замовлення","4-6","Sub DB",1,"шт.",null,"H6"]
["2CPX010188R9999","TW308S","Шафа навісна W IP55 клас ізоляції 2",27058.679999999997,"замовлення","4-6","Sub DB",1,"шт.",null,"H6"]
["2CPX010189R9999","TW408S","Шафа навісна W IP55 клас ізоляції 2",32602.080000000002,"замовлення","4-6","Sub DB",1,"шт.",null,"H6"]
["2CPX010190R9999","TW508S","Шафа навісна W IP55 клас ізоляції 2",37787.219999999994,"замовлення","4-6","Sub DB",1,"шт.",null,"H6"]
["2CPX010191R9999","TW109S","Шафа навісна W IP55 клас ізоляції 2",21635.34,"замовлення","4-6","Sub DB",1,"шт.",null,"H6"]
["2CPX010192R9999","TW209S","Шафа навісна W IP55 клас ізоляції 2",26011.26,"замовлення","4-6","Sub DB",1,"шт.",null,"H6"]
["2CPX010193R9999","TW309S","Шафа навісна W IP55 клас ізоляції 2",29756.28,"замовлення","4-6","Sub DB",1,"шт.",null,"H6"]
["2CPX010194R9999","TW409S","Шафа навісна W IP55 клас ізоляції 2",35868.839999999997,"замовлення","4-6","Sub DB",1,"шт.",null,"H6"]
["2CPX010195R9999","TW509S","Шафа навісна W IP55 клас ізоляції 2",41533.139999999992,"замовлення","4-6","Sub DB",1,"шт.",null,"H6"]
["2CPX010196R9999","TW112S","Шафа напольна W IP55 клас ізоляції 2",28977.120000000003,"замовлення","4-6","Sub DB",1,"шт.",null,"H6"]
["2CPX010197R9999","TW212S","Шафа напольна W IP55 клас ізоляції 2",31314.659999999996,"замовлення","4-6","Sub DB",1,"шт.",null,"H6"]
["2CPX010198R9999","TW312S","Шафа напольна W IP55 клас ізоляції 2",35778.839999999997,"замовлення","4-6","Sub DB",1,"шт.",null,"H6"]
["2CPX010199R9999","TW412S","Шафа напольна W IP55 клас ізоляції 2",44109.840000000004,"замовлення","4-6","Sub DB",1,"шт.",null,"H6"]
["2CPX010200R9999","TW512S","Шафа напольна W IP55 клас ізоляції 2",53099.939999999995,"замовлення","4-6","Sub DB",1,"шт.",null,"H6"]
["2CPX010201R9999","TW612S","Шафа напольна W IP55 клас ізоляції 2",62359.259999999995,"замовлення","4-6","Sub DB",1,"шт.",null,"H6"]
["2CPX010202R9999","TW105G","Шафа навісна W 800х300х350 мм. IP55",10308.48,"замовлення","4-6","Sub DB",1,"шт.",null,"H6"]
["2CPX010203R9999","TW205G","Шафа навісна W 800х550х350 мм. IP55",12376.02,"замовлення","4-6","Sub DB",1,"шт.",null,"H6"]
["2CPX010204R9999","TW305G","Шафа навісна W 800х800х350 мм. IP55",14443.560000000001,"замовлення","4-6","Sub DB",1,"шт.",null,"H6"]
["2CPX010205R9999","TW405G","Шафа навісна W 800х1050х350 мм. IP55",17410.259999999998,"замовлення","4-6","Sub DB",1,"шт.",null,"H6"]
["2CPX010206R9999","TW505G","Шафа навісна W 800х1300х350 мм. IP55",20076.96,"замовлення","4-6","Sub DB",1,"шт.",null,"H6"]
["2CPX010207R9999","TW105S","Шафа навісна W IP55 клас ізоляції 2",14563.560000000001,"замовлення","4-6","Sub DB",1,"шт.",null,"H6"]
["2CPX010208R9999","TW205S","Шафа навісна W IP55 клас ізоляції 2",17500.259999999998,"замовлення","4-6","Sub DB",1,"шт.",null,"H6"]
["2CPX010209R9999","TW305S","Шафа навісна W IP55 клас ізоляції 2",20436.12,"замовлення","4-6","Sub DB",1,"шт.",null,"H6"]
["2CPX010210R9999","TW405S","Шафа навісна W IP55 клас ізоляції 2",24602.04,"замовлення","4-6","Sub DB",1,"шт.",null,"H6"]
["2CPX010211R9999","TW505S","Шафа навісна W IP55 клас ізоляції 2",28137.899999999998,"замовлення","4-6","Sub DB",1,"шт.",null,"H6"]
["2CPX010221R9999","TG104GB","Шафа навісна G 225мм. без дверей",5094.24,"замовлення","4-6","Sub DB",1,"шт.",null,"H6"]
["2CPX010222R9999","TG204GB","Шафа навісна G 225мм. без дверей",5753.4,"замовлення","4-6","Sub DB",1,"шт.",null,"H6"]
["2CPX010223R9999","TG304GB","Шафа навісна G 225мм. без дверей",6950.8799999999992,"замовлення","4-6","Sub DB",1,"шт.",null,"H6"]
["2CPX010224R9999","TG404GB","Шафа навісна G 225мм. без дверей",9978.48,"замовлення","4-6","Sub DB",1,"шт.",null,"H6"]
["2CPX010225R9999","TG504GB","Шафа навісна G 225мм. без дверей",11597.699999999999,"замовлення","4-6","Sub DB",1,"шт.",null,"H6"]
["2CPX010226R9999","TG105GB","Шафа навісна G 225мм. без дверей",5573.4,"замовлення","4-6","Sub DB",1,"шт.",null,"H6"]
["2CPX010227R9999","TG205GB","Шафа навісна G 225мм. без дверей",6352.56,"замовлення","4-6","Sub DB",1,"шт.",null,"H6"]
["2CPX010228R9999","TG305GB","Шафа навісна G 225мм. без дверей",7640.94,"замовлення","4-6","Sub DB",1,"шт.",null,"H6"]
["2CPX010229R9999","TG405GB","Шафа навісна G 225мм. без дверей",10997.699999999999,"замовлення","4-6","Sub DB",1,"шт.",null,"H6"]
["2CPX010230R9999","TG505GB","Шафа навісна G 225мм. без дверей",12735.180000000002,"замовлення","4-6","Sub DB",1,"шт.",null,"H6"]
["2CPX010231R9999","TG106GB","Шафа навісна G 225мм. без дверей",6652.62,"замовлення","4-6","Sub DB",1,"шт.",null,"H6"]
["2CPX010232R9999","TG206GB","Шафа навісна G 225мм. без дверей",7400.8799999999992,"замовлення","4-6","Sub DB",1,"шт.",null,"H6"]
["2CPX010233R9999","TG306GB","Шафа навісна G 225мм. без дверей",8720.159999999998,"замовлення","4-6","Sub DB",1,"шт.",null,"H6"]
["2CPX010234R9999","TG406GB","Шафа навісна G 225мм. без дверей",12136.02,"замовлення","4-6","Sub DB",1,"шт.",null,"H6"]
["2CPX010235R9999","TG506GB","Шафа навісна G 225мм. без дверей",13665.24,"замовлення","4-6","Sub DB",1,"шт.",null,"H6"]
["2CPX010236R9999","TG107GB","Шафа навісна G 225мм. без дверей",7490.94,"замовлення","4-6","Sub DB",1,"шт.",null,"H6"]
["2CPX010237R9999","TG207GB","Шафа навісна G 225мм. без дверей",9198.4199999999983,"замовлення","4-6","Sub DB",1,"шт.",null,"H6"]
["2CPX010238R9999","TG307GB","Шафа навісна G 225мм. без дверей",10338.48,"замовлення","4-6","Sub DB",1,"шт.",null,"H6"]
["2CPX010239R9999","TG407GB","Шафа навісна G 225мм. без дверей",13514.339999999998,"замовлення","4-6","Sub DB",1,"шт.",null,"H6"]
["2CPX010240R9999","TG507GB","Шафа навісна G 225мм. без дверей",15522.719999999998,"замовлення","4-6","Sub DB",1,"шт.",null,"H6"]
["2CPX010241R9999","TG108GB","Шафа навісна G 225мм. без дверей",8390.1,"замовлення","4-6","Sub DB",1,"шт.",null,"H6"]
["2CPX010242R9999","TG208GB","Шафа навісна G 225мм. без дверей",9918.48,"замовлення","4-6","Sub DB",1,"шт.",null,"H6"]
["2CPX010243R9999","TG308GB","Шафа навісна G 225мм. без дверей",11805.960000000001,"замовлення","4-6","Sub DB",1,"шт.",null,"H6"]
["2CPX010244R9999","TG408GB","Шафа навісна G 225мм. без дверей",14473.560000000001,"замовлення","4-6","Sub DB",1,"шт.",null,"H6"]
["2CPX010245R9999","TG508GB","Шафа навісна G 225мм. без дверей",17021.099999999999,"замовлення","4-6","Sub DB",1,"шт.",null,"H6"]
["2CPX010246R9999","TG109GB","Шафа навісна G 225мм. без дверей",9229.32,"замовлення","4-6","Sub DB",1,"шт.",null,"H6"]
["2CPX010247R9999","TG209GB","Шафа навісна G 225мм. без дверей",10457.640000000001,"замовлення","4-6","Sub DB",1,"шт.",null,"H6"]
["2CPX010248R9999","TG309GB","Шафа навісна G 225мм. без дверей",12376.02,"замовлення","4-6","Sub DB",1,"шт.",null,"H6"]
["2CPX010249R9999","TG409GB","Шафа навісна G 225мм. без дверей",15581.88,"замовлення","4-6","Sub DB",1,"шт.",null,"H6"]
["2CPX010250R9999","TG509GB","Шафа навісна G 225мм. без дверей",18129.419999999998,"замовлення","4-6","Sub DB",1,"шт.",null,"H6"]
["2CPX010251R9999","TG112GB","Шафа напольна G 225мм. без дверей",11507.699999999999,"замовлення","4-6","Sub DB",1,"шт.",null,"H6"]
["2CPX010252R9999","TG212GB","Шафа напольна G 225мм. без дверей",11805.960000000001,"замовлення","4-6","Sub DB",1,"шт.",null,"H6"]
["2CPX010253R9999","TG312GB","Шафа напольна G 225мм. без дверей",14683.560000000001,"замовлення","4-6","Sub DB",1,"шт.",null,"H6"]
["2CPX010254R9999","TG412GB","Шафа напольна G 225мм. без дверей",17560.259999999998,"замовлення","4-6","Sub DB",1,"шт.",null,"H6"]
["2CPX010255R9999","TG512GB","Шафа напольна G 225мм. без дверей",20706.12,"замовлення","4-6","Sub DB",1,"шт.",null,"H6"]
["2CPX010256R9999","TG104SB","Шафа навісна G 225мм. без дверей клас ізоляції 2",8510.1,"замовлення","4-6","Sub DB",1,"шт.",null,"H6"]
["2CPX010257R9999","TG204SB","Шафа навісна G 225мм. без дверей клас ізоляції 2",9948.48,"замовлення","4-6","Sub DB",1,"шт.",null,"H6"]
["2CPX010258R9999","TG304SB","Шафа навісна G 225мм. без дверей клас ізоляції 2",12076.02,"замовлення","4-6","Sub DB",1,"шт.",null,"H6"]
["2CPX010259R9999","TG404SB","Шафа навісна G 225мм. без дверей клас ізоляції 2",14952.719999999998,"замовлення","4-6","Sub DB",1,"шт.",null,"H6"]
["2CPX010260R9999","TG504SB","Шафа навісна G 225мм. без дверей клас ізоляції 2",18129.419999999998,"замовлення","4-6","Sub DB",1,"шт.",null,"H6"]
["2CPX010261R9999","TG105SB","Шафа навісна G 225мм. без дверей клас ізоляції 2",9288.4199999999983,"замовлення","4-6","Sub DB",1,"шт.",null,"H6"]
["2CPX010262R9999","TG205SB","Шафа навісна G 225мм. без дверей клас ізоляції 2",10937.640000000001,"замовлення","4-6","Sub DB",1,"шт.",null,"H6"]
["2CPX010263R9999","TG305SB","Шафа навісна G 225мм. без дверей клас ізоляції 2",13305.24,"замовлення","4-6","Sub DB",1,"шт.",null,"H6"]
["2CPX010264R9999","TG405SB","Шафа навісна G 225мм. без дверей клас ізоляції 2",16451.04,"замовлення","4-6","Sub DB",1,"шт.",null,"H6"]
["2CPX010265R9999","TG505SB","Шафа навісна G 225мм. без дверей клас ізоляції 2",19896.96,"замовлення","4-6","Sub DB",1,"шт.",null,"H6"]
["2CPX010266R9999","TG106SB","Шафа навісна G 225мм. без дверей клас ізоляції 2",10457.640000000001,"замовлення","4-6","Sub DB",1,"шт.",null,"H6"]
["2CPX010267R9999","TG206SB","Шафа навісна G 225мм. без дверей клас ізоляції 2",12766.08,"замовлення","4-6","Sub DB",1,"шт.",null,"H6"]
["2CPX010268R9999","TG306SB","Шафа навісна G 225мм. без дверей клас ізоляції 2",15042.719999999998,"замовлення","4-6","Sub DB",1,"шт.",null,"H6"]
["2CPX010269R9999","TG406SB","Шафа навісна G 225мм. без дверей клас ізоляції 2",19057.740000000002,"замовлення","4-6","Sub DB",1,"шт.",null,"H6"]
["2CPX010270R9999","TG506SB","Шафа навісна G 225мм. без дверей клас ізоляції 2",21755.34,"замовлення","4-6","Sub DB",1,"шт.",null,"H6"]
["2CPX010271R9999","TG107SB","Шафа навісна G 225мм. без дверей клас ізоляції 2",11417.699999999999,"замовлення","4-6","Sub DB",1,"шт.",null,"H6"]
["2CPX010272R9999","TG207SB","Шафа навісна G 225мм. без дверей клас ізоляції 2",14084.4,"замовлення","4-6","Sub DB",1,"шт.",null,"H6"]
["2CPX010273R9999","TG307SB","Шафа навісна G 225мм. без дверей клас ізоляції 2",16511.939999999999,"замовлення","4-6","Sub DB",1,"шт.",null,"H6"]
["2CPX010274R9999","TG407SB","Шафа навісна G 225мм. без дверей клас ізоляції 2",20676.12,"замовлення","4-6","Sub DB",1,"шт.",null,"H6"]
["2CPX010275R9999","TG507SB","Шафа навісна G 225мм. без дверей клас ізоляції 2",23732.819999999996,"замовлення","4-6","Sub DB",1,"шт.",null,"H6"]
["2CPX010276R9999","TG108SB","Шафа навісна G 225мм. без дверей клас ізоляції 2",13125.180000000002,"замовлення","4-6","Sub DB",1,"шт.",null,"H6"]
["2CPX010277R9999","TG208SB","Шафа навісна G 225мм. без дверей клас ізоляції 2",16361.04,"замовлення","4-6","Sub DB",1,"шт.",null,"H6"]
["2CPX010278R9999","TG308SB","Шафа навісна G 225мм. без дверей клас ізоляції 2",19088.64,"замовлення","4-6","Sub DB",1,"шт.",null,"H6"]
["2CPX010279R9999","TG408SB","Шафа навісна G 225мм. без дверей клас ізоляції 2",23372.819999999996,"замовлення","4-6","Sub DB",1,"шт.",null,"H6"]
["2CPX010280R9999","TG508SB","Шафа навісна G 225мм. без дверей клас ізоляції 2",26969.58,"замовлення","4-6","Sub DB",1,"шт.",null,"H6"]
["2CPX010281R9999","TG109SB","Шафа навісна G 225мм. без дверей клас ізоляції 2",13693.5,"замовлення","4-6","Sub DB",1,"шт.",null,"H6"]
["2CPX010282R9999","TG209SB","Шафа навісна G 225мм. без дверей клас ізоляції 2",16631.099999999999,"замовлення","4-6","Sub DB",1,"шт.",null,"H6"]
["2CPX010283R9999","TG309SB","Шафа навісна G 225мм. без дверей клас ізоляції 2",19627.8,"замовлення","4-6","Sub DB",1,"шт.",null,"H6"]
["2CPX010284R9999","TG409SB","Шафа навісна G 225мм. без дверей клас ізоляції 2",24392.04,"замовлення","4-6","Sub DB",1,"шт.",null,"H6"]
["2CPX010285R9999","TG509SB","Шафа навісна G 225мм. без дверей клас ізоляції 2",28377.899999999998,"замовлення","4-6","Sub DB",1,"шт.",null,"H6"]
["2CPX010286R9999","TG112SB","Шафа напольна G 225мм. без дверей клас ізоляції 2",19268.64,"замовлення","4-6","Sub DB",1,"шт.",null,"H6"]
["2CPX010287R9999","TG212SB","Шафа напольна G 225мм. без дверей клас ізоляції 2",20166.96,"замовлення","4-6","Sub DB",1,"шт.",null,"H6"]
["2CPX010288R9999","TG312SB","Шафа напольна G 225мм. без дверей клас ізоляції 2",24002.880000000001,"замовлення","4-6","Sub DB",1,"шт.",null,"H6"]
["2CPX010289R9999","TG412SB","Шафа напольна G 225мм. без дверей клас ізоляції 2",29337.120000000003,"замовлення","4-6","Sub DB",1,"шт.",null,"H6"]
["2CPX010290R9999","TG512SB","Шафа напольна G 225мм. без дверей клас ізоляції 2",34281.360000000001,"замовлення","4-6","Sub DB",1,"шт.",null,"H6"]
["2CPX010291R9999","TL104GB","Шафа навісна L 275мм. без дверей",5784.3,"замовлення","4-6","Sub DB",1,"шт.",null,"H6"]
["2CPX010292R9999","TL204GB","Шафа навісна L 275мм. без дверей",6593.46,"замовлення","4-6","Sub DB",1,"шт.",null,"H6"]
["2CPX010293R9999","TL304GB","Шафа навісна L 275мм. без дверей",8060.94,"замовлення","4-6","Sub DB",1,"шт.",null,"H6"]
["2CPX010294R9999","TL404GB","Шафа навісна L 275мм. без дверей",11476.8,"замовлення","4-6","Sub DB",1,"шт.",null,"H6"]
["2CPX010295R9999","TL504GB","Шафа навісна L 275мм. без дверей",13275.24,"замовлення","4-6","Sub DB",1,"шт.",null,"H6"]
["2CPX010296R9999","TL105GB","Шафа навісна L 275мм. без дверей",6323.46,"замовлення","4-6","Sub DB",1,"шт.",null,"H6"]
["2CPX010297R9999","TL205GB","Шафа навісна L 275мм. без дверей",7251.7800000000007,"замовлення","4-6","Sub DB",1,"шт.",null,"H6"]
["2CPX010298R9999","TL305GB","Шафа навісна L 275мм. без дверей",8869.26,"замовлення","4-6","Sub DB",1,"шт.",null,"H6"]
["2CPX010299R9999","TL405GB","Шафа навісна L 275мм. без дверей",12615.180000000002,"замовлення","4-6","Sub DB",1,"шт.",null,"H6"]
["2CPX010300R9999","TL505GB","Шафа навісна L 275мм. без дверей",14593.560000000001,"замовлення","4-6","Sub DB",1,"шт.",null,"H6"]
["2CPX010301R9999","TL106GB","Шафа навісна L 275мм. без дверей",7220.8799999999992,"замовлення","4-6","Sub DB",1,"шт.",null,"H6"]
["2CPX010302R9999","TL206GB","Шафа навісна L 275мм. без дверей",8480.1,"замовлення","4-6","Sub DB",1,"шт.",null,"H6"]
["2CPX010303R9999","TL306GB","Шафа навісна L 275мм. без дверей",10038.48,"замовлення","4-6","Sub DB",1,"шт.",null,"H6"]
["2CPX010304R9999","TL406GB","Шафа навісна L 275мм. без дверей",14084.4,"замовлення","4-6","Sub DB",1,"шт.",null,"H6"]
["2CPX010305R9999","TL506GB","Шафа навісна L 275мм. без дверей",15701.88,"замовлення","4-6","Sub DB",1,"шт.",null,"H6"]
["2CPX010306R9999","TL107GB","Шафа навісна L 275мм. без дверей",7551.7800000000007,"замовлення","4-6","Sub DB",1,"шт.",null,"H6"]
["2CPX010307R9999","TL207GB","Шафа навісна L 275мм. без дверей",8959.26,"замовлення","4-6","Sub DB",1,"шт.",null,"H6"]
["2CPX010308R9999","TL307GB","Шафа навісна L 275мм. без дверей",10637.640000000001,"замовлення","4-6","Sub DB",1,"шт.",null,"H6"]
["2CPX010309R9999","TL407GB","Шафа навісна L 275мм. без дверей",15432.719999999998,"замовлення","4-6","Sub DB",1,"шт.",null,"H6"]
["2CPX010310R9999","TL507GB","Шафа навісна L 275мм. без дверей",17110.259999999998,"замовлення","4-6","Sub DB",1,"шт.",null,"H6"]
["2CPX010311R9999","TL108GB","Шафа навісна L 275мм. без дверей",9468.4199999999983,"замовлення","4-6","Sub DB",1,"шт.",null,"H6"]
["2CPX010312R9999","TL208GB","Шафа навісна L 275мм. без дверей",11417.699999999999,"замовлення","4-6","Sub DB",1,"шт.",null,"H6"]
["2CPX010313R9999","TL308GB","Шафа навісна L 275мм. без дверей",13575.24,"замовлення","4-6","Sub DB",1,"шт.",null,"H6"]
["2CPX010314R9999","TL408GB","Шафа навісна L 275мм. без дверей",16661.099999999999,"замовлення","4-6","Sub DB",1,"шт.",null,"H6"]
["2CPX010315R9999","TL508GB","Шафа навісна L 275мм. без дверей",19507.8,"замовлення","4-6","Sub DB",1,"шт.",null,"H6"]
["2CPX010316R9999","TL109GB","Шафа навісна L 275мм. без дверей",9888.48,"замовлення","4-6","Sub DB",1,"шт.",null,"H6"]
["2CPX010317R9999","TL209GB","Шафа навісна L 275мм. без дверей",12016.859999999999,"замовлення","4-6","Sub DB",1,"шт.",null,"H6"]
["2CPX010318R9999","TL309GB","Шафа навісна L 275мм. без дверей",14233.5,"замовлення","4-6","Sub DB",1,"шт.",null,"H6"]
["2CPX010319R9999","TL409GB","Шафа навісна L 275мм. без дверей",17949.419999999998,"замовлення","4-6","Sub DB",1,"шт.",null,"H6"]
["2CPX010320R9999","TL509GB","Шафа навісна L 275мм. без дверей",21545.280000000002,"замовлення","4-6","Sub DB",1,"шт.",null,"H6"]
["2CPX010321R9999","TL112GB","Шафа напольна L 275мм. без дверей",12645.180000000002,"замовлення","4-6","Sub DB",1,"шт.",null,"H6"]
["2CPX010322R9999","TL212GB","Шафа напольна L 275мм. без дверей",13335.24,"замовлення","4-6","Sub DB",1,"шт.",null,"H6"]
["2CPX010323R9999","TL312GB","Шафа напольна L 275мм. без дверей",16541.04,"замовлення","4-6","Sub DB",1,"шт.",null,"H6"]
["2CPX010324R9999","TL412GB","Шафа напольна L 275мм. без дверей",19776.899999999998,"замовлення","4-6","Sub DB",1,"шт.",null,"H6"]
["2CPX010325R9999","TL512GB","Шафа напольна L 275мм. без дверей",23282.819999999996,"замовлення","4-6","Sub DB",1,"шт.",null,"H6"]
["2CPX010326R9999","TL104SB","Шафа  L 275мм. без дверей клас ізоляції 2",8540.1,"замовлення","4-6","Sub DB",1,"шт.",null,"H6"]
["2CPX010327R9999","TL204SB","Шафа  L 275мм. без дверей клас ізоляції 2",10008.48,"замовлення","4-6","Sub DB",1,"шт.",null,"H6"]
["2CPX010328R9999","TL304SB","Шафа  L 275мм. без дверей клас ізоляції 2",12256.02,"замовлення","4-6","Sub DB",1,"шт.",null,"H6"]
["2CPX010329R9999","TL404SB","Шафа  L 275мм. без дверей клас ізоляції 2",17351.16,"замовлення","4-6","Sub DB",1,"шт.",null,"H6"]
["2CPX010330R9999","TL504SB","Шафа  L 275мм. без дверей клас ізоляції 2",20106.96,"замовлення","4-6","Sub DB",1,"шт.",null,"H6"]
["2CPX010331R9999","TL105SB","Шафа  L 275мм. без дверей клас ізоляції 2",9350.159999999998,"замовлення","4-6","Sub DB",1,"шт.",null,"H6"]
["2CPX010332R9999","TL205SB","Шафа  L 275мм. без дверей клас ізоляції 2",10967.640000000001,"замовлення","4-6","Sub DB",1,"шт.",null,"H6"]
["2CPX010333R9999","TL305SB","Шафа  L 275мм. без дверей клас ізоляції 2",13454.339999999998,"замовлення","4-6","Sub DB",1,"шт.",null,"H6"]
["2CPX010334R9999","TL405SB","Шафа  L 275мм. без дверей клас ізоляції 2",19147.740000000002,"замовлення","4-6","Sub DB",1,"шт.",null,"H6"]
["2CPX010335R9999","TL505SB","Шафа  L 275мм. без дверей клас ізоляції 2",22144.5,"замовлення","4-6","Sub DB",1,"шт.",null,"H6"]
["2CPX010336R9999","TL106SB","Шафа  L 275мм. без дверей клас ізоляції 2",10757.640000000001,"замовлення","4-6","Sub DB",1,"шт.",null,"H6"]
["2CPX010337R9999","TL206SB","Шафа  L 275мм. без дверей клас ізоляції 2",12825.180000000002,"замовлення","4-6","Sub DB",1,"шт.",null,"H6"]
["2CPX010338R9999","TL306SB","Шафа  L 275мм. без дверей клас ізоляції 2",15222.719999999998,"замовлення","4-6","Sub DB",1,"шт.",null,"H6"]
["2CPX010339R9999","TL406SB","Шафа  L 275мм. без дверей клас ізоляції 2",21336.18,"замовлення","4-6","Sub DB",1,"шт.",null,"H6"]
["2CPX010340R9999","TL506SB","Шафа  L 275мм. без дверей клас ізоляції 2",23792.819999999996,"замовлення","4-6","Sub DB",1,"шт.",null,"H6"]
["2CPX010341R9999","TL107SB","Шафа  L 275мм. без дверей клас ізоляції 2",11535.960000000001,"замовлення","4-6","Sub DB",1,"шт.",null,"H6"]
["2CPX010342R9999","TL207SB","Шафа  L 275мм. без дверей клас ізоляції 2",13783.5,"замовлення","4-6","Sub DB",1,"шт.",null,"H6"]
["2CPX010343R9999","TL307SB","Шафа  L 275мм. без дверей клас ізоляції 2",17021.099999999999,"замовлення","4-6","Sub DB",1,"шт.",null,"H6"]
["2CPX010344R9999","TL407SB","Шафа  L 275мм. без дверей клас ізоляції 2",23403.719999999998,"замовлення","4-6","Sub DB",1,"шт.",null,"H6"]
["2CPX010345R9999","TL507SB","Шафа  L 275мм. без дверей клас ізоляції 2",26011.26,"замовлення","4-6","Sub DB",1,"шт.",null,"H6"]
["2CPX010346R9999","TL108SB","Шафа  L 275мм. без дверей клас ізоляції 2",14413.560000000001,"замовлення","4-6","Sub DB",1,"шт.",null,"H6"]
["2CPX010347R9999","TL208SB","Шафа  L 275мм. без дверей клас ізоляції 2",17320.259999999998,"замовлення","4-6","Sub DB",1,"шт.",null,"H6"]
["2CPX010348R9999","TL308SB","Шафа  L 275мм. без дверей клас ізоляції 2",20586.12,"замовлення","4-6","Sub DB",1,"шт.",null,"H6"]
["2CPX010349R9999","TL408SB","Шафа  L 275мм. без дверей клас ізоляції 2",25261.200000000001,"замовлення","4-6","Sub DB",1,"шт.",null,"H6"]
["2CPX010350R9999","TL508SB","Шафа  L 275мм. без дверей клас ізоляції 2",29606.28,"замовлення","4-6","Sub DB",1,"шт.",null,"H6"]
["2CPX010351R9999","TL109SB","Шафа  L 275мм. без дверей клас ізоляції 2",15042.719999999998,"замовлення","4-6","Sub DB",1,"шт.",null,"H6"]
["2CPX010352R9999","TL209SB","Шафа  L 275мм. без дверей клас ізоляції 2",18250.319999999996,"замовлення","4-6","Sub DB",1,"шт.",null,"H6"]
["2CPX010353R9999","TL309SB","Шафа  L 275мм. без дверей клас ізоляції 2",21605.280000000002,"замовлення","4-6","Sub DB",1,"шт.",null,"H6"]
["2CPX010354R9999","TL409SB","Шафа  L 275мм. без дверей клас ізоляції 2",27238.74,"замовлення","4-6","Sub DB",1,"шт.",null,"H6"]
["2CPX010355R9999","TL509SB","Шафа  L 275мм. без дверей клас ізоляції 2",32573.879999999997,"замовлення","4-6","Sub DB",1,"шт.",null,"H6"]
["2CPX010356R9999","TL112SB","Шафа  L 275мм. без дверей клас ізоляції 2",21815.34,"замовлення","4-6","Sub DB",1,"шт.",null,"H6"]
["2CPX010357R9999","TL212SB","Шафа  L 275мм. без дверей клас ізоляції 2",22923.66,"замовлення","4-6","Sub DB",1,"шт.",null,"H6"]
["2CPX010358R9999","TL312SB","Шафа  L 275мм. без дверей клас ізоляції 2",28258.799999999999,"замовлення","4-6","Sub DB",1,"шт.",null,"H6"]
["2CPX010359R9999","TL412SB","Шафа  L 275мм. без дверей клас ізоляції 2",33172.139999999992,"замовлення","4-6","Sub DB",1,"шт.",null,"H6"]
["2CPX010360R9999","TL512SB","Шафа  L 275мм. без дверей клас ізоляції 2",38985.54,"замовлення","4-6","Sub DB",1,"шт.",null,"H6"]
["2CPX010361R9999","TW104GB","Шафа  W 350мм. без дверей",7400.8799999999992,"замовлення","4-6","Sub DB",1,"шт.",null,"H6"]
["2CPX010362R9999","TW204GB","Шафа  W 350мм. без дверей",8869.26,"замовлення","4-6","Sub DB",1,"шт.",null,"H6"]
["2CPX010363R9999","TW304GB","Шафа  W 350мм. без дверей",10608.539999999999,"замовлення","4-6","Sub DB",1,"шт.",null,"H6"]
["2CPX010364R9999","TW404GB","Шафа  W 350мм. без дверей",12226.02,"замовлення","4-6","Sub DB",1,"шт.",null,"H6"]
["2CPX010365R9999","TW504GB","Шафа  W 350мм. без дверей",14802.719999999998,"замовлення","4-6","Sub DB",1,"шт.",null,"H6"]
["2CPX010366R9999","TW105GB","Шафа  W 350мм. без дверей",8540.1,"замовлення","4-6","Sub DB",1,"шт.",null,"H6"]
["2CPX010367R9999","TW205GB","Шафа  W 350мм. без дверей",10248.48,"замовлення","4-6","Sub DB",1,"шт.",null,"H6"]
["2CPX010368R9999","TW305GB","Шафа  W 350мм. без дверей",11895.960000000001,"замовлення","4-6","Sub DB",1,"шт.",null,"H6"]
["2CPX010369R9999","TW405GB","Шафа  W 350мм. без дверей",13755.24,"замовлення","4-6","Sub DB",1,"шт.",null,"H6"]
["2CPX010370R9999","TW505GB","Шафа  W 350мм. без дверей",15791.88,"замовлення","4-6","Sub DB",1,"шт.",null,"H6"]
["2CPX010371R9999","TW106GB","Шафа  W 350мм. без дверей",9468.4199999999983,"замовлення","4-6","Sub DB",1,"шт.",null,"H6"]
["2CPX010372R9999","TW206GB","Шафа  W 350мм. без дверей",11476.8,"замовлення","4-6","Sub DB",1,"шт.",null,"H6"]
["2CPX010373R9999","TW306GB","Шафа  W 350мм. без дверей",13035.180000000002,"замовлення","4-6","Sub DB",1,"шт.",null,"H6"]
["2CPX010374R9999","TW406GB","Шафа  W 350мм. без дверей",15222.719999999998,"замовлення","4-6","Sub DB",1,"шт.",null,"H6"]
["2CPX010375R9999","TW506GB","Шафа  W 350мм. без дверей",16991.099999999999,"замовлення","4-6","Sub DB",1,"шт.",null,"H6"]
["2CPX010376R9999","TW107GB","Шафа  W 350мм. без дверей",10278.48,"замовлення","4-6","Sub DB",1,"шт.",null,"H6"]
["2CPX010377R9999","TW207GB","Шафа  W 350мм. без дверей",12286.02,"замовлення","4-6","Sub DB",1,"шт.",null,"H6"]
["2CPX010378R9999","TW307GB","Шафа  W 350мм. без дверей",13935.24,"замовлення","4-6","Sub DB",1,"шт.",null,"H6"]
["2CPX010379R9999","TW407GB","Шафа  W 350мм. без дверей",16661.099999999999,"замовлення","4-6","Sub DB",1,"шт.",null,"H6"]
["2CPX010380R9999","TW507GB","Шафа  W 350мм. без дверей",18458.579999999998,"замовлення","4-6","Sub DB",1,"шт.",null,"H6"]
["2CPX010381R9999","TW108GB","Шафа  W 350мм. без дверей",11057.699999999999,"замовлення","4-6","Sub DB",1,"шт.",null,"H6"]
["2CPX010382R9999","TW208GB","Шафа  W 350мм. без дверей",13305.24,"замовлення","4-6","Sub DB",1,"шт.",null,"H6"]
["2CPX010383R9999","TW308GB","Шафа  W 350мм. без дверей",15132.719999999998,"замовлення","4-6","Sub DB",1,"шт.",null,"H6"]
["2CPX010384R9999","TW408GB","Шафа  W 350мм. без дверей",18669.48,"замовлення","4-6","Sub DB",1,"шт.",null,"H6"]
["2CPX010385R9999","TW508GB","Шафа  W 350мм. без дверей",20917.019999999997,"замовлення","4-6","Sub DB",1,"шт.",null,"H6"]
["2CPX010386R9999","TW109GB","Шафа  W 350мм. без дверей",12166.02,"замовлення","4-6","Sub DB",1,"шт.",null,"H6"]
["2CPX010387R9999","TW209GB","Шафа  W 350мм. без дверей",14802.719999999998,"замовлення","4-6","Sub DB",1,"шт.",null,"H6"]
["2CPX010388R9999","TW309GB","Шафа  W 350мм. без дверей",16871.099999999999,"замовлення","4-6","Sub DB",1,"шт.",null,"H6"]
["2CPX010389R9999","TW409GB","Шафа  W 350мм. без дверей",20616.12,"замовлення","4-6","Sub DB",1,"шт.",null,"H6"]
["2CPX010390R9999","TW509GB","Шафа  W 350мм. без дверей",23192.819999999996,"замовлення","4-6","Sub DB",1,"шт.",null,"H6"]
["2CPX010391R9999","TW112GB","Шафа  W 350мм. без дверей",19567.8,"замовлення","4-6","Sub DB",1,"шт.",null,"H6"]
["2CPX010392R9999","TW212GB","Шафа  W 350мм. без дверей",21215.280000000002,"замовлення","4-6","Sub DB",1,"шт.",null,"H6"]
["2CPX010393R9999","TW312GB","Шафа  W 350мм. без дверей",23732.819999999996,"замовлення","4-6","Sub DB",1,"шт.",null,"H6"]
["2CPX010394R9999","TW412GB","Шафа  W 350мм. без дверей",29216.219999999998,"замовлення","4-6","Sub DB",1,"шт.",null,"H6"]
["2CPX010395R9999","TW512GB","Шафа  W 350мм. без дверей",35060.519999999997,"замовлення","4-6","Sub DB",1,"шт.",null,"H6"]
["2CPX010396R9999","TW612GB","Шафа  W 350мм. без дверей",41083.08,"замовлення","4-6","Sub DB",1,"шт.",null,"H6"]
["2CPX010397R9999","TW104SB","Шафа  W 350мм. без дверей клас ізоляції 2",10967.640000000001,"замовлення","4-6","Sub DB",1,"шт.",null,"H6"]
["2CPX010398R9999","TW204SB","Шафа  W 350мм. без дверей клас ізоляції 2",13185.180000000002,"замовлення","4-6","Sub DB",1,"шт.",null,"H6"]
["2CPX010399R9999","TW304SB","Шафа  W 350мм. без дверей клас ізоляції 2",15791.88,"замовлення","4-6","Sub DB",1,"шт.",null,"H6"]
["2CPX010400R9999","TW404SB","Шафа  W 350мм. без дверей клас ізоляції 2",18399.48,"замовлення","4-6","Sub DB",1,"шт.",null,"H6"]
["2CPX010401R9999","TW504SB","Шафа  W 350мм. без дверей клас ізоляції 2",22234.5,"замовлення","4-6","Sub DB",1,"шт.",null,"H6"]
["2CPX010402R9999","TW105SB","Шафа  W 350мм. без дверей клас ізоляції 2",12766.08,"замовлення","4-6","Sub DB",1,"шт.",null,"H6"]
["2CPX010403R9999","TW205SB","Шафа  W 350мм. без дверей клас ізоляції 2",15342.719999999998,"замовлення","4-6","Sub DB",1,"шт.",null,"H6"]
["2CPX010404R9999","TW305SB","Шафа  W 350мм. без дверей клас ізоляції 2",17829.419999999998,"замовлення","4-6","Sub DB",1,"шт.",null,"H6"]
["2CPX010405R9999","TW405SB","Шафа  W 350мм. без дверей клас ізоляції 2",20917.019999999997,"замовлення","4-6","Sub DB",1,"шт.",null,"H6"]
["2CPX010406R9999","TW505SB","Шафа  W 350мм. без дверей клас ізоляції 2",23882.880000000001,"замовлення","4-6","Sub DB",1,"шт.",null,"H6"]
["2CPX010407R9999","TW106SB","Шафа  W 350мм. без дверей клас ізоляції 2",14383.560000000001,"замовлення","4-6","Sub DB",1,"шт.",null,"H6"]
["2CPX010408R9999","TW206SB","Шафа  W 350мм. без дверей клас ізоляції 2",17320.259999999998,"замовлення","4-6","Sub DB",1,"шт.",null,"H6"]
["2CPX010409R9999","TW306SB","Шафа  W 350мм. без дверей клас ізоляції 2",19776.899999999998,"замовлення","4-6","Sub DB",1,"шт.",null,"H6"]
["2CPX010410R9999","TW406SB","Шафа  W 350мм. без дверей клас ізоляції 2",23344.560000000001,"замовлення","4-6","Sub DB",1,"шт.",null,"H6"]
["2CPX010411R9999","TW506SB","Шафа  W 350мм. без дверей клас ізоляції 2",25592.1,"замовлення","4-6","Sub DB",1,"шт.",null,"H6"]
["2CPX010412R9999","TW107SB","Шафа  W 350мм. без дверей клас ізоляції 2",15671.88,"замовлення","4-6","Sub DB",1,"шт.",null,"H6"]
["2CPX010413R9999","TW207SB","Шафа  W 350мм. без дверей клас ізоляції 2",18697.740000000002,"замовлення","4-6","Sub DB",1,"шт.",null,"H6"]
["2CPX010414R9999","TW307SB","Шафа  W 350мм. без дверей клас ізоляції 2",21365.280000000002,"замовлення","4-6","Sub DB",1,"шт.",null,"H6"]
["2CPX010415R9999","TW407SB","Шафа  W 350мм. без дверей клас ізоляції 2",25620.360000000004,"замовлення","4-6","Sub DB",1,"шт.",null,"H6"]
["2CPX010416R9999","TW507SB","Шафа  W 350мм. без дверей клас ізоляції 2",27988.799999999999,"замовлення","4-6","Sub DB",1,"шт.",null,"H6"]
["2CPX010417R9999","TW108SB","Шафа  W 350мм. без дверей клас ізоляції 2",16871.099999999999,"замовлення","4-6","Sub DB",1,"шт.",null,"H6"]
["2CPX010418R9999","TW208SB","Шафа  W 350мм. без дверей клас ізоляції 2",20316.96,"замовлення","4-6","Sub DB",1,"шт.",null,"H6"]
["2CPX010419R9999","TW308SB","Шафа  W 350мм. без дверей клас ізоляції 2",23102.76,"замовлення","4-6","Sub DB",1,"шт.",null,"H6"]
["2CPX010420R9999","TW408SB","Шафа  W 350мм. без дверей клас ізоляції 2",27749.639999999996,"замовлення","4-6","Sub DB",1,"шт.",null,"H6"]
["2CPX010421R9999","TW508SB","Шафа  W 350мм. без дверей клас ізоляції 2",32092.92,"замовлення","4-6","Sub DB",1,"шт.",null,"H6"]
["2CPX010422R9999","TW109SB","Шафа  W 350мм. без дверей клас ізоляції 2",18579.48,"замовлення","4-6","Sub DB",1,"шт.",null,"H6"]
["2CPX010423R9999","TW209SB","Шафа  W 350мм. без дверей клас ізоляції 2",22474.5,"замовлення","4-6","Sub DB",1,"шт.",null,"H6"]
["2CPX010424R9999","TW309SB","Шафа  W 350мм. без дверей клас ізоляції 2",25620.360000000004,"замовлення","4-6","Sub DB",1,"шт.",null,"H6"]
["2CPX010425R9999","TW409SB","Шафа  W 350мм. без дверей клас ізоляції 2",30625.439999999995,"замовлення","4-6","Sub DB",1,"шт.",null,"H6"]
["2CPX010426R9999","TW509SB","Шафа  W 350мм. без дверей клас ізоляції 2",35569.679999999993,"замовлення","4-6","Sub DB",1,"шт.",null,"H6"]
["2CPX010427R9999","TW112SB","Шафа  W 350мм. без дверей клас ізоляції 2",25232.1,"замовлення","4-6","Sub DB",1,"шт.",null,"H6"]
["2CPX010428R9999","TW212SB","Шафа  W 350мм. без дверей клас ізоляції 2",27238.74,"замовлення","4-6","Sub DB",1,"шт.",null,"H6"]
["2CPX010429R9999","TW312SB","Шафа  W 350мм. без дверей клас ізоляції 2",31104.6,"замовлення","4-6","Sub DB",1,"шт.",null,"H6"]
["2CPX010430R9999","TW412SB","Шафа  W 350мм. без дверей клас ізоляції 2",38356.379999999997,"замовлення","4-6","Sub DB",1,"шт.",null,"H6"]
["2CPX010431R9999","TW512SB","Шафа  W 350мм. без дверей клас ізоляції 2",46208.219999999994,"замовлення","4-6","Sub DB",1,"шт.",null,"H6"]
["2CPX010432R9999","TW612SB","Шафа  W 350мм. без дверей клас ізоляції 2",54238.32,"замовлення","4-6","Sub DB",1,"шт.",null,"H6"]
["2CPX010450R9999","TZ101","Фланець мембранний, 52 ввода",545.33999999999992,"склад",1,"Sub DB",1,"шт.",null,"H6"]
["2CPX010451R9999","TZ101P10","Фланець мембранний, 52 ввода, 10шт.",5167.5,"замовлення","4-6","Sub DB",1,"шт.",null,"H6"]
["2CPX010452R9999","TZ102","Фланець 1хM63/50, 2хM32/20, 5хМ25, 5хМ20",485.34,"замовлення","4-6","Sub DB",1,"шт.",null,"H6"]
["2CPX010453R9999","TZ102P10","Фланець 1хM63/50, 2хM32/20, 5хМ25, 5хМ20, 10шт.",4585.079999999999,"замовлення","4-6","Sub DB",1,"шт.",null,"H6"]
["2CPX010454R9999","TZ103","Фланець 4xM20/M25, 22xM20",485.34,"замовлення","4-6","Sub DB",1,"шт.",null,"H6"]
["2CPX010455R9999","TZ103P10","Фланець 4xM20/M25, 22xM20 (10шт).",4585.079999999999,"замовлення","4-6","Sub DB",1,"шт.",null,"H6"]
["2CPX010456R9999","TZ104","Фланець 2 введення діаметром 14-68мм",1528.3799999999999,"замовлення","4-6","Sub DB",1,"шт.",null,"H6"]
["2CPX010457R9999","TZ105","Фланець 3 введення діаметром 14-54мм",2081.64,"замовлення","4-6","Sub DB",1,"шт.",null,"H6"]
["2CPX010458R9999","TZ106","Фланець металевий глухий",569.16,"замовлення","4-6","Sub DB",1,"шт.",null,"H6"]
["2CPX010459R9999","TZ106P10","Фланець металевий глухий  (10шт).",5363.4,"замовлення","4-6","Sub DB",1,"шт.",null,"H6"]
["2CPX010460R9999","TZ107","Фланець глухий",371.52000000000004,"склад",1,"Sub DB",1,"шт.",null,"H6"]
["2CPX010461R9999","TZ107P10","Фланець глухий, 10шт.",3529.6799999999994,"замовлення","4-6","Sub DB",1,"шт.",null,"H6"]
["2CPX010462R9999","TZ204","Ригель до замку 4 GU = 600мм.",1028.04,"замовлення","4-6","Sub DB",1,"шт.",null,"H6"]
["2CPX010463R9999","TZ205","Ригель до замку 5 GU = 750мм.",1058.94,"замовлення","4-6","Sub DB",1,"шт.",null,"H6"]
["2CPX010464R9999","TZ206","Ригель до замку 6 GU = 900мм.",1090.6799999999998,"замовлення","4-6","Sub DB",1,"шт.",null,"H6"]
["2CPX010465R9999","TZ207","Ригель до замку 7 GU = 1050мм.",1120.6799999999998,"замовлення","4-6","Sub DB",1,"шт.",null,"H6"]
["2CPX010466R9999","TZ208","Ригель до замку 8 GU = 1200мм.",1151.5800000000002,"замовлення","4-6","Sub DB",1,"шт.",null,"H6"]
["2CPX010467R9999","TZ209","Ригель до замку 9 GU = 1350мм.",1183.32,"замовлення","4-6","Sub DB",1,"шт.",null,"H6"]
["2CPX010468R9999","TZ212","Ригель до замку 12 GU = 1800мм.",1213.32,"замовлення","4-6","Sub DB",1,"шт.",null,"H6"]
["2CPX010469R9999","TZ311","Рейка кабельна до TL, TW Ш1 250мм",255.89999999999998,"замовлення","4-6","Sub DB",1,"шт.",null,"H6"]
["2CPX010470R9999","TZ312","Рейка кабельна до TL, TW Ш2 500мм",388.25999999999993,"замовлення","4-6","Sub DB",1,"шт.",null,"H6"]
["2CPX010471R9999","TZ313","Рейка кабельна до TL, TW Ш3 750мм",514.43999999999994,"замовлення","4-6","Sub DB",1,"шт.",null,"H6"]
["2CPX010472R9999","TZ314","Рейка кабельна до TL, TW Ш4 1000мм",636.24,"замовлення","4-6","Sub DB",1,"шт.",null,"H6"]
["2CPX010473R9999","TZ321","Рейка кабельна цоколю Ш1 250мм",420.06,"замовлення","4-6","Sub DB",1,"шт.",null,"H6"]
["2CPX010474R9999","TZ322","Рейка кабельна цоколю Ш2 500мм",561.24,"замовлення","4-6","Sub DB",1,"шт.",null,"H6"]
["2CPX010475R9999","TZ323","Рейка кабельна цоколю Ш3 750мм",712.9799999999999,"замовлення","4-6","Sub DB",1,"шт.",null,"H6"]
["2CPX010476R9999","TZ324","Рейка кабельна цоколю Ш4 1000мм",865.68,"замовлення","4-6","Sub DB",1,"шт.",null,"H6"]
["2CPX010477R9999","TZ325","Рейка кабельна цоколю Ш5 1250мм",983.04,"замовлення","4-6","Sub DB",1,"шт.",null,"H6"]
["2CPX010478R9999","TZ326","Рейка кабельна цоколю Ш6 1500мм",1126.8599999999999,"замовлення","4-6","Sub DB",1,"шт.",null,"H6"]
["2CPX010485R9999","TZ501","Направляюча до ригелю",126.18,"замовлення","4-6","Sub DB",1,"шт.",null,"H6"]
["2CPX010486R9999","TZ502","Направляюча до двох дверей",126.18,"замовлення","4-6","Sub DB",1,"шт.",null,"H6"]
["2CPX010487R9999","TZ503","Замок з ключем",1828.38,"замовлення","4-6","Sub DB",1,"шт.",null,"H6"]
["2CPX010488R9999","TZ504","Замок",1249.5,"замовлення","4-6","Sub DB",1,"шт.",null,"H6"]
["2CPX010489R9999","TZ505","Ручка Т-типу з замком",1468.3799999999999,"замовлення","4-6","Sub DB",1,"шт.",null,"H6"]
["2CPX010490R9999","TZ506","Ручка Т-типу",941.51999999999987,"замовлення","4-6","Sub DB",1,"шт.",null,"H6"]
["2CPX010491R9999","TZ507","Накладка замку для 3мм і 5мм",225,"замовлення","4-6","Sub DB",1,"шт.",null,"H6"]
["2CPX010492R9999","TZ508","Накладка замку",225,"замовлення","4-6","Sub DB",1,"шт.",null,"H6"]
["2CPX010494R9999","TZ510","Замок для напів-циліндра 40 мм (30/10) з ущільнювальною кришкою",1333.32,"замовлення","4-6","Sub DB",1,"шт.",null,"H6"]
["2CPX010495R9999","TZ511","Аксесуар до рігелю",94.44,"замовлення","4-6","Sub DB",1,"шт.",null,"H6"]
["2CPX010502R9999","TZ607","Навіс 180°   ",502.08000000000004,"замовлення","4-6","Sub DB",1,"шт.",null,"H6"]
["2CPX010503R9999","TZ608","Комплект з'єднання шаф IP55",186.18,"замовлення","4-6","Sub DB",1,"шт.","див. закладку \"Акційне обладнання\"","H6"]
["2CPX010504R9999","TZ609","Комплект з'єднання фланців IP55 клас ізоляції 2",412.08000000000004,"замовлення","4-6","Sub DB",1,"шт.",null,"H6"]
["2CPX010505R9999","TZ610","Внутрішня кришка Meter",439.44,"замовлення","4-6","Sub DB",1,"шт.",null,"H6"]
["2CPX010507R9999","TZ612","Кришка Meter L",54.719999999999992,"замовлення","4-6","Sub DB",1,"шт.",null,"H6"]
["2CPX010508R9999","TZ613","Кришка Meter G",65.28,"замовлення","4-6","Sub DB",1,"шт.",null,"H6"]
["2CPX010509R9999","TZ614","Кришка Meter W",74.099999999999994,"замовлення","4-6","Sub DB",1,"шт.",null,"H6"]
["2CPX010510R9999","TZ615P4","Рим болти 4шт.",1558.38,"замовлення","4-6","Sub DB",1,"шт.",null,"H6"]
["2CPX010511R9999","TZ616","Монтажний комплект Meter",443.88000000000005,"замовлення","4-6","Sub DB",1,"шт.",null,"H6"]
["2CPX010512R9999","TZ617P10","Заглушки отворів",219.72,"замовлення","4-6","Sub DB",1,"шт.",null,"H6"]
["2CPX010528R9999","TZB104","Двері глухі TwinLine Ш1 В650мм",2397.5399999999995,"замовлення","4-6","Sub DB",1,"шт.",null,"H6"]
["2CPX010529R9999","TZB105","Двері глухі TwinLine Ш1 В800мм",2696.7,"замовлення","4-6","Sub DB",1,"шт.",null,"H6"]
["2CPX010530R9999","TZB106","Двері глухі TwinLine Ш1 В950мм",3236.76,"замовлення","4-6","Sub DB",1,"шт.",null,"H6"]
["2CPX010531R9999","TZB107","Двері глухі TwinLine Ш1 В1100мм",3775.92,"замовлення","4-6","Sub DB",1,"шт.",null,"H6"]
["2CPX010532R9999","TZB108","Двері глухі TwinLine Ш1 В1250мм",4284.1799999999994,"замовлення","4-6","Sub DB",1,"шт.",null,"H6"]
["2CPX010533R9999","TZB109","Двері глухі TwinLine Ш1 В1400мм",4644.1799999999994,"замовлення","4-6","Sub DB",1,"шт.",null,"H6"]
["2CPX010534R9999","TZB112","Двері глухі TwinLine Ш1 В1850мм",6593.46,"замовлення","4-6","Sub DB",1,"шт.",null,"H6"]
["2CPX010535R9999","TZB204","Двері глухі TwinLine Ш2 В650мм",2906.7,"замовлення","4-6","Sub DB",1,"шт.",null,"H6"]
["2CPX010536R9999","TZB205","Двері глухі TwinLine Ш2 В800мм",3176.76,"замовлення","4-6","Sub DB",1,"шт.",null,"H6"]
["2CPX010537R9999","TZB206","Двері глухі TwinLine Ш2 В950мм",3745.92,"замовлення","4-6","Sub DB",1,"шт.",null,"H6"]
["2CPX010538R9999","TZB207","Двері глухі TwinLine Ш2 В1100мм",4675.079999999999,"замовлення","4-6","Sub DB",1,"шт.",null,"H6"]
["2CPX010539R9999","TZB208","Двері глухі TwinLine Ш2 В1250мм",5064.24,"замовлення","4-6","Sub DB",1,"шт.",null,"H6"]
["2CPX010540R9999","TZB209","Двері глухі TwinLine Ш2 В1400мм",5305.14,"замовлення","4-6","Sub DB",1,"шт.",null,"H6"]
["2CPX010541R9999","TZB212","Двері глухі TwinLine Ш2 В1850мм",6801.7199999999993,"замовлення","4-6","Sub DB",1,"шт.",null,"H6"]
["2CPX010542R9999","TZB304","Двері глухі TwinLine Ш3 В650мм",3536.76,"замовлення","4-6","Sub DB",1,"шт.",null,"H6"]
["2CPX010543R9999","TZB305","Двері глухі TwinLine Ш3 В800мм",3835.92,"замовлення","4-6","Sub DB",1,"шт.",null,"H6"]
["2CPX010544R9999","TZB306","Двері глухі TwinLine Ш3 В950мм",4405.9799999999996,"замовлення","4-6","Sub DB",1,"шт.",null,"H6"]
["2CPX010545R9999","TZB307","Двері глухі TwinLine Ш3 В1100мм",5454.3,"замовлення","4-6","Sub DB",1,"шт.",null,"H6"]
["2CPX010546R9999","TZB308","Двері глухі TwinLine Ш3 В1250мм",5963.46,"замовлення","4-6","Sub DB",1,"шт.",null,"H6"]
["2CPX010547R9999","TZB309","Двері глухі TwinLine Ш3 В1400мм",6292.56,"замовлення","4-6","Sub DB",1,"шт.",null,"H6"]
["2CPX010548R9999","TZB312","Двері глухі TwinLine Ш3 В1850мм",8300.1,"замовлення","4-6","Sub DB",1,"шт.",null,"H6"]
["2CPX010549R9999","TZB204L","Двері глухі TwinLine Ш2 В650мм ліві",2098.38,"замовлення","4-6","Sub DB",1,"шт.",null,"H6"]
["2CPX010550R9999","TZB204R","Двері глухі TwinLine Ш2 В650мм праві",2906.7,"замовлення","4-6","Sub DB",1,"шт.",null,"H6"]
["2CPX010551R9999","TZB205L","Двері глухі TwinLine Ш2 В800мм ліві",2337.5399999999995,"замовлення","4-6","Sub DB",1,"шт.",null,"H6"]
["2CPX010552R9999","TZB205R","Двері глухі TwinLine Ш2 В800мм праві",3176.76,"замовлення","4-6","Sub DB",1,"шт.",null,"H6"]
["2CPX010553R9999","TZB206L","Двері глухі TwinLine Ш2 В950мм ліві",2427.5399999999995,"замовлення","4-6","Sub DB",1,"шт.",null,"H6"]
["2CPX010554R9999","TZB206R","Двері глухі TwinLine Ш2 В950мм праві",3745.92,"замовлення","4-6","Sub DB",1,"шт.",null,"H6"]
["2CPX010555R9999","TZB207L","Двері глухі TwinLine Ш2 В1100мм ліві",2576.6999999999998,"замовлення","4-6","Sub DB",1,"шт.",null,"H6"]
["2CPX010556R9999","TZB207R","Двері глухі TwinLine Ш2 В1100мм праві",4675.079999999999,"замовлення","4-6","Sub DB",1,"шт.",null,"H6"]
["2CPX010557R9999","TZB208L","Двері глухі TwinLine Ш2 В1250мм ліві",2756.7,"замовлення","4-6","Sub DB",1,"шт.",null,"H6"]
["2CPX010558R9999","TZB208R","Двері глухі TwinLine Ш2 В1250мм праві",5064.24,"замовлення","4-6","Sub DB",1,"шт.",null,"H6"]
["2CPX010559R9999","TZB209L","Двері глухі TwinLine Ш2 В1400мм ліві",2906.7,"замовлення","4-6","Sub DB",1,"шт.",null,"H6"]
["2CPX010560R9999","TZB209R","Двері глухі TwinLine Ш2 В1400мм праві",5305.14,"замовлення","4-6","Sub DB",1,"шт.",null,"H6"]
["2CPX010561R9999","TZB212L","Двері глухі TwinLine Ш2 В1850мм ліві",3236.76,"замовлення","4-6","Sub DB",1,"шт.",null,"H6"]
["2CPX010562R9999","TZB212R","Двері глухі TwinLine Ш2 В1850мм праві",6801.7199999999993,"замовлення","4-6","Sub DB",1,"шт.",null,"H6"]
["2CPX010563R9999","TZB304L","Двері глухі TwinLine Ш3 В650мм ліві",2936.7,"замовлення","4-6","Sub DB",1,"шт.",null,"H6"]
["2CPX010564R9999","TZB305L","Двері глухі TwinLine Ш3 В800мм ліві",3205.8599999999997,"замовлення","4-6","Sub DB",1,"шт.",null,"H6"]
["2CPX010565R9999","TZB306L","Двері глухі TwinLine Ш3 В950мм ліві",3445.8599999999997,"замовлення","4-6","Sub DB",1,"шт.",null,"H6"]
["2CPX010566R9999","TZB307L","Двері глухі TwinLine Ш3 В1100мм ліві",3745.92,"замовлення","4-6","Sub DB",1,"шт.",null,"H6"]
["2CPX010567R9999","TZB308L","Двері глухі TwinLine Ш3 В1250мм ліві",4284.1799999999994,"замовлення","4-6","Sub DB",1,"шт.",null,"H6"]
["2CPX010568R9999","TZB309L","Двері глухі TwinLine Ш3 В1400мм ліві",4615.079999999999,"замовлення","4-6","Sub DB",1,"шт.",null,"H6"]
["2CPX010569R9999","TZB312L","Двері глухі TwinLine Ш3 В1850мм ліві",5064.24,"замовлення","4-6","Sub DB",1,"шт.",null,"H6"]
["2CPX010570R9999","TZB312R","Двері глухі TwinLine Ш3 В1850мм праві",8300.1,"замовлення","4-6","Sub DB",1,"шт.",null,"H6"]
["2CPX010571R9999","TZG105","Цоколь до TwinLine-G Ш1 50мм.",1707.4799999999998,"замовлення","4-6","Sub DB",1,"шт.",null,"H6"]
["2CPX010572R9999","TZG110","Цоколь до TwinLine-G Ш1 100мм.",2022.5399999999997,"замовлення","4-6","Sub DB",1,"шт.",null,"H6"]
["2CPX010573R9999","TZG205","Цоколь до TwinLine-G Ш2 50мм.",1857.4799999999998,"замовлення","4-6","Sub DB",1,"шт.",null,"H6"]
["2CPX010574R9999","TZG210","Цоколь до TwinLine-G Ш2 100мм.",2247.5399999999995,"замовлення","4-6","Sub DB",1,"шт.",null,"H6"]
["2CPX010575R9999","TZG305","Цоколь до TwinLine-G Ш3 50мм.",2067.5399999999995,"замовлення","4-6","Sub DB",1,"шт.",null,"H6"]
["2CPX010576R9999","TZG310","Цоколь до TwinLine-G Ш3 100мм.",2517.5399999999995,"замовлення","4-6","Sub DB",1,"шт.",null,"H6"]
["2CPX010577R9999","TZG405","Цоколь до TwinLine-G Ш4 50мм.",2306.64,"замовлення","4-6","Sub DB",1,"шт.",null,"H6"]
["2CPX010578R9999","TZG410","Цоколь до TwinLine-G Ш4 100мм.",2846.7,"замовлення","4-6","Sub DB",1,"шт.",null,"H6"]
["2CPX010579R9999","TZG505","Цоколь до TwinLine-G Ш5 50мм.",2607.5399999999995,"замовлення","4-6","Sub DB",1,"шт.",null,"H6"]
["2CPX010580R9999","TZG510","Цоколь до TwinLine-G Ш5 100мм.",3176.76,"замовлення","4-6","Sub DB",1,"шт.",null,"H6"]
["2CPX010581R9999","TZL105","Цоколь до TwinLine-L Ш1 50мм.",5705.76,"замовлення","4-6","Sub DB",1,"шт.",null,"H6"]
["2CPX010582R9999","TZL110","Цоколь до TwinLine-L Ш1 100мм.",7082.3400000000011,"замовлення","4-6","Sub DB",1,"шт.",null,"H6"]
["2CPX010583R9999","TZL205","Цоколь до TwinLine-L Ш2 50мм.",2037.5399999999997,"замовлення","4-6","Sub DB",1,"шт.",null,"H6"]
["2CPX010584R9999","TZL210","Цоколь до TwinLine-L Ш2 100мм.",2562.5399999999995,"замовлення","4-6","Sub DB",1,"шт.",null,"H6"]
["2CPX010585R9999","TZL305","Цоколь до TwinLine-L Ш3 50мм.",2247.5399999999995,"замовлення","4-6","Sub DB",1,"шт.",null,"H6"]
["2CPX010586R9999","TZL310","Цоколь до TwinLine-L Ш3 100мм.",2876.7,"замовлення","4-6","Sub DB",1,"шт.",null,"H6"]
["2CPX010587R9999","TZL405","Цоколь до TwinLine-L Ш4 50мм.",2502.5399999999995,"замовлення","4-6","Sub DB",1,"шт.",null,"H6"]
["2CPX010588R9999","TZL410","Цоколь до TwinLine-L Ш4 100мм.",3266.76,"замовлення","4-6","Sub DB",1,"шт.",null,"H6"]
["2CPX010589R9999","TZL505","Цоколь до TwinLine-L Ш5 50мм.",2831.7,"замовлення","4-6","Sub DB",1,"шт.",null,"H6"]
["2CPX010590R9999","TZL510","Цоколь до TwinLine-L Ш5 100мм.",3655.8599999999997,"замовлення","4-6","Sub DB",1,"шт.",null,"H6"]
["2CPX010591R9999","TZM104","Монтажна плата Ш1 В650 мм.",675.06000000000006,"замовлення","4-6","Sub DB",1,"шт.","див. закладку \"Акційне обладнання\"","H6"]
["2CPX010592R9999","TZM105","Монтажна плата Ш1 В800 мм.",861.2399999999999,"замовлення","4-6","Sub DB",1,"шт.",null,"H6"]
["2CPX010593R9999","TZM106","Монтажна плата Ш1 В950 мм.",1048.32,"замовлення","4-6","Sub DB",1,"шт.",null,"H6"]
["2CPX010594R9999","TZM107","Монтажна плата Ш1 В1100 мм.",1220.3999999999999,"замовлення","4-6","Sub DB",1,"шт.",null,"H6"]
["2CPX010595R9999","TZM108","Монтажна плата Ш1 В1250 мм.",1394.2199999999998,"замовлення","4-6","Sub DB",1,"шт.",null,"H6"]
["2CPX010596R9999","TZM109","Монтажна плата Ш1 В1400 мм.",1739.28,"замовлення","4-6","Sub DB",1,"шт.",null,"H6"]
["2CPX010598R9999","TZM204","Монтажна плата Ш2 В650 мм.",1115.3999999999999,"замовлення","4-6","Sub DB",1,"шт.",null,"H6"]
["2CPX010599R9999","TZM205","Монтажна плата Ш2 В800 мм.",1291.8599999999999,"замовлення","4-6","Sub DB",1,"шт.",null,"H6"]
["2CPX010600R9999","TZM206","Монтажна плата Ш2 В950 мм.",1509.8399999999997,"замовлення","4-6","Sub DB",1,"шт.",null,"H6"]
["2CPX010601R9999","TZM207","Монтажна плата Ш2 В1100 мм.",1739.28,"замовлення","4-6","Sub DB",1,"шт.",null,"H6"]
["2CPX010602R9999","TZM208","Монтажна плата Ш2 В1250 мм.",1930.74,"замовлення","4-6","Sub DB",1,"шт.",null,"H6"]
["2CPX010603R9999","TZM209","Монтажна плата Ш2 В1400 мм.",2173.44,"замовлення","4-6","Sub DB",1,"шт.","див. закладку \"Акційне обладнання\"","H6"]
["2CPX010605R9999","TZM304","Монтажна плата Ш3 В650 мм.",1598.94,"замовлення","4-6","Sub DB",1,"шт.",null,"H6"]
["2CPX010606R9999","TZM305","Монтажна плата Ш3 В800 мм.",1919.28,"замовлення","4-6","Sub DB",1,"шт.",null,"H6"]
["2CPX010607R9999","TZM306","Монтажна плата Ш3 В950 мм.",2199.9,"замовлення","4-6","Sub DB",1,"шт.",null,"H6"]
["2CPX010608R9999","TZM307","Монтажна плата Ш3 В1100 мм.",2430.1799999999998,"замовлення","4-6","Sub DB",1,"шт.",null,"H6"]
["2CPX010609R9999","TZM308","Монтажна плата Ш3 В1250 мм.",2736.4199999999996,"замовлення","4-6","Sub DB",1,"шт.",null,"H6"]
["2CPX010610R9999","TZM309","Монтажна плата Ш3 В1400 мм.",3044.3399999999997,"замовлення","4-6","Sub DB",1,"шт.",null,"H6"]
["2CPX010612R9999","TZM404","Монтажна плата Ш4 В650 мм.",2430.1799999999998,"замовлення","4-6","Sub DB",1,"шт.",null,"H6"]
["2CPX010613R9999","TZM405","Монтажна плата Ш4 В800 мм.",2788.4399999999996,"замовлення","4-6","Sub DB",1,"шт.",null,"H6"]
["2CPX010614R9999","TZM406","Монтажна плата Ш4 В950 мм.",3017.88,"замовлення","4-6","Sub DB",1,"шт.",null,"H6"]
["2CPX010615R9999","TZM407","Монтажна плата Ш4 В1100 мм.",3222.6,"замовлення","4-6","Sub DB",1,"шт.",null,"H6"]
["2CPX010616R9999","TZM408","Монтажна плата Ш4 В1250 мм.",3452.9399999999996,"замовлення","4-6","Sub DB",1,"шт.",null,"H6"]
["2CPX010617R9999","TZM409","Монтажна плата Ш4 В1400 мм.",3658.56,"замовлення","4-6","Sub DB",1,"шт.",null,"H6"]
["2CPX010619R9999","TZM504","Монтажна плата Ш5 В650 мм.",3248.22,"замовлення","4-6","Sub DB",1,"шт.",null,"H6"]
["2CPX010620R9999","TZM505","Монтажна плата Ш5 В800 мм.",3529.6799999999994,"замовлення","4-6","Sub DB",1,"шт.",null,"H6"]
["2CPX010621R9999","TZM506","Монтажна плата Ш5 В950 мм.",3760.92,"замовлення","4-6","Sub DB",1,"шт.",null,"H6"]
["2CPX010622R9999","TZM507","Монтажна плата Ш5 В1100 мм.",3964.74,"замовлення","4-6","Sub DB",1,"шт.",null,"H6"]
["2CPX010623R9999","TZM508","Монтажна плата Ш5 В1250 мм.",4169.4599999999991,"замовлення","4-6","Sub DB",1,"шт.",null,"H6"]
["2CPX010624R9999","TZM509","Монтажна плата Ш5 В1400 мм.",4373.28,"замовлення","4-6","Sub DB",1,"шт.",null,"H6"]
["2CPX010625R9999","TZP104","Рама внутрішня захисна Ш1 В650 мм.",728.88,"замовлення","4-6","Sub DB",1,"шт.","див. закладку \"Акційне обладнання\"","H6"]
["2CPX010626R9999","TZP105","Рама внутрішня захисна Ш1 В800 мм.",795.95999999999992,"замовлення","4-6","Sub DB",1,"шт.",null,"H6"]
["2CPX010627R9999","TZP106","Рама внутрішня захисна Ш1 В950 мм.",861.2399999999999,"замовлення","4-6","Sub DB",1,"шт.",null,"H6"]
["2CPX010628R9999","TZP107","Рама внутрішня захисна Ш1 В1100 мм.",928.31999999999994,"замовлення","4-6","Sub DB",1,"шт.",null,"H6"]
["2CPX010629R9999","TZP108","Рама внутрішня захисна Ш1 В1250 мм.",994.5,"замовлення","4-6","Sub DB",1,"шт.",null,"H6"]
["2CPX010630R9999","TZP109","Рама внутрішня захисна Ш1 В1400 мм.",1061.5800000000002,"замовлення","4-6","Sub DB",1,"шт.",null,"H6"]
["2CPX010631R9999","TZP112","Рама внутрішня захисна Ш1 В1850 мм.",1260.1200000000001,"замовлення","4-6","Sub DB",1,"шт.",null,"H6"]
["2CPX010632R9999","TZP204","Рама внутрішня захисна Ш2 В650 мм.",849.78,"замовлення","4-6","Sub DB",1,"шт.","див. закладку \"Акційне обладнання\"","H6"]
["2CPX010633R9999","TZP205","Рама внутрішня захисна Ш2 В800 мм.",915.95999999999992,"замовлення","4-6","Sub DB",1,"шт.",null,"H6"]
["2CPX010634R9999","TZP206","Рама внутрішня захисна Ш2 В950 мм.",982.14,"замовлення","4-6","Sub DB",1,"шт.",null,"H6"]
["2CPX010635R9999","TZP207","Рама внутрішня захисна Ш2 В1100 мм.",1048.32,"замовлення","4-6","Sub DB",1,"шт.",null,"H6"]
["2CPX010636R9999","TZP208","Рама внутрішня захисна Ш2 В1250 мм.",1115.3999999999999,"замовлення","4-6","Sub DB",1,"шт.",null,"H6"]
["2CPX010637R9999","TZP209","Рама внутрішня захисна Ш2 В1400 мм.",1181.5800000000002,"замовлення","4-6","Sub DB",1,"шт.",null,"H6"]
["2CPX010638R9999","TZP212","Рама внутрішня захисна Ш2 В1850 мм.",1381.86,"склад",1,"Sub DB",1,"шт.",null,"H6"]
["2CPX010639R9999","TZP304","Рама внутрішня захисна Ш3 В650 мм.",942.41999999999985,"замовлення","4-6","Sub DB",1,"шт.",null,"H6"]
["2CPX010640R9999","TZP305","Рама внутрішня захисна Ш3 В800 мм.",1007.76,"замовлення","4-6","Sub DB",1,"шт.",null,"H6"]
["2CPX010641R9999","TZP306","Рама внутрішня захисна Ш3 В950 мм.",1074.78,"замовлення","4-6","Sub DB",1,"шт.",null,"H6"]
["2CPX010642R9999","TZP307","Рама внутрішня захисна Ш3 В1100 мм.",1140.9599999999998,"замовлення","4-6","Sub DB",1,"шт.",null,"H6"]
["2CPX010643R9999","TZP308","Рама внутрішня захисна Ш3 В1250 мм.",1207.1400000000001,"замовлення","4-6","Sub DB",1,"шт.",null,"H6"]
["2CPX010644R9999","TZP309","Рама внутрішня захисна Ш3 В1400 мм.",1274.2199999999998,"замовлення","4-6","Sub DB",1,"шт.",null,"H6"]
["2CPX010645R9999","TZP312","Рама внутрішня захисна Ш3 В1850 мм.",1471.0199999999998,"склад",1,"Sub DB",1,"шт.",null,"H6"]
["2CPX010646R9999","TZP404","Рама внутрішня захисна Ш4 В650 мм.",1036.8599999999999,"замовлення","4-6","Sub DB",1,"шт.",null,"H6"]
["2CPX010647R9999","TZP405","Рама внутрішня захисна Ш4 В800 мм.",1103.94,"замовлення","4-6","Sub DB",1,"шт.",null,"H6"]
["2CPX010648R9999","TZP406","Рама внутрішня захисна Ш4 В950 мм.",1168.32,"замовлення","4-6","Sub DB",1,"шт.",null,"H6"]
["2CPX010649R9999","TZP407","Рама внутрішня захисна Ш4 В1100 мм.",1235.3999999999999,"замовлення","4-6","Sub DB",1,"шт.",null,"H6"]
["2CPX010650R9999","TZP408","Рама внутрішня захисна Ш4 В1250 мм.",1291.8599999999999,"замовлення","4-6","Sub DB",1,"шт.",null,"H6"]
["2CPX010651R9999","TZP409","Рама внутрішня захисна Ш4 В1400 мм.",1368.66,"замовлення","4-6","Sub DB",1,"шт.",null,"H6"]
["2CPX010652R9999","TZP412","Рама внутрішня захисна Ш4 В1850 мм.",1561.0200000000002,"склад",1,"Sub DB",1,"шт.",null,"H6"]
["2CPX010653R9999","TZP504","Рама внутрішня захисна Ш5 В650 мм.",1128.5999999999999,"замовлення","4-6","Sub DB",1,"шт.",null,"H6"]
["2CPX010654R9999","TZP505","Рама внутрішня захисна Ш5 В800 мм.",1194.78,"замовлення","4-6","Sub DB",1,"шт.",null,"H6"]
["2CPX010655R9999","TZP506","Рама внутрішня захисна Ш5 В950 мм.",1260.1200000000001,"замовлення","4-6","Sub DB",1,"шт.",null,"H6"]
["2CPX010656R9999","TZP507","Рама внутрішня захисна Ш5 В1100 мм.",1317.48,"замовлення","4-6","Sub DB",1,"шт.",null,"H6"]
["2CPX010657R9999","TZP508","Рама внутрішня захисна Ш5 В1250 мм.",1394.2199999999998,"замовлення","4-6","Sub DB",1,"шт.",null,"H6"]
["2CPX010658R9999","TZP509","Рама внутрішня захисна Ш5 В1400 мм.",1457.76,"замовлення","4-6","Sub DB",1,"шт.",null,"H6"]
["2CPX010659R9999","TZP512","Рама внутрішня захисна Ш5 В1850 мм.",1650.12,"замовлення","4-6","Sub DB",1,"шт.",null,"H6"]
["2CPX010660R9999","TZP612","Рама внутрішня захисна Ш6 В1850 мм.",1751.64,"замовлення","4-6","Sub DB",1,"шт.",null,"H6"]
["2CPX010661R9999","TZW105","Цоколь до TwinLine-W Ш1 50мм.",1636.9199999999998,"замовлення","4-6","Sub DB",1,"шт.",null,"H6"]
["2CPX010662R9999","TZW110","Цоколь до TwinLine-W Ш1 100мм.",2098.38,"замовлення","4-6","Sub DB",1,"шт.",null,"H6"]
["2CPX010663R9999","TZW205","Цоколь до TwinLine-W Ш2 50мм.",1816.0200000000002,"замовлення","4-6","Sub DB",1,"шт.",null,"H6"]
["2CPX010664R9999","TZW210","Цоколь до TwinLine-W Ш2 100мм.",2328.7199999999998,"склад",1,"Sub DB",1,"шт.",null,"H6"]
["2CPX010665R9999","TZW305","Цоколь до TwinLine-W Ш3 50мм.",1981.9199999999998,"замовлення","4-6","Sub DB",1,"шт.",null,"H6"]
["2CPX010666R9999","TZW310","Цоколь до TwinLine-W Ш3 100мм.",2582.88,"склад",1,"Sub DB",1,"шт.",null,"H6"]
["2CPX010667R9999","TZW405","Цоколь до TwinLine-W Ш4 50мм.",2211.3599999999997,"замовлення","4-6","Sub DB",1,"шт.",null,"H6"]
["2CPX010668R9999","TZW410","Цоколь до TwinLine-W Ш4 100мм.",2864.3399999999997,"склад",1,"Sub DB",1,"шт.",null,"H6"]
["2CPX010669R9999","TZW505","Цоколь до TwinLine-W Ш5 50мм.",2469,"замовлення","4-6","Sub DB",1,"шт.",null,"H6"]
["2CPX010670R9999","TZW510","Цоколь до TwinLine-W Ш5 100мм.",3171.4200000000005,"замовлення","4-6","Sub DB",1,"шт.",null,"H6"]
["2CPX010671R9999","TZW605","Цоколь до TwinLine-W Ш6 50мм.",2736.4199999999996,"замовлення","4-6","Sub DB",1,"шт.",null,"H6"]
["2CPX010672R9999","TZW610","Цоколь до TwinLine-W Ш6 100мм.",3504.12,"замовлення","4-6","Sub DB",1,"шт.",null,"H6"]
["2CPX010673R9999","TZ618","Кришка 1 meter panel",477.41999999999996,"замовлення","4-6","Sub DB",1,"шт.",null,"H6"]
["2CPX010674R9999","TZ619","Кришка 2 meter panels",556.79999999999995,"замовлення","4-6","Sub DB",1,"шт.",null,"H6"]
["2CPX010675R9999","ZX810","Вертикальне секціонування 450мм. G",840.06,"замовлення","4-6","Sub DB",1,"шт.",null,"H6"]
["2CPX010676R9999","ZX811","Вертикальне секціонування 600мм. G",1015.68,"замовлення","4-6","Sub DB",1,"шт.",null,"H6"]
["2CPX010677R9999","ZX812","Вертикальне секціонування 750мм. G",1303.32,"замовлення","4-6","Sub DB",1,"шт.",null,"H6"]
["2CPX010678R9999","ZX813","Вертикальне секціонування 900мм. G",1440.1200000000001,"замовлення","4-6","Sub DB",1,"шт.",null,"H6"]
["2CPX010679R9999","ZX814","Вертикальне секціонування 1050мм. G",1679.28,"замовлення","4-6","Sub DB",1,"шт.",null,"H6"]
["2CPX010680R9999","ZX815","Вертикальне секціонування 1200мм. G",1899,"замовлення","4-6","Sub DB",1,"шт.",null,"H6"]
["2CPX010681R9999","ZX816","Вертикальне секціонування 1350мм. G",2144.2800000000002,"замовлення","4-6","Sub DB",1,"шт.",null,"H6"]
["2CPX010682R9999","ZX817","Вертикальне секціонування 1800мм. G",3954.12,"замовлення","4-6","Sub DB",1,"шт.",null,"H6"]
["2CPX010683R9999","ZX820","Вертикальне секціонування 450мм. L",927.41999999999985,"замовлення","4-6","Sub DB",1,"шт.",null,"H6"]
["2CPX010684R9999","ZX821","Вертикальне секціонування 600мм. L",1303.32,"замовлення","4-6","Sub DB",1,"шт.",null,"H6"]
["2CPX010685R9999","ZX822","Вертикальне секціонування 750мм. L",1523.04,"замовлення","4-6","Sub DB",1,"шт.",null,"H6"]
["2CPX010686R9999","ZX823","Вертикальне секціонування 900мм. L",1747.2,"замовлення","4-6","Sub DB",1,"шт.",null,"H6"]
["2CPX010687R9999","ZX824","Вертикальне секціонування 1050мм. L",1899,"замовлення","4-6","Sub DB",1,"шт.",null,"H6"]
["2CPX010688R9999","ZX825","Вертикальне секціонування 1200мм. L",1967.8200000000002,"замовлення","4-6","Sub DB",1,"шт.",null,"H6"]
["2CPX010689R9999","ZX826","Вертикальне секціонування 1350мм. L",2215.7999999999997,"замовлення","4-6","Sub DB",1,"шт.",null,"H6"]
["2CPX010690R9999","ZX827","Вертикальне секціонування 1800мм. L",4076.82,"замовлення","4-6","Sub DB",1,"шт.",null,"H6"]
["2CPX010691R9999","ZX830","Вертикальне секціонування 450мм. W",1029.78,"замовлення","4-6","Sub DB",1,"шт.",null,"H6"]
["2CPX010692R9999","ZX831","Вертикальне секціонування 600мм. W",1298.94,"замовлення","4-6","Sub DB",1,"шт.",null,"H6"]
["2CPX010693R9999","ZX832","Вертикальне секціонування 750мм. W",1581.3,"замовлення","4-6","Sub DB",1,"шт.",null,"H6"]
["2CPX010694R9999","ZX833","Вертикальне секціонування 900мм. W",1943.1,"замовлення","4-6","Sub DB",1,"шт.",null,"H6"]
["2CPX010695R9999","ZX834","Вертикальне секціонування 1050мм. W",1976.6399999999999,"замовлення","4-6","Sub DB",1,"шт.",null,"H6"]
["2CPX010696R9999","ZX835","Вертикальне секціонування 1200мм. W",2113.38,"замовлення","4-6","Sub DB",1,"шт.",null,"H6"]
["2CPX010697R9999","ZX836","Вертикальне секціонування 1350мм. W",2334,"замовлення","4-6","Sub DB",1,"шт.",null,"H6"]
["2CPX010698R9999","ZX837","Вертикальне секціонування 1800мм. W",4197.7199999999993,"замовлення","4-6","Sub DB",1,"шт.",null,"H6"]
["2CPX010699R9999","ZX840","Горизонтальне секціонування Ш1  TG/TL/TW",1718.1,"замовлення","4-6","Sub DB",1,"шт.",null,"H6"]
["2CPX010700R9999","ZX841","Горизонтальне секціонування Ш2  TG/TL/TW",2197.2599999999998,"замовлення","4-6","Sub DB",1,"шт.",null,"H6"]
["2CPX010701R9999","ZX842","Горизонтальне секціонування Ш3  TG/TL/TW",2904.96,"замовлення","4-6","Sub DB",1,"шт.",null,"H6"]
["2CPX010708R9999","TZP104A","TZP104A захист від дотику 1PW 4GU",1246.8599999999999,"замовлення","4-6","Sub DB",1,"шт.",null,"H6"]
["2CPX010709R9999","TZP105A","TZP105A захист від дотику 1PW 5GU",1330.68,"замовлення","4-6","Sub DB",1,"шт.",null,"H6"]
["2CPX010710R9999","TZP106A","TZP106A захист від дотику 1PW 6GU",1413.66,"замовлення","4-6","Sub DB",1,"шт.",null,"H6"]
["2CPX010711R9999","TZP107A","TZP107A захист від дотику 1PW 7GU",1498.3799999999999,"замовлення","4-6","Sub DB",1,"шт.",null,"H6"]
["2CPX010712R9999","TZP108A","TZP108A захист від дотику 1PW 8GU",1573.38,"замовлення","4-6","Sub DB",1,"шт.",null,"H6"]
["2CPX010713R9999","TZP109A","TZP109A захист від дотику 1PW 9GU",1648.38,"замовлення","4-6","Sub DB",1,"шт.",null,"H6"]
["2CPX010714R9999","TZP112A","TZP112A захист від дотику 1PW 12GU",1887.4799999999998,"замовлення","4-6","Sub DB",1,"шт.",null,"H6"]
["2CPX010715R9999","TZP204A","TZP204A захист від дотику 2PW 4GU",1398.66,"замовлення","4-6","Sub DB",1,"шт.",null,"H6"]
["2CPX010716R9999","TZP205A","TZP205A захист від дотику 2PW 5GU",1480.74,"замовлення","4-6","Sub DB",1,"шт.",null,"H6"]
["2CPX010717R9999","TZP206A","TZP206A захист від дотику 2PW 6GU",1558.38,"замовлення","4-6","Sub DB",1,"шт.",null,"H6"]
["2CPX010718R9999","TZP207A","TZP207A захист від дотику 2PW 7GU",1633.38,"замовлення","4-6","Sub DB",1,"шт.",null,"H6"]
["2CPX010719R9999","TZP208A","TZP208A захист від дотику 2PW 8GU",1723.38,"замовлення","4-6","Sub DB",1,"шт.",null,"H6"]
["2CPX010720R9999","TZP209A","TZP209A захист від дотику 2PW 9GU",1797.4799999999998,"замовлення","4-6","Sub DB",1,"шт.",null,"H6"]
["2CPX010721R9999","TZP212A","TZP212A захист від дотику 2PW 12GU",2037.5399999999997,"замовлення","4-6","Sub DB",1,"шт.",null,"H6"]
["2CPX010722R9999","TZP304A","TZP304A захист від дотику 3PW 4GU",1513.3799999999999,"замовлення","4-6","Sub DB",1,"шт.",null,"H6"]
["2CPX010723R9999","TZP305A","TZP305A захист від дотику 3PW 5GU",1588.38,"замовлення","4-6","Sub DB",1,"шт.",null,"H6"]
["2CPX010724R9999","TZP306A","TZP306A захист від дотику 3PW 6GU",1663.38,"замовлення","4-6","Sub DB",1,"шт.",null,"H6"]
["2CPX010725R9999","TZP307A","TZP307A захист від дотику 3PW 7GU",1752.4799999999998,"замовлення","4-6","Sub DB",1,"шт.",null,"H6"]
["2CPX010726R9999","TZP308A","TZP308A захист від дотику 3PW 8GU",1828.38,"замовлення","4-6","Sub DB",1,"шт.",null,"H6"]
["2CPX010727R9999","TZP309A","TZP309A захист від дотику 3PW 9GU",1902.4799999999998,"замовлення","4-6","Sub DB",1,"шт.",null,"H6"]
["2CPX010728R9999","TZP312A","TZP312A захист від дотику 3PW 12GU",2171.64,"замовлення","4-6","Sub DB",1,"шт.",null,"H6"]
["2CPX010729R9999","TZP404A","TZP404A захист від дотику 4PW 4GU",1618.38,"замовлення","4-6","Sub DB",1,"шт.",null,"H6"]
["2CPX010730R9999","TZP405A","TZP405A захист від дотику 4PW 5GU",1707.4799999999998,"замовлення","4-6","Sub DB",1,"шт.",null,"H6"]
["2CPX010731R9999","TZP406A","TZP406A захист від дотику 4PW 6GU",1783.38,"замовлення","4-6","Sub DB",1,"шт.",null,"H6"]
["2CPX010732R9999","TZP407A","TZP407A захист від дотику 4PW 7GU",1857.4799999999998,"замовлення","4-6","Sub DB",1,"шт.",null,"H6"]
["2CPX010733R9999","TZP408A","TZP408A захист від дотику 4PW 8GU",1947.5399999999997,"замовлення","4-6","Sub DB",1,"шт.",null,"H6"]
["2CPX010734R9999","TZP409A","TZP409A захист від дотику 4PW 9GU",2022.5399999999997,"замовлення","4-6","Sub DB",1,"шт.",null,"H6"]
["2CPX010735R9999","TZP412A","TZP412A захист від дотику 4PW 12GU",2278.44,"замовлення","4-6","Sub DB",1,"шт.",null,"H6"]
["2CPX010736R9999","TZP504A","TZP504A захист від дотику 5PW 4GU",1738.38,"замовлення","4-6","Sub DB",1,"шт.",null,"H6"]
["2CPX010737R9999","TZP505A","TZP505A захист від дотику 5PW 5GU",1813.38,"замовлення","4-6","Sub DB",1,"шт.",null,"H6"]
["2CPX010738R9999","TZP506A","TZP506A захист від дотику 5PW 6GU",1887.4799999999998,"замовлення","4-6","Sub DB",1,"шт.",null,"H6"]
["2CPX010739R9999","TZP507A","TZP507A захист від дотику 5PW 7GU",1977.5399999999997,"замовлення","4-6","Sub DB",1,"шт.",null,"H6"]
["2CPX010740R9999","TZP508A","TZP508A захист від дотику 5PW 8GU",2053.38,"замовлення","4-6","Sub DB",1,"шт.",null,"H6"]
["2CPX010741R9999","TZP509A","TZP509A захист від дотику 5PW 9GU",2157.5399999999995,"замовлення","4-6","Sub DB",1,"шт.",null,"H6"]
["2CPX010742R9999","TZP512A","TZP512A захист від дотику 5PW 12GU",2396.64,"замовлення","4-6","Sub DB",1,"шт.",null,"H6"]
["2CPX010743R9999","TZP612A","TZP612A захист від дотику 6PW 12GU",2502.5399999999995,"замовлення","4-6","Sub DB",1,"шт.",null,"H6"]
["2CPX010744R9999","TZM104A","TZM104A монтажна плата 1PW 4GU",1330.68,"замовлення","4-6","Sub DB",1,"шт.",null,"H6"]
["2CPX010745R9999","TZM105A","TZM105A монтажна плата 1PW 5GU",1563.66,"замовлення","4-6","Sub DB",1,"шт.",null,"H6"]
["2CPX010746R9999","TZM106A","TZM106A монтажна плата 1PW 6GU",1786.0200000000002,"замовлення","4-6","Sub DB",1,"шт.",null,"H6"]
["2CPX010747R9999","TZM107A","TZM107A монтажна плата 1PW 7GU",2005.74,"замовлення","4-6","Sub DB",1,"шт.",null,"H6"]
["2CPX010748R9999","TZM108A","TZM108A монтажна плата 1PW 8GU",2205.1799999999998,"замовлення","4-6","Sub DB",1,"шт.",null,"H6"]
["2CPX010749R9999","TZM109A","TZM109A монтажна плата 1PW 9GU",2642.88,"замовлення","4-6","Sub DB",1,"шт.",null,"H6"]
["2CPX010750R9999","TZM204A","TZM204A монтажна плата 2PW 4GU",1723.38,"замовлення","4-6","Sub DB",1,"шт.",null,"H6"]
["2CPX010751R9999","TZM205A","TZM205A монтажна плата 2PW 5GU",1947.5399999999997,"замовлення","4-6","Sub DB",1,"шт.",null,"H6"]
["2CPX010752R9999","TZM206A","TZM206A монтажна плата 2PW 6GU",2216.64,"замовлення","4-6","Sub DB",1,"шт.",null,"H6"]
["2CPX010753R9999","TZM207A","TZM207A монтажна плата 2PW 7GU",2486.6999999999998,"замовлення","4-6","Sub DB",1,"шт.",null,"H6"]
["2CPX010754R9999","TZM208A","TZM208A монтажна плата 2PW 8GU",2756.7,"замовлення","4-6","Sub DB",1,"шт.",null,"H6"]
["2CPX010755R9999","TZM209A","TZM209A монтажна плата 2PW 9GU",3056.7,"замовлення","4-6","Sub DB",1,"шт.",null,"H6"]
["2CPX010756R9999","TZM304A","TZM304A монтажна плата 3PW 4GU",2337.5399999999995,"замовлення","4-6","Sub DB",1,"шт.",null,"H6"]
["2CPX010757R9999","TZM305A","TZM305A монтажна плата 3PW 5GU",2742.6,"замовлення","4-6","Sub DB",1,"шт.",null,"H6"]
["2CPX010758R9999","TZM306A","TZM306A монтажна плата 3PW 6GU",3086.7,"замовлення","4-6","Sub DB",1,"шт.",null,"H6"]
["2CPX010759R9999","TZM307A","TZM307A монтажна плата 3PW 7GU",3356.76,"замовлення","4-6","Sub DB",1,"шт.",null,"H6"]
["2CPX010760R9999","TZM308A","TZM308A монтажна плата 3PW 8GU",3775.92,"замовлення","4-6","Sub DB",1,"шт.",null,"H6"]
["2CPX010761R9999","TZM309A","TZM309A монтажна плата 3PW 9GU",4165.92,"замовлення","4-6","Sub DB",1,"шт.",null,"H6"]
["2CPX010762R9999","TZM404A","TZM404A монтажна плата 4PW 4GU",3356.76,"замовлення","4-6","Sub DB",1,"шт.",null,"H6"]
["2CPX010763R9999","TZM405A","TZM405A монтажна плата 4PW 5GU",3835.92,"замовлення","4-6","Sub DB",1,"шт.",null,"H6"]
["2CPX010764R9999","TZM406A","TZM406A монтажна плата 4PW 6GU",4105.0199999999995,"замовлення","4-6","Sub DB",1,"шт.",null,"H6"]
["2CPX010765R9999","TZM407A","TZM407A монтажна плата 4PW 7GU",4405.079999999999,"замовлення","4-6","Sub DB",1,"шт.",null,"H6"]
["2CPX010766R9999","TZM408A","TZM408A монтажна плата 4PW 8GU",4644.1799999999994,"замовлення","4-6","Sub DB",1,"шт.",null,"H6"]
["2CPX010767R9999","TZM409A","TZM409A монтажна плата 4PW 9GU",4945.1400000000003,"замовлення","4-6","Sub DB",1,"шт.",null,"H6"]
["2CPX010768R9999","TZM504A","TZM504A монтажна плата 5PW 4GU",4405.079999999999,"замовлення","4-6","Sub DB",1,"шт.",null,"H6"]
["2CPX010769R9999","TZM505A","TZM505A монтажна плата 5PW 5GU",4765.079999999999,"замовлення","4-6","Sub DB",1,"шт.",null,"H6"]
["2CPX010770R9999","TZM506A","TZM506A монтажна плата 5PW 6GU",5035.1400000000003,"замовлення","4-6","Sub DB",1,"шт.",null,"H6"]
["2CPX010771R9999","TZM507A","TZM507A монтажна плата 5PW 7GU",5334.24,"замовлення","4-6","Sub DB",1,"шт.",null,"H6"]
["2CPX010772R9999","TZM508A","TZM508A монтажна плата 5PW 8GU",5573.4,"замовлення","4-6","Sub DB",1,"шт.",null,"H6"]
["2CPX010773R9999","TZM509A","TZM509A монтажна плата 5PW 9GU",5813.4,"замовлення","4-6","Sub DB",1,"шт.",null,"H6"]
["2CPX010778R9999","TZ626","TZ626 Комплект з'єднання фланців IP55",327.36,"замовлення","4-6","Sub DB",1,"шт.",null,"H6"]
["2CPX010779R9999","TZ601","TZ601 Направляюча рами TwinLine-G 225мм",162.35999999999999,"замовлення","4-6","Sub DB",1,"шт.",null,"H6"]
["2CPX010780R9999","TZ602","TZ602 Направляюча рами TwinLine-L 275мм",184.43999999999997,"замовлення","4-6","Sub DB",1,"шт.",null,"H6"]
["2CPX010781R9999","TZ603","TZ603 Направляюча рами TwinLine-W 350мм",203.82,"замовлення","4-6","Sub DB",1,"шт.",null,"H6"]
["2CPX010782R9999","TZ604","TZ604 Центральний тримач WR/ED",253.26,"склад",1,"Sub DB",1,"шт.",null,"H6"]
["2CPX010783R9999","TZ605","TZ605 Лівий або правий тримач WR/ED",226.79999999999998,"склад",1,"Sub DB",1,"шт.",null,"H6"]
["2CPX010784R9999","TZ606","TZ606 Адаптер EDF до тримача",60,"замовлення","4-6","Sub DB",1,"шт.",null,"H6"]
["2CPX010785R9999","TZ315","TZ315 Рейка кабельна до TL, TW Ш5 1250мм",769.5,"замовлення","4-6","Sub DB",1,"шт.",null,"H6"]
["2CPX010786R9999","TZ316","TZ316 Рейка кабельна до TL, TW Ш6 1500мм",903.6,"замовлення","4-6","Sub DB",1,"шт.",null,"H6"]
["2CPX010787R9999","TZ601A","TZ601A Направляюча рами TwinLine-G 225мм",371.52000000000004,"замовлення","4-6","Sub DB",1,"шт.",null,"H6"]
["2CPX010788R9999","TZ602A","TZ602A Направляюча рами TwinLine-L 275мм",400.61999999999995,"замовлення","4-6","Sub DB",1,"шт.",null,"H6"]
["2CPX010789R9999","TZ603A","TZ603A Направляюча рами TwinLine-W 350мм",423.54,"замовлення","4-6","Sub DB",1,"шт.",null,"H6"]
["2CPX010790R9999","TZ604A","TZ604A Центральний тримач WR/ED",452.7,"замовлення","4-6","Sub DB",1,"шт.",null,"H6"]
["2CPX010791R9999","TZ605A","TZ605A Лівий або правий тримач WR/ED",417.36,"замовлення","4-6","Sub DB",1,"шт.",null,"H6"]
["2CPX010792R9999","TZ606A","TZ606A Адаптер EDF до тримача",144.72,"замовлення","4-6","Sub DB",1,"шт.",null,"H6"]
["2CPX010793R9999","TZ620","TZ620 З'єднувач шин 5-пол 12x5",1864.56,"замовлення","4-6","Sub DB",1,"шт.",null,"H6"]
["2CPX010794R9999","TZ621","TZ621 З'єднувач шин 5-пол2x12x5",2758.4399999999996,"замовлення","4-6","Sub DB",1,"шт.",null,"H6"]
["2CPX010795R9999","TZ610A","TZ610A Кришка PCII meter p. D=225-350",652.9799999999999,"замовлення","4-6","Sub DB",1,"шт.",null,"H6"]
["2CPX010796R9999","TZ612A","TZ612A Кришка D=225",175.61999999999998,"замовлення","4-6","Sub DB",1,"шт.",null,"H6"]
["2CPX010797R9999","TZ613A","TZ613A Кришка D=275",184.43999999999997,"замовлення","4-6","Sub DB",1,"шт.",null,"H6"]
["2CPX010798R9999","TZ614A","TZ614A Кришка D=350",193.26000000000002,"замовлення","4-6","Sub DB",1,"шт.",null,"H6"]
["2CPX010799R9999","TZ616A","TZ616A Монтажний комплект",752.69999999999993,"замовлення","4-6","Sub DB",1,"шт.",null,"H6"]
["2CPX010800R9999","TZ618A","TZ618A Захист від дотику",790.68,"замовлення","4-6","Sub DB",1,"шт.",null,"H6"]
["2CPX010801R9999","TZ619A","TZ619A Захист від дотику",886.8599999999999,"замовлення","4-6","Sub DB",1,"шт.",null,"H6"]
["2CPX010850R9999","TZ110","TZ110 Фланець",1216.8599999999999,"замовлення","4-6","Sub DB",1,"шт.",null,"H6"]
["2CPX010851R9999","TZ111","TZ111 Фланець",1345.68,"замовлення","4-6","Sub DB",1,"шт.",null,"H6"]
["2CPX010852R9999","TZ112","TZ112 Фланець",1120.6799999999998,"замовлення","4-6","Sub DB",1,"шт.",null,"H6"]
["2CPX010860R9999","TZT204","TZT204 прозора дверь 2PW 4GU",6083.46,"замовлення","4-6","Sub DB",1,"шт.",null,"H6"]
["2CPX010861R9999","TZT205","TZT205 прозора дверь 2PW 5GU",6683.52,"замовлення","4-6","Sub DB",1,"шт.",null,"H6"]
["2CPX010862R9999","TZT206","TZT206 прозора дверь 2PW 6GU",7820.94,"замовлення","4-6","Sub DB",1,"шт.",null,"H6"]
["2CPX010863R9999","TZT207","TZT207 прозора дверь 2PW 7GU",9769.32,"замовлення","4-6","Sub DB",1,"шт.",null,"H6"]
["2CPX010864R9999","TZT208","TZT208 прозора дверь 2PW 8GU",10608.539999999999,"замовлення","4-6","Sub DB",1,"шт.",null,"H6"]
["2CPX010865R9999","TZT209","TZT209 прозора дверь 2PW 9GU",11057.699999999999,"замовлення","4-6","Sub DB",1,"шт.",null,"H6"]
["2CPX010866R9999","TZT212","TZT212 прозора дверь 2PW 12GU",14233.5,"замовлення","4-6","Sub DB",1,"шт.",null,"H6"]
["2CPX010867R9999","TZT304","TZT304 прозора дверь 3PW 4GU",7431.7800000000007,"замовлення","4-6","Sub DB",1,"шт.",null,"H6"]
["2CPX010868R9999","TZT305","TZT305 прозора дверь 3PW 5GU",8060.94,"замовлення","4-6","Sub DB",1,"шт.",null,"H6"]
["2CPX010869R9999","TZT306","TZT306 прозора дверь 3PW 6GU",9260.159999999998,"замовлення","4-6","Sub DB",1,"шт.",null,"H6"]
["2CPX010870R9999","TZT307","TZT307 прозора дверь 3PW 7GU",11386.8,"замовлення","4-6","Sub DB",1,"шт.",null,"H6"]
["2CPX010871R9999","TZT308","TZT308 прозора дверь 3PW 8GU",12496.02,"замовлення","4-6","Sub DB",1,"шт.",null,"H6"]
["2CPX010872R9999","TZT309","TZT309 прозора дверь 3PW 9GU",13125.180000000002,"замовлення","4-6","Sub DB",1,"шт.",null,"H6"]
["2CPX010873R9999","TZT312","TZT312 прозора дверь 3PW 12GU",17410.259999999998,"замовлення","4-6","Sub DB",1,"шт.",null,"H6"]
["2CPX010874R9999","TZT204L","TZT204L прозора дверь 2PW 4GU le",4464.1799999999994,"замовлення","4-6","Sub DB",1,"шт.",null,"H6"]
["2CPX010875R9999","TZT204R","TZT204R прозора дверь 2PW 4GU ri",6083.46,"замовлення","4-6","Sub DB",1,"шт.",null,"H6"]
["2CPX010876R9999","TZT205L","TZT205L прозора дверь 2PW 5GU le",4914.24,"замовлення","4-6","Sub DB",1,"шт.",null,"H6"]
["2CPX010877R9999","TZT205R","TZT205R прозора дверь 2PW 5GU ri",6683.52,"замовлення","4-6","Sub DB",1,"шт.",null,"H6"]
["2CPX010878R9999","TZT206L","TZT206L прозора дверь 2PW 6GU le",5154.24,"замовлення","4-6","Sub DB",1,"шт.",null,"H6"]
["2CPX010879R9999","TZT206R","TZT206R прозора дверь 2PW 6GU ri",7820.94,"замовлення","4-6","Sub DB",1,"шт.",null,"H6"]
["2CPX010880R9999","TZT207L","TZT207L прозора дверь 2PW 7GU le",5394.24,"замовлення","4-6","Sub DB",1,"шт.",null,"H6"]
["2CPX010881R9999","TZT207R","TZT207R прозора дверь 2PW 7GU ri",9769.32,"замовлення","4-6","Sub DB",1,"шт.",null,"H6"]
["2CPX010882R9999","TZT208L","TZT208L прозора дверь 2PW 8GU le",5753.4,"замовлення","4-6","Sub DB",1,"шт.",null,"H6"]
["2CPX010883R9999","TZT208R","TZT208R прозора дверь 2PW 8GU ri",10608.539999999999,"замовлення","4-6","Sub DB",1,"шт.",null,"H6"]
["2CPX010884R9999","TZT209L","TZT209L прозора дверь 2PW 9GU le",6083.46,"замовлення","4-6","Sub DB",1,"шт.",null,"H6"]
["2CPX010885R9999","TZT209R","TZT209R прозора дверь 2PW 9GU ri",11057.699999999999,"замовлення","4-6","Sub DB",1,"шт.",null,"H6"]
["2CPX010886R9999","TZT212L","TZT212L прозора дверь 2PW 12GU le",6801.7199999999993,"замовлення","4-6","Sub DB",1,"шт.",null,"H6"]
["2CPX010887R9999","TZT212R","TZT212R прозора дверь 2PW 12GU ri",14233.5,"замовлення","4-6","Sub DB",1,"шт.",null,"H6"]
["2CPX010888R9999","TZT304L","TZT304L прозора дверь 3PW 4GU le",6143.46,"замовлення","4-6","Sub DB",1,"шт.",null,"H6"]
["2CPX010889R9999","TZT305L","TZT305L прозора дверь 3PW 5GU le",6742.62,"замовлення","4-6","Sub DB",1,"шт.",null,"H6"]
["2CPX010890R9999","TZT306L","TZT306L прозора дверь 3PW 6GU le",7130.8799999999992,"замовлення","4-6","Sub DB",1,"шт.",null,"H6"]
["2CPX010891R9999","TZT307L","TZT307L прозора дверь 3PW 7GU le",7820.94,"замовлення","4-6","Sub DB",1,"шт.",null,"H6"]
["2CPX010892R9999","TZT308L","TZT308L прозора дверь 3PW 8GU le",8930.159999999998,"замовлення","4-6","Sub DB",1,"шт.",null,"H6"]
["2CPX010893R9999","TZT309L","TZT309L прозора дверь 3PW 9GU le",9589.32,"замовлення","4-6","Sub DB",1,"шт.",null,"H6"]
["2CPX010894R9999","TZT312L","TZT312L прозора дверь 3PW 12GU le",10608.539999999999,"замовлення","4-6","Sub DB",1,"шт.",null,"H6"]
["2CPX010895R9999","TZT312R","TZT312R прозора дверь 3PW 12GU ri",17410.259999999998,"замовлення","4-6","Sub DB",1,"шт.",null,"H6"]
["2CPX010913R9999","ESAC2004","ESAC2004 Засувка до двері H=400мм",909.78,"замовлення","4-6","Sub DB",1,"шт.",null,"H6"]
["2CPX010914R9999","ESAC2006","ESAC2006 Шпінгалетна засувка H=600mm",1673.94,"замовлення","4-6","Sub DB",1,"шт.",null,"H6"]
["2CPX010915R9999","ESAC2008","ESAC2008 Шпінгалетна засувка H=800mm",1747.2,"замовлення","4-6","Sub DB",1,"шт.",null,"H6"]
["2CPX010916R9999","ESAC2010","ESAC2010 Шпінгалетна засувка H=1000mm",1826.64,"замовлення","4-6","Sub DB",1,"шт.",null,"H6"]
["2CPX010917R9999","ESAC2012","ESAC2012 Шпінгалетна засувка H=1200mm",1875.1799999999998,"замовлення","4-6","Sub DB",1,"шт.",null,"H6"]
["2CPX010918R9999","ESAC2014","ESAC2014 Шпінгалетна засувка H=1400mm",1928.1,"замовлення","4-6","Sub DB",1,"шт.",null,"H6"]
["2CPX010919R9999","ESAC2016","ESAC2016 Шпінгалетна засувка H=1600mm",1952.8200000000002,"замовлення","4-6","Sub DB",1,"шт.",null,"H6"]
["2CPX010920R9999","ESAC2018","ESAC2018 Шпінгалетна засувка H=1800mm",1976.6399999999999,"замовлення","4-6","Sub DB",1,"шт.",null,"H6"]
["2CPX010921R9999","ESAC2020","ESAC2020 Шпінгалетна засувка H=2000mm",2030.46,"замовлення","4-6","Sub DB",1,"шт.",null,"H6"]
["2CPX010927R9999","TZ518","TZ518 Пластина засувки",225,"замовлення","4-6","Sub DB",1,"шт.",null,"H6"]
["2CPX010929R9999","TZ630P10","TZ630P10 Шпилька",401.52000000000004,"замовлення","4-6","Sub DB",1,"шт.",null,"H6"]
["2CPX010930R9999","TZ631P10","TZ631P10 Шпилька",477.41999999999996,"замовлення","4-6","Sub DB",1,"шт.",null,"H6"]
["2CPX010931R9999","TZ632P10","TZ632P10 Шпилька",401.52000000000004,"замовлення","4-6","Sub DB",1,"шт.",null,"H6"]
["2CPX010940R9999","TZM112","TZM112 монтажна плата 1PW 12GU",3086.7,"замовлення","4-6","Sub DB",1,"шт.",null,"H6"]
["2CPX010941R9999","TZM212","TZM212 монтажна плата 2PW 12GU",3685.92,"замовлення","4-6","Sub DB",1,"шт.",null,"H6"]
["2CPX010942R9999","TZM312","TZM312 монтажна плата 3PW 12GU",4855.079999999999,"замовлення","4-6","Sub DB",1,"шт.",null,"H6"]
["2CPX010943R9999","TZM112","TZM112 монтажна плата 1PW 12GU",5663.4,"замовлення","4-6","Sub DB",1,"шт.",null,"H6"]
["2CPX034473R9999","GM20","GM20 Монтажна плата 2x4 панелей G,C,B",1221.3,"замовлення","4-6","Sub DB",1,"шт.",null,"H6"]
["2CPX034474R9999","GM30","GM30 Монтажна плата 3x4 панелей G,C,B",2166.3599999999997,"замовлення","4-6","Sub DB",1,"шт.",null,"H6"]
["2CPX034475R9999","GM40","GM40 Монтажна плата 4x4 панелей G,C,B",2352.5399999999995,"замовлення","4-6","Sub DB",1,"шт.",null,"H6"]
["2CPX034476R9999","GM50","GM50 Монтажна плата 5x4 панелей G,C,B",3515.5799999999995,"замовлення","4-6","Sub DB",1,"шт.",null,"H6"]
["2CPX034482R9999","GM12","GM12 Монтажна плата 1x6 панелей G,C,B",1068.5999999999999,"замовлення","4-6","Sub DB",1,"шт.",null,"H6"]
["2CPX034483R9999","GM22","GM22 Монтажна плата 2x6 панелей G,C,B",1688.1,"замовлення","4-6","Sub DB",1,"шт.",null,"H6"]
["2CPX034484R9999","GM32","GM32 Монтажна плата 3x6 панелей G,C,B",2473.4399999999996,"замовлення","4-6","Sub DB",1,"шт.",null,"H6"]
["2CPX034485R9999","GM42","GM42 Монтажна плата 4x6 панелей G,C,B",2654.3399999999997,"замовлення","4-6","Sub DB",1,"шт.",null,"H6"]
["2CPX034486R9999","GM52","GM52 Монтажна плата 5x6 панелей G,C,B",3645.2999999999997,"замовлення","4-6","Sub DB",1,"шт.",null,"H6"]
["2CPX034488R9999","GM24","GM24 Монтажна плата 2x8 панелей G,C,B",2232.5399999999995,"замовлення","4-6","Sub DB",1,"шт.",null,"H6"]
["2CPX034489R9999","GM34","GM34 Монтажна плата 3x8 панелей G,C,B",3071.7,"замовлення","4-6","Sub DB",1,"шт.",null,"H6"]
["2CPX034490R9999","GM44","GM44 Монтажна плата 4x8 панелей G,C,B",3276.4200000000005,"замовлення","4-6","Sub DB",1,"шт.",null,"H6"]
["2CPX034491R9999","GM54","GM54 Монтажна плата 5x8 панелей G,C,B",5966.0999999999995,"замовлення","4-6","Sub DB",1,"шт.",null,"H6"]
["2CPX034493R9999","GM25","GM25 Монтажна плата 2x9 панелей G,C,B",2623.4399999999996,"замовлення","4-6","Sub DB",1,"шт.",null,"H6"]
["2CPX034494R9999","GM35","GM35 Монтажна плата 3x9 панелей G,C,B",4580.7,"замовлення","4-6","Sub DB",1,"шт.",null,"H6"]
["2CPX034495R9999","GM45","GM45 Монтажна плата 4x9 панелей G,C,B",5927.28,"замовлення","4-6","Sub DB",1,"шт.",null,"H6"]
["2CPX034496R9999","GM55","GM55 Монтажна плата 5x9 панелей G,C,B",6066.66,"замовлення","4-6","Sub DB",1,"шт.",null,"H6"]
["2CPX034801R9999","WR18","WR18 Монтажна рама Ш1",1803.66,"замовлення","4-6","Sub DB",1,"шт.",null,"H6"]
["2CPX034802R9999","WR28","WR28 Монтажна рама Ш2",1842.4799999999998,"замовлення","4-6","Sub DB",1,"шт.",null,"H6"]
["2CPX034803R9999","WR38","WR38 Монтажна рама Ш3",1889.28,"замовлення","4-6","Sub DB",1,"шт.",null,"H6"]
["2CPX034804R9999","WR48","WR48 Монтажна рама Ш4",1989.8399999999997,"замовлення","4-6","Sub DB",1,"шт.",null,"H6"]
["2CPX036003R9999","3/0A","3/0A Шафа навісна IP43",6531.7199999999993,"замовлення","4-6","Sub DB",1,"шт.",null,"H6"]
["2CPX036004R9999","4/0A","4/0A Шафа навісна IP43",7998.2999999999993,"замовлення","4-6","Sub DB",1,"шт.",null,"H6"]
["2CPX036005R9999","5/0A","5/0A Шафа навісна IP43",9429.6,"замовлення","4-6","Sub DB",1,"шт.",null,"H6"]
["2CPX036012R9999","2/1A","2/1A Шафа навісна IP43",5027.16,"замовлення","4-6","Sub DB",1,"шт.",null,"H6"]
["2CPX036013R9999","3/1A","3/1A Шафа навісна IP43",6587.2800000000007,"замовлення","4-6","Sub DB",1,"шт.",null,"H6"]
["2CPX036014R9999","4/1A","4/1A Шафа навісна IP43",8111.2800000000007,"замовлення","4-6","Sub DB",1,"шт.",null,"H6"]
["2CPX036015R9999","5/1A","5/1A Шафа навісна IP43",9895.5,"замовлення","4-6","Sub DB",1,"шт.",null,"H6"]
["2CPX036021R9999","1/2A","1/2A Шафа навісна IP43",4113.8399999999992,"замовлення","4-6","Sub DB",1,"шт.",null,"H6"]
["2CPX036022R9999","2/2A","2/2A Шафа навісна IP43",5055.42,"замовлення","4-6","Sub DB",1,"шт.",null,"H6"]
["2CPX036023R9999","3/2A","3/2A Шафа навісна IP43",6590.8200000000006,"замовлення","4-6","Sub DB",1,"шт.",null,"H6"]
["2CPX036024R9999","4/2A","4/2A Шафа навісна IP43",8322.1799999999985,"замовлення","4-6","Sub DB",1,"шт.",null,"H6"]
["2CPX036025R9999","5/2A","5/2A Шафа навісна IP43",9546.06,"замовлення","4-6","Sub DB",1,"шт.",null,"H6"]
["2CPX036031R9999","1/3A","1/3A Шафа навісна IP43",4458,"замовлення","4-6","Sub DB",1,"шт.","див. закладку \"Акційне обладнання\"","H6"]
["2CPX036032R9999","2/3A","2/3A Шафа навісна IP43",5713.6799999999994,"замовлення","4-6","Sub DB",1,"шт.",null,"H6"]
["2CPX036033R9999","3/3A","3/3A Шафа навісна IP43",7400.8799999999992,"замовлення","4-6","Sub DB",1,"шт.",null,"H6"]
["2CPX036034R9999","4/3A","4/3A Шафа навісна IP43",9100.4399999999987,"замовлення","4-6","Sub DB",1,"шт.",null,"H6"]
["2CPX036035R9999","5/3A","5/3A Шафа навісна IP43",10957.08,"замовлення","4-6","Sub DB",1,"шт.",null,"H6"]
["2CPX036041R9999","1/4A","1/4A Шафа навісна IP43",4807.4399999999996,"замовлення","4-6","Sub DB",1,"шт.",null,"H6"]
["2CPX036042R9999","2/4A","2/4A Шафа навісна IP43",6135.4800000000005,"замовлення","4-6","Sub DB",1,"шт.",null,"H6"]
["2CPX036043R9999","3/4A","3/4A Шафа навісна IP43",7800.6599999999989,"замовлення","4-6","Sub DB",1,"шт.",null,"H6"]
["2CPX036044R9999","4/4A","4/4A Шафа навісна IP43",9415.5,"замовлення","4-6","Sub DB",1,"шт.",null,"H6"]
["2CPX036045R9999","5/4A","5/4A Шафа навісна IP43",11252.699999999999,"замовлення","4-6","Sub DB",1,"шт.",null,"H6"]
["2CPX036051R9999","1/5A","1/5A Шафа навісна IP43",4966.3200000000006,"замовлення","4-6","Sub DB",1,"шт.",null,"H6"]
["2CPX036052R9999","2/5A","2/5A Шафа навісна IP43",6335.8200000000006,"замовлення","4-6","Sub DB",1,"шт.",null,"H6"]
["2CPX036053R9999","3/5A","3/5A Шафа навісна IP43",8001.84,"замовлення","4-6","Sub DB",1,"шт.",null,"H6"]
["2CPX036054R9999","4/5A","4/5A Шафа навісна IP43",9442.8599999999988,"замовлення","4-6","Sub DB",1,"шт.",null,"H6"]
["2CPX036055R9999","5/5A","5/5A Шафа навісна IP43",11651.52,"замовлення","4-6","Sub DB",1,"шт.",null,"H6"]
["2CPX036063R9999","3/00A","3/00A Шафа навісна IP43",6282.9,"замовлення","4-6","Sub DB",1,"шт.",null,"H6"]
["2CPX036064R9999","4/00A","4/00A Шафа навісна IP43",7621.5,"замовлення","4-6","Sub DB",1,"шт.",null,"H6"]
["2CPX036065R9999","5/00A","5/00A Шафа навісна IP43",8656.6200000000008,"замовлення","4-6","Sub DB",1,"шт.",null,"H6"]
["2CPX036212R9999","2/1U","2/1U Шафа вбудована IP31",9208.1400000000012,"замовлення","4-6","Sub DB",1,"шт.",null,"H6"]
["2CPX036213R9999","3/1U","3/1U Шафа вбудована IP31",13047.54,"замовлення","4-6","Sub DB",1,"шт.",null,"H6"]
["2CPX036214R9999","4/1U","4/1U Шафа вбудована IP31",15261.54,"замовлення","4-6","Sub DB",1,"шт.",null,"H6"]
["2CPX036221R9999","1/2U","1/2U Шафа вбудована IP31",10094.94,"замовлення","4-6","Sub DB",1,"шт.",null,"H6"]
["2CPX036222R9999","2/2U","2/2U Шафа вбудована IP31",10769.1,"замовлення","4-6","Sub DB",1,"шт.",null,"H6"]
["2CPX036223R9999","3/2U","3/2U Шафа вбудована IP31",11986.859999999999,"замовлення","4-6","Sub DB",1,"шт.",null,"H6"]
["2CPX036224R9999","4/2U","4/2U Шафа вбудована IP31",20987.64,"замовлення","4-6","Sub DB",1,"шт.",null,"H6"]
["2CPX036225R9999","5/2U","5/2U Шафа вбудована IP31",28407.899999999998,"замовлення","4-6","Sub DB",1,"шт.",null,"H6"]
["2CPX036231R9999","1/3U","1/3U Шафа вбудована IP31",10530.84,"замовлення","4-6","Sub DB",1,"шт.",null,"H6"]
["2CPX036232R9999","2/3U","2/3U Шафа вбудована IP31",11179.44,"замовлення","4-6","Sub DB",1,"шт.",null,"H6"]
["2CPX036233R9999","3/3U","3/3U Шафа вбудована IP31",16491.66,"замовлення","4-6","Sub DB",1,"шт.",null,"H6"]
["2CPX036234R9999","4/3U","4/3U Шафа вбудована IP31",17796.780000000002,"замовлення","4-6","Sub DB",1,"шт.",null,"H6"]
["2CPX036235R9999","5/3U","5/3U Шафа вбудована IP31",19127.46,"замовлення","4-6","Sub DB",1,"шт.",null,"H6"]
["2CPX036241R9999","1/4U","1/4U Шафа вбудована IP31",10568.82,"замовлення","4-6","Sub DB",1,"шт.",null,"H6"]
["2CPX036242R9999","2/4U","2/4U Шафа вбудована IP31",11534.159999999998,"замовлення","4-6","Sub DB",1,"шт.",null,"H6"]
["2CPX036243R9999","3/4U","3/4U Шафа вбудована IP31",17323.8,"замовлення","4-6","Sub DB",1,"шт.",null,"H6"]
["2CPX036244R9999","4/4U","4/4U Шафа вбудована IP31",18848.64,"замовлення","4-6","Sub DB",1,"шт.",null,"H6"]
["2CPX036245R9999","5/4U","5/4U Шафа вбудована IP31",19526.339999999997,"замовлення","4-6","Sub DB",1,"шт.",null,"H6"]
["2CPX036251R9999","1/5U","1/5U Шафа вбудована IP31",10991.52,"замовлення","4-6","Sub DB",1,"шт.",null,"H6"]
["2CPX036252R9999","2/5U","2/5U Шафа вбудована IP31",13034.28,"замовлення","4-6","Sub DB",1,"шт.",null,"H6"]
["2CPX036253R9999","3/5U","3/5U Шафа вбудована IP31",17659.98,"замовлення","4-6","Sub DB",1,"шт.",null,"H6"]
["2CPX036254R9999","4/5U","4/5U Шафа вбудована IP31",19297.740000000002,"замовлення","4-6","Sub DB",1,"шт.",null,"H6"]
["2CPX036255R9999","5/5U","5/5U Шафа вбудована IP31",20744.04,"замовлення","4-6","Sub DB",1,"шт.",null,"H6"]
["2CPX038181R9999","ZB101","ZB101 Фланець AT/A/B ",500.34,"замовлення","4-6","Sub DB",1,"шт.",null,"H6"]
["2CPX038183R9999","ZB43","ZB43 Мембранний фланець для A / B",741.24,"замовлення","4-6","Sub DB",1,"шт.",null,"H6"]
["2CPX038187R9999","ZB19","ZB19 Покриття до шини 12х5, 12х10",234.71999999999997,"замовлення","4-6","Sub DB",1,"шт.",null,"H6"]
["2CPX038194R9999","ZB39","ZB39 Ніпельний фланець",148.26000000000002,"замовлення","4-6","Sub DB",1,"шт.",null,"H6"]
["2CPX038195R9999","ZB40","ZB40 Ніпельний фланець для A / B",118.26,"замовлення","4-6","Sub DB",1,"шт.",null,"H6"]
["2CPX038227R9999","ZA6","ZA6 Карман для схем A4",506.52,"замовлення","4-6","Sub DB",1,"шт.",null,"H6"]
["2CPX038228R9999","ZA5","ZA5 Карман для схем A5",361.8,"замовлення","4-6","Sub DB",1,"шт.",null,"H6"]
["2CPX038230R9999","ZA11","ZA11 Маркування",240,"замовлення","4-6","Sub DB",1,"шт.",null,"H6"]
["2CPX038231R9999","ZA2","ZA2 Заглушка 1000 мм",255.89999999999998,"замовлення","4-6","Sub DB",1,"шт.",null,"H6"]
["2CPX038233R9999","ZA13","ZA13 Карман для схем A4",487.08000000000004,"замовлення","4-6","Sub DB",1,"шт.",null,"H6"]
["2CPX038241R9999","ZA10","ZA10 Маркування",220.62000000000003,"замовлення","4-6","Sub DB",1,"шт.",null,"H6"]
["2CPX038242R9999","ZA12","ZA12 Маркування",186.18,"замовлення","4-6","Sub DB",1,"шт.",null,"H6"]
["2CPX038246R9999","ZA14","ZA14 Маркування обліку     ",45,"замовлення","4-6","Sub DB",1,"шт.",null,"H6"]
["2CPX038458R9999","ZA71","ZA71 Маркування домедной шини      ",82.919999999999987,"замовлення","4-6","Sub DB",1,"шт.",null,"H6"]
["2CPX038459R9999","ZB5","ZB5 Шинотримач         ",419.16,"замовлення","4-6","Sub DB",1,"шт.","див. закладку \"Акційне обладнання\"","H6"]
["2CPX038471R9999","ZA123","Суппорт для кармана для документации",1070.3999999999999,"замовлення","4-6","Sub DB",1,"шт.",null,"H6"]
["2CPX038472R9999","ZA125","Суппорт для кармана для документации",1050.9599999999998,"замовлення","4-6","Sub DB",1,"шт.",null,"H6"]
["2CPX038478R9999","ZB113","Замок стандартный        ",317.7,"замовлення","4-6","Sub DB",1,"шт.",null,"H6"]
["2CPX038479R9999","ZB111","Замок с двумя ключами      ",405.06,"замовлення","4-6","Sub DB",1,"шт.",null,"H6"]
["2CPX039021R9999","ZX21","DIN рейка 35х7,5 Ш1 240мм",106.8,"замовлення","4-6","Sub DB",1,"шт.",null,"H6"]
["2CPX039022R9999","ZX22","DIN рейка 35х7,5 Ш2 490мм",159.72,"замовлення","4-6","Sub DB",1,"шт.",null,"H6"]
["2CPX039031R9999","ZX31","U-профіль Ш1. 2 Блок-рубильника      ",661.8,"замовлення","4-6","Sub DB",1,"шт.",null,"H6"]
["2CPX039034R9999","ZX34","U-профіль Ш2. 4 Блок-рубильника      ",913.32,"замовлення","4-6","Sub DB",1,"шт.",null,"H6"]
["2CPX039050R9999","ZX50","Ізолятор M6 30x30 мм.      ",255.89999999999998,"замовлення","4-6","Sub DB",1,"шт.",null,"H6"]
["2CPX039051R9999","ZX51","Ізолятор M8 30x30 мм.      ",260.33999999999997,"замовлення","4-6","Sub DB",1,"шт.",null,"H6"]
["2CPX039052R9999","ZX52","Ізолятор M10 40x40 мм.      ",377.7,"замовлення","4-6","Sub DB",1,"шт.",null,"H6"]
["2CPX039053R9999","ZX53","Ізолятор M12 60x50 мм.      ",600.05999999999995,"замовлення","4-6","Sub DB",1,"шт.",null,"H6"]
["2CPX039054R9999","ZX54","Ізолятор M12 50x40 мм.      ",743.88,"замовлення","4-6","Sub DB",1,"шт.",null,"H6"]
["2CPX039091R9999","ZX91","Шинний з'єднувач 5пол. 250A для шини 12х5мм   ",812.69999999999993,"замовлення","4-6","Sub DB",1,"шт.",null,"H6"]
["2CPX039100R9999","ZX100","Тримач для шини 12х5 и 10мм   ",300,"замовлення","4-6","Sub DB",1,"шт.",null,"H6"]
["2CPX039106R9999","ZX106","Шинний з'єднувач 5 пол. 355A для шини 12х5 и 10мм",1498.3799999999999,"замовлення","4-6","Sub DB",1,"шт.",null,"H6"]
["2CPX039110R9999","ZX110","Шинний з'єднувач",634.43999999999994,"замовлення","4-6","Sub DB",1,"шт.",null,"H6"]
["2CPX039121R9999","ZB1","Тримач для шини 12х5мм   ",122.64,"замовлення","4-6","Sub DB",1,"шт.",null,"H6"]
["2CPX039131R9999","ZX131","Комплект з'єднання шаф",361.8,"замовлення","4-6","Sub DB",1,"шт.",null,"H6"]
["2CPX039192R9999","ZX455","Ізоляційна рамка для з'єднання шафа-шафа А бокова",437.7,"замовлення","4-6","Sub DB",1,"шт.",null,"H6"]
["2CPX039199R9999","ZX454","Ізоляційна рамка для з'єднання шафа-шафа А зверху/знизу",437.7,"замовлення","4-6","Sub DB",1,"шт.",null,"H6"]
["2CPX039207R9999","ZW209","WR профіль Ш1",180.9,"замовлення","4-6","Sub DB",1,"шт.",null,"H6"]
["2CPX039208R9999","ED8","ED8 EDF-профіль В000 300 мм",303.54000000000002,"замовлення","4-6","Sub DB",1,"шт.",null,"H6"]
["2CPX039209R9999","ED9","ED9 EDF-профіль В00 450 мм",338.87999999999994,"склад",1,"Sub DB",1,"шт.",null,"H6"]
["2CPX039210R9999","ED10","ED10 EDF-профіль В0 600 мм",372.36,"склад",1,"Sub DB",1,"шт.",null,"H6"]
["2CPX039211R9999","ED11","ED11 EDF-профіль В1 750 мм",415.61999999999995,"склад",1,"Sub DB",1,"шт.",null,"H6"]
["2CPX039212R9999","ED12","ED12 EDF-профіль В2 900 мм",450.06,"склад",1,"Sub DB",1,"шт.",null,"H6"]
["2CPX039213R9999","ED13","ED13 EDF-профіль В3 1050 мм",501.24,"склад",1,"Sub DB",1,"шт.",null,"H6"]
["2CPX039214R9999","ED14","ED14 EDF-профіль В4 1200 мм",594.78,"склад",1,"Sub DB",1,"шт.",null,"H6"]
["2CPX039215R9999","ED15","ED15 EDF-профіль В5 1350 мм",686.52,"склад",1,"Sub DB",1,"шт.",null,"H6"]
["2CPX039216R9999","ED18","ED18 EDF-профіль В8 1800 мм",880.68,"склад",1,"Sub DB",1,"шт.",null,"H6"]
["2CPX039218R9999","ED20","ED20 EDF-профіль В10 2100 мм",998.87999999999988,"замовлення","4-6","Sub DB",1,"шт.",null,"H6"]
["2CPX039251R9999","ED51","ED51 DIN рейка Ш1 196 мм",127.08,"замовлення","4-6","Sub DB",1,"шт.",null,"H6"]
["2CPX039252R9999","ED52","ED52 DIN рейка Ш2 446 мм",153.54,"замовлення","4-6","Sub DB",1,"шт.",null,"H6"]
["2CPX039253R9999","ED53","ED53 DIN рейка Ш3 696 мм",187.97999999999996,"замовлення","4-6","Sub DB",1,"шт.",null,"H6"]
["2CPX039254R9999","ED54","ED54 DIN рейка Ш4 946 мм",236.52,"замовлення","4-6","Sub DB",1,"шт.",null,"H6"]
["2CPX039309R9999","ED47","ED47 Кришка для ED44/45 1 м",262.97999999999996,"замовлення","4-6","Sub DB",1,"шт.",null,"H6"]
["2CPX039311R9999","ED161","ED161 Монтажна плата до авт вим T1,T2",991.8599999999999,"замовлення","4-6","Sub DB",1,"шт.",null,"H6"]
["2CPX039321R9999","ED111","ED111 Торцевий ізолятор до шини ",132.35999999999999,"замовлення","4-6","Sub DB",1,"шт.",null,"H6"]
["2CPX039381R9999","ED1","ED1 DIN рейка Ш1 35x15 мм",130.61999999999998,"замовлення","4-6","Sub DB",1,"шт.",null,"H6"]
["2CPX039382R9999","ED2","ED2 DIN рейка Ш2 35x15 мм",132.35999999999999,"склад",1,"Sub DB",1,"шт.",null,"H6"]
["2CPX039383R9999","ED3","ED3 DIN рейка Ш3 35x15 мм",162.35999999999999,"склад",1,"Sub DB",1,"шт.",null,"H6"]
["2CPX039384R9999","ED4","ED4 DIN рейка Ш4 35x15 мм",195,"замовлення","4-6","Sub DB",1,"шт.",null,"H6"]
["2CPX039386R9999","ED6","ED6 DIN рейка 35x15x2000мм",401.52000000000004,"склад",1,"Sub DB",1,"шт.",null,"H6"]
["2CPX039411R9999","ZW11","ZW11 Поперечний профіль Ш1",243.54000000000002,"замовлення","4-6","Sub DB",1,"шт.",null,"H6"]
["2CPX039412R9999","ZW12","ZW12 Поперечний профіль Ш2",289.44,"замовлення","4-6","Sub DB",1,"шт.",null,"H6"]
["2CPX039413R9999","ZW13","ZW13 Поперечний профіль Ш3",374.16,"замовлення","4-6","Sub DB",1,"шт.",null,"H6"]
["2CPX039414R9999","ZW14","ZW14 Поперечний профіль Ш4",462.41999999999996,"замовлення","4-6","Sub DB",1,"шт.",null,"H6"]
["2CPX039416R9999","ZW16","ZW16 Поперечний профіль Ш1",400.61999999999995,"замовлення","4-6","Sub DB",1,"шт.",null,"H6"]
["2CPX039417R9999","ZW17","ZW17 Поперечний профіль Ш2",533.88,"замовлення","4-6","Sub DB",1,"шт.",null,"H6"]
["2CPX039418R9999","ZW18","ZW18 Поперечний профіль Ш3",734.16,"замовлення","4-6","Sub DB",1,"шт.",null,"H6"]
["2CPX039419R9999","ZW19","ZW19 Поперечний профіль Ш4",923.87999999999988,"замовлення","4-6","Sub DB",1,"шт.",null,"H6"]
["2CPX039441R9999","ZW41","ZW41 Центральна рейка Ш1",405.06,"замовлення","4-6","Sub DB",1,"шт.",null,"H6"]
["2CPX039442R9999","ZW42","ZW42 Центральна рейка Ш2",392.7,"замовлення","4-6","Sub DB",1,"шт.",null,"H6"]
["2CPX039443R9999","ZW43","ZW43 Центральна рейка Ш3",504.72,"замовлення","4-6","Sub DB",1,"шт.",null,"H6"]
["2CPX039444R9999","ZW44","ZW44 Центральна рейка Ш4",596.52,"замовлення","4-6","Sub DB",1,"шт.",null,"H6"]
["2CPX039446R9999","ZW46","ZW46 Опорна рейка Ш2",342.36,"замовлення","4-6","Sub DB",1,"шт.",null,"H6"]
["2CPX039447R9999","ZW47","ZW47 Опорна рейка Ш3",403.25999999999993,"замовлення","4-6","Sub DB",1,"шт.",null,"H6"]
["2CPX039448R9999","ZW48","ZW48 Опорна рейка Ш4",476.52,"замовлення","4-6","Sub DB",1,"шт.",null,"H6"]
["2CPX039455R9999","ZW159","ZW159 Траверса для NH1/2 Ш2",1797.4799999999998,"замовлення","4-6","Sub DB",1,"шт.",null,"H6"]
["2CPX039456R9999","ZW160","ZW160 Траверса для NH1/2 Ш3",2188.44,"замовлення","4-6","Sub DB",1,"шт.",null,"H6"]
["2CPX039458R9999","ZW162","ZW162 Траверса для NH00х6 Ш3",1185.9599999999998,"замовлення","4-6","Sub DB",1,"шт.",null,"H6"]
["2CPX039459R9999","ZW50","ZW50 Опорна рейка Ш1 W/WS",230.33999999999997,"замовлення","4-6","Sub DB",1,"шт.",null,"H6"]
["2CPX039462R9999","ZW62","ZW62 Закладна гайка M8 до WR рами",38.82,"замовлення","4-6","Sub DB",1,"шт.",null,"H6"]
["2CPX039464R9999","ZW64","ZW64 Монтажна скоба до WR рами",90,"замовлення","4-6","Sub DB",1,"шт.",null,"H6"]
["2CPX039541R9999","ZX469","ZX469 Секціонування внутрішне В00",506.52,"замовлення","4-6","Sub DB",1,"шт.",null,"H6"]
["2CPX039542R9999","ZX470","ZX470 Секціонування внутрішне В0    ",566.52,"замовлення","4-6","Sub DB",1,"шт.",null,"H6"]
["2CPX039543R9999","ZX471","ZX471 Секціонування внутрішне В1",728.88,"замовлення","4-6","Sub DB",1,"шт.",null,"H6"]
["2CPX039544R9999","ZX472","ZX472 Секціонування внутрішне В2   ",886.8599999999999,"замовлення","4-6","Sub DB",1,"шт.",null,"H6"]
["2CPX039545R9999","ZX473","ZX473 Секціонування внутрішне В3",1043.8799999999999,"замовлення","4-6","Sub DB",1,"шт.",null,"H6"]
["2CPX039546R9999","ZX474","ZX474 Секціонування внутрішне В4  ",1215.1199999999999,"замовлення","4-6","Sub DB",1,"шт.",null,"H6"]
["2CPX039547R9999","ZX475","ZX475 Секціонування внутрішне В5 ",1402.2,"замовлення","4-6","Sub DB",1,"шт.",null,"H6"]
["2CPX039549R9999","ZX479","ZX479 Секціонування внутрішне В00",605.33999999999992,"замовлення","4-6","Sub DB",1,"шт.",null,"H6"]
["2CPX039550R9999","ZX480","ZX480 Секціонування внутрішне В0",775.68,"замовлення","4-6","Sub DB",1,"шт.",null,"H6"]
["2CPX039551R9999","ZX481","ZX481 Секціонування внутрішне В1",938.87999999999988,"замовлення","4-6","Sub DB",1,"шт.",null,"H6"]
["2CPX039552R9999","ZX482","ZX482 Секціонування внутрішне В2",1098.5999999999999,"замовлення","4-6","Sub DB",1,"шт.",null,"H6"]
["2CPX039553R9999","ZX483","ZX483 Секціонування внутрішне В3",1281.3,"замовлення","4-6","Sub DB",1,"шт.",null,"H6"]
["2CPX039554R9999","ZX484","ZX484 Секціонування внутрішне В4",1450.68,"замовлення","4-6","Sub DB",1,"шт.",null,"H6"]
["2CPX039555R9999","ZX485","ZX485 Секціонування внутрішне В5",1636.9199999999998,"замовлення","4-6","Sub DB",1,"шт.",null,"H6"]
["2CPX039563R9999","ZX497","ZX497 Секціонування внутрішне Ш1",717.41999999999985,"замовлення","4-6","Sub DB",1,"шт.",null,"H6"]
["2CPX039564R9999","ZX498","ZX498 Секціонування внутрішне Ш2",1028.8799999999999,"замовлення","4-6","Sub DB",1,"шт.",null,"H6"]
["2CPX039567R9999","ZX502","ZX502 Секціонування внутрішне Ш1 ",717.41999999999985,"замовлення","4-6","Sub DB",1,"шт.",null,"H6"]
["2CPX039568R9999","ZX503","ZX503 Секціонування внутрішне Ш2   ",1028.8799999999999,"замовлення","4-6","Sub DB",1,"шт.",null,"H6"]
["2CPX039570R9999","ZX440","ZX440 Шпінгалетний замок В0",632.69999999999993,"замовлення","4-6","Sub DB",1,"шт.",null,"H6"]
["2CPX039571R9999","ZX441","ZX441 Шпінгалетний замок В1",646.79999999999995,"замовлення","4-6","Sub DB",1,"шт.",null,"H6"]
["2CPX039572R9999","ZX442","ZX442 Шпінгалетний замок В2",656.52,"замовлення","4-6","Sub DB",1,"шт.",null,"H6"]
["2CPX039573R9999","ZX443","ZX443 Шпінгалетний замок В3",671.52,"замовлення","4-6","Sub DB",1,"шт.",null,"H6"]
["2CPX039574R9999","ZX444","ZX444 Шпінгалетний замок В4",674.16,"замовлення","4-6","Sub DB",1,"шт.",null,"H6"]
["2CPX039575R9999","ZX445","ZX445 Шпінгалетний замок В5",686.52,"замовлення","4-6","Sub DB",1,"шт.",null,"H6"]
["2CPX039586R9999","ZX456","ZX456 Шпінгалетний замок В0",632.69999999999993,"замовлення","4-6","Sub DB",1,"шт.",null,"H6"]
["2CPX039587R9999","ZX457","ZX457 Шпінгалетний замок В1",646.79999999999995,"замовлення","4-6","Sub DB",1,"шт.",null,"H6"]
["2CPX039588R9999","ZX458","ZX458 Шпінгалетний замок В2",656.52,"замовлення","4-6","Sub DB",1,"шт.",null,"H6"]
["2CPX039589R9999","ZX459","ZX459 Шпінгалетний замок В3",671.52,"замовлення","4-6","Sub DB",1,"шт.",null,"H6"]
["2CPX039590R9999","ZX460","ZX460 Шпінгалетний замок В4",680.34,"замовлення","4-6","Sub DB",1,"шт.",null,"H6"]
["2CPX039591R9999","ZX461","ZX461 Шпінгалетний замок В5       ",698.88,"замовлення","4-6","Sub DB",1,"шт.",null,"H6"]
["2CPX039596R9999","ZX464","ZX464 дверний засув червоний     ",78.540000000000006,"замовлення","4-6","Sub DB",1,"шт.",null,"H6"]
["2CPX041632R9999","MBK106K","MBK106K Клемний модуль з регул глибини",1054.5,"замовлення","4-6","Sub DB",1,"шт.",null,"H6"]
["2CPX041633R9999","MBK206K","MBK206K Клемний модуль з регул глибини",1528.3799999999999,"замовлення","4-6","Sub DB",1,"шт.",null,"H6"]
["2CPX041634R9999","MBK107K","MBK107K Клемний модуль з регул глибини",1328.04,"замовлення","4-6","Sub DB",1,"шт.",null,"H6"]
["2CPX041635R9999","MBK207K","MBK207K Клемний модуль з регул глибини",2022.5399999999997,"замовлення","4-6","Sub DB",1,"шт.",null,"H6"]
["2CPX041636R9999","MBK108K","MBK108K Клемний модуль з регул глибини",1768.38,"замовлення","4-6","Sub DB",1,"шт.",null,"H6"]
["2CPX041640R9999","MBM112K","MBM112K Модуль з монтажною платою",1603.38,"замовлення","4-6","Sub DB",1,"шт.",null,"H6"]
["2CPX041641R9999","MBM113K","MBM113K Модуль з монтажною платою",2188.44,"замовлення","4-6","Sub DB",1,"шт.",null,"H6"]
["2CPX041642R9999","MBM114K","MBM114K Модуль з монтажною платою",2517.5399999999995,"замовлення","4-6","Sub DB",1,"шт.",null,"H6"]
["2CPX041643R9999","MBA190T","MBA190T Комплект до встановлення T1-XT3",1138.32,"замовлення","4-6","Sub DB",1,"шт.",null,"H6"]
["2CPX041644R9999","MBA290T","MBA290T Комплект до встановлення T1-XT3",1746.3,"замовлення","4-6","Sub DB",1,"шт.",null,"H6"]
["2CPX041645R9999","MBA390T","MBA390T Комплект до встановлення T1-XT3",2361.3599999999997,"замовлення","4-6","Sub DB",1,"шт.",null,"H6"]
["2CPX041646R9999","MBA192T","MBA192T Комплект до встановлення T4",2147.8200000000002,"замовлення","4-6","Sub DB",1,"шт.",null,"H6"]
["2CPX041647R9999","MBA292T","MBA292T Комплект до встановлення",2469,"замовлення","4-6","Sub DB",1,"шт.",null,"H6"]
["2CPX041648R9999","MBS128","MBS128 Модуль з шинотримачами",4855.079999999999,"замовлення","4-6","Sub DB",1,"шт.","див. закладку \"Акційне обладнання\"","H6"]
["2CPX041649R9999","MBS228","MBS228 Модуль з шинотримачами",6863.52,"замовлення","4-6","Sub DB",1,"шт.",null,"H6"]
["2CPX041650R9999","MBG101","MBG101 Модуль обладнання на DIN рейку",788.88,"замовлення","4-6","Sub DB",1,"шт.",null,"H6"]
["2CPX041651R9999","MBG201","MBG201 Модуль обладнання на DIN рейку",1231.8599999999999,"замовлення","4-6","Sub DB",1,"шт.",null,"H6"]
["2CPX041652R9999","MBG301","MBG301 Модуль обладнання на DIN рейку",1617.4799999999998,"замовлення","4-6","Sub DB",1,"шт.",null,"H6"]
["2CPX041653R9999","MBG102","MBG102 Модуль обладнання на DIN рейку",994.5,"замовлення","4-6","Sub DB",1,"шт.",null,"H6"]
["2CPX041654R9999","MBG412","MBG412 Модуль обладнання на DIN рейку",1244.2199999999998,"замовлення","4-6","Sub DB",1,"шт.",null,"H6"]
["2CPX041655R9999","MBG202","MBG202 Модуль обладнання на DIN рейку",1539.8399999999997,"склад",1,"Sub DB",1,"шт.",null,"H6"]
["2CPX041656R9999","MBG422","MBG422 Модуль обладнання на DIN рейку",1902.4799999999998,"замовлення","4-6","Sub DB",1,"шт.",null,"H6"]
["2CPX041657R9999","MBG302","MBG302 Модуль обладнання на DIN рейку",2348.1600000000003,"склад",1,"Sub DB",1,"шт.",null,"H6"]
["2CPX041658R9999","MBG432","MBG432 Модуль обладнання на DIN рейку",2921.7,"замовлення","4-6","Sub DB",1,"шт.",null,"H6"]
["2CPX041659R9999","MBG103","MBG103 Модуль обладнання на DIN рейку",1317.48,"замовлення","4-6","Sub DB",1,"шт.",null,"H6"]
["2CPX041660R9999","MBG413","MBG413 Модуль обладнання на DIN рейку",1648.38,"замовлення","4-6","Sub DB",1,"шт.",null,"H6"]
["2CPX041661R9999","MBG203","MBG203 Модуль обладнання на DIN рейку",2061.3599999999997,"замовлення","4-6","Sub DB",1,"шт.",null,"H6"]
["2CPX041662R9999","MBG423","MBG423 Модуль обладнання на DIN рейку",2546.6999999999998,"замовлення","4-6","Sub DB",1,"шт.",null,"H6"]
["2CPX041663R9999","MBG303","MBG303 Модуль обладнання на DIN рейку",3209.4,"замовлення","4-6","Sub DB",1,"шт.",null,"H6"]
["2CPX041664R9999","MBG433","MBG433 Модуль обладнання на DIN рейку",4045.0199999999995,"замовлення","4-6","Sub DB",1,"шт.",null,"H6"]
["2CPX041665R9999","MBG104","MBG104 Модуль обладнання на DIN рейку",1748.1,"замовлення","4-6","Sub DB",1,"шт.",null,"H6"]
["2CPX041666R9999","MBG414","MBG414 Модуль обладнання на DIN рейку",2188.44,"замовлення","4-6","Sub DB",1,"шт.",null,"H6"]
["2CPX041667R9999","MBG204","MBG204 Модуль обладнання на DIN рейку",2896.14,"склад",1,"Sub DB",1,"шт.",null,"H6"]
["2CPX041668R9999","MBG424","MBG424 Модуль обладнання на DIN рейку",3625.8599999999997,"замовлення","4-6","Sub DB",1,"шт.",null,"H6"]
["2CPX041669R9999","MBG304","MBG304 Модуль обладнання на DIN рейку",4278,"склад",1,"Sub DB",1,"шт.",null,"H6"]
["2CPX041670R9999","MBG434","MBG434 Модуль обладнання на DIN рейку",5364.24,"замовлення","4-6","Sub DB",1,"шт.",null,"H6"]
["2CPX041671R9999","MBG105","MBG105 Модуль обладнання на DIN рейку",2396.64,"замовлення","4-6","Sub DB",1,"шт.",null,"H6"]
["2CPX041672R9999","MBG415","MBG415 Модуль обладнання на DIN рейку",2396.64,"замовлення","4-6","Sub DB",1,"шт.",null,"H6"]
["2CPX041673R9999","MBG205","MBG205 Модуль обладнання на DIN рейку",4015.0199999999995,"замовлення","4-6","Sub DB",1,"шт.",null,"H6"]
["2CPX041674R9999","MBG425","MBG425 Модуль обладнання на DIN рейку",4015.0199999999995,"замовлення","4-6","Sub DB",1,"шт.",null,"H6"]
["2CPX041675R9999","MBG305","MBG305 Модуль обладнання на DIN рейку",5873.4,"замовлення","4-6","Sub DB",1,"шт.",null,"H6"]
["2CPX041676R9999","MBG435","MBG435 Модуль обладнання на DIN рейку",5873.4,"замовлення","4-6","Sub DB",1,"шт.",null,"H6"]
["2CPX041677R9999","MBK106","MBK106 Клемний модуль з регул глибини",788.88,"замовлення","4-6","Sub DB",1,"шт.",null,"H6"]
["2CPX041679R9999","MBK206","MBK206 Клемний модуль з регул глибини",1230.1200000000001,"замовлення","4-6","Sub DB",1,"шт.",null,"H6"]
["2CPX041681R9999","MBK306","MBK306 Клемний модуль з регул глибини",1617.4799999999998,"замовлення","4-6","Sub DB",1,"шт.",null,"H6"]
["2CPX041683R9999","MBK107","MBK107 Клемний модуль з регул глибини",1061.5800000000002,"замовлення","4-6","Sub DB",1,"шт.",null,"H6"]
["2CPX041685R9999","MBK207","MBK207 Клемний модуль з регул глибини",1643.94,"замовлення","4-6","Sub DB",1,"шт.",null,"H6"]
["2CPX041687R9999","MBK307","MBK307 Клемний модуль з регул глибини",2284.62,"склад",1,"Sub DB",1,"шт.",null,"H6"]
["2CPX041689R9999","MBK108","MBK108 Клемний модуль з регул глибини",1421.5800000000002,"замовлення","4-6","Sub DB",1,"шт.",null,"H6"]
["2CPX041691R9999","MBK208","MBK208 Клемний модуль з регул глибини",2307.5399999999995,"замовлення","4-6","Sub DB",1,"шт.",null,"H6"]
["2CPX041693R9999","MBK308","MBK308 Клемний модуль з регул глибини",3260.5799999999995,"замовлення","4-6","Sub DB",1,"шт.",null,"H6"]
["2CPX041695R9999","MBK109","MBK109 Клемний модуль з регул глибини",2413.44,"замовлення","4-6","Sub DB",1,"шт.",null,"H6"]
["2CPX041697R9999","MBK209","MBK209 Клемний модуль з регул глибини",4105.0199999999995,"замовлення","4-6","Sub DB",1,"шт.",null,"H6"]
["2CPX041699R9999","MBK309","MBK309 Клемний модуль з регул глибини",5543.4,"замовлення","4-6","Sub DB",1,"шт.",null,"H6"]
["2CPX041701R9999","MBK110","MBK110 Клемний модуль з регул глибини",2981.7,"замовлення","4-6","Sub DB",1,"шт.",null,"H6"]
["2CPX041703R9999","MBK210","MBK210 Клемний модуль з регул глибини",4824.24,"замовлення","4-6","Sub DB",1,"шт.",null,"H6"]
["2CPX041705R9999","MBK310","MBK310 Клемний модуль з регул глибини",6652.62,"замовлення","4-6","Sub DB",1,"шт.",null,"H6"]
["2CPX041707R9999","MBM111","MBM111 Модуль з монтажною платою",1050.9599999999998,"замовлення","4-6","Sub DB",1,"шт.",null,"H6"]
["2CPX041708R9999","MBM211","MBM211 Модуль з монтажною платою",1577.76,"замовлення","4-6","Sub DB",1,"шт.",null,"H6"]
["2CPX041709R9999","MBM311","MBM311 Модуль з монтажною платою",2153.1,"замовлення","4-6","Sub DB",1,"шт.",null,"H6"]
["2CPX041710R9999","MBM112","MBM112 Модуль з монтажною платою",1289.2199999999998,"замовлення","4-6","Sub DB",1,"шт.",null,"H6"]
["2CPX041711R9999","MBM212","MBM212 Модуль з монтажною платою",2034.8999999999999,"склад",1,"Sub DB",1,"шт.",null,"H6"]
["2CPX041712R9999","MBM312","MBM312 Модуль з монтажною платою",2896.14,"замовлення","4-6","Sub DB",1,"шт.",null,"H6"]
["2CPX041713R9999","MBM113","MBM113 Модуль з монтажною платою",1748.1,"замовлення","4-6","Sub DB",1,"шт.",null,"H6"]
["2CPX041714R9999","MBM213","MBM213 Модуль з монтажною платою",2870.52,"замовлення","4-6","Sub DB",1,"шт.",null,"H6"]
["2CPX041715R9999","MBM313","MBM313 Модуль з монтажною платою",3861.48,"замовлення","4-6","Sub DB",1,"шт.",null,"H6"]
["2CPX041716R9999","MBM114","MBM114 Модуль з монтажною платою",2517.5399999999995,"замовлення","4-6","Sub DB",1,"шт.",null,"H6"]
["2CPX041717R9999","MBM214","MBM214 Модуль з монтажною платою",4165.92,"склад",1,"Sub DB",1,"шт.",null,"H6"]
["2CPX041718R9999","MBM314","MBM314 Модуль з монтажною платою",5694.3,"склад",1,"Sub DB",1,"шт.",null,"H6"]
["2CPX041719R9999","MBM115","MBM115 Модуль з монтажною платою",3325.8599999999997,"замовлення","4-6","Sub DB",1,"шт.",null,"H6"]
["2CPX041720R9999","MBM215","MBM215 Модуль з монтажною платою",5394.24,"замовлення","4-6","Sub DB",1,"шт.",null,"H6"]
["2CPX041721R9999","MBM315","MBM315 Модуль з монтажною платою",7341.7800000000007,"замовлення","4-6","Sub DB",1,"шт.",null,"H6"]
["2CPX041722R9999","MBB116","MBB116 Модуль захисту від дотику",530.33999999999992,"замовлення","4-6","Sub DB",1,"шт.",null,"H6"]
["2CPX041723R9999","MBB216","MBB216 Модуль захисту від дотику",843.6,"замовлення","4-6","Sub DB",1,"шт.",null,"H6"]
["2CPX041724R9999","MBB316","MBB316 Модуль захисту від дотику",1160.3999999999999,"замовлення","4-6","Sub DB",1,"шт.",null,"H6"]
["2CPX041725R9999","MBB117","MBB117 Модуль захисту від дотику",543.6,"замовлення","4-6","Sub DB",1,"шт.",null,"H6"]
["2CPX041726R9999","MBB217","MBB217 Модуль захисту від дотику",909.78,"замовлення","4-6","Sub DB",1,"шт.",null,"H6"]
["2CPX041727R9999","MBB317","MBB317 Модуль захисту від дотику",1245.1200000000001,"замовлення","4-6","Sub DB",1,"шт.",null,"H6"]
["2CPX041728R9999","MBB118","MBB118 Модуль захисту від дотику",908.04000000000008,"замовлення","4-6","Sub DB",1,"шт.",null,"H6"]
["2CPX041729R9999","MBB218","MBB218 Модуль захисту від дотику",1421.5800000000002,"замовлення","4-6","Sub DB",1,"шт.",null,"H6"]
["2CPX041730R9999","MBB318","MBB318 Модуль захисту від дотику",1996.9199999999998,"замовлення","4-6","Sub DB",1,"шт.",null,"H6"]
["2CPX041731R9999","MBB119","MBB119 Модуль захисту від дотику",1120.6799999999998,"замовлення","4-6","Sub DB",1,"шт.",null,"H6"]
["2CPX041732R9999","MBB219","MBB219 Модуль захисту від дотику",1877.8200000000002,"замовлення","4-6","Sub DB",1,"шт.",null,"H6"]
["2CPX041733R9999","MBB319","MBB319 Модуль захисту від дотику",2687.88,"склад",1,"Sub DB",1,"шт.",null,"H6"]
["2CPX041734R9999","MBB120","MBB120 Модуль захисту від дотику",1281.3,"замовлення","4-6","Sub DB",1,"шт.",null,"H6"]
["2CPX041735R9999","MBB220","MBB220 Модуль захисту від дотику",2153.1,"замовлення","4-6","Sub DB",1,"шт.",null,"H6"]
["2CPX041736R9999","MBB320","MBB320 Модуль захисту від дотику",3105.24,"замовлення","4-6","Sub DB",1,"шт.",null,"H6"]
["2CPX041737R9999","MBS124","MBS124 Модуль з шинотримачами",2176.9199999999996,"замовлення","4-6","Sub DB",1,"шт.","див. закладку \"Акційне обладнання\"","H6"]
["2CPX041738R9999","MBS224","MBS224 Модуль з шинотримачами",2599.62,"замовлення","4-6","Sub DB",1,"шт.","див. закладку \"Акційне обладнання\"","H6"]
["2CPX041739R9999","MBS324","MBS324 Модуль з шинотримачами",3339.9599999999996,"замовлення","4-6","Sub DB",1,"шт.",null,"H6"]
["2CPX041740R9999","MBS127","MBS127 Модуль з шинотримачами",3039.96,"замовлення","4-6","Sub DB",1,"шт.",null,"H6"]
["2CPX041741R9999","MBS227","MBS227 Модуль з шинотримачами",3231.4200000000005,"замовлення","4-6","Sub DB",1,"шт.",null,"H6"]
["2CPX041742R9999","MBS327","MBS327 Модуль з шинотримачами",3968.2799999999997,"замовлення","4-6","Sub DB",1,"шт.",null,"H6"]
["2CPX041743R9999","MBS131","MBS131 Модуль з шинотримачами",3116.7,"замовлення","4-6","Sub DB",1,"шт.",null,"H6"]
["2CPX041744R9999","MBS231","MBS231 Модуль з шинотримачами",3505.8599999999997,"замовлення","4-6","Sub DB",1,"шт.",null,"H6"]
["2CPX041745R9999","MBS331","MBS331 Модуль з шинотримачами",4704.24,"замовлення","4-6","Sub DB",1,"шт.",null,"H6"]
["2CPX041746R9999","MBN174","MBN174 Модуль N+PE без міді Ш1 до 440А",2124.9,"замовлення","4-6","Sub DB",1,"шт.",null,"H6"]
["2CPX041748R9999","MBN274","MBN274 Модуль N+PE без міді Ш2 до 440А",1996.9199999999998,"замовлення","4-6","Sub DB",1,"шт.","див. закладку \"Акційне обладнання\"","H6"]
["2CPX041750R9999","MBN374","MBN374 Модуль N+PE без міді Ш3 до 440А",2569.62,"замовлення","4-6","Sub DB",1,"шт.","див. закладку \"Акційне обладнання\"","H6"]
["2CPX041752R9999","MBN175","MBN175 Модуль N+PE без міді Ш1 до 440А",2164.62,"замовлення","4-6","Sub DB",1,"шт.",null,"H6"]
["2CPX041754R9999","MBN275","MBN275 Модуль N+PE без міді Ш2 до 440А",2323.44,"замовлення","4-6","Sub DB",1,"шт.",null,"H6"]
["2CPX041756R9999","MBN375","MBN375 Модуль N+PE без міді Ш3 до 440А",3339.9599999999996,"замовлення","4-6","Sub DB",1,"шт.",null,"H6"]
["2CPX041758R9999","MBN162","MBN162 Модуль N+PE без міді Ш1 до 630А",1435.68,"замовлення","4-6","Sub DB",1,"шт.",null,"H6"]
["2CPX041760R9999","MBN262","MBN262 Модуль N+PE без міді Ш2 до 630А",1643.94,"замовлення","4-6","Sub DB",1,"шт.",null,"H6"]
["2CPX041762R9999","MBN362","MBN362 Модуль N+PE без міді Ш3 до 630А",2204.2800000000002,"замовлення","4-6","Sub DB",1,"шт.",null,"H6"]
["2CPX041764R9999","MBN163","MBN163 Модуль N+PE без міді Ш1 до 630А",2870.52,"замовлення","4-6","Sub DB",1,"шт.",null,"H6"]
["2CPX041766R9999","MBN263","MBN263 Модуль N+PE без міді Ш2 до 630А",3191.76,"замовлення","4-6","Sub DB",1,"шт.",null,"H6"]
["2CPX041768R9999","MBN363","MBN363 Модуль N+PE без міді Ш3 до 630А",3652.38,"замовлення","4-6","Sub DB",1,"шт.",null,"H6"]
["2CPX041770R9999","MBT136","MBT136 Комплект до встановлення NH",1163.04,"замовлення","4-6","Sub DB",1,"шт.",null,"H6"]
["2CPX041771R9999","MBT236","MBT236 Комплект до встановлення NH",1842.4799999999998,"замовлення","4-6","Sub DB",1,"шт.",null,"H6"]
["2CPX041772R9999","MBT336","MBT336 Комплект до встановлення NH",2517.5399999999995,"замовлення","4-6","Sub DB",1,"шт.",null,"H6"]
["2CPX041773R9999","MBT137","MBT137 Комплект до встановлення NH",2457.5399999999995,"замовлення","4-6","Sub DB",1,"шт.",null,"H6"]
["2CPX041774R9999","MBT237","MBT237 Комплект до встановлення NH",4015.0199999999995,"замовлення","4-6","Sub DB",1,"шт.",null,"H6"]
["2CPX041775R9999","MBT337","MBT337 Комплект до встановлення NH",5604.3,"замовлення","4-6","Sub DB",1,"шт.",null,"H6"]
["2CPX041776R9999","MBT142","MBT142 Комплект до встановлення NH",2233.44,"замовлення","4-6","Sub DB",1,"шт.",null,"H6"]
["2CPX041777R9999","MBT242","MBT242 Комплект до встановлення NH",3236.76,"замовлення","4-6","Sub DB",1,"шт.",null,"H6"]
["2CPX041778R9999","MBT342","MBT342 Комплект до встановлення NH",3955.0199999999995,"замовлення","4-6","Sub DB",1,"шт.",null,"H6"]
["2CPX041779R9999","MBT143","MBT143 Комплект до встановлення NH",4165.92,"замовлення","4-6","Sub DB",1,"шт.",null,"H6"]
["2CPX041780R9999","MBT243","MBT243 Комплект до встановлення NH",5784.3,"замовлення","4-6","Sub DB",1,"шт.",null,"H6"]
["2CPX041781R9999","MBT343","MBT343 Комплект до встановлення NH",6950.8799999999992,"замовлення","4-6","Sub DB",1,"шт.",null,"H6"]
["2CPX041782R9999","MBT144","MBT144 Комплект до встановлення NH",2233.44,"замовлення","4-6","Sub DB",1,"шт.",null,"H6"]
["2CPX041783R9999","MBT244","MBT244 Комплект до встановлення NH",3236.76,"замовлення","4-6","Sub DB",1,"шт.",null,"H6"]
["2CPX041784R9999","MBT344","MBT344 Комплект до встановлення NH",3955.0199999999995,"замовлення","4-6","Sub DB",1,"шт.",null,"H6"]
["2CPX041785R9999","MBT145","MBT145 Комплект до встановлення NH",4165.92,"замовлення","4-6","Sub DB",1,"шт.",null,"H6"]
["2CPX041786R9999","MBT245","MBT245 Комплект до встановлення NH",5784.3,"замовлення","4-6","Sub DB",1,"шт.",null,"H6"]
["2CPX041787R9999","MBT345","MBT345 Комплект до встановлення NH",6950.8799999999992,"замовлення","4-6","Sub DB",1,"шт.",null,"H6"]
["2CPX041792R9999","MBH150","MBH150 Модуль до S700(750)",2681.7,"замовлення","4-6","Sub DB",1,"шт.",null,"H6"]
["2CPX041793R9999","MBH250","MBH250 Модуль до S700(750)",3146.7,"замовлення","4-6","Sub DB",1,"шт.",null,"H6"]
["2CPX041794R9999","MBH350","MBH350 Модуль до S700(750)",4884.24,"замовлення","4-6","Sub DB",1,"шт.",null,"H6"]
["2CPX041801R9999","MBL25","MBL25 Модуль для блок рубильника NH",7910.94,"замовлення","4-6","Sub DB",1,"шт.",null,"H6"]
["2CPX041802R9999","MBL35","MBL35 Модуль для блок рубильника NH",8930.159999999998,"замовлення","4-6","Sub DB",1,"шт.",null,"H6"]
["2CPX041803R9999","MBA160ALA","MBA160ALA Модуль вимик. навантаження",1468.3799999999999,"замовлення","4-6","Sub DB",1,"шт.",null,"H6"]
["2CPX041804R9999","MBA250ALA","MBA250ALA Модуль вимик. навантаження",1468.3799999999999,"замовлення","4-6","Sub DB",1,"шт.",null,"H6"]
["2CPX041805R9999","MBA630ALA","MBA630ALA Модуль вимик. навантаження",2652.6,"замовлення","4-6","Sub DB",1,"шт.",null,"H6"]
["2CPX041806R9999","MBA800A","MBA800A Модуль універсальний до 800А",4531.26,"замовлення","4-6","Sub DB",1,"шт.",null,"H6"]
["2CPX041807R9999","MBA250A","MBA250A Модуль універсальний до 250А",1722.4799999999998,"замовлення","4-6","Sub DB",1,"шт.",null,"H6"]
["2CPX041808R9999","MBA630A","MBA630A Модуль універсальний до 630А",2870.52,"замовлення","4-6","Sub DB",1,"шт.",null,"H6"]
["2CPX041809R9999","MBU257","MBU257 Модуль до вимірювальних приладів",1603.38,"замовлення","4-6","Sub DB",1,"шт.",null,"H6"]
["2CPX041810R9999","MBU357","MBU357 Модуль до вимірювальних приладів",1813.38,"замовлення","4-6","Sub DB",1,"шт.",null,"H6"]
["2CPX041811R9999","MBU157","MBU157 Модуль до вимірювальних приладів",1588.38,"замовлення","4-6","Sub DB",1,"шт.",null,"H6"]
["2CPX041812R9999","MBU158","MBU158 Модуль до вимірювальних приладів",1693.38,"замовлення","4-6","Sub DB",1,"шт.",null,"H6"]
["2CPX041815R9999","MBV180","MBV180 Модуль підводу кабелю до дверей",3236.76,"замовлення","4-6","Sub DB",1,"шт.",null,"H6"]
["2CPX041816R9999","MBV181","MBV181 Модуль підводу кабелю до дверей",3325.8599999999997,"замовлення","4-6","Sub DB",1,"шт.",null,"H6"]
["2CPX041817R9999","MBV182","MBV182 Модуль підводу кабелю до дверей",3565.8599999999997,"замовлення","4-6","Sub DB",1,"шт.",null,"H6"]
["2CPX041818R9999","MBV281","MBV281 Модуль підводу кабелю до дверей",3865.92,"замовлення","4-6","Sub DB",1,"шт.",null,"H6"]
["2CPX041819R9999","MBV282","MBV282 Модуль підводу кабелю до дверей",4045.0199999999995,"замовлення","4-6","Sub DB",1,"шт.",null,"H6"]
["2CPX041820R9999","MBZ160","MBZ160 Модуль до встановлення лічильника",1500.1200000000001,"замовлення","4-6","Sub DB",1,"шт.",null,"H6"]
["2CPX041821R9999","MBZ161","MBZ161 Модуль до встановлення лічильника",2569.62,"замовлення","4-6","Sub DB",1,"шт.",null,"H6"]
["2CPX041822R9999","MBF183","MBF183 Модуль фіксації кабелю Ш1",1289.2199999999998,"замовлення","4-6","Sub DB",1,"шт.",null,"H6"]
["2CPX041823R9999","MBF283","MBF283 Модуль фіксації кабелю Ш2",1663.38,"замовлення","4-6","Sub DB",1,"шт.",null,"H6"]
["2CPX041824R9999","MBF383","MBF383 Модуль фіксації кабелю Ш3",2846.7,"замовлення","4-6","Sub DB",1,"шт.",null,"H6"]
["2CPX041825R9999","MBR102","MBR102 Модуль з шинотримачами без міді",2396.64,"замовлення","4-6","Sub DB",1,"шт.",null,"H6"]
["2CPX041826R9999","MBR202","MBR202 Модуль з шинотримачами без міді",3325.8599999999997,"замовлення","4-6","Sub DB",1,"шт.",null,"H6"]
["2CPX041827R9999","MBR302","MBR302 Модуль з шинотримачами без міді",4824.24,"замовлення","4-6","Sub DB",1,"шт.",null,"H6"]
["2CPX041828R9999","MBR102H","MBR102H Модуль з шинотримачами без міді",2742.6,"замовлення","4-6","Sub DB",1,"шт.",null,"H6"]
["2CPX041829R9999","MBR103H","MBR103H Модуль з шинотримачами без міді",3325.8599999999997,"замовлення","4-6","Sub DB",1,"шт.",null,"H6"]
["2CPX041830R9999","MBR103","MBR103 Модуль з шинотримачами без міді",3865.92,"замовлення","4-6","Sub DB",1,"шт.",null,"H6"]
["2CPX041831R9999","MBR203","MBR203 Модуль з шинотримачами без міді",4195.079999999999,"замовлення","4-6","Sub DB",1,"шт.",null,"H6"]
["2CPX041832R9999","MBR303","MBR303 Модуль з шинотримачами без міді",5124.24,"замовлення","4-6","Sub DB",1,"шт.",null,"H6"]
["2CPX041837R9999","MBK112","MBK112 Модуль термінального блоку",1493.04,"замовлення","4-6","Sub DB",1,"шт.",null,"H6"]
["2CPX041838R9999","MBK212","MBK212 Модуль термінального блоку",2278.44,"замовлення","4-6","Sub DB",1,"шт.",null,"H6"]
["2CPX041839R9999","MBK312","MBK312 Модуль термінального блоку",2996.7,"замовлення","4-6","Sub DB",1,"шт.",null,"H6"]
["2CPX041840R9999","MBK113","MBK113 Модуль термінального блоку",1992.5399999999997,"замовлення","4-6","Sub DB",1,"шт.",null,"H6"]
["2CPX041841R9999","MBK213","MBK213 Модуль термінального блоку",2996.7,"замовлення","4-6","Sub DB",1,"шт.",null,"H6"]
["2CPX041842R9999","MBK313","MBK313 Модуль термінального блоку",4225.079999999999,"замовлення","4-6","Sub DB",1,"шт.",null,"H6"]
["2CPX041843R9999","MBK114","MBK114 Модуль термінального блоку",2531.6999999999998,"замовлення","4-6","Sub DB",1,"шт.",null,"H6"]
["2CPX041844R9999","MBK214","MBK214 Модуль термінального блоку",4285.079999999999,"замовлення","4-6","Sub DB",1,"шт.",null,"H6"]
["2CPX041845R9999","MBK314","MBK314 Модуль термінального блоку",5784.3,"замовлення","4-6","Sub DB",1,"шт.",null,"H6"]
["2CPX041846R9999","MBF184","MBF184 Комплект кріплення кабелю Ш1",1513.3799999999999,"замовлення","4-6","Sub DB",1,"шт.",null,"H6"]
["2CPX041847R9999","MBF284","MBF284 Комплект кріплення кабелю Ш2",1813.38,"замовлення","4-6","Sub DB",1,"шт.",null,"H6"]
["2CPX041848R9999","MBF384","MBF384 Комплект кріплення кабелю Ш3",3056.7,"замовлення","4-6","Sub DB",1,"шт.",null,"H6"]
["2CPX041850R9999","ZW367","ZW367 Вертикальний профіль WR 1RE",225,"замовлення","4-6","Sub DB",1,"шт.",null,"H6"]
["2CPX041851R9999","ZW368","ZW368 Вертикальний профіль WR 2RE",243.54000000000002,"замовлення","4-6","Sub DB",1,"шт.",null,"H6"]
["2CPX041852R9999","ZW369","ZW369 Вертикальний профіль WR 3RE",272.64,"замовлення","4-6","Sub DB",1,"шт.",null,"H6"]
["2CPX041853R9999","ZW370","ZW370 Вертикальний профіль WR 4RE",300,"замовлення","4-6","Sub DB",1,"шт.",null,"H6"]
["2CPX041854R9999","ZW371","ZW371 Вертикальний профіль WR 5RE",333.54,"замовлення","4-6","Sub DB",1,"шт.",null,"H6"]
["2CPX041855R9999","ZW372","ZW372 Вертикальний профіль WR 6RE",361.8,"замовлення","4-6","Sub DB",1,"шт.",null,"H6"]
["2CPX041856R9999","ZW373","ZW373 Вертикальний профіль WR 7RE",403.25999999999993,"замовлення","4-6","Sub DB",1,"шт.",null,"H6"]
["2CPX041857R9999","ZW374","ZW374 Вертикальний профіль WR 8RE",477.41999999999996,"замовлення","4-6","Sub DB",1,"шт.",null,"H6"]
["2CPX041858R9999","ZW375","ZW375 Вертикальний профіль WR 9RE",551.52,"замовлення","4-6","Sub DB",1,"шт.",null,"H6"]
["2CPX041859R9999","ZW376","ZW376 Вертикальний профіль WR 10RE",604.43999999999994,"замовлення","4-6","Sub DB",1,"шт.",null,"H6"]
["2CPX041860R9999","ZW377","ZW377 Вертикальний профіль WR 11RE",656.52,"замовлення","4-6","Sub DB",1,"шт.",null,"H6"]
["2CPX041861R9999","ZW378","ZW378 Вертикальний профіль WR 13RE",758.88,"замовлення","4-6","Sub DB",1,"шт.",null,"H6"]
["2CPX041862R9999","ZW165","ZW165 Гориз. профіль для монтажу Ш2",207.36,"замовлення","4-6","Sub DB",1,"шт.",null,"H6"]
["2CPX041863R9999","ZW166","ZW166 Гориз. профіль для монтажу Ш3",296.52000000000004,"замовлення","4-6","Sub DB",1,"шт.",null,"H6"]
["2CPX041864R9999","ZW167","ZW167 Гориз. профіль для монтажу Ш4",384.72,"замовлення","4-6","Sub DB",1,"шт.",null,"H6"]
["2CPX041865R9999","ED7","ED7 EDF-профіль ",279.71999999999997,"замовлення","4-6","Sub DB",1,"шт.",null,"H6"]
["2CPX041866R9999","ED7P20","ED7P20 EDF-профіль (20од)",4958.3399999999992,"замовлення","4-6","Sub DB",1,"шт.",null,"H6"]
["2CPX042020R9999","ZX1180","ZX1180 Соединитель шини 12х5 250А",555.9,"замовлення","4-6","Sub DB",1,"шт.",null,"H6"]
["2CPX042021R9999","ZX1181","ZX1181 Соединитель шини 12х15 360А",961.8599999999999,"замовлення","4-6","Sub DB",1,"шт.",null,"H6"]
["2CPX042022R9999","ZX1182","ZX1182 Соединитель шини 20х5 320А",1371.3,"замовлення","4-6","Sub DB",1,"шт.",null,"H6"]
["2CPX042023R9999","ZX1183","ZX1183 Соединитель шини 30х5 440А",1860.1799999999998,"замовлення","4-6","Sub DB",1,"шт.",null,"H6"]
["2CPX042024R9999","ZX1184","ZX1184 Соединитель шини 30х10 630А",2197.2599999999998,"замовлення","4-6","Sub DB",1,"шт.",null,"H6"]
["2CPX042025R9999","ZX1185","ZX1185 Соединитель шини 40х10 850А",3978.8399999999997,"замовлення","4-6","Sub DB",1,"шт.",null,"H6"]
["2CPX042155R9999","MBC202HS","Модуль Smissline",2247.5399999999995,"замовлення","4-6","Sub DB",1,"шт.",null,"H6"]
["2CPX042156R9999","MBC302HS","Модуль Smissline",3086.7,"замовлення","4-6","Sub DB",1,"шт.",null,"H6"]
["2CPX042157R9999","MBC203HS","Модуль Smissline",3116.7,"замовлення","4-6","Sub DB",1,"шт.",null,"H6"]
["2CPX042158R9999","MBC303HS","Модуль Smissline",4435.9799999999996,"замовлення","4-6","Sub DB",1,"шт.",null,"H6"]
["2CPX042159R9999","MBC204HS","Модуль Smissline",4195.079999999999,"замовлення","4-6","Sub DB",1,"шт.",null,"H6"]
["2CPX042160R9999","MBC304HS","Модуль Smissline",5784.3,"замовлення","4-6","Sub DB",1,"шт.",null,"H6"]
["2CPX042183R9999","ZW258","ZW258 Скоба до кріплення",365.34,"замовлення","4-6","Sub DB",1,"шт.",null,"H6"]
["2CPX042615R9999","ED402","ED402 Рейка жорсткості для 2 ДІН/125мм",383.87999999999994,"замовлення","4-6","Sub DB",1,"шт.",null,"H6"]
["2CPX042858R9999","WR181","WR181 Монтажна рама Ш1 В8",1873.38,"замовлення","4-6","Sub DB",1,"шт.",null,"H6"]
["2CPX060140R9999","ZW212","ZW212 WR профіль 4Ш",195.9,"замовлення","4-6","Sub DB",1,"шт.",null,"H6"]
["2CPX060201R9999","ZA9","ZA9 Планка маркування Ш2      ",127.08,"замовлення","4-6","Sub DB",1,"шт.",null,"H6"]
["2CPX060335R9999","ZW235","ZW235 Профіль ширини Ш3",649.43999999999994,"замовлення","4-6","Sub DB",1,"шт.",null,"H6"]
["2CPX061356R9999","ZX356","ZX356 Шина мідна 30x10x4000 мм.      ",26312.16,"замовлення","4-6","Sub DB",1,"шт.",null,"H6"]
["2CPX061410R9999","ZX410","ZX410 Шина мідна 30x5x2000 мм.      ",6737.3400000000011,"замовлення","4-6","Sub DB",1,"шт.",null,"H6"]
["2CPX061416R9999","ZX416","ZX416 Шина мідна 40x10x2000 мм.      ",16499.579999999998,"замовлення","4-6","Sub DB",1,"шт.",null,"H6"]
["2CPX062038R9999","TTS32","TTS32 Прозорі двері 3/2A+B",7058.52,"замовлення","4-6","Sub DB",1,"шт.",null,"H6"]
["2CPX062237R9999","AG21G","AG21G Пластрон глухий150x500мм зелений",2127.5399999999995,"замовлення","4-6","Sub DB",1,"шт.",null,"H6"]
["2CPX062315R9999","ED12P20","ED12P20 EDF-профіль В2 20од",8350.3799999999992,"замовлення","4-6","Sub DB",1,"шт.",null,"H6"]
["2CPX062376R9999","ZA89P20","ZA89P20 Саморез до DIN рейки 4,8x9мм",317.7,"замовлення","4-6","Sub DB",1,"шт.",null,"H6"]
["2CPX062430R9999","ZK87P50","ZK87P50 Коннектор 16кв. мм (50од)",8798.6400000000012,"замовлення","4-6","Sub DB",1,"шт.",null,"H6"]
["2CPX062486R9999","ZW390P2","ZW390P2 Скоба для ізолятора ZX518",609.78,"замовлення","4-6","Sub DB",1,"шт.",null,"H6"]
["2CPX062523R9999","ZX266P10","ZX266P10 Саморез 4,8x16мм",186.18,"замовлення","4-6","Sub DB",1,"шт.",null,"H6"]
["2CPX062610R9999","ED135P4","ED135P4 Подовжувач стойки 25мм 4од",189.72,"замовлення","4-6","Sub DB",1,"шт.",null,"H6"]
["2CPX062635R9999","ZW389LR","ZW389LR Монтажні скоби    ",753.6,"замовлення","4-6","Sub DB",1,"шт.",null,"H6"]
["2CPX062722R9999","ZX157P10","ZX157P10 Шинотримач N+PE",4585.9799999999996,"замовлення","4-6","Sub DB",1,"шт.",null,"H6"]
["2CPX062731R9999","ZA8P40","ZA8P40 Маркерна лента 1PW",2702.88,"замовлення","4-6","Sub DB",1,"шт.",null,"H6"]
["2CPX062773R9999","AS14V","AS14V Пластрон 600x250 SmissLine верт",2308.44,"замовлення","4-6","Sub DB",1,"шт.",null,"H6"]
["2CPX062804R9999","AS12","AS12 Пластрон із прорізом 300x250",189.72,"замовлення","4-6","Sub DB",1,"шт.",null,"H6"]
["2CPX062827R9999","AG34","AG34 Пластрон глухий 600x750 ",1291.8599999999999,"замовлення","4-6","Sub DB",1,"шт.",null,"H6"]
["2CPX062846R9999","AS225","AS225 Пластрон із прорізом 750x500",3392.0400000000004,"замовлення","4-6","Sub DB",1,"шт.",null,"H6"]
["2CPX062884R9999","AG92","AG92 Пластрон 450x500 із прорізом      ",2904.96,"замовлення","4-6","Sub DB",1,"шт.",null,"H6"]
["2CPX062890R9999","AG164","AG164 Пластрон до вимірювальних приладів",1576.9199999999998,"замовлення","4-6","Sub DB",1,"шт.",null,"H6"]
["2CPX064166R9999","ZX334","ZX334 Монтажний кронштейн",142.97999999999999,"замовлення","4-6","Sub DB",1,"шт.",null,"H6"]
["2CPX064879R9999","ZK79","ZK79 Конектор 16кв. Мм",90,"замовлення","4-6","Sub DB",1,"шт.",null,"H6"]
["2CPX068190R9999","ZX389","ZX389 DIN Ізолятор Ш2 короткий",176.46,"замовлення","4-6","Sub DB",1,"шт.",null,"H6"]
["2CPX068588R9999","ZX257P20","ZX257P20 Гвинт M6x30 мм",301.8,"замовлення","4-6","Sub DB",1,"шт.",null,"H6"]
["1SL9085A00",null,"Короб перфорований 8/12 без галогена 40x80 мм.",1510.98,"замовлення","4-6","Install Materials",36,"шт.","Ціна за 1 шт. яка дорівнює 2м.","K7"]
["M051370000","05137","05137 Перфорований короб 4/6 60x30",258.3,"замовлення","4-6","Install Materials",52,"шт.","Ціна за 1 шт. яка дорівнює 2м.","K7"]
["M051690000","05169","05169 Перфорований короб 4/6 80x60",452.52000000000004,"склад",1,"Install Materials",1,"шт.","Ціна за 1 шт. яка дорівнює 2м.","K7"]
["7TCA300140R0000","SKT140-180X-100","SKT140-180X-100 стяжки кабельні",100.2,"замовлення","по запиту","Install Materials",100,"уп.","див. закладку \"Акційне обладнання\"","K7"]
["7TCA300340R0000","SKT776-780-50","SKT776-780-50 стяжки кабельні",953.22,"замовлення","по запиту","Install Materials",10,"уп.","див. закладку \"Акційне обладнання\"","K7"]
["M109230000",10923,"10923 Адаптер до 10900, 10901",204.9,"замовлення","4-6","Install Materials",1,"шт.",null,"K7"]
["2GCA280556A0030","CAP F5 V415 Q11 N3 CLMD13","CAPF5V415Q11N3CLMD13 Конденсатор",10228.56,"замовлення","4-6","Power Quality Equip",1,"шт.",null,"J5"]
["2GCA296699A0031","QCap F5 V400 Q12.5 N3","QCapF5V400Q12.5N3 Конденсатор",3074.4,"замовлення","4-6","Power Quality Equip",2,"шт.",null,"J5"]
["2GCA296785A0031","QCap F5 V473 Q13.4 N3","QCapF5V473Q13.4N3 Конденсатор",3130.32,"замовлення","4-6","Power Quality Equip",2,"шт.",null,"J5"]
["1SZR004002A1105","BEF401216","BEF401216 Шафа непрозора вбудована 16М",427.2,"склад",1,"Modular Equip Basic",1,"шт.",null,"V4"]
["2CPX031373R9999","UK660N4","UK660N4 Розпод шафа 60М quick-terminals",8926.6200000000008,"замовлення","4-6","Consumer units",1,"шт.","UK600","AR"]
["2CPX031397R9999","UK660MB","UK660MB Шафа для медіа, 5P без дверей",5492.22,"замовлення","4-6","Consumer units",1,"шт.","UK600","AR"]
["2CPX031082R9999","BL620","BL620 Дверцята з рамою 2R RAL9016",2069.2800000000002,"замовлення","4-6","Consumer units",1,"шт.","UK600","AR"]
["2CPX031416R9999","UZM630","UZM630 Монтажна плата до UK600 3R",1356.3,"замовлення","4-6","Consumer units",1,"шт.","UK600","AR"]
["2CPX031762R9999","UZD620","UZD620 Вставка для фото 2R",3790.92,"замовлення","4-6","Consumer units",1,"шт.","UK600","AR"]
["2CPX031787R9999","UZ641D","UZ641D Декор плівка \"каміння\"",1547.76,"замовлення","4-6","Consumer units",1,"шт.","UK600","AR"]
["2CPX063163R9999","ZK237B","ZK237B клемний термінал N 23x4+7x25мм2",637.9799999999999,"склад",1,"Consumer units",1,"шт.","комбіновані (безгвинтові+гвинтові) клеми","AR"]
["2CPX063174R9999","ZKS16G","ZKS16G Гвинтові клеми PE 9x6+7x16мм2","див примітки",null,null,"Consumer units",1,"шт.","1SPE007715F0743","AR"]
["2CDS643041R0065","BMS413B06","BMS413B06 Автоматичний вимикач",341.64,"склад",1,"Modular Equip Basic",1,"шт.",null,"V4"]
["2CDS641041R0104","BMS411C10","BMS411C10 Автоматичний вимикач",78.66,"склад",1,"Modular Equip Basic",12,"шт.",null,"V4"]
["2CDS642041R0634","BMS412C63","BMS412C63 Автоматичний вимикач",273.23999999999995,"склад",1,"Modular Equip Basic",6,"шт.",null,"V4"]
["2CDS643041R0504","BMS413C50","BMS413C50 Автоматичний вимикач",394.8,"склад",1,"Modular Equip Basic",1,"шт.",null,"V4"]
["2CDD642051R0032","BMD51232","BMD51232 Вимикач навантаження",292.2,"склад",1,"Modular Equip Basic",1,"шт.",null,"V4"]
["2CSF604041R1630","BMF41463","BMF41463 Пристрій захисного відключення",1236.8399999999997,"склад",1,"Modular Equip Basic",3,"шт.",null,"V4"]
["2CDS211001R0034","SH201-C3","SH201-C3 Автоматичний вимикач",344.94,"частково, в межах наявності на складі",1,"Modular Equip Home",1,"шт.",null,"I1"]
["2CDS211103R0014","SH201-C1NA","SH201-C1NA Автоматичний вимикач",628.91999999999985,"замовлення","4-6","Modular Equip Home",1,"шт.",null,"I1"]
["2CDS211103R0404","SH201-C40NA","SH201-C40NA Автоматичний вимикач",574.91999999999996,"замовлення","4-6","Modular Equip Home",1,"шт.",null,"I1"]
["2CDS212001R0034","SH202-C3","SH202-C3 Автоматичний вимикач",788.1,"частково, в межах наявності на складі",1,"Modular Equip Home",1,"шт.",null,"I1"]
["2CDS212001R0255","SH202-B25","SH202-B25 Автоматичний вимикач",299.87999999999994,"склад",1,"Modular Equip Home",1,"шт.",null,"I1"]
["2CDS213001R0105","SH203-B10","SH203-B10 Автоматичний вимикач",422.82,"склад",1,"Modular Equip Home",1,"шт.",null,"I1"]
["2CDS213103R0014","SH203-C1NA","SH203-C1NA Автоматичний вимикач",1476.3,"замовлення","4-6","Modular Equip Home",1,"шт.",null,"I1"]
["2CDS213103R0974","SH203-C1,6NA","SH203-C1,6NA Автоматичний вимикач",1476.3,"замовлення","4-6","Modular Equip Home",1,"шт.",null,"I1"]
["2CDS214001R0255","SH204-B25","SH204-B25 Автоматичний вимикач",1495.74,"замовлення","4-6","Modular Equip Home",1,"шт.",null,"I1"]
["2CSR255070R1065","DSH201 B6 AC30","DSH201 B6 AC30 Диф автомат вимикач",1371,"склад",1,"Modular Equip Home",1,"шт.",null,"I1"]
["2CSR255070R1104","DSH201 C10 AC30","DSH201 C10 AC30 Диф автомат вимикач",1061.4599999999998,"склад",1,"Modular Equip Home",1,"шт.",null,"I1"]
["2CDL140001R1012","PSH4/12","PSH4/12 З'єднувальна шина до SH200",444.9,"замовлення","4-6","Modular Equip Std",1,"шт.",null,"I4"]
["2CDS251001R0157","S201-K0.5","S201-K0.5 Автоматичний вимикач",489.11999999999995,"замовлення","4-6","Modular Equip Std",1,"шт.",null,"I4"]
["2CDS251001R0324","S201-C32","S201-C32 Автоматичний вимикач",189.29999999999998,"склад",1,"Modular Equip Std",1,"шт.",null,"I4"]
["2CDS251001R0501","S201-D50","S201-D50 Автоматичний вимикач",611.22,"замовлення","4-6","Modular Equip Std",1,"шт.",null,"I4"]
["2CDS251001R0538","S201-Z32","S201-Z32 Автоматичний вимикач",550.19999999999993,"замовлення","4-6","Modular Equip Std",1,"шт.",null,"I4"]
["2CDS251103R0011","S201-D1NA","S201-D1NA Автоматичний вимикач",896.94,"замовлення","4-6","Modular Equip Std",1,"шт.",null,"I4"]
["2CDS251103R0254","S201-C25NA","S201-C25NA Автоматичний вимикач",793.44,"замовлення","4-6","Modular Equip Std",1,"шт.",null,"I4"]
["2CDS251103R0377","S201-K6NA","S201-K6NA Автоматичний вимикач",896.94,"замовлення","4-6","Modular Equip Std",1,"шт.",null,"I4"]
["2CDS251103R0537","S201-K32NA","S201-K32NA Автоматичний вимикач",933.18,"замовлення","4-6","Modular Equip Std",1,"шт.",null,"I4"]
["2CDS252001R0034","S202-C3","S202-C3 Автоматичний вимикач",587.33999999999992,"склад",1,"Modular Equip Std",1,"шт.",null,"I4"]
["2CDS252001R0158","S202-Z0.5","S202-Z0.5 Автоматичний вимикач",1210.0199999999998,"замовлення","4-6","Modular Equip Std",1,"шт.",null,"I4"]
["2CDS252001R0218","S202-Z1","S202-Z1 Автоматичний вимикач",1210.0199999999998,"замовлення","4-6","Modular Equip Std",1,"шт.",null,"I4"]
["2CDS252001R0405","S202-B40","S202-B40 Автоматичний вимикач",688.14,"склад",1,"Modular Equip Std",1,"шт.",null,"I4"]
["2CDS252001R0577","S202-K50","S202-K50 Автоматичний вимикач",1401.1200000000001,"замовлення","4-6","Modular Equip Std",1,"шт.",null,"I4"]
["2CDS253001R0101","S203-D10","S203-D10 Автоматичний вимикач",1419.66,"замовлення","4-6","Modular Equip Std",1,"шт.",null,"I4"]
["2CDS253001R0204","S203-C20","S203-C20 Автоматичний вимикач",643.08000000000004,"склад",1,"Modular Equip Std",1,"шт.",null,"I4"]
["2CDS253001R0378","S203-Z6","S203-Z6 Автоматичний вимикач",1832.76,"частково, в межах наявності на складі",1,"Modular Equip Std",1,"шт.",null,"I4"]
["2CDS253001R0557","S203-K40","S203-K40 Автоматичний вимикач",1845.12,"частково, в межах наявності на складі",1,"Modular Equip Std",1,"шт.",null,"I4"]
["2CDS253103R0041","S203-D4NA","S203-D4NA Автоматичний вимикач",2106.96,"замовлення","4-6","Modular Equip Std",1,"шт.",null,"I4"]
["2CDS253103R0084","S203-C8NA","S203-C8NA Автоматичний вимикач",1863.7199999999998,"замовлення","4-6","Modular Equip Std",1,"шт.",null,"I4"]
["2CDS253103R0255","S203-B25NA","S203-B25NA Автоматичний вимикач",1620.4799999999998,"замовлення","4-6","Modular Equip Std",1,"шт.",null,"I4"]
["2CDS253103R0488","S203-Z20NA","S203-Z20NA Автоматичний вимикач",2160.9,"замовлення","4-6","Modular Equip Std",1,"шт.",null,"I4"]
["2CDS253103R0805","S203-B80NA","S203-B80NA Автоматичний вимикач",6213.8400000000011,"замовлення","4-6","Modular Equip Std",1,"шт.",null,"I4"]
["2CDS254001R0104","S204-C10","S204-C10 Автоматичний вимикач",1533.78,"замовлення","4-6","Modular Equip Std",1,"шт.",null,"I4"]
["2CDS254001R0218","S204-Z1","S204-Z1 Автоматичний вимикач",2635.9199999999996,"замовлення","4-6","Modular Equip Std",1,"шт.",null,"I4"]
["2CDS254001R0501","S204-D50","S204-D50 Автоматичний вимикач",3055.2,"замовлення","4-6","Modular Equip Std",1,"шт.",null,"I4"]
["2CDS254001R0825","S204-B100","S204-B100 Автоматичний вимикач",6731.2800000000007,"замовлення","4-6","Modular Equip Std",1,"шт.",null,"I4"]
["2CDS271001R0014","S201M-C1","S201M-C1 Автоматичний вимикач",451.97999999999996,"замовлення","4-6","Modular Equip Std",1,"шт.",null,"I4"]
["2CDS271001R0157","S201M-K0.5","S201M-K0.5 Автоматичний вимикач",496.2,"замовлення","4-6","Modular Equip Std",1,"шт.",null,"I4"]
["2CDS271001R0258","S201M-Z1.6","S201M-Z1.6 Автоматичний вимикач",532.5,"замовлення","4-6","Modular Equip Std",1,"шт.",null,"I4"]
["2CDS271001R0504","S201M-C50","S201M-C50 Автоматичний вимикач",566.1,"замовлення","4-6","Modular Equip Std",1,"шт.",null,"I4"]
["2CDS271061R0014","S201M-C1UC","S201M-C1UC Автоматичний вимикач",945.54,"замовлення","4-6","Modular Equip Std",1,"шт.",null,"I4"]
["2CDS271061R0205","S201M-B20UC","S201M-B20UC Автоматичний вимикач",751.8599999999999,"замовлення","4-6","Modular Equip Std",1,"шт.",null,"I4"]
["2CDS271061R0428","S201M-Z10UC","S201M-Z10UC Автоматичний вимикач",1010.1600000000001,"замовлення","4-6","Modular Equip Std",1,"шт.",null,"I4"]
["2CDS271061R0558","S201M-Z40UC","S201M-Z40UC Автоматичний вимикач",1332.1200000000001,"замовлення","4-6","Modular Equip Std",1,"шт.",null,"I4"]
["2CDS271061R0635","S201M-B63UC","S201M-B63UC Автоматичний вимикач",1353.36,"замовлення","4-6","Modular Equip Std",1,"шт.",null,"I4"]
["2CDS271103R0064","S201M-C6NA","S201M-C6NA Автоматичний вимикач",826.14,"замовлення","4-6","Modular Equip Std",1,"шт.",null,"I4"]
["2CDS271103R0217","S201M-K1NA","S201M-K1NA Автоматичний вимикач",906.66000000000008,"замовлення","4-6","Modular Equip Std",1,"шт.",null,"I4"]
["2CDS271103R0447","S201M-K13NA","S201M-K13NA Автоматичний вимикач",1074.72,"замовлення","4-6","Modular Equip Std",1,"шт.",null,"I4"]
["2CDS271103R0558","S201M-Z40NA","S201M-Z40NA Автоматичний вимикач",987.12,"замовлення","4-6","Modular Equip Std",1,"шт.",null,"I4"]
["2CDS272001R0101","S202M-D10","S202M-D10 Автоматичний вимикач",1179.9599999999998,"замовлення","4-6","Modular Equip Std",1,"шт.",null,"I4"]
["2CDS272001R0257","S202M-K1.6","S202M-K1.6 Автоматичний вимикач",1418.82,"замовлення","4-6","Modular Equip Std",1,"шт.",null,"I4"]
["2CDS272001R0447","S202M-K13","S202M-K13 Автоматичний вимикач",1322.3999999999999,"замовлення","4-6","Modular Equip Std",1,"шт.",null,"I4"]
["2CDS272001R0488","S202M-Z20","S202M-Z20 Автоматичний вимикач",1464.78,"замовлення","4-6","Modular Equip Std",1,"шт.",null,"I4"]
["2CDS272001R0981","S202M-D0.5","S202M-D0.5 Автоматичний вимикач",1418.82,"замовлення","4-6","Modular Equip Std",1,"шт.",null,"I4"]
["2CDS272061R0255","S202M-B25UC","S202M-B25UC Автоматичний вимикач",1912.38,"замовлення","4-6","Modular Equip Std",1,"шт.",null,"I4"]
["2CDS272061R0505","S202M-B50UC","S202M-B50UC Автоматичний вимикач",2557.1999999999998,"замовлення","4-6","Modular Equip Std",1,"шт.",null,"I4"]
["2CDS272061R0548","S202M-Z35UC","S202M-Z35UC Автоматичний вимикач",2664.2400000000002,"замовлення","4-6","Modular Equip Std",1,"шт.",null,"I4"]
["2CDS273001R0061","S203M-D6","S203M-D6 Автоматичний вимикач",2156.52,"замовлення","4-6","Modular Equip Std",1,"шт.",null,"I4"]
["2CDS273001R0205","S203M-B20","S203M-B20 Автоматичний вимикач",1631.94,"замовлення","4-6","Modular Equip Std",1,"шт.",null,"I4"]
["2CDS273001R0405","S203M-B40","S203M-B40 Автоматичний вимикач",1845.12,"замовлення","4-6","Modular Equip Std",1,"шт.",null,"I4"]
["2CDS273001R0608","S203M-Z63","S203M-Z63 Автоматичний вимикач",3286.9200000000005,"замовлення","4-6","Modular Equip Std",1,"шт.",null,"I4"]
["2CDS273061R0134","S203M-C13UC","S203M-C13UC Автоматичний вимикач",2922.48,"замовлення","4-6","Modular Equip Std",1,"шт.",null,"I4"]
["2CDS273061R0258","S203M-Z1,6UC","S203M-Z1,6UC Автоматичний вимикач",4039.6799999999994,"замовлення","4-6","Modular Equip Std",1,"шт.",null,"I4"]
["2CDS273061R0358","S203M-Z5UC","S203M-Z5UC Автоматичний вимикач",4039.6799999999994,"замовлення","4-6","Modular Equip Std",1,"шт.",null,"I4"]
["2CDS273061R0518","S203M-Z25UC","S203M-Z25UC Автоматичний вимикач",4039.6799999999994,"замовлення","4-6","Modular Equip Std",1,"шт.",null,"I4"]
["2CDS273103R0031","S203M-D3NA","S203M-D3NA Автоматичний вимикач",4204.2,"замовлення","4-6","Modular Equip Std",1,"шт.",null,"I4"]
["2CDS273103R0158","S203M-Z0.5NA","S203M-Z0.5NA Автоматичний вимикач",2829.6,"замовлення","4-6","Modular Equip Std",1,"шт.",null,"I4"]
["2CDS273103R0321","S203M-D32NA","S203M-D32NA Автоматичний вимикач",4232.5199999999995,"замовлення","4-6","Modular Equip Std",1,"шт.",null,"I4"]
["2CDS273103R0538","S203M-Z32NA","S203M-Z32NA Автоматичний вимикач",2925.1799999999994,"замовлення","4-6","Modular Equip Std",1,"шт.",null,"I4"]
["2CDS273103R0634","S203M-C63NA","S203M-C63NA Автоматичний вимикач",3444.3599999999997,"замовлення","4-6","Modular Equip Std",1,"шт.",null,"I4"]
["2CDS274001R0044","S204M-C4","S204M-C4 Автоматичний вимикач",2830.5,"замовлення","4-6","Modular Equip Std",1,"шт.",null,"I4"]
["2CDS274001R0217","S204M-K1","S204M-K1 Автоматичний вимикач",3094.98,"замовлення","4-6","Modular Equip Std",1,"шт.",null,"I4"]
["2CDS274001R0404","S204M-C40","S204M-C40 Автоматичний вимикач",3061.38,"замовлення","4-6","Modular Equip Std",1,"шт.",null,"I4"]
["2CDS274001R0608","S204M-Z63","S204M-Z63 Автоматичний вимикач",4717.2,"замовлення","4-6","Modular Equip Std",1,"шт.",null,"I4"]
["2CDS274061R0135","S204M-B13UC","S204M-B13UC Автоматичний вимикач",3760.1400000000003,"замовлення","4-6","Modular Equip Std",1,"шт.",null,"I4"]
["2CDS274061R0378","S204M-Z6UC","S204M-Z6UC Автоматичний вимикач",5801.64,"замовлення","4-6","Modular Equip Std",1,"шт.",null,"I4"]
["2CDS274061R0528","S204M-Z30UC","S204M-Z30UC Автоматичний вимикач",5801.64,"замовлення","4-6","Modular Equip Std",1,"шт.",null,"I4"]
["2CDS274061R0587","S204M-K60UC","S204M-K60UC Автоматичний вимикач",8058.12,"замовлення","4-6","Modular Equip Std",1,"шт.",null,"I4"]
["2CDS281001R0044","S201P-C4","S201P-C4 Автоматичний вимикач",713.82,"замовлення","4-6","Modular Equip Std",1,"шт.",null,"I4"]
["2CDS281001R0204","S201P-C20","S201P-C20 Автоматичний вимикач",682.8599999999999,"замовлення","4-6","Modular Equip Std",1,"шт.",null,"I4"]
["2CDS281001R0338","S201P-Z4","S201P-Z4 Автоматичний вимикач",867.72,"замовлення","4-6","Modular Equip Std",1,"шт.",null,"I4"]
["2CDS281001R0631","S201P-D63","S201P-D63 Автоматичний вимикач",1146.3599999999999,"замовлення","4-6","Modular Equip Std",1,"шт.",null,"I4"]
["2CDS281103R0101","S201P-D10NA","S201P-D10NA Автоматичний вимикач",1233.8999999999999,"замовлення","4-6","Modular Equip Std",1,"шт.",null,"I4"]
["2CDS281103R0317","S201P-K3NA","S201P-K3NA Автоматичний вимикач",1480.68,"замовлення","4-6","Modular Equip Std",1,"шт.",null,"I4"]
["2CDS281103R0377","S201P-K6NA","S201P-K6NA Автоматичний вимикач",1480.68,"замовлення","4-6","Modular Equip Std",1,"шт.",null,"I4"]
["2CDS281103R0971","S201P-D1.6NA","S201P-D1.6NA Автоматичний вимикач",1480.68,"замовлення","4-6","Modular Equip Std",1,"шт.",null,"I4"]
["2CDS282001R0021","S202P-D2","S202P-D2 Автоматичний вимикач",1856.6399999999999,"замовлення","4-6","Modular Equip Std",1,"шт.",null,"I4"]
["2CDS282001R0277","S202P-K2","S202P-K2 Автоматичний вимикач",1856.6399999999999,"замовлення","4-6","Modular Equip Std",1,"шт.",null,"I4"]
["2CDS282001R0378","S202P-Z6","S202P-Z6 Автоматичний вимикач",1987.56,"замовлення","4-6","Modular Equip Std",1,"шт.",null,"I4"]
["2CDS282001R0558","S202P-Z40","S202P-Z40 Автоматичний вимикач",2152.9799999999996,"замовлення","4-6","Modular Equip Std",1,"шт.",null,"I4"]
["2CDS283001R0044","S203P-C4","S203P-C4 Автоматичний вимикач",2482.86,"замовлення","4-6","Modular Equip Std",1,"шт.",null,"I4"]
["2CDS283001R0135","S203P-B13","S203P-B13 Автоматичний вимикач",1788.5399999999997,"замовлення","4-6","Modular Equip Std",1,"шт.",null,"I4"]
["2CDS283001R0408","S203P-Z8","S203P-Z8 Автоматичний вимикач",3017.1600000000003,"замовлення","4-6","Modular Equip Std",1,"шт.",null,"I4"]
["2CDS283001R0607","S203P-K63","S203P-K63 Автоматичний вимикач",3991.0199999999995,"замовлення","4-6","Modular Equip Std",1,"шт.",null,"I4"]
["2CDS283001R0974","S203P-C1.6","S203P-C1.6 Автоматичний вимикач",2482.86,"замовлення","4-6","Modular Equip Std",1,"шт.",null,"I4"]
["2CDS283103R0254","S203P-C25NA","S203P-C25NA Автоматичний вимикач",3072,"замовлення","4-6","Modular Equip Std",1,"шт.",null,"I4"]
["2CDS283103R0324","S203P-C32NA","S203P-C32NA Автоматичний вимикач",3199.38,"замовлення","4-6","Modular Equip Std",1,"шт.",null,"I4"]
["2CDS283103R0504","S203P-C50NA","S203P-C50NA Автоматичний вимикач",3838.8599999999997,"замовлення","4-6","Modular Equip Std",1,"шт.",null,"I4"]
["2CDS284001R0031","S204P-D3","S204P-D3 Автоматичний вимикач",4044.9599999999996,"замовлення","4-6","Modular Equip Std",1,"шт.",null,"I4"]
["2CDS284001R0187","S204P-K0.75","S204P-K0.75 Автоматичний вимикач",4044.9599999999996,"замовлення","4-6","Modular Equip Std",1,"шт.",null,"I4"]
["2CDS284001R0338","S204P-Z4","S204P-Z4 Автоматичний вимикач",4339.5,"замовлення","4-6","Modular Equip Std",1,"шт.",null,"I4"]
["2CDS284001R0518","S204P-Z25","S204P-Z25 Автоматичний вимикач",4339.5,"замовлення","4-6","Modular Equip Std",1,"шт.",null,"I4"]
["2CDS200909R0002","S2C-A2","S2C-A2 Паралельний розчеплювач",801.3599999999999,"замовлення","4-6","Modular Equip Std",1,"шт.",null,"I4"]
["2CDS200936R0002","S2C-H20L","S2C-H20L Блок додаткових контактів",487.38,"замовлення","4-6","Modular Equip Std",1,"шт.",null,"I4"]
["2CSS200933R0012","F2C-A2","F2C-A2 Паралельний роз'єднувач",1456.8,"замовлення","4-6","Modular Equip Std",1,"шт.",null,"I4"]
["2CDL210001R1660","PS1/60/16","PS1/60/16 З'єднувальна шина",476.75999999999993,"склад",1,"Modular Equip Std",1,"шт.",null,"I4"]
["2CDL210011R1657","PS1/57/16N","PS1/57/16N З'єднувальна шина",707.64,"замовлення","4-6","Modular Equip Std",1,"шт.",null,"I4"]
["2CDL230001R1660","PS3/60/16","PS3/60/16 З'єднувальна шина",1152.54,"склад",1,"Modular Equip Std",1,"шт.",null,"I4"]
["2CDL240101R1652","PS4/52/16H","PS4/52/16H З'єднувальна шина",2452.7999999999997,"замовлення","4-6","Modular Equip Std",1,"шт.",null,"I4"]
["2CSL930001R1057","BS9 3/57","BS9 3/57 З'єднувальна шина",1141.0199999999998,"замовлення","4-6","Modular Equip Std",5,"шт.",null,"I4"]
["2CDL200002R5002","SZ-Ast55I","SZ-Ast55I Клемний термінал",199.92,"замовлення","4-6","Modular Equip Std",1,"шт.",null,"I4"]
["GHV0360876R0011","SZ-Nc6/3C","SZ-Nc6/3C Клемний термінал (N)",129.11999999999998,"замовлення","4-6","Modular Equip Std",1,"шт.",null,"I4"]
["GJF1101903R0003","SA3","SA3 Блокуючий замок",314.87999999999994,"замовлення","4-6","Modular Equip Std",1,"шт.",null,"I4"]
["2CDH784010R0537","S754DR-K32","S754DR-K32 Селект автоматичний вимикач",16990.98,"замовлення","4-6","Modular Equip Std",1,"шт.",null,"I4"]
["2CCS800900R0061","S800-NT","S800-NT Розчеплювач нейтралі",1231.26,"замовлення","4-6","Modular Equip Std",1,"шт.",null,"I4"]
["2CCS811001R0321","S801B-D32","S801B-D32  Автоматичний вимикач",964.14,"замовлення","4-6","Modular Equip Std",1,"шт.",null,"I4"]
["2CCS811001R0577","S801B-K50","S801B-K50  Автоматичний вимикач",904.8599999999999,"замовлення","4-6","Modular Equip Std",1,"шт.",null,"I4"]
["2CCS812001R0637","S802B-K100","S802B-K100  Автоматичний вимикач",2474.9399999999996,"замовлення","4-6","Modular Equip Std",1,"шт.",null,"I4"]
["2CCS813001R0557","S803B-K40","S803B-K40  Автоматичний вимикач",2736.72,"замовлення","4-6","Modular Equip Std",1,"шт.",null,"I4"]
["2CCS814001R0401","S804B-D40","S804B-D40  Автоматичний вимикач",3952.98,"замовлення","4-6","Modular Equip Std",1,"шт.",null,"I4"]
["2CCS814001R0557","S804B-K40","S804B-K40  Автоматичний вимикач",3714.1799999999994,"замовлення","4-6","Modular Equip Std",1,"шт.",null,"I4"]
["2CCS881001R0104","S801C C10","S801C C10  Автоматичний вимикач",1264.8599999999999,"замовлення","4-6","Modular Equip Std",1,"шт.",null,"I4"]
["2CCS881001R0405","S801C B40","S801C B40  Автоматичний вимикач",1411.74,"замовлення","4-6","Modular Equip Std",1,"шт.",null,"I4"]
["2CCS881001R0634","S801C C63","S801C C63  Автоматичний вимикач",1411.74,"частково, в межах наявності на складі",1,"Modular Equip Std",1,"шт.",null,"I4"]
["2CCS882001R0321","S802C D32","S802C D32  Автоматичний вимикач",2988.8399999999997,"замовлення","4-6","Modular Equip Std",1,"шт.",null,"I4"]
["2CCS882001R0804","S802C C80","S802C C80  Автоматичний вимикач",3508.0799999999995,"замовлення","4-6","Modular Equip Std",1,"шт.",null,"I4"]
["2CCS883001R0205","S803C B20","S803C B20  Автоматичний вимикач",3663.72,"замовлення","4-6","Modular Equip Std",1,"шт.",null,"I4"]
["2CCS883001R0557","S803C K40","S803C K40  Автоматичний вимикач",4454.5199999999995,"замовлення","4-6","Modular Equip Std",1,"шт.",null,"I4"]
["2CCS883001R0634","S803C C63","S803C C63  Автоматичний вимикач",4097.16,"замовлення","4-6","Modular Equip Std",1,"шт.",null,"I4"]
["2CCS884001R0161","S804C D16","S804C D16  Автоматичний вимикач",5978.579999999999,"замовлення","4-6","Modular Equip Std",1,"шт.",null,"I4"]
["2CCS884001R0577","S804C K50","S804C K50  Автоматичний вимикач",6290.8200000000006,"замовлення","4-6","Modular Equip Std",1,"шт.",null,"I4"]
["2CCS884001R0805","S804C B80","S804C B80  Автоматичний вимикач",7015.26,"замовлення","4-6","Modular Equip Std",1,"шт.",null,"I4"]
["2CCS891001R0255","S801N B25","S801N B25  Автоматичний вимикач",1627.56,"замовлення","4-6","Modular Equip Std",1,"шт.",null,"I4"]
["2CCS892001R0081","S802N-D8","S802N-D8  Автоматичний вимикач",4194.4799999999996,"замовлення","4-6","Modular Equip Std",1,"шт.",null,"I4"]
["2CCS892001R0255","S802N B25","S802N B25  Автоматичний вимикач",3335.5799999999995,"замовлення","4-6","Modular Equip Std",1,"шт.",null,"I4"]
["2CCS892001R0844","S802N C125","S802N C125  Автоматичний вимикач",4853.4599999999991,"замовлення","4-6","Modular Equip Std",1,"шт.",null,"I4"]
["2CCS893001R0084","S803N-C8","S803N-C8  Автоматичний вимикач",4742.88,"замовлення","4-6","Modular Equip Std",1,"шт.",null,"I4"]
["2CCS893001R0325","S803N B32","S803N B32  Автоматичний вимикач",4719,"замовлення","4-6","Modular Equip Std",1,"шт.",null,"I4"]
["2CCS894001R0164","S804N C16","S804N C16  Автоматичний вимикач",6672.9,"замовлення","4-6","Modular Equip Std",1,"шт.",null,"I4"]
["2CCS894001R0401","S804N D40","S804N D40  Автоматичний вимикач",8605.6200000000008,"замовлення","4-6","Modular Equip Std",1,"шт.",null,"I4"]
["2CCS861001R0064","S801S C6","S801S C6  Автоматичний вимикач",2441.3399999999997,"замовлення","4-6","Modular Equip Std",1,"шт.",null,"I4"]
["2CCS861001R0321","S801S D32","S801S D32  Автоматичний вимикач",2344.9199999999996,"замовлення","4-6","Modular Equip Std",1,"шт.",null,"I4"]
["2CCS861001R0635","S801S B63","S801S B63  Автоматичний вимикач",2273.2800000000002,"замовлення","4-6","Modular Equip Std",1,"шт.",null,"I4"]
["2CCS861001R0821","S801S D100","S801S D100  Автоматичний вимикач",3388.62,"замовлення","4-6","Modular Equip Std",1,"шт.",null,"I4"]
["2CCS862001R0161","S802S D16","S802S D16  Автоматичний вимикач",4818.0600000000004,"замовлення","4-6","Modular Equip Std",1,"шт.",null,"I4"]
["2CCS862001R0577","S802S K50","S802S K50  Автоматичний вимикач",5158.62,"замовлення","4-6","Modular Equip Std",1,"шт.",null,"I4"]
["2CCS863001R0061","S803S D6","S803S D6  Автоматичний вимикач",8039.52,"замовлення","4-6","Modular Equip Std",1,"шт.",null,"I4"]
["2CCS863001R0251","S803S D25","S803S D25  Автоматичний вимикач",6805.62,"замовлення","4-6","Modular Equip Std",1,"шт.",null,"I4"]
["2CCS863001R0517","S803S K25","S803S K25  Автоматичний вимикач",6526.0800000000008,"замовлення","4-6","Modular Equip Std",1,"шт.",null,"I4"]
["2CCS863001R0841","S803S D125","S803S D125  Автоматичний вимикач",10551.6,"замовлення","4-6","Modular Equip Std",1,"шт.",null,"I4"]
["2CCS864001R0205","S804S B20","S804S B20  Автоматичний вимикач",8338.5,"замовлення","4-6","Modular Equip Std",1,"шт.",null,"I4"]
["2CCS864001R0325","S804S B32","S804S B32  Автоматичний вимикач",8338.5,"замовлення","4-6","Modular Equip Std",1,"шт.",null,"I4"]
["2CCS864001R0804","S804S C80","S804S C80  Автоматичний вимикач",12033.179999999998,"замовлення","4-6","Modular Equip Std",1,"шт.",null,"I4"]
["2CCS861001R1325","S801S-UCB32","S801S-UCB32  Автоматичний вимикач",2502.36,"замовлення","4-6","Modular Equip Std",1,"шт.",null,"I4"]
["2CCS862001R1405","S802S-UCB40","S802S-UCB40  Автоматичний вимикач",5742.42,"замовлення","4-6","Modular Equip Std",1,"шт.",null,"I4"]
["2CCS863001R1135","S803S-UCB13","S803S-UCB13  Автоматичний вимикач",7253.1599999999989,"замовлення","4-6","Modular Equip Std",1,"шт.",null,"I4"]
["2CCS863001R1627","S803S-UCK80","S803S-UCK80  Автоматичний вимикач",11257.44,"замовлення","4-6","Modular Equip Std",1,"шт.",null,"I4"]
["2CCS864001R1647","S804S-UCK125","S804S-UCK125  Автоматичний вимикач",17097.12,"замовлення","4-6","Modular Equip Std",1,"шт.",null,"I4"]
["2CSF202001R3900","F202AC-100/0,3","F202AC-100/0,3 пристрій захис. відключ.",2038.86,"замовлення","4-6","Modular Equip Std",1,"шт.",null,"I4"]
["2CSF202101R2630","F202A-63/0,1","F202A-63/0,1 пристрій захис. відключ.",2641.2,"замовлення","4-6","Modular Equip Std",1,"шт.",null,"I4"]
["2CSF204001R3900","F204AC-100/0,3","F204AC-100/0,3 пристрій захис. відключ.",2912.7599999999998,"замовлення","4-6","Modular Equip Std",1,"шт.",null,"I4"]
["2CSF204101R3950","F204A-125/0,3","F204A-125/0,3 пристрій захис. відключ.",15301.560000000001,"замовлення","4-6","Modular Equip Std",1,"шт.",null,"I4"]
["2CSF204201R3400","F204AS-40/0,3","F204AS-40/0,3 пристрій захис. відключ.",3207.2999999999997,"замовлення","4-6","Modular Equip Std",1,"шт.",null,"I4"]
["2CSF204592R1630","F204B-63/0,03","F204B-63/0,03 пристрій захис. відключ.",22344.18,"замовлення","4-6","Modular Equip Std",1,"шт.",null,"I4"]
["2CSR255140R1017","DS201K1A30","DS201K1A30 Диф. автомат. вимикач",2555.4,"замовлення","4-6","Modular Equip Std",1,"шт.",null,"I4"]
["2CSR255140R1207","DS201K20A30","DS201K20A30 Диф. автомат. вимикач",2259.12,"замовлення","4-6","Modular Equip Std",1,"шт.",null,"I4"]
["2CSR275040R1165","DS201MB16AC30","DS201MB16AC30 Диф. автомат. вимикач",2039.7599999999998,"замовлення","4-6","Modular Equip Std",1,"шт.",null,"I4"]
["2CSR275140R0105","DS201MB10A10","DS201MB10A10 Диф. автомат. вимикач",3057.8399999999997,"замовлення","4-6","Modular Equip Std",1,"шт.",null,"I4"]
["2CSR252140R1135","DS202CB13A30","DS202CB13A30 Диф. автомат. вимикач",2447.52,"замовлення","4-6","Modular Equip Std",1,"шт.",null,"I4"]
["2CSR256040R1204","DS203NCC20AC30","DS203NCC20AC30 Диф. автомат. вимикач",3956.5199999999995,"замовлення","4-6","Modular Equip Std",1,"шт.",null,"I4"]
["2CSR256140R1137","DS203NCK13A30","DS203NCK13A30 Диф. автомат. вимикач",6172.26,"замовлення","4-6","Modular Equip Std",1,"шт.",null,"I4"]
["2CSR256140R1254","DS203NCC25A30","DS203NCC25A30 Диф. автомат. вимикач",4747.3200000000006,"частково, в межах наявності на складі",1,"Modular Equip Std",1,"шт.",null,"I4"]
["2CSR253001R1324","DS203AC-C32/0,03","DS203AC-C32/0,03 Диф. автомат. вимикач",3111.78,"замовлення","4-6","Modular Equip Std",1,"шт.",null,"I4"]
["2CSR253101R1255","DS203A-B25/0,03","DS203A-B25/0,03 Диф. автомат. вимикач",3715.92,"замовлення","4-6","Modular Equip Std",1,"шт.",null,"I4"]
["2CSR254001R1325","DS204AC-B32/0,03","DS204AC-B32/0,03 Диф. автомат. вимикач",3532.7999999999997,"замовлення","4-6","Modular Equip Std",1,"шт.",null,"I4"]
["2CSR254101R1207","DS204A-K20/0,03","DS204A-K20/0,03 Диф. автомат. вимикач",8340.24,"замовлення","4-6","Modular Equip Std",1,"шт.",null,"I4"]
["2CSR273001R1105","DS203MAC-B10/0,03","DS203MAC-B10/0,03 Диф. автомат. вимикач",3145.38,"замовлення","4-6","Modular Equip Std",1,"шт.",null,"I4"]
["2CSR273001R1404","DS203MAC-C40/0,03","DS203MAC-C40/0,03 Диф. автомат. вимикач",3517.7999999999997,"замовлення","4-6","Modular Equip Std",1,"шт.",null,"I4"]
["2CSR273101R1165","DS203MA-B16/0,03","DS203MA-B16/0,03 Диф. автомат. вимикач",4036.1400000000003,"замовлення","4-6","Modular Equip Std",1,"шт.",null,"I4"]
["2CSR274001R1164","DS204MAC-C16/0,03","DS204MAC-C16/0,03 Диф. автомат. вимикач",3558.48,"замовлення","4-6","Modular Equip Std",1,"шт.",null,"I4"]
["2CSR274101R1255","DS204MA-B25/0,03","DS204MA-B25/0,03 Диф. автомат. вимикач",4343.04,"замовлення","4-6","Modular Equip Std",1,"шт.",null,"I4"]
["2CSB202101R1400","DDA202A-40/0,03","DDA202A-40/0,03 Блочний ПЗВ  до S200",2615.58,"замовлення","4-6","Modular Equip Std",1,"шт.",null,"I4"]
["2CSB203101R1250","DDA203A-25/0,03","DDA203A-25/0,03 Блочний ПЗВ  до S200",2695.2,"замовлення","4-6","Modular Equip Std",1,"шт.",null,"I4"]
["2CSB204201R2630","DDA204AS-63/0,1","DDA204AS-63/0,1 Блочний ПЗВ  до S200",3956.5199999999995,"замовлення","4-6","Modular Equip Std",1,"шт.",null,"I4"]
["2CSB804101R3630","DDA804A-63/0,3","DDA804A-63/0,3 Блочний ПЗВ  до S800",6925.02,"замовлення","4-6","Modular Equip Std",1,"шт.",null,"I4"]
["2CCB863004R0647","DS803S K 125/0.03","DS803S K 125/0.03 Диф автомат вимикач",18969.719999999998,"замовлення","4-6","Modular Equip Std",1,"шт.",null,"I4"]
["2CCB892004R0841","DS802N D 125/0.03","DS802N D 125/0.03 Диф автомат вимикач",14012.759999999998,"замовлення","4-6","Modular Equip Std",1,"шт.",null,"I4"]
["2CCC864005R0844","DS804S C 125/0.3 A","DS804S C 125/0.3 A Диф автомат вимикач",23626.74,"замовлення","4-6","Modular Equip Std",1,"шт.",null,"I4"]
["2CCA864005R0841","DS804S D 125/0.3 A","DS804S D 125/0.3 A Диф автомат вимикач",23730.240000000002,"замовлення","4-6","Modular Equip Std",1,"шт.",null,"I4"]
["2CSM202063R1801","E93/32S","E93/32S Вимикач з тепл вставками",988.01999999999987,"замовлення","4-6","Modular Equip Std",1,"шт.",null,"I4"]
["2CSM277972R1801","E92/50","E92/50 Вимикач з тепл вставками",1195.0199999999998,"замовлення","4-6","Modular Equip Std",1,"шт.",null,"I4"]
["2CSM277333R1801","E9F10GG05","E9F10GG05 Теплова вставка",77.820000000000007,"замовлення","4-6","Modular Equip Std",10,"шт.",null,"I4"]
["2CSM277103R1801","E9F10GG25","E9F10GG25 Теплова вставка",38.04,"замовлення","4-6","Modular Equip Std",10,"шт.",null,"I4"]
["2CSM257183R1801","E9F22GG4","E9F22GG4 Теплова вставка",120.3,"замовлення","4-6","Modular Equip Std",10,"шт.",null,"I4"]
["2CSM256383R1801","E9F8AM8","E9F8AM8 Теплова вставка",38.04,"замовлення","4-6","Modular Equip Std",10,"шт.",null,"I4"]
["2CSM256263R1801","E9F14AM8","E9F14AM8 Теплова вставка",77.820000000000007,"замовлення","4-6","Modular Equip Std",10,"шт.",null,"I4"]
["2CSM213466R1801","E9F2PV","E9F2PV Теплова вставка",463.5,"замовлення","4-6","Modular Equip Std",10,"шт.",null,"I4"]
["2CDD272111R0016","SHD202/16","SHD202/16 Вимикач навантаження",326.39999999999998,"замовлення","4-6","Modular Equip Std",1,"шт.",null,"I4"]
["2CDD282101R0025","SD202/25","SD202/25 Вимикач навантаження",375.9,"замовлення","4-6","Modular Equip Std",1,"шт.",null,"I4"]
["2CDD283101R0040","SD203/40","SD203/40 Вимикач навантаження",674.04000000000008,"замовлення","4-6","Modular Equip Std",1,"шт.",null,"I4"]
["2CDE282001R0032","E202/32r","E202/32r Вимикач навантаження",380.34,"склад",1,"Modular Equip Std",1,"шт.",null,"I4"]
["2CDE282001R0125","E202/125r","E202/125r Вимикач навантаження",449.34,"склад",1,"Modular Equip Std",1,"шт.",null,"I4"]
["2CDE284001R0080","E204/80r","E204/80r Вимикач навантаження",899.58,"замовлення","4-6","Modular Equip Std",1,"шт.",null,"I4"]
["2CDE284001R1016","E204/16g","E204/16g Вимикач навантаження",727.9799999999999,"замовлення","4-6","Modular Equip Std",1,"шт.",null,"I4"]
["2CCA703000R0001","E211-16-10","E211-16-10 Вимикач",298.37999999999994,"замовлення","4-6","Modular Equip Std",10,"шт.",null,"I4"]
["2CCA703046R0001","E213-25-002","E213-25-002 Вимикач",855,"замовлення","4-6","Modular Equip Std",10,"шт.",null,"I4"]
["2CCA703173R0001","E217-16-10E48","E217-16-10E48 Вимикач кноп. з індикацією",485.58000000000004,"замовлення","4-6","Modular Equip Std",10,"шт.",null,"I4"]
["2CCA703261R0001","E217-16-01C48","E217-16-01C48 Вимикач кноп. з індикацією",485.58000000000004,"замовлення","4-6","Modular Equip Std",10,"шт.",null,"I4"]
["2CCA703900R0001","E219-3C","E219-3C Індикатор",550.19999999999993,"склад",1,"Modular Equip Std",1,"шт.",null,"I4"]
["2TAZ311000R2032","E297-16-20/48","E297-16-20/48 Контакторне реле",835.01999999999987,"замовлення","4-6","Modular Equip Std",10,"шт.",null,"I4"]
["2TAZ312000R2023","E290-16-11/115","E290-16-11/115 Імпульсне реле",613.32000000000005,"замовлення","4-6","Modular Equip Std",10,"шт.",null,"I4"]
["2TAZ322000R2033","E290-32-11/48","E290-32-11/48 Імпульсне реле",1425.8999999999999,"замовлення","4-6","Modular Equip Std",10,"шт.",null,"I4"]
["2TAZ322000R2053","E290-32-11/12","E290-32-11/12 Імпульсне реле",1425.8999999999999,"замовлення","4-6","Modular Equip Std",10,"шт.",null,"I4"]
["2CSM207173R0801","TM-C2500/115-230","TM-C2500/115-230 Трансформатор напруги",20966.099999999999,"замовлення","4-6","Modular Equip Std",1,"шт.",null,"I4"]
["2CSM204603R0801","TM-S630/24-48P","TM-S630/24-48P Трансформатор напруги",8101.44,"замовлення","4-6","Modular Equip Std",1,"шт.",null,"I4"]
["2CSM204583R0801","TM-I50/115-230P","TM-I50/115-230P Трансформатор напруги",2168.88,"замовлення","4-6","Modular Equip Std",1,"шт.",null,"I4"]
["2CSM228645R0812","TS16/8","TS16/8 Трансформатор напруги",1313.5199999999998,"замовлення","4-6","Modular Equip Std",1,"шт.",null,"I4"]
["2CSM211000R0721","M1175-C","M1175-C Модульна розетка",383.94,"склад",1,"Modular Equip Std",1,"шт.",null,"I4"]
["2CSM251163R1380","THS-C","THS-C Модульний термостат",3874.26,"замовлення","4-6","Modular Equip Std",1,"шт.",null,"I4"]
["2CSM121200R1301","RAL6","RAL6 Реле перевантаження",1717.74,"замовлення","4-6","Modular Equip Std",1,"шт.",null,"I4"]
["2CMA170500R1000","A41 112-100","A41 112-100 Лічильник електроенергії",14073.78,"замовлення","4-6","Modular Equip Std",1,"шт.",null,"I4"]
["2CMA170526R1000","A43 313-100","A43 313-100 Лічильник електроенергії",24035.399999999998,"замовлення","4-6","Modular Equip Std",1,"шт.",null,"I4"]
["2CMA100165R1000","B23 113-100","B23 113-100 Лічильник електроенергії",11014.199999999999,"замовлення","4-6","Modular Equip Std",1,"шт.",null,"I4"]
["2CSJ202001R0002","RD3M","RD3M Реле струму витоку",7354.9199999999992,"замовлення","4-6","Modular Equip Std",1,"шт.",null,"I4"]
["2CSM122310R1321","RLI","RLI Реле мінімального струму",5212.5600000000004,"замовлення","4-6","Modular Equip Std",1,"шт.",null,"I4"]
["2CSG225785R1101","CTPROXT100","CTPROXT100 Трансформатор струму",932.28,"склад",1,"Modular Equip Std",1,"шт.",null,"I4"]
["2CSG101150R1101","CT30/400","CT30/400 Трансформатор струму",13739.46,"замовлення","4-6","Modular Equip Std",1,"шт.",null,"I4"]
["2CSG225995R1101","CTMAX1000","CTMAX1000 Трансформатор струму",2052.12,"склад",1,"Modular Equip Std",1,"шт.",null,"I4"]
["2CSG521190R1101","CT8/1000","CT8/1000 Трансформатор струму",3001.2,"замовлення","4-6","Modular Equip Std",1,"шт.",null,"I4"]
["2CSG201130R1101","CT80/250","CT80/250 Трансформатор струму",15237.839999999998,"замовлення","4-6","Modular Equip Std",1,"шт.",null,"I4"]
["2CSG831250R1101","CT12-V/3000А","CT12-V/3000А Трансформатор струму",7596.3599999999988,"замовлення","4-6","Modular Equip Std",1,"шт.",null,"I4"]
["2CSG323140R5021","TV2-440-R3/100","TV2-440-R3/100 Трансформатор напруги",5922.8399999999992,"замовлення","4-6","Modular Equip Std",1,"шт.",null,"I4"]
["2CCA880220R0001","CMS-120CA","CMS-120CA Датчик струму",1923.8399999999997,"замовлення","4-6","Modular Equip Std",1,"шт.",null,"I4"]
["2CTB815101R1500","OVR T1 1N 25 255","OVR T1 1N 25 255 Обмежувач імпульсної перенапруги",16065.78,"замовлення","4-6","Modular Equip Std",1,"шт.",null,"I4"]
["2CTB815710R1800","OVR T1-T2 3L 12.5-275s P  QS","OVR T1-T2 3L 12.5-275s P  QS Обмежувач імпульсної перенапруги",4800.3599999999997,"склад",1,"Modular Equip Std",1,"шт.","основна пропозиція","I4"]
["2CTB815710R4200","OVR T1-T2 1N 12.5-440s P  QS","OVR T1-T2 1N 12.5-440s P  QS Обмежувач імпульсної перенапруги",9205.32,"замовлення","4-6","Modular Equip Std",1,"шт.",null,"I4"]
["2CTB803871R2300","OVR T2 40-275 P QS","OVR T2 40-275 P QS Обмежувач імпульсної перенапруги",1552.38,"склад",1,"Modular Equip Std",1,"шт.","див. закладку \"Акційне обладнання\"","I4"]
["2CTB815708R1400","OVR T2 1N 80-275s P  QS","OVR T2 1N 80-275s P  QS Обмежувач імпульсної перенапруги",5868.9,"замовлення","4-6","Modular Equip Std",1,"шт.",null,"I4"]
["2CTB804153R3200","OVR PV T2 40-1000 C QS","OVR PV T2 40-1000 C QS Обмежувач імпульсної перенапруги",1653.1799999999998,"замовлення","4-6","Modular Equip Std",1,"шт.",null,"I4"]
["2CKA001741A0067",3030,"3030 Коробка прих.монт.бритв 2332UJBS-XX",116.64869246458086,"замовлення","5-7","WA/Standard",1,"шт.",null,"Y3"]
["2CLA811900A1001",8119,"8119 Механізм зумера",529.05233747715397,"замовлення","5-7","WA/Standard",1,"шт.",null,"Y3"]
["2CKA001784A0636",8366,"8366 Лампа заміни кнопок Impuls 12В 40мА",146.95898263254281,"замовлення","5-7","WA/Standard",1,"шт.",null,"Y3"]
["2CKA000230A0400","0221/12-507","0221/12-507 Мех.подв. 8-п. н/екр. кат.6",781.63808887683683,"замовлення","5-7","WA/Standard",1,"шт.",null,"Y3"]
["2CKA000230A0268","0231-101","0231-101 Механізм прохідний TV+R",1228.0259986231854,"замовлення","5-7","WA/Standard",1,"шт.",null,"Y3"]
["2CKA000230A0445","0263/12-500","0263/12-500 Ц.пл.акус.роз'єм Cinch білий",289.32549705781861,"замовлення","5-7","WA/Standard",1,"шт.",null,"Y3"]
["2CKA001032A0484","1095 U","1095 U Механізм терморег. 1НЗ лампа 10А",3682.882982219729,"замовлення","5-7","WA/Standard",1,"шт.",null,"Y3"]
["2CKA001799A0900","1702-81","1702-81 Коробка зовн. 2 поста Future",1022.1079645366143,"замовлення","5-7","WA/Design",1,"шт.",null,"Y2"]
["2CKA001799A0966","1702-95-507","1702-95-507 Коробка зовн. 2п. B55 ч.шато",409.64816408821304,"замовлення","5-7","WA/Standard",1,"шт.",null,"Y3"]
["2CKA001754A4173","1721-184","1721-184 Рамка 1 пост Future білий",96.792070992684188,"замовлення","5-7","WA/Design",1,"шт.",null,"Y2"]
["2CKA001754A4471","1721-291-500","1721-291-500 Рамка 1п. Axcent сір.ентре",338.31605207158754,"замовлення","5-7","WA/Design",1,"шт.",null,"Y2"]
["2CKA001754A4565","1721-835-500","1721-835-500 Pамка 1п ДИНАСТИЯ л.п/антр",1391.8605971118984,"склад","1","WA/Design",1,"шт.",null,"Y2"]
["2CKA001754A4580","1721-848-500","1721-848-500 Pамка 1п ДИНАСТИЯ л.а/сл.к",1391.8605971118984,"склад","1","WA/Design",1,"шт.",null,"Y2"]
["2CKA001754A4544","1722-283","1722-283 Рамка 2 поста Axcent бронз.скло",2366.6766790052907,"замовлення","5-7","WA/Design",1,"шт.",null,"Y2"]
["2CKA001754A4255","1722-860","1722-860 Рамка 2 поста Carat сталь",2259.7510517432233,"замовлення","5-7","WA/Design",1,"шт.",null,"Y2"]
["2CKA001754A4237","1723-184K","1723-184K Рамка 3 поста FutureL білий",160.71364210899992,"склад","1","WA/Design",1,"шт.",null,"Y2"]
["2CKA001754A4483","1723-299-500","1723-299-500 Рамка 3п. Axcent беж.мейсон",1269.6365819779364,"замовлення","5-7","WA/Design",1,"шт.",null,"Y2"]
["2CKA001754A4582","1723-848-500","1723-848-500 Pамка 3п. ДИНАСТИЯ л.а/сл.к",3911.7875063081588,"замовлення","5-7","WA/Design",1,"шт.",null,"Y2"]
["2CKA001753A4124","1724-284/11","1724-284/11 Рамка врівень 4п. Axcent біл",703.01495089627076,"замовлення","5-7","WA/Design",1,"шт.",null,"Y2"]
["2CKA001754A4363","1724-826-101","1724-826-101 Рамка 4 поста Carat хром",12105.999848056863,"замовлення","5-7","WA/Design",1,"шт.",null,"Y2"]
["2CKA001754A4441","1725-280","1725-280 Рамка 5 постів Axcent скло біле",7765.1579546303092,"замовлення","5-7","WA/Design",1,"шт.",null,"Y2"]
["2CKA001754A4353","1725-287","1725-287 Рамка 5 постів Axcent червоний",2318.6864368482998,"замовлення","5-7","WA/Design",1,"шт.",null,"Y2"]
["2CKA001754A4569","1725-835-500","1725-835-500 Pамка 5п. ДИНАСТИЯ л.п/антр",11036.877462596689,"замовлення","5-7","WA/Design",1,"шт.",null,"Y2"]
["2CKA001710A3154","1740-82","1740-82 Ц.плата жалюзі Future сл.кістка",285.41565072315666,"замовлення","5-7","WA/Design",1,"шт.",null,"Y2"]
["2CKA001724A2737","1743-01-212-500","1743-01-212-500 Розетка TV BD сл.кістка",424.2064168001782,"склад","1","WA/Standard",1,"шт.",null,"Y3"]
["2CKA001753A5440","1743-79","1743-79 Ц.плата TV+R Impuls шамп.металік",487.47982822627648,"замовлення","5-7","WA/Design",1,"шт.",null,"Y2"]
["2CKA001726A0181","1746-214-101","1746-214-101 Ц.пл.комун.50х50 Reflex біл",75.316478599178183,"замовлення","5-7","WA/Standard",1,"шт.",null,"Y3"]
["2CKA001710A3900","1749-885","1749-885 Ц.плата вив.кабелю Future ч.окс",650.81503837463174,"замовлення","5-7","WA/Design",1,"шт.",null,"Y2"]
["2CKA001723A0240","1751-84","1751-84 Центр.плата акуст. Future білий",481.58628971576883,"замовлення","5-7","WA/Design",1,"шт.",null,"Y2"]
["2CKA001710A3903","1766-885","1766-885 Ц.пл.акуст.0248 Future чорн.окс",267.7350351916337,"замовлення","5-7","WA/Design",1,"шт.",null,"Y2"]
["2CKA001753A6208","1771-212-102","1771-212-102 Ц.пл. таймер 1071U BD сл.к",302.18440803816611,"замовлення","5-7","WA/Standard",1,"шт.",null,"Y3"]
["2CKA001751A2744","1785-82","1785-82 Клавіша подвійна Future сл.к.",140.51676686446447,"склад","1","WA/Design",1,"шт.",null,"Y2"]
["2CKA001751A3116","1786-840-500","1786-840-500 Клавіша один. ДИНАСТИЯ л.а",461.3798719654568,"склад","1","WA/Design",1,"шт.",null,"Y2"]
["2CKA001710A3928","1792-884","1792-884 Ц.пл. карт.вимик.Future біл.окс",1394.2428247715268,"замовлення","5-7","WA/Design",1,"шт.",null,"Y2"]
["2CKA001710A3544","1794-84","1794-84 Ц.пл.т-рег.1094/1097U Future біл",367.39745658135695,"замовлення","5-7","WA/Standard",1,"шт.",null,"Y3"]
["2CKA001710A3710","1795 TA-214","1795 TA-214 Ц.пл.1095/1096UTA Reflex біл",302.18440803816611,"замовлення","5-7","WA/Standard",1,"шт.",null,"Y3"]
["2CKA001710A3627","1800-81","1800-81 Центр.платах2 ком. шт.",554.83455406064991,"замовлення","5-7","WA/Design",1,"шт.",null,"Y2"]
["2CKA001710A3610","1803-02-83","1803-02-83 Ц.плх2 ком. нахил.Future ср",445.38312457979333,"замовлення","5-7","WA/Design",1,"шт.",null,"Y2"]
["2CKA001753A0203","1803-02-93-507","1803-02-93-507 Ц.плх2 ком. нах.B55 шамп",297.59193983089926,"склад","1","WA/Standard",1,"шт.",null,"Y3"]
["2CKA001764A0109","1859 EB","1859 EB Супорт для 2-х роз'ємів UHF",141.44802078382244,"замовлення","5-7","WA/Standard",1,"шт.",null,"Y3"]
["2CKA001764A0216","1870 EB","1870 EB Супорт 2-х роз'ємів Simplex ST",141.44802078382244,"замовлення","5-7","WA/Standard",1,"шт.",null,"Y3"]
["2CKA002011A3879","20 EUC-884","20 EUC-884 Розетка заземл. Future б.окс",227.18415203357321,"склад","1","WA/Design",1,"шт.",null,"Y2"]
["2CKA002011A6183","20 EUCBUSB-885-500","20 EUCBUSB-885-500 Роз.зазUSB Future ч.о",2884.4661338570345,"замовлення","5-7","WA/Design",1,"шт.",null,"Y2"]
["2CKA002013A5464","20 EUCKS-12-82-101","20 EUCKS-12-82-101 Роз.заз.штFuture черв",544.73134518549398,"замовлення","5-7","WA/Design",1,"шт.",null,"Y2"]
["2CKA002064A0292","20 EUGKB-32-101","20 EUGKB-32-101 Роз.заз.шт.кр. AW44 сл.к",901.9607559072316,"замовлення","5-7","WA/Standard",1,"шт.",null,"Y3"]
["2CKA002018A0351","20 EUK-92-507","20 EUK-92-507 Розетка заз.кр. B55 сл.к.",217.43253992503989,"склад","1","WA/Standard",1,"шт.",null,"Y3"]
["2CKA001011A0816","2000/3 US","2000/3 US Мех-м 1-кл.3-пол. вимикача 16А",853.28059291020145,"замовлення","5-7","WA/Standard",1,"шт.",null,"Y3"]
["2CKA001012A0954","2000/6/2 US","2000/6/2 US Мех-м 1-кл.2-п.прох.вимикача",732.95792587980736,"замовлення","5-7","WA/Standard",1,"шт.",null,"Y3"]
["2CKA001012A2164","2006/1 UC-93-507","2006/1 UC-93-507 Вимикач 1-кл. B55 шамп",456.7485180219432,"замовлення","5-7","WA/Standard",1,"шт.",null,"Y3"]
["2CKA001012A2157","2006/5 UCGL-92-507","2006/5 UCGL-92-507 Вим.2кл.підсвB55 сл.к",403.96241423785551,"склад","1","WA/Standard",1,"шт.",null,"Y3"]
["2CLA201730A1001","2017.3","2017.3 Роз'єм телекомун. 8-п. RJ45 кат.3",394.95226582495883,"замовлення","5-7","WA/Standard",1,"шт.",null,"Y3"]
["2CKA001413A1091","2026 UC-93-507","2026 UC-93-507 Кнопка 1-кл. Basic55 шамп",543.74823574040829,"склад","1","WA/Standard",1,"шт.",null,"Y3"]
["2CKA001510A0002","2067/12 U","2067/12 U Модуль iceLight нейтр.біл",2289.8046481433075,"замовлення","5-7","WA/Standard",1,"шт.",null,"Y3"]
["2CKA001761A1495","2087-84","2087-84 Вв.каб.к.15х15/19х19 Future біл",27.783824406678974,"замовлення","5-7","WA/Design",1,"шт.",null,"Y2"]
["2CKA001730A0209","2102-34","2102-34 Рамка 2 поста Allwetter 44 білий",563.03660221092957,"замовлення","5-7","WA/Standard",1,"шт.",null,"Y3"]
["2CKA001731A1964","2107-31","2107-31 Клавіша червон.лінза AW44 кор",604.36881607633222,"замовлення","5-7","WA/Standard",1,"шт.",null,"Y3"]
["2CKA001710A1951","2118 GKSL-34","2118 GKSL-34 Пром.плата замок R-AW44 біл",2619.5438654250743,"замовлення","5-7","WA/Standard",1,"шт.",null,"Y3"]
["2CKA006515A0842","2251 UCGL-94-507","2251 UCGL-94-507 Св-рег.повор. B55 білий",1435.9019423596303,"склад","1","WA/Standard",1,"шт.",null,"Y3"]
["2CKA002011A3817","2310EUGL/VA-214-11","2310EUGL/VA-214-11 Роз.перенапр.R біл",8105.7063858261899,"замовлення","5-7","WA/Standard",1,"шт.",null,"Y3"]
["2CKA001725A1506","2511-95-507","2511-95-507 Рамка 1 пост Basic55 ч.шато",55.076420116762726,"склад","1","WA/Standard",1,"шт.",null,"Y3"]
["2CKA001725A1491","2513-212K-102","2513-212K-102 Рамка 3п. BDuroLinear сл.к",202.89930351492285,"склад","1","WA/Standard",1,"шт.",null,"Y3"]
["2CKA001725A1492","2514-212K-102","2514-212K-102 Рамка 4п. BDuroLinear сл.к",351.78306467664947,"склад","1","WA/Standard",1,"шт.",null,"Y3"]
["2CKA001725A1529","2514-99-507","2514-99-507 Рамка 4поста B55 беж.мейсон",271.87411787020415,"склад","1","WA/Standard",1,"шт.",null,"Y3"]
["2CKA001726A0227","2516-906-507","2516-906-507 Декор.вставка B55 абрикос.",31.209537266962357,"склад","1","WA/Standard",1,"шт.",null,"Y3"]
["2CKA001724A0186","2530-212","2530-212 Центр.плата М16х075 BD сл.к.",269.11863694584406,"замовлення","5-7","WA/Standard",1,"шт.",null,"Y3"]
["2CKA001724A0434","2539-212","2539-212 Ц.пл. 0248 Busch-Duro сл.к",141.40213893339271,"замовлення","5-7","WA/Standard",1,"шт.",null,"Y3"]
["2CKA001724A0624","2553-212","2553-212 Ц.плата XLR Busch-Duro сл.к",272.79261151165764,"замовлення","5-7","WA/Standard",1,"шт.",null,"Y3"]
["2CKA001714A0278","2622 KI-101","2622 KI-101 Лінза прозора Дзвінок AW44",55.109618487203548,"замовлення","5-7","WA/Standard",1,"шт.",null,"Y3"]
["2CKA001101A0922","2713 UCDR-92-507","2713 UCDR-92-507 Вимикач жалюзі B55 сл.к",1004.8320437500113,"замовлення","5-7","WA/Standard",1,"шт.",null,"Y3"]
["2CMA162337R1000","2CMA162337R1000","Роз.63A 3PE IP44 480-500V 7г бокс руб ВУ",7837.3925751274382,"замовлення","5-7","WA/Industrial",1,"шт.",null,"AM"]
["2CMA162828R1000","2CMA162828R1000","Роз.63A 2PE IP67 200-250V 6г бокс руб ВУ",9226.364440571002,"замовлення","5-7","WA/Industrial",1,"шт.",null,"AM"]
["2CMA163257R1000","2CMA163257R1000","Розетка 16А 2P+E IP67 6г вимик+блок. ВУ",5092.002872336644,"замовлення","5-7","WA/Industrial",1,"шт.",null,"AM"]
["2CMA163264R1000","2CMA163264R1000","Роз.16A 3PE IP44 380-415V 6г бокс руб ВУ",5260.6160435022703,"замовлення","5-7","WA/Industrial",1,"шт.",null,"AM"]
["2CMA164993R1000","2CMA164993R1000","Ind. P&S#GP 216",267.65091945215545,"замовлення","5-7","WA/Industrial",1,"шт.",null,"AM"]
["2CMA166492R1000","2CMA166492R1000","Вилка 16A 3P+N+E IP67 100-130V 4г",652.29390746987576,"замовлення","5-7","WA/Industrial",1,"шт.",null,"AM"]
["2CMA166524R1000","2CMA166524R1000","Вилка кабельна 32A 3P+N+E IP67 6г",760.86928045518414,"замовлення","5-7","WA/Industrial",1,"шт.",null,"AM"]
["2CMA166580R1000","2CMA166580R1000","Розетка 16A 3P+N+E IP67 AC 1г",881.22802725285146,"замовлення","5-7","WA/Industrial",1,"шт.",null,"AM"]
["2CMA166722R1000","2CMA166722R1000","Вилка кабельна 32A 2P+E IP67 6г",685.11902023287576,"замовлення","5-7","WA/Industrial",1,"шт.",null,"AM"]
["2CMA166780R1000","2CMA166780R1000","Вилка 63A 2P+E IP67 AC 1г",1424.9465617374194,"замовлення","5-7","WA/Industrial",1,"шт.",null,"AM"]
["2CMA166816R1000","2CMA166816R1000","Вилка кабельна 125A 3P+E IP67 6г",3774.8879677450232,"замовлення","5-7","WA/Industrial",1,"шт.",null,"AM"]
["2CMA166826R1000","2CMA166826R1000","Вилка 125A 3P+N+E IP67 100-130V 4г",4868.2982690079943,"замовлення","5-7","WA/Industrial",1,"шт.",null,"AM"]
["2CMA166894R1000","2CMA166894R1000","Розетка кабельна 63A 3P+E IP67 6г",1656.4056901944712,"замовлення","5-7","WA/Industrial",1,"шт.",null,"AM"]
["2CMA167104R1000","2CMA167104R1000","332BS6W разьем",990.64506979618545,"замовлення","5-7","WA/Industrial",1,"шт.",null,"AM"]
["2CMA167234R1000","2CMA167234R1000","Вилка панель пряма 63A 3P+N+E IP44 6г",1224.6292069273154,"замовлення","5-7","WA/Industrial",1,"шт.",null,"AM"]
["2CMA167532R1000","2CMA167532R1000","463RU6 розетка скрытой проводки",1319.7378669842135,"замовлення","5-7","WA/Industrial",1,"шт.",null,"AM"]
["2CMA167715R1000","2CMA167715R1000","Роз. 63A 2P+E IP44 200-250V 6г бокс руб",6601.1742261359022,"замовлення","5-7","WA/Industrial",1,"шт.",null,"AM"]
["2CMA167973R1000","2CMA167973R1000","Роз.16A 3PE IP44 100-130V 4г бокс руб ВУ",6142.0789581106847,"замовлення","5-7","WA/Industrial",1,"шт.",null,"AM"]
["2CMA167997R1000","2CMA167997R1000","Роз32A 3PE IP44 440-460V 11г бокс руб ВУ",7056.9306194845713,"замовлення","5-7","WA/Industrial",1,"шт.",null,"AM"]
["2CMA168030R1000","2CMA168030R1000","Роз.бокс 63A 2PE IP44 100-130V 4г руб ВУ",11195.465781064611,"замовлення","5-7","WA/Industrial",1,"шт.",null,"AM"]
["2CMA168109R1000","2CMA168109R1000","363BU6W силовий роз`єм",1594.1221429005743,"замовлення","5-7","WA/Industrial",1,"шт.",null,"AM"]
["2CMA168990R1000","2CMA168990R1000","Комбі-бокс MP63",17133.654393303499,"замовлення","5-7","WA/Industrial",1,"шт.",null,"AM"]
["2CMA178338R1000","2CMA178338R1000","Розетка 10/16A 250В 2P+E IP44 мет.з кр.",2190.8658595407574,"замовлення","5-7","WA/Industrial",10,"шт.",null,"AM"]
["2CMA191088R1000","2CMA191088R1000","Комбі-бокс 2х10/16А 1 місце",1333.204579912624,"замовлення","5-7","WA/Industrial",1,"шт.",null,"AM"]
["2CMA193187R1000","2CMA193187R1000","416RU6 розетка скрытой проводки",254.1842065237451,"замовлення","5-7","WA/Industrial",10,"шт.",null,"AM"]
["2CMA193511R1000","2CMA193511R1000","416-P6 Вилка кабельна 16A 3P+N+E IP44 6г",171.66836609533715,"склад","1","WA/Industrial",10,"шт.",null,"AM"]
["2CKA001740A0074","3058/30","3058/30 Монт.набір врівен.гіпс Axcent 3п",301.41239810882035,"замовлення","5-7","WA/Design",1,"шт.",null,"Y2"]
["2CKA001740A0088","3068/11","3068/11 Монт.к-т врівень бет Carat 1п.",145.65459461683216,"замовлення","5-7","WA/Design",1,"шт.",null,"Y2"]
["3292H-A10301 69","3292H-A10301 69","Ц.плата термостат Levit сталь/димч.чорн.",5373.6601280868917,"замовлення","5-7","WA/Standard",1,"шт.",null,"Y3"]
["3292M-A10101 41","3292M-A10101 41","Центр.плата пов.термостат Neo біл/л-син",2087.0912104623199,"замовлення","5-7","WA/Standard",1,"шт.",null,"Y3"]
["2CHH940123A4063","3294H-A00123 63","3294H-A00123 63 Ц.пл.пов.рег.Levit онікс",362.84200641658146,"замовлення","5-7","WA/Standard",1,"шт.",null,"Y3"]
["2CHH940130A4064","3294H-A00130 64","3294H-A00130 64 Ц.пл.рег.вент.Levit жовт",230.89945862873373,"замовлення","5-7","WA/Standard",1,"шт.",null,"Y3"]
["3299-18908","3299-18908","Передавач 1-канальний ручний IP65",3023.6833868048457,"замовлення","5-7","WA/Standard",1,"шт.",null,"Y3"]
["3299-83338","3299-83338","Приймач 8-канальний перемикальний вмонт.",18089.71790145036,"замовлення","5-7","WA/Standard",1,"шт.",null,"Y3"]
["2CHH700100A4001","3299H-A00100 01","3299H-A00100 01 Ц.пл.сенс.регLevit л-біл",395.82764336354347,"замовлення","5-7","WA/Standard",1,"шт.",null,"Y3"]
["2CHH700110A4067","3299H-A00110 67","3299H-A00110 67 Ц.пл. жалюзі Levit зел",477.79195335296407,"замовлення","5-7","WA/Standard",1,"шт.",null,"Y3"]
["3299H-A11908 66","3299H-A11908 66","Передавач 2к.наст. Levit помаранч/д.чорн",2487.9166776057059,"замовлення","5-7","WA/Standard",1,"шт.",null,"Y3"]
["2CHH704010A4003","3299H-A40100 03","3299H-A40100 03 Ц.плата Timer Levit біл",322.85941617783971,"замовлення","5-7","WA/Standard",1,"шт.",null,"Y3"]
["2CHH704020A4016","3299H-A40200 16","3299H-A40200 16 Ц.плата прийм. Levit сір",355.84505312480178,"замовлення","5-7","WA/Standard",1,"шт.",null,"Y3"]
["2CHS530529C4500","3553-05929 B","3553-05929 B Вим. 2-кл. IP44 Praktik біл",249.79187762756948,"склад","1","WA/Standard",1,"шт.",null,"Y3"]
["2CHX579144A4000","3557-A91440","3557-A91440 Мех.1кл.кноп.вим.підсв.Swing",91.310240457726493,"замовлення","5-7","WA/Standard",1,"шт.",null,"Y3"]
["2CHX585275C4302","3558-52750","3558-52750 Вимикач 2-кл.прох.IP66 Garant",1044.5451699871285,"замовлення","5-7","WA/Standard",1,"шт.",null,"Y3"]
["3558-A52440","3558-A52440","Механізм 2-кл.прох. вимикача гвинт",209.78972305000806,"склад","1","WA/Standard",1,"шт.",null,"Y3"]
["2CHX598745A4000","3559-A87445","3559-A87445 Механізм 2-кл. кноп.вимикача",173.84650674007105,"склад","1","WA/Standard",1,"шт.",null,"Y3"]
["2CHH590652A4001","3559H-A00652 01","3559H-A00652 01 Клавіша подв.Levit л-біл",89.909881307146293,"склад","1","WA/Standard",1,"шт.",null,"Y3"]
["2CHH590653A4068","3559H-A00653 68","3559H-A00653 68 Кл.один.підсв.Levit перл",219.90424631307965,"замовлення","5-7","WA/Standard",1,"шт.",null,"Y3"]
["2CHH590655A4068","3559H-A00655 68","3559H-A00655 68 Кл.2пол.вим. Levit перл",228.90032911679657,"замовлення","5-7","WA/Standard",1,"шт.",null,"Y3"]
["2CHH590933A4017","3559H-A00933 17","3559H-A00933 17 Кл.3-пол.вим. Levit сл.к",83.963439501357684,"замовлення","5-7","WA/Standard",1,"шт.",null,"Y3"]
["2CHM590652A4044","3559M-A00652 44","3559M-A00652 44 Клавіша подв. Neo л-сір",112.9368009085877,"склад","1","WA/Standard",1,"шт.",null,"Y3"]
["2CHJ000001C4500","3900J-C00001 B","3900J-C00001 B Коробка одинарна Swing",39.132960196168504,"замовлення","5-7","WA/Standard",1,"шт.",null,"Y3"]
["2CHH010355A4067","3901H-A00355 67","3901H-A00355 67 Зм.сер.ч.рамки Levit зел",67.970403405860992,"замовлення","5-7","WA/Standard",1,"шт.",null,"Y3"]
["2CHH015020A4003","3901H-A05020 03","3901H-A05020 03 Рамка 2 поста Levit біл",87.910573034753014,"склад","1","WA/Standard",1,"шт.",null,"Y3"]
["2CHH015030A4063","3901H-A05030 63","3901H-A05030 63 Рамка 3поста Levit онікс",332.68144264442162,"склад","1","WA/Standard",1,"шт.",null,"Y3"]
["2CHH015040A4066","3901H-A05040 66","3901H-A05040 66 Рамка 4поста Levit помар",214.90642253323699,"замовлення","5-7","WA/Standard",1,"шт.",null,"Y3"]
["2CHH015050A4016","3901H-A05050 16","3901H-A05050 16 Рамка 5 постів Levit сір",226.83356856558967,"склад","1","WA/Standard",1,"шт.",null,"Y3"]
["2CHH015510A4070","3901H-A05510 70","3901H-A05510 70 Рамка 1п55x55Levit титан",162.92905522287265,"замовлення","5-7","WA/Standard",1,"шт.",null,"Y3"]
["2CHJ010030A4501","3901J-A00030 C2","3901J-A00030 C2 Рамка 3поста Swing сл.к",33.896025252794161,"замовлення","5-7","WA/Standard",1,"шт.",null,"Y3"]
["2CHJ010050A4513","3901J-A00050 R3","3901J-A00050 R3 Рамка 5п. Swing персик",63.482357651562239,"замовлення","5-7","WA/Standard",1,"шт.",null,"Y3"]
["2CHM010130A4235","3901M-A00130 35","3901M-A00130 35 Рамка 3пост.Neo теракота",342.74851990307178,"склад","1","WA/Standard",1,"шт.",null,"Y3"]
["2CHM010150A4208","3901M-A00150 08","3901M-A00150 08 Рамка 5 постів Neo титан",554.75843956254187,"замовлення","5-7","WA/Standard",1,"шт.",null,"Y3"]
["2CHH050001A4016","3902H-A00001 16","3902H-A00001 16 Заглушка Levit сірий",81.939879393737257,"замовлення","5-7","WA/Standard",1,"шт.",null,"Y3"]
["2CHM050001A4236","3902M-A00001 36","3902M-A00001 36 Заглушка Neo сталь",221.90337582501681,"замовлення","5-7","WA/Standard",1,"шт.",null,"Y3"]
["2CHM480034A4061","3938M-A00034 61","3938M-A00034 61 Каб.вивід  Neo графіт",408.82198519113444,"замовлення","5-7","WA/Standard",1,"шт.",null,"Y3"]
["2CHM080300A4061","5011M-A00300 61","5011M-A00300 61 Ц.пл.TV+R+SAT Neo графіт",98.912667627971473,"склад","1","WA/Standard",1,"шт.",null,"Y3"]
["2CHH291018A4016","5014H-A01018 16","5014H-A01018 16 Ц.плата комун.Levit сір",202.85116484059338,"склад","1","WA/Standard",1,"шт.",null,"Y3"]
["5014M-A03024","5014M-A03024","Супорт для акустич.стереосистем Neo",354.84548836883312,"замовлення","5-7","WA/Standard",1,"шт.",null,"Y3"]
["2CHM660070A4208","5016M-A00070 08","5016M-A00070 08 Кл.мех.осв.LED Neo титан",265.88422508763273,"замовлення","5-7","WA/Standard",1,"шт.",null,"Y3"]
["2CHM123459C4043","5512M-C03459 43","5512M-C03459 43 Розx2 заземл. Neo помар",428.5941710655959,"замовлення","5-7","WA/Standard",1,"шт.",null,"Y3"]
["2CHX183929C4528","5518-3929 H","5518-3929 H Роз.заз. IP44 Praktik кор",363.84157117255,"склад","1","WA/Standard",1,"шт.",null,"Y3"]
["2CHM183459A4071","5518M-A03459 71","5518M-A03459 71 Розетка заз.Neo ст/терак",517.51732715747823,"склад","1","WA/Standard",1,"шт.",null,"Y3"]
["2CHH223457C4003","5522H-C03457 03","5522H-C03457 03 Розx2 заземл. Levit біл",336.96924291959118,"замовлення","5-7","WA/Standard",1,"шт.",null,"Y3"]
["2CKA006020A1334","6066-84","6066-84 Ц.плата ІЧ-прийм.рег. Future біл",5325.4261331467687,"замовлення","5-7","WA/Standard",1,"шт.",null,"Y3"]
["2CKA006410A0363","6415/24","6415/24 Розділове реле 2-х жалюзі 24 В",3581.2067080267775,"замовлення","5-7","WA/Standard",1,"шт.",null,"Y3"]
["2CKA006430A0302","6435-79","6435-79 Ц.пл. таймер/т-рег.Impuls шамп.",1043.4087766910536,"замовлення","5-7","WA/Standard",1,"шт.",null,"Y3"]
["2CKA006410A0397","6455-101","6455-101 Комф.елемент керування таймером",4207.6193714979918,"замовлення","5-7","WA/Standard",1,"шт.",null,"Y3"]
["2CKA006599A2159","6540-79","6540-79 Ц.пл. пов.св-рег.Impuls шамп.м.",1405.2952714236906,"замовлення","5-7","WA/Standard",1,"шт.",null,"Y3"]
["2CKA006599A2961","6540-884-102","6540-884-102 Ц.пл.пов.св-рег. Future б.о",998.40258825983778,"замовлення","5-7","WA/Standard",1,"шт.",null,"Y3"]
["2CKA006599A2887","6543-83-101","6543-83-101 Ц.пл.кл.св-рег. Future срібл",1511.8405338322841,"замовлення","5-7","WA/Standard",1,"шт.",null,"Y3"]
["2CKA006550A0042","6550 U-101-500","6550 U-101-500 Механізм кл.світлорег. лл",7511.4409998058436,"замовлення","5-7","WA/Standard",1,"шт.",null,"Y3"]
["2CKA006800A2358","6800-777-104M","6800-777-104M Д.руху мульт.Impuls ожина",6594.7843456353585,"замовлення","5-7","WA/Standard",1,"шт.",null,"Y3"]
["2CKA006810A0004","6810-92-101-507","6810-92101507 Ц.пл.д.рухуСтандарт B55 сл",2259.4943579753453,"замовлення","5-7","WA/Standard",1,"шт.",null,"Y3"]
["2CKA006800A2596","6815-93-507","6815-93-507 Сенсор комф.вимикач B55 шамп",1866.3790794332938,"замовлення","5-7","WA/Standard",1,"шт.",null,"Y3"]
["2CKA006800A2532","6847 AGM-204-500","6847 AGM-204-500 Д.руху пульт 220 біл",8227.86604013949,"замовлення","5-7","WA/Standard",1,"шт.",null,"Y3"]
["2CKA006800A2564","6868-35-500","6868-35-500 Кут/стельов.адаптер чорн",824.80729002514647,"замовлення","5-7","WA/Standard",1,"шт.",null,"Y3"]
["2CLA810110A1001","8101.1","8101.1 Механізм 1-кл.2-пол. вимикача 16А",396.78925310786559,"замовлення","5-7","WA/Standard",10,"шт.",null,"Y3"]
["2CKA008200A0012","8221 U","8221 U Динамік 2Вт AudioWorld",1930.6736343350308,"замовлення","5-7","WA/Standard",1,"шт.",null,"Y3"]
["2CKA008200A0109","8224 EB","8224 EB Динамік вологост.прих.6Вт AWorld",2427.5786943613166,"замовлення","5-7","WA/Standard",1,"шт.",null,"Y3"]
["2CKA008200A0076","8253-212","8253-212 Ц.пл. динамік радіо BDuro сл.к.",407.81117680530639,"замовлення","5-7","WA/Standard",1,"шт.",null,"Y3"]
["2CKA001784A0289","8345-1","8345-1 Лампа підсв. вимик.фікс. 12В 40мА",183.69872829067847,"замовлення","5-7","WA/Standard",1,"шт.",null,"Y3"]
["2CKA001784A0794","8390-17","8390-17 Світлодіод 0.5мА синій",456.49133980233597,"замовлення","5-7","WA/Standard",1,"шт.",null,"Y3"]
["2CLA850130A2501","8501.3 CN","8501.3 CN Клавіша лінза Sky чорне скло",395.70901427694292,"замовлення","5-7","WA/Design",1,"шт.",null,"Y2"]
["2CLA850430A1401","8504.3 AI","8504.3 AI Кл лінза Дзвоник Sky сталь",382.23806911006835,"замовлення","5-7","WA/Design",1,"шт.",null,"Y2"]
["2CLA851100A1501","8511 NS","8511 NS Клавіша подвійна Sky чорн.окс",210.35817029973816,"склад","1","WA/Design",1,"шт.",null,"Y2"]
["2CLA851400A1501","8514 NS","8514 NS Клавіша карт.вимик. Sky чорн.окс",599.45705992592207,"замовлення","5-7","WA/Design",1,"шт.",null,"Y2"]
["2CLA852900A1101","8529 BL","8529 BL Центр.плата динамік Sky білий",154.07393534612885,"замовлення","5-7","WA/Design",1,"шт.",null,"Y2"]
["2CLA854200A1101","8542 BL","8542 BL Клавіша подв. Дзвоник Sky білий",154.91586941905854,"замовлення","5-7","WA/Design",1,"шт.",null,"Y2"]
["2CLA855300A1201","8553 OE","8553 OE Ц.плата 2поз.вим.ключ Sky золото",883.18884250321946,"замовлення","5-7","WA/Design",1,"шт.",null,"Y2"]
["2CLA855530A1201","8555.3 OE","8555.3 OE Розетка 3x RCA Sky золото",873.927567700993,"замовлення","5-7","WA/Design",1,"шт.",null,"Y2"]
["2CLA856200A1201","8562 OE","8562 OE Ц.плата вимик.таймер Sky золото",943.80809575415537,"замовлення","5-7","WA/Design",1,"шт.",null,"Y2"]
["2CLA857100A1201","8571 OE","8571 OE Рамка 1 пост Sky золото",786.36642411630771,"замовлення","5-7","WA/Design",1,"шт.",null,"Y2"]
["2CLA857300A1201","8573 OE","8573 OE Рамка 3 поста Sky золото",2079.577160136274,"замовлення","5-7","WA/Design",1,"шт.",null,"Y2"]
["2CLA858700A1201","8587 OE","8587 OE Ц.плата розетки фр.ст.Sky золото",680.28273092717006,"замовлення","5-7","WA/Design",1,"шт.",null,"Y2"]
["2CLA858880A1501","8588.8 NS","8588.8 NS Ц.пл.роз.заз.кр. Sky ч.оксам.",257.63182631647777,"замовлення","5-7","WA/Design",1,"шт.",null,"Y2"]
["2CLA858890A1301","8588.9 PL","8588.9 PL Ц.пл.роз.заз.плоск.заз. Sky ср",216.3770567429242,"замовлення","5-7","WA/Design",1,"шт.",null,"Y2"]
["2CLA862900A1501","8629 CN","8629 CN Ц.пл.динамік Skymoon чорн.скло",425.1767068294813,"замовлення","5-7","WA/Design",1,"шт.",null,"Y2"]
["9063-31","9063-31","Монтажна коробка для пустотілих стін",74.967356697640781,"замовлення","5-7","WA/Standard",1,"шт.",null,"Y3"]
["2CLA210000N1301","N2100 PL","N2100 PL Заглушка Zenit срібл 1мод.",98.24694068748714,"склад","1","WA/Standard",1,"шт.",null,"Y3"]
["2CLA210190N1101","N2101.9 BL","N2101.9 BL Кл вікно символ Zenit біл 1м",80.827440447898539,"замовлення","5-7","WA/Standard",1,"шт.",null,"Y3"]
["2CLA210700N1301","N2107 PL","N2107 PL Вивід кабельний Zenit ср 1 мод",157.06241268853009,"замовлення","5-7","WA/Standard",1,"шт.",null,"Y3"]
["2CLA213500N1801","N2135 AN","N2135 AN Роз.б/заз. Zenit антр 1мод",194.62590894632277,"замовлення","5-7","WA/Standard",1,"шт.",null,"Y3"]
["2CLA215000N1301","N2150 PL","N2150 PL Роз.TV одиночна Zenit сряст 1м.",190.9847071308161,"склад","1","WA/Standard",1,"шт.",null,"Y3"]
["2CLA215550N1301","N2155.5 PL","N2155.5 PL Розетка VGA Zenit срібл 1мод.",1196.7972148137703,"замовлення","5-7","WA/Standard",1,"шт.",null,"Y3"]
["2CLA217110N1101","N2171.1 BL","N2171.1 BL Рамка 1п. базова Zenit біл 1м",53.272631204296765,"замовлення","5-7","WA/Standard",1,"шт.",null,"Y3"]
["2CLA220120N1301","N2201.2 PL","N2201.2 PL Вимик. 1кл. 2-пол. Zenit ср",297.59193983089926,"замовлення","5-7","WA/Standard",1,"шт.",null,"Y3"]
["2CLA220200N1301","N2202 PL","N2202 PL Вимикач 1-кл. прох. Zenit срібл",153.0194587798386,"склад","1","WA/Standard",10,"шт.",null,"Y3"]
["2CLA220700N1801","N2207 AN","N2207 AN Вивід кабельний Zenit антрацит",158.84785737322684,"склад","1","WA/Standard",1,"шт.",null,"Y3"]
["2CLA221810N1101","N2218.1 BL","N2218.1 BL Ц.пл.ком. 2017(18)Zenit біл",106.53345296450404,"склад","1","WA/Standard",10,"шт.",null,"Y3"]
["2CLA223700N1301","N2237 PL","N2237 PL Розетка BS 13A/250В Zenit срібл",361.88649473263661,"замовлення","5-7","WA/Standard",1,"шт.",null,"Y3"]
["2CLA224030N1801","N2240.3 AN","N2240.3 AN Терморег. датчик Zenit антрац",2950.2695001081761,"склад","1","WA/Standard",1,"шт.",null,"Y3"]
["2CLA224410N1801","N2244.1 AN","N2244.1 AN Кл.вимик.жалюзі Zenit антр",698.05516750457844,"замовлення","5-7","WA/Standard",1,"шт.",null,"Y3"]
["2CLA225130N1301","N2251.3 PL","N2251.3 PL Роз.TV-R-SAT один.Zenit ср",594.26538602034509,"замовлення","5-7","WA/Standard",1,"шт.",null,"Y3"]
["2CLA226000N1801","N2260 AN","N2260 AN Св-рег.кл. 40-450 Вт Zenit антр",2401.8608724006222,"замовлення","5-7","WA/Standard",1,"шт.",null,"Y3"]
["2CLA226210N1301","N2262.1 PL","N2262.1 PL Вимик.таймер 500Вт Zenit ср",1985.7832528222348,"замовлення","5-7","WA/Standard",1,"шт.",null,"Y3"]
["2CLA227110N1101","N2271.1 BL","N2271.1 BL Рамка 1 пост базова Zenit біл",41.305667937654029,"склад","1","WA/Standard",20,"шт.",null,"Y3"]
["2CLA227300N1101","N2273 BL","N2273 BL Рамка 3 поста Zenit білий",172.6521452220434,"склад","1","WA/Standard",5,"шт.",null,"Y3"]
["2CLA227400N3501","N2274 CP","N2274 CP Рамка 4 поста Zenit скло перлин",1662.2986105265331,"склад","1","WA/Design",1,"шт.",null,"Y2"]
["2CLA227400N2201","N2274 PZ","N2274 PZ Рамка 4 поста Zenit сланець",2578.8440653835669,"склад","1","WA/Design",1,"шт.",null,"Y2"]
["2CLA228800N7001","N2288 RJ","N2288 RJ Розетка заз.Zenit червона",236.05286585352189,"замовлення","5-7","WA/Standard",1,"шт.",null,"Y3"]
["2CLA247300N4001","N2473 OX","N2473 OX Рамка італ.ст. 3мод Zenit сталь",1579.4683208160534,"замовлення","5-7","WA/Design",1,"шт.",null,"Y2"]
["2CLA247490N1001","N2474.9","N2474.9 Супорт стал. рамок італ.ст. 4мод",35.799673075895775,"склад","1","WA/Standard",1,"шт.",null,"Y3"]
["2CLA327100N1101","N3271 BL","N3271 BL Рамка 1 пост кр. IP55 Zenit біл",377.50088663734442,"склад","1","WA/Standard",1,"шт.",null,"Y3"]
["2CHH700031A8003","ND3299H-A31 03","ND3299H-A31 03 Зм.ч.д.руху Levit білий",161.92949046690413,"замовлення","5-7","WA/Standard",1,"шт.",null,"Y3"]
["2CHH594470A8067","ND3559H-A447 67","ND3559H-A447 67 Зм.ч.подв.кл. Levit зел",93.959087061043107,"замовлення","5-7","WA/Standard",1,"шт.",null,"Y3"]
["2CHH590443B8003","ND3559H-B443 03","ND3559H-B443 03 Зм.ч.кл.вікно Levit біл",68.969968161829527,"замовлення","5-7","WA/Standard",1,"шт.",null,"Y3"]
["2CHH590443B8065","ND3559H-B443 65","ND3559H-B443 65 Зм.ч.кл.вікно Levit черв",95.958216572980234,"замовлення","5-7","WA/Standard",1,"шт.",null,"Y3"]
["2CHH010250A8065","ND3901H-A250 65","ND3901H-A250 65 Зм.кр.ч.рамки Levit черв",48.978673042458666,"замовлення","5-7","WA/Standard",1,"шт.",null,"Y3"]
["2CDG510004R0011","2CDG510004R0011","BI-M-4.0.1 Бінарний вхід, 4 канала",6191.8477505782221,"замовлення","5-7","F&H/DES/Contr.syst.",1,"шт.","коригування ціни в сторону зменшення","X5"]
["2CKA006200A0050","6213/2.1-WL","WL-Sensor/Blind act. 2/1g",4524.6077872793448,"замовлення","5-7","F&H/DES/Contr.syst.",1,"шт.","нова система кодів, коригування ціни в сторону зменшення ","X5"]
["2CKA006200A0074","SSA-F-1.1.1-WL","WL-Sensor/Switch act. 1/1g",4046.7773946271241,"замовлення","5-7","F&H/DES/Contr.syst.",1,"шт.","нова система кодів, коригування ціни в сторону зменшення ","X5"]
["2CKA006200A0103","WBI-S-1-65-WL","Windowcontact Handle",2383.0926705426073,"замовлення","5-7","F&H/DES/Contr.syst.",1,"шт.","нова система кодів, коригування ціни в сторону зменшення ","X5"]
["2CKA006200A0142","WBI-S-1-66-WL","WL-Window Sensor",2383.0926705426073,"замовлення","5-7","F&H/DES/Contr.syst.",1,"шт.","нова система кодів, коригування ціни в сторону зменшення ","X5"]
["2CKA006220A0014",1574594,"Sensor/Switch act. 2/2g",3593.5934666786743,"замовлення","5-7","F&H/DES/Contr.syst.",1,"шт.","нова система кодів, коригування ціни в сторону зменшення ","X5"]
["2CKA006220A0024",1589391,"Sens/Switch act 8/8g, MDRC",13357.798835928819,"замовлення","5-7","F&H/DES/Contr.syst.",1,"шт.","нова система кодів, коригування ціни в сторону зменшення ","X5"]
["2CKA006220A0055","6232-20-84","rocker 2g, blinds",164.5591829622696,"замовлення","5-7","F&H/DES/Contr.syst.",1,"шт.","нова система кодів, коригування ціни в сторону зменшення ","X5"]
["2CKA006220A0078","6230-10-214","rocker 1gang",96.334361455206007,"замовлення","5-7","F&H/DES/Contr.syst.",1,"шт.","нова система кодів, коригування ціни в сторону зменшення ","X5"]
["2CKA006220A0097","6231-22-212","rocker 2g, right, lighting",127.32889514079402,"замовлення","5-7","F&H/DES/Contr.syst.",1,"шт.","нова система кодів, коригування ціни в сторону зменшення ","X5"]
["2CKA006220A0117","SU-F-1.0.1","1 кл. вим. free@home",1842.0289694938879,"замовлення","5-7","F&H/DES/Contr.syst.",1,"шт.","нова система кодів, коригування ціни в сторону зменшення ","X5"]
["2CKA006220A0152","SR-2-81","Накл.2кл.вим. ліва/права Solo без марк.",114.58833159152807,"замовлення","5-7","F&H/DES/Contr.syst.",1,"шт.","нова система кодів, коригування ціни в сторону зменшення ","X5"]
["2CKA006220A0174","SRS-2-R-83","Накл.2кл.вим. Права Solo марк. Сценарій",203.32967109474157,"замовлення","5-7","F&H/DES/Contr.syst.",1,"шт.","нова система кодів, коригування ціни в сторону зменшення ","X5"]
["2CKA006220A0196","SRB-2-212","rocker 2g, blinds",130.95809324746068,"замовлення","5-7","F&H/DES/Contr.syst.",1,"шт.","нова система кодів, коригування ціни в сторону зменшення ","X5"]
["2CKA006220A0212","MD-F-1.0.1-81","Датчик руху Watchdog® free@home антрацит",4615.9367426609278,"замовлення","5-7","F&H/DES/Contr.syst.",1,"шт.","нова система кодів, коригування ціни в сторону зменшення ","X5"]
["2CKA006220A0252","6236-214","C-plate Fan Coil",227.45353037716856,"замовлення","5-7","F&H/DES/Contr.syst.",1,"шт.","нова система кодів, коригування ціни в сторону зменшення ","X5"]
["2CKA006220A0258","SRD-2-R-81","Накл.2кл.вим. Права Solo марк. Світлорег",164.5591829622696,"замовлення","5-7","F&H/DES/Contr.syst.",1,"шт.","нова система кодів, коригування ціни в сторону зменшення ","X5"]
["2CKA006220A0379","SRS-2-L-840","rocker 2g left scene",335.14933074514607,"замовлення","5-7","F&H/DES/Contr.syst.",1,"шт.","нова система кодів, коригування ціни в сторону зменшення ","X5"]
["2CKA006220A0405","6234-21-82","rocker 2g, left, dimming",167.14388217110113,"замовлення","5-7","F&H/DES/Contr.syst.",1,"шт.","нова система кодів, коригування ціни в сторону зменшення ","X5"]
["2CKA006220A0498","6230-10-885","rocker 1gang",257.60835448020225,"замовлення","5-7","F&H/DES/Contr.syst.",1,"шт.","нова система кодів, коригування ціни в сторону зменшення ","X5"]
["2CKA006220A0519","SRS-1-82","rocker 1gang, scene",212.80690152712364,"замовлення","5-7","F&H/DES/Contr.syst.",1,"шт.","нова система кодів, коригування ціни в сторону зменшення ","X5"]
["2CKA006220A0601","SR-1-884","Накл.1кл.вим.Future без марк.біл.оксамит",257.60835448020225,"замовлення","5-7","F&H/DES/Contr.syst.",1,"шт.","нова система кодів, коригування ціни в сторону зменшення ","X5"]
["2CKA006220A0634","CP-FCC-885","C-plate Fan Coil",430.57271119979026,"замовлення","5-7","F&H/DES/Contr.syst.",1,"шт.","нова система кодів, коригування ціни в сторону зменшення ","X5"]
["2CKA006220A0653","SRL-1-93","rocker 1gang, lighting",314.4717370744944,"замовлення","5-7","F&H/DES/Contr.syst.",1,"шт.","нова система кодів, коригування ціни в сторону зменшення ","X5"]
["2CKA006220A0659","SRB-2-93","rocker 2g, blinds",228.31509678011238,"замовлення","5-7","F&H/DES/Contr.syst.",1,"шт.","нова система кодів, коригування ціни в сторону зменшення ","X5"]
["2CKA006220A0674","SR-2-94","rocker 2gang",91.326038712044962,"замовлення","5-7","F&H/DES/Contr.syst.",1,"шт.","нова система кодів, коригування ціни в сторону зменшення ","X5"]
["2CKA006220A0696","SRD-2-R-95","rocker 2g, right, dimming",157.66665173871914,"замовлення","5-7","F&H/DES/Contr.syst.",1,"шт.","нова система кодів, коригування ціни в сторону зменшення ","X5"]
["2CKA006220A0721","DP4-T-1","Кімн. термостат free@home",870.18206697325843,"замовлення","5-7","F&H/DES/Contr.syst.",1,"шт.","нова система кодів, коригування ціни в сторону зменшення ","X5"]
["2CKA006220A0757","SRA-2-L-82","rocker 2g, left, Play/Paus",159.99880902560298,"замовлення","5-7","F&H/DES/Contr.syst.",1,"шт.","нова система кодів, коригування ціни в сторону зменшення ","X5"]
["2CKA006220A0782","SRA-2-R-94","rocker 2g, right, Volume",122.3027545431311,"замовлення","5-7","F&H/DES/Contr.syst.",1,"шт.","нова система кодів, коригування ціни в сторону зменшення ","X5"]
["2TMA210010A0001","8300-0-8033","Модуль голосовий",3144.6886339377684,"замовлення","5-7","F&H/DES/Contr.syst.",1,"шт.","нова система кодів, коригування ціни в сторону зменшення ","X5"]
["2TMA210010A0022","2TMA210010A0022","Накладка захисна, розмір 1/5",4245.4794124768887,"замовлення","5-7","F&H/DES/Contr.syst.",1,"шт.","новинка","X5"]
["2TMA210010N0017","8300-0-8128","З'єднувальний комплект",405.4420082114757,"замовлення","5-7","F&H/DES/Contr.syst.",1,"шт.","нова система кодів, коригування ціни в сторону зменшення ","X5"]
["2TMA210010N0028","8300-0-8184","Модуль кнопк.,подв.,зі зчитув.ІС-карток",4219.7264969445177,"замовлення","5-7","F&H/DES/Contr.syst.",1,"шт.","нова система кодів, коригування ціни в сторону зменшення ","X5"]
["2TMA210050B0005","8300-0-9333","Телефон домов.,хендс-фрі,настінний,чорн.",3435.367098502606,"замовлення","5-7","F&H/DES/Contr.syst.",1,"шт.","нова система кодів, коригування ціни в сторону зменшення ","X5"]
["2CDG110008R0011","2CDG110008R0011","USB Інтерфейс",11917.904427853362,"замовлення","5-7","WA/EIB equipment",1,"шт.","коригування ціни в сторону зменшення","M7"]
["2CDG110072R0011","2CDG110072R0011","Контролер часу",19766.583035964297,"замовлення","5-7","WA/EIB equipment",1,"шт.","коригування ціни в сторону зменшення","M7"]
["2CDG110110R0011","2CDG110110R0011","Контролер сигнальних групп, 8 каналів",19766.583035964297,"замовлення","5-7","WA/EIB equipment",1,"шт.","коригування ціни в сторону зменшення","M7"]
["2CDG110134R0011","2CDG110134R0011","Актуатор, 8 каналів, 16/20 A",22503.031475102423,"замовлення","5-7","WA/EIB equipment",1,"шт.","коригування ціни в сторону зменшення","M7"]
["2CDG110153R0011","2CDG110153R0011","Актуатор, 8 каналів, 6 A",13745.678898235361,"замовлення","5-7","WA/EIB equipment",1,"шт.","коригування ціни в сторону зменшення","M7"]
["2CDG110165R0011","2CDG110165R0011","Контролер приміщень, версія 3",28148.320167214933,"замовлення","5-7","WA/EIB equipment",1,"шт.","коригування ціни в сторону зменшення","M7"]
["2CDG110194R0011","2CDG110194R0011","FCA/S1.1.2.2 Fan Coil Act., PWM, MDRC",15131.63664864468,"замовлення","5-7","WA/EIB equipment",1,"шт.","коригування ціни в сторону зменшення","M7"]
["2CDG110229R0011","2CDG110229R0011","QA/S4.64.1 Energy Analyzer, Modbus",51785.634697908521,"замовлення","5-7","WA/EIB equipment",1,"шт.","коригування ціни в сторону зменшення","M7"]
["2CDG120049R0011","2CDG120049R0011","TSA/K230.2 термоел.привод 230V",1756.4643150574552,"замовлення","5-7","WA/EIB equipment",1,"шт.","коригування ціни в сторону зменшення","M7"]
["2CDG230023R0011","2CDG230023R0011","ІЧ-датчик руху, пасивний, VdS-Cl. B",4064.6479493720549,"замовлення","5-7","WA/EIB equipment",1,"шт.","коригування ціни в сторону зменшення","M7"]
["2CKA006115A0212","6125/01-803-500","Сенсор, 1 клавіша з коплером, стандарт",5642.2697304512767,"замовлення","5-7","WA/EIB equipment",1,"шт.","нова система кодів, коригування ціни в сторону зменшення ","M7"]
["2CKA006115A0227","6125/02-885-500","Сенсор, 1 клавіша, мультіфункції",2782.3036322163175,"замовлення","5-7","WA/EIB equipment",1,"шт.","нова система кодів, коригування ціни в сторону зменшення ","M7"]
["2CKA006117A0228","6127/01-803-500","Сенсор, 4 клавіші з коплером, стандарт",7620.5668042764974,"замовлення","5-7","WA/EIB equipment",1,"шт.","нова система кодів, коригування ціни в сторону зменшення ","M7"]
["2CKA006117A0235","6127/02-84-500","Сенсор, 4 клавіші, мультіфункції",4417.4127211138384,"замовлення","5-7","WA/EIB equipment",1,"шт.","нова система кодів, коригування ціни в сторону зменшення ","M7"]
["2CKA006132A0263","6122/02-84-500","Датчик руху Busch-Watchdog Комфорт",5218.8215273582528,"замовлення","5-7","WA/EIB equipment",1,"шт.","нова система кодів, коригування ціни в сторону зменшення ","M7"]
["2CKA006132A0345","6131/21-183-500","Датчик присутності Міні Преміум",7008.5518232436134,"замовлення","5-7","WA/EIB equipment",1,"шт.","нова система кодів, коригування ціни в сторону зменшення ","M7"]
["2CKA006134A0280","6124/01-803-500","Кімнатний термостат з дісплеєм",7667.7084987614662,"замовлення","5-7","WA/EIB equipment",1,"шт.","нова система кодів, коригування ціни в сторону зменшення ","M7"]
["2CKA006135A0162","6129/01-866-500","Сенсор, ІЧ-приймач, 3 клавіши",8939.7072025838661,"замовлення","5-7","WA/EIB equipment",1,"шт.","нова система кодів, коригування ціни в сторону зменшення ","M7"]
["2CKA006138A0003","6138/11-84-500","Кімнатний термостат з дісплеєм",8939.7072025838661,"замовлення","5-7","WA/EIB equipment",1,"шт.","нова система кодів, коригування ціни в сторону зменшення ","M7"]
["2CKA006151A0216","6196/20-102","Jalousieact. 2f.",9167.6167255633864,"замовлення","5-7","WA/EIB equipment",1,"шт.","нова система кодів, коригування ціни в сторону зменшення ","M7"]
["2CKA006151A0236","6164/44","electr binary output 8f.",29285.946104047347,"замовлення","5-7","WA/EIB equipment",1,"шт.","нова система кодів, коригування ціни в сторону зменшення ","M7"]
["2CKA006151A0243","6164/43-101","Fan Coil-Aktor, 1fold",13266.898001588885,"замовлення","5-7","WA/EIB equipment",1,"шт.","нова система кодів, коригування ціни в сторону зменшення ","M7"]
["2CKA006180A0023","6180/11","Uninterruptible Power Supply Unit",19109.304534644798,"замовлення","5-7","WA/EIB equipment",1,"шт.","нова система кодів, коригування ціни в сторону зменшення ","M7"]
["2CKA006189A0102","6194/28","binary output, 12fach, 16A",20522.336304463472,"замовлення","5-7","WA/EIB equipment",1,"шт.","нова система кодів, коригування ціни в сторону зменшення ","M7"]
["2CKA006190A0046","6190/51-101","analog input",11853.866231770206,"замовлення","5-7","WA/EIB equipment",1,"шт.","нова система кодів, коригування ціни в сторону зменшення ","M7"]
["2CKA006197A0050","UD/S1.1260.2.11","Uni Dim Actuator 1x1260W",21276.835703804598,"замовлення","5-7","WA/EIB equipment",1,"шт.","нова система кодів, коригування ціни в сторону зменшення ","M7"]
["2CKA006310A0054","6354 U","Switch actuator, 1-fold, FM",4310.2600095996822,"замовлення","5-7","WA/EIB equipment",1,"шт.","нова система кодів, коригування ціни в сторону зменшення ","M7"]
["2CKA006310A0122","6342-866-101-500","Модуль 3 клавіші, Busch-priOn",7886.8760257529702,"замовлення","5-7","WA/EIB equipment",1,"шт.","нова система кодів, коригування ціни в сторону зменшення ","M7"]
["2CKA006310A0154","6349-825-101-500","Нижня планка, декоративна, Busch-priOn",568.63382594292148,"замовлення","5-7","WA/EIB equipment",1,"шт.","нова система кодів, коригування ціни в сторону зменшення ","M7"]
["2CKA006310A0172","6342-811-101-500","Модуль 3 клавіші, Busch-priOn",7457.6384917582845,"замовлення","5-7","WA/EIB equipment",1,"шт.","нова система кодів, коригування ціни в сторону зменшення ","M7"]
["2CKA006320A0020","6320/30-260-500","Сенсор, 3 клавіші,ІЧ-приймач",9174.5886277370319,"замовлення","5-7","WA/EIB equipment",1,"шт.","нова система кодів, коригування ціни в сторону зменшення ","M7"]
["2CKA006320A0054","6321/38-24G-500","triton 3/6 IR RTC Alpha білий",14067.726311415861,"замовлення","5-7","WA/EIB equipment",1,"шт.","нова система кодів, коригування ціни в сторону зменшення ","M7"]
["2CKA008136A0030","8136/12-825-500","Панель керування ComfortPanel 12\"",139476.03508043621,"замовлення","5-7","WA/EIB equipment",1,"шт.","нова система кодів, коригування ціни в сторону зменшення ","M7"]
["GHQ3050008R0001","GHQ3050008R0001","Детектор газу",9068.7265769637761,"замовлення","5-7","WA/EIB equipment",1,"шт.","коригування ціни в сторону зменшення","M7"]
["GHQ6050056R0002","GHQ6050056R0002","Джерело живлення 12 В, 1.6 A",9982.6138121547738,"замовлення","5-7","WA/EIB equipment",1,"шт.","коригування ціни в сторону зменшення","M7"]
["GHQ6310070R0111","GHQ6310070R0111","Універсальний інтерфейс, 4 канали",4606.806546325367,"замовлення","5-7","WA/EIB equipment",1,"шт.","коригування ціни в сторону зменшення","M7"]
["GHV9250010V0003","GHV9250010V0003","Монтажний комплект для панелі дверей",11541.597919245301,"замовлення","5-7","WA/EIB equipment",1,"шт.","коригування ціни в сторону зменшення","M7"]
["2CKA006300A1583","2CKA006300A1583","Регулятор температури приміщення",11665.241381934926,"замовлення","5-7","WA/EIB equipment",1,"шт.","новинка","M7"]
["1SFL427001R1122","AF116-30-22-11","Контактор 24-60V AF116-30-22-11",13942.8,"замовлення","4-6","ControlGear Equip",1,"шт.",null,"N3"]
["1SFL427001R1322","AF116-30-22-13","Контактор 100-250V AF116-30-22-13",9380.58,"замовлення","4-6","ControlGear Equip",1,"шт.",null,"N3"]
["1SFL447001R1400","AF140-30-00-14","Контактор 250-500V AF140-30-00-14",12561.12,"замовлення","4-6","ControlGear Equip",1,"шт.",null,"N3"]
["1SFL467001R1200","AF146-30-00-12","Контактор 48-130V AF146-30-00-12",14405.759999999998,"замовлення","4-6","ControlGear Equip",1,"шт.",null,"N3"]
["1SFL467002R1411","AF146-30-11B-14","Контактор 250-500V AF146-30-11B-14",15267.719999999998,"замовлення","4-6","ControlGear Equip",1,"шт.",null,"N3"]
["1SFL527002R1222","AF205-30-22-12","Контактор 48-130V AF205-30-22-12",20876.64,"замовлення","4-6","ControlGear Equip",1,"шт.",null,"N3"]
["1SFL587002R1122","AF305-30-22-11","Контактор 24-60V AF305-30-22-11",27803.219999999998,"замовлення","4-6","ControlGear Equip",1,"шт.",null,"N3"]
["1SFL577001R6811","AF400-30-11","Контактор 24-60V d.c. AF400-30-11",34332.659999999996,"замовлення","4-6","ControlGear Equip",1,"шт.",null,"N3"]
["1SFL657001R7011","AF1350-30-11","Контактор 100-250V a.c./d AF1350-30-11",130702.25999999998,"замовлення","4-6","ControlGear Equip",1,"шт.",null,"N3"]
["1SFL427101R1211","AF116-40-11-12","Контактор 48-130V AF116-40-11-12",12383.640000000001,"замовлення","4-6","ControlGear Equip",1,"шт.",null,"N3"]
["1SFL447101R1300","AF140-40-00-13","Контактор 100-250V AF140-40-00-13",15353.699999999999,"замовлення","4-6","ControlGear Equip",1,"шт.",null,"N3"]
["1SFL527102R1311","AF205-40-11-13","Контактор 100-250V AF205-40-11-13",32467.86,"замовлення","4-6","ControlGear Equip",1,"шт.",null,"N3"]
["1SFL587102R1122","AF305-40-22-11","Контактор 24-60V AF305-40-22-11",47071.26,"замовлення","4-6","ControlGear Equip",1,"шт.",null,"N3"]
["1SFL607102R1222","AF370-40-22-12","Контактор 48-130V AF370-40-22-12",49549.08,"замовлення","4-6","ControlGear Equip",1,"шт.",null,"N3"]
["1SFL451001R8400","A110-30-00","Контактор 110V 50Hz A110-30-00",13833,"замовлення","4-6","ControlGear Equip",1,"шт.",null,"N3"]
["1SFL491001R8111","A185-30-11","Контактор 24V 50Hz A185-30-11",20053.14,"замовлення","4-6","ControlGear Equip",1,"шт.",null,"N3"]
["1SFL491001R8511","A185-30-11","Контактор 380-400V 50Hz A185-30-11",20053.14,"замовлення","4-6","ControlGear Equip",1,"шт.",null,"N3"]
["1SFA611701R6006","MJS1-60B","MJS1-60B, джойстик",1198.6799999999998,"замовлення","4-6","ControlGear Equip",1,"шт.",null,"N3"]
["1SFA611101R1001","MP2-10R","MP2-10R, Кнопка з фіксацією",256.2,"замовлення","4-6","ControlGear Equip",10,"шт.",null,"N3"]
["1SFA611200R2102","M2SS1-21G","M2SS1-21G перемикач",470.34,"замовлення","4-6","ControlGear Equip",10,"шт.",null,"N3"]
["1SFA611204R2006","M2SS5-20B","M2SS5-20B перемикач",283.68,"замовлення","4-6","ControlGear Equip",10,"шт.",null,"N3"]
["1SFA611400R1005","ML1-100W","ML1-100W, Лампочка сигнальна біла",118.97999999999999,"замовлення","4-6","ControlGear Equip","10","шт.","див. закладку \"Акційне обладнання\"","N3"]
["1SFA611621R1072","MLBL-07G","MLBL-07G ламповий блок",404.45999999999992,"склад",1,"ControlGear Equip",1,"шт.",null,"N3"]
["1SFA611201R2006","M2SS2-20B","M2SS2-20B перемикач",270.83999999999997,"замовлення","4-6","ControlGear Equip","10","шт.","див. закладку \"Акційне обладнання\"","N3"]
["1SFA611210R1007","M3SS1-10U","M3SS1-10U перемикач",294.66000000000003,"замовлення","4-6","ControlGear Equip",10,"шт.",null,"N3"]
["1SFA611214R2006","M3SS5-20B","M3SS5-20B перемикач",307.44,"замовлення","4-6","ControlGear Equip",10,"шт.",null,"N3"]
["1SFA611285R1001","M3SSK3-101","M3SSK3-101 перемикач",924.18,"замовлення","4-6","ControlGear Equip",1,"шт.",null,"N3"]
["1SFA611100R2105","MP1-21W","MP1-21W Кнопка",175.68,"замовлення","4-6","ControlGear Equip",10,"шт.",null,"N3"]
["1SFA611510R1101","MPMT3-11R","MPMT3-11R Кнопка аварійної зупинки",442.86,"замовлення","4-6","ControlGear Equip","1","шт.","див. закладку \"Акційне обладнання\"","N3"]
["1SFA611620R1005","MLB-5","MLB-5 ламповий блок",175.68,"замовлення","4-6","ControlGear Equip","10","шт.","див. закладку \"Акційне обладнання\"","N3"]
["1SFA619600R6123","CB1-612Y","CB1-612Y, зумер 110-130 V, DC",1088.8799999999999,"замовлення","4-6","ControlGear Equip",1,"шт.",null,"N3"]
["1SFA619102R1113","CP3-11Y-10","CP3-11Y-10,кнопка з підсвічуванням 24V AC/DC",225.12000000000003,"замовлення","4-6","ControlGear Equip",10,"шт.",null,"N3"]
["1SFA619103R1112","CP4-11G-10","CP4-11G-10,кнопка з підсвічуванням 24V AC/DC",230.57999999999998,"замовлення","4-6","ControlGear Equip",10,"шт.",null,"N3"]
["1SFA619105R1021","CP6-10R-20","CP6-10R-20,кнопка",380.64,"замовлення","4-6","ControlGear Equip",10,"шт.",null,"N3"]
["1SFA619210R3076","C3SS1-30B-11","C3SS1-30B-11 перемикач",278.16000000000003,"замовлення","4-6","ControlGear Equip","10","шт.","див. закладку \"Акційне обладнання\"","N3"]
["1SFA616920R8081","KA1-8081","KA1-8081 Кришка червона, мат.",16.5,"замовлення","4-6","ControlGear Equip",10,"шт.",null,"N3"]
["1SFA619100R3022","CP1-30G-20","CP1-30G-20 Кнопка",248.87999999999997,"замовлення","4-6","ControlGear Equip","10","шт.","див. закладку \"Акційне обладнання\"","N3"]
["1SFA619200R1071","C2SS1-10R-11","C2SS1-10R-11 перемикач",278.16000000000003,"замовлення","4-6","ControlGear Equip","10","шт.","див. закладку \"Акційне обладнання\"","N3"]
["1SFA619100R1026","CP1-10B-20","CP1-10B-20 Кнопка 'Компакт' з возвратом",241.55999999999997,"частково",1,"ControlGear Equip","10","шт.",null,"N3"]
["1SFA616920R8024","KA1-8024","KA1-8024 Кільце метал.для перемикача",188.52,"замовлення","4-6","ControlGear Equip","10","шт.",null,"N3"]
["1SFA616921R2052","KA2-2052#60V","KA2-2052 світлодіод 60В зеленый",320.28000000000003,"замовлення","4-6","ControlGear Equip",20,"шт.",null,"N3"]
["1SFA619403R5022","CL2-502G 24V a.c./d.c.","Сигнальний індикатор CL2-502G 24V a.c./d.c.",151.91999999999999,"склад",1,"ControlGear Equip",1,"шт.","Новий корпус","N3"]
["1SFA619403R5073","CL2-507Y 48-60V a.c./d.c.","Сигнальний індикатор CL2-507Y 48-60V a.c./d.c.",151.91999999999999,"замовлення","4-6","ControlGear Equip",10,"шт.","Новий корпус","N3"]
["1SFA619403R5201","CL2-520R 220V d.c.","Сигнальний індикатор CL2-520R 220V d.c.",193.97999999999996,"склад",1,"ControlGear Equip",10,"шт.","Новий корпус","N3"]
["1SFA619403R6238","CL2-623C 230V a.c.","Сигнальний індикатор CL2-623C 230V a.c.",208.62000000000003,"замовлення","4-6","ControlGear Equip",10,"шт.","Новий корпус","N3"]
["1SFA616924R1022","KA4-1022","KA4-1022 світлодіод",2137.44,"замовлення","4-6","ControlGear Equip",1,"шт.",null,"N3"]
["1SFA616079R4101","KASI-4101","KASI-4101 інтерфейсний модуль",5350.92,"замовлення","4-6","ControlGear Equip",1,"шт.",null,"N3"]
["1SFN074307R1000","LW110","Блок розширення контактів LW110",305.64,"частково",1,"ControlGear Equip",1,"шт.",null,"N3"]
["1SFN084301R1000","BEM110-30","з'єднувальний комплект д/рев. BEM110-30",2593.14,"частково",1,"ControlGear Equip",1,"шт.","див. закладку \"Акційне обладнання\"","N3"]
["1SFN084706R1003","BEA185/T3","з'єднувальна шина, вертикал. BEA185/T3",1883.1,"замовлення","4-6","ControlGear Equip",1,"шт.",null,"N3"]
["SK829075-E","PN300-22","Монтажна плата PN300-22",3127.5,"замовлення","4-6","ControlGear Equip",1,"шт.",null,"N3"]
["1SFN010820R3311","CAL19-11B","Блок допоміжних контактів CAL19-11B",349.56,"частково",1,"ControlGear Equip",1,"шт.",null,"N3"]
["1SFN084211R1000","BER140-4","зєднувач BER140-4",2516.2800000000002,"замовлення","4-6","ControlGear Equip",1,"шт.",null,"N3"]
["SK616706-AA","KEM6-0","KEM6-0 корпус металевий IP67",4144.9799999999996,"замовлення","4-6","ControlGear Equip",1,"шт.",null,"N3"]
["1SFA611930R1023","MA6-1023","MA6-1023Шильдик з надписом EmergencyStop",142.73999999999998,"замовлення","4-6","ControlGear Equip",1,"шт.",null,"N3"]
["GJL1211001R8015","B6-30-01-400AC","мініконтактор B6-30-01-400AC",667.9799999999999,"замовлення","4-6","ControlGear Equip",1,"шт.",null,"N3"]
["GJL1311001R8105","B7-30-10-400AC","мініконтактор B7-30-10-400AC",788.7600000000001,"замовлення","4-6","ControlGear Equip",1,"шт.",null,"N3"]
["GJL1311901R8104","VB7-30-10-110AC","реверс мініконтактор VB7-30-10-110AC",1476.8399999999997,"замовлення","4-6","ControlGear Equip",1,"шт.",null,"N3"]
["GJL1213901R0104","VBC6-30-10-110DC","реверс мініконтактор VBC6-30-10-110DC",1529.8799999999999,"замовлення","4-6","ControlGear Equip",1,"шт.",null,"N3"]
["GHV2501902R0002","RV-BC6/60","Обмежувач імпульсної перенапруги RV-BC6/60",217.79999999999998,"замовлення","4-6","ControlGear Equip",1,"шт.",null,"N3"]
["1SAM350000R1001","MS132-0.16","автом вимикач захисту двигуна MS132-0.16",1384.74,"замовлення","4-6","ControlGear Equip",1,"шт.",null,"N3"]
["1SAM360000R1011","MO132-16","автом вимикач захисту двигуна MO132-16",1657.9799999999998,"замовлення","4-6","ControlGear Equip",1,"шт.",null,"N3"]
["1SAM201901R1001","HKF1-11","додаткові контакти HKF1-11",181.2,"склад",1,"ControlGear Equip",1,"шт.",null,"N3"]
["1SAM201906R1104","PS1-4-0-65","шина з'єднувальна (65 А) PS1-4-0-65",307.44,"замовлення","4-6","ControlGear Equip",1,"шт.",null,"N3"]
["1SAM201907R1102","S1-M2-25","клема (65 А) S1-M2-25",248.87999999999997,"замовлення","4-6","ControlGear Equip",1,"шт.",null,"N3"]
["1SAM101903R0110","UAF-110","реле минимальної напруги UAF-110",995.51999999999987,"замовлення","4-6","ControlGear Equip",1,"шт.",null,"N3"]
["1SAM150000R1001","MS325-0,16","автом вимикач захисту двигуна MS325-0,16",2201.52,"замовлення","4-6","ControlGear Equip",1,"шт.","див. закладку \"Акційне обладнання\"","N3"]
["1SAM101937R0022","PS3-2-1","шина з'єднувальна PS3-2-1",261.71999999999997,"замовлення","4-6","ControlGear Equip",1,"шт.",null,"N3"]
["1SAM101937R0025","PS3-5-1","шина з'єднувальна PS3-5-1",450.17999999999995,"замовлення","4-6","ControlGear Equip",1,"шт.","див. закладку \"Акційне обладнання\"","N3"]
["1SAM590000R1010","MO496-95","автом вимикач захисту двигуна MO496-95",11971.859999999999,"замовлення","4-6","ControlGear Equip",1,"шт.",null,"N3"]
["1SBE111111R0220","ESB16-20N-02","ESB16-20N-02 Модульний контактор",667.9799999999999,"замовлення","4-6","ControlGear Equip",1,"шт.",null,"N3"]
["1SBE111111R1411","ESB16-11N-14","ESB16-11N-14 Модульний контактор",684.41999999999985,"замовлення","4-6","ControlGear Equip",1,"шт.",null,"N3"]
["1SBE121111R0702","ESB20-02N-07","ESB20-02N-07 Модульний контактор",779.58,"замовлення","4-6","ControlGear Equip",1,"шт.",null,"N3"]
["1SAE231111R0222","ESB25-22N-02","ESB25-22N-02 Модульний контактор",1242.5999999999999,"замовлення","4-6","ControlGear Equip",1,"шт.",null,"N3"]
["1SAE231111R0640","ESB25-40N-06","ESB25-40N-06 Модульний контактор",876.6,"склад",1,"ControlGear Equip",1,"шт.",null,"N3"]
["1SAE231111R0740","ESB25-40N-07","ESB25-40N-07 Модульний контактор",1141.9199999999998,"замовлення","4-6","ControlGear Equip",1,"шт.",null,"N3"]
["1SAE341111R0540","ESB40-40N-05","ESB40-40N-05 Модульний контактор",2261.88,"замовлення","4-6","ControlGear Equip",1,"шт.",null,"N3"]
["1SAE351111R0540","ESB63-40N-05","ESB63-40N-05 Модульний контактор",2884.08,"замовлення","4-6","ControlGear Equip",1,"шт.",null,"N3"]
["1SAZ711201R1028","T16-1.7","Реле перевантаження T16-1.7",1048.6199999999999,"замовлення","4-6","ControlGear Equip",1,"шт.","до контакторів B6, B7","N3"]
["1SAZ721201R1031","TF42-2.3","Реле перевантаження TF42-2.3",1135.6199999999999,"замовлення","4-6","ControlGear Equip",1,"шт.","до контакторів AF09-AF38","N3"]
["1SAZ811201R1007","TF65-67","Реле перевантаження TF65-67",2411.94,"замовлення","4-6","ControlGear Equip",1,"шт.","до контакторів AF40-AF65","N3"]
["1SAZ211201R1005","TA25DU0.16","Реле перенавантаження TA25DU0.16",1617.7199999999998,"замовлення","4-6","ControlGear Equip",1,"шт.","див. закладку \"Акційне обладнання\"","N3"]
["1SAZ211201R1038","TA25DU6.5","Реле перенавантаження TA25DU6.5",1617.7199999999998,"замовлення","4-6","ControlGear Equip",1,"шт.","див. закладку \"Акційне обладнання\"","N3"]
["1SAZ331201R1006","TA80DU80","Реле перенавантаження TA80DU80",4298.7,"замовлення","4-6","ControlGear Equip",1,"шт.","до контакторів (T)A(E)95-(T)A(E)110","N3"]
["1SAX111001R1105","E16DU-18.9"," Електроне реле перенавантаження E16DU-18.9",3354.4200000000005,"замовлення","4-6","ControlGear Equip",1,"шт.","до контакторів B, A(L)9-A(L)16","N3"]
["1SBV011121R1211","LS40M21B11","Кінцевий вимикач LS40M21B11",1800.7199999999998,"замовлення","4-6","ControlGear Equip",10,"шт.","див. закладку \"Акційне обладнання\"","N3"]
["1SBV014398R1211","LS72M98B11-A","Кінцевий вимикач LS72M98B11-A",1509.78,"замовлення","4-6","ControlGear Equip",10,"шт.",null,"N3"]
["1SBV010211R1211","LS30P11B11","Кінцевий вимикач LS30P11B11",611.22,"склад",1,"ControlGear Equip",10,"шт.",null,"N3"]
["1SBV010511R1211","LS40P11B11","Кінцевий вимикач LS40P11B11",1279.2,"замовлення","4-6","ControlGear Equip",10,"шт.",null,"N3"]
["1SBL137001R1101","AF09-30-01-11","Контактор 24-60V50/60HZ 20-60VDC AF09-30-01-11",811.19999999999993,"замовлення","4-6","ControlGear Equip",1,"шт.",null,"N3"]
["1SBL157001R1110","AF12-30-10-11","Контактор 24-60V50/60HZ 20-60VDC AF12-30-10-11",838.14,"замовлення","4-6","ControlGear Equip",1,"шт.",null,"N3"]
["1SBL176501R2000","AF16Z-22-00-20","Контактор 12-20VDC AF16Z-22-00-20",2133.7800000000002,"замовлення","4-6","ControlGear Equip",1,"шт.",null,"N3"]
["1SBL177001R1210","AF16-30-10-12","Контактор 48-130V50/60HZ-DC AF16-30-10-12",1143.78,"замовлення","4-6","ControlGear Equip",1,"шт.",null,"N3"]
["1SBL236201R2000","AF26Z-40-00-20","Контактор 12-20VDC AF26Z-40-00-20",2728.56,"замовлення","4-6","ControlGear Equip",1,"шт.",null,"N3"]
["1SBL237501R1400","AF26-22-00-14","Контактор 250-500V50/60HZ-DC AF26-22-00-14",1934.3399999999997,"замовлення","4-6","ControlGear Equip",1,"шт.",null,"N3"]
["1SBL297201R1100","AF38-40-00-11","Контактор 24-60V50/60HZ 20-60VDC AF38-40-00-11",2953.62,"замовлення","4-6","ControlGear Equip",1,"шт.",null,"N3"]
["1SBL367001R4100","AF52-30-00-41","Контактор 24-60V50/60HZ AF52-30-00-41",3107.3399999999997,"замовлення","4-6","ControlGear Equip",1,"шт.",null,"N3"]
["1SBL367201R1200","AF52-40-00-12","Контактор 48-130V50/60HZ-DC AF52-40-00-12",7770.1799999999994,"замовлення","4-6","ControlGear Equip",1,"шт.",null,"N3"]
["1SBL141201R8500","A9-40-00","Контактор 380-400V 50Hz / 400-415V 60Hz A9-40-00",1185.8399999999999,"замовлення","4-6","ControlGear Equip",1,"шт.",null,"N3"]
["1SBL181201R8400","A16-40-00","Контактор 110V 50Hz / 110-120V 60Hz A16-40-00",2100.8399999999997,"замовлення","4-6","ControlGear Equip",1,"шт.",null,"N3"]
["1SBL181501R8500","A16-22-00","Контактор 380-400V 50Hz / 400-415V 60Hz A16-22-00",2349.7199999999998,"замовлення","4-6","ControlGear Equip",1,"шт.",null,"N3"]
["1SBL241501R8900","A26-22-00","Контактор 110-115V 50Hz / 115-127V 60Hz A26-22-00",3251.9399999999996,"замовлення","4-6","ControlGear Equip",1,"шт.",null,"N3"]
["1SBL331201R8400","A45-40-00","Контактор 110V 50Hz / 110-120V 60Hz A45-40-00",3965.6400000000003,"замовлення","4-6","ControlGear Equip",1,"шт.",null,"N3"]
["1SBL411001R8000","A75-30-00","Контактор 220-230V 50Hz / 230-240V 60Hz A75-30-00",7468.26,"замовлення","4-6","ControlGear Equip",1,"шт.",null,"N3"]
["1SBN010140R1213","CA4-13N","Блок додатк контактів CA4-13N",367.86,"замовлення","4-6","ControlGear Equip",1,"шт.","нове покоління контакторів AF","N3"]
["1SBN071305R1000","LF16-4","з'єднувач LF16-4",280.02000000000004,"замовлення","4-6","ControlGear Equip",2,"шт.","нове покоління контакторів AF","N3"]
["1SBN010040R1113","CA5-13M","Блок додатк контактів CA5-13M",386.16,"замовлення","4-6","ControlGear Equip",1,"шт.",null,"N3"]
["1SBN010420R3311","CAL5-11B","Блок додатк контактів CAL5-11B",243.42,"замовлення","4-6","ControlGear Equip",1,"шт.",null,"N3"]
["1SBN020312R1000","TEF5-ON","Реле часу TEF5-ON",1663.5,"замовлення","4-6","ControlGear Equip",1,"шт.","замена TP...DA","N3"]
["1SBN050200R1001","RC5-2/133","Обмежувач імпульс перенапруги RC5-2/133",151.91999999999999,"замовлення","4-6","ControlGear Equip",1,"шт.",null,"N3"]
["1SBN082406R1001","BEA26/325","З'єднувач BEA26/325",228.78,"замовлення","4-6","ControlGear Equip",1,"шт.","див. закладку \"Акційне обладнання\"","N3"]
["1SBN084103R1001","BED75-1","З'єднувач BED75-1",1592.1,"замовлення","4-6","ControlGear Equip",1,"шт.",null,"N3"]
["FPTN372726R1007","WB75-A 380-415V 50Hz","Пристрій мех блокування WB75-A 380-415V 50Hz",1813.56,"замовлення","4-6","ControlGear Equip",1,"шт.",null,"N3"]
["1SBH136001R2231","NFZ31E-22","Контакторне реле 48-130V50/60HZ-DC NFZ31E-22",1323.1200000000001,"замовлення","4-6","ControlGear Equip",1,"шт.",null,"N3"]
["1SBH137001R1144","NF44E-11","Контакторне реле 24-60V50/60HZ 20-60VDC NF44E-11",1372.5,"замовлення","4-6","ControlGear Equip",1,"шт.",null,"N3"]
["1SBH137001R1371","NF71E-13","Контакторне реле 100-250V50/60HZ-DC NF71E-13",1372.5,"замовлення","4-6","ControlGear Equip",1,"шт.",null,"N3"]
["1SBH137001R1453","NF53E-14","Контакторне реле 250-500V50/60HZ-DC NF53E-14",1372.5,"замовлення","4-6","ControlGear Equip",1,"шт.",null,"N3"]
["1SBH141001R8480","N80E","Контакторне реле 110V 50Hz / 110-120V 60Hz N80E",2161.2599999999998,"замовлення","4-6","ControlGear Equip",1,"шт.",null,"N3"]
["1SBH143001R8153","NL53E","Контакторне реле 24V DC NL53E",3337.9200000000005,"замовлення","4-6","ControlGear Equip",1,"шт.",null,"N3"]
["1SBL351024R8000","UA 50-30-00 RА 220-230V/50Hz"," Контактор (40 КВАР, 400 В, 40°) UA 50-30-00 RА 220-230V/50Hz",5239.3200000000006,"частково",1,"ControlGear Equip",1,"шт.",null,"N3"]
["1SBL417201R7000","AF75-40-00","Контактор 100-250V 50Hz AF75-40-00",11356.98,"замовлення","4-6","ControlGear Equip",1,"шт.",null,"N3"]
["1SBN153590R6206","ZAE75","Шпуля  77-143V DC  ZAE75",1249.9199999999998,"замовлення","4-6","ControlGear Equip",1,"шт.",null,"N3"]
["1SBN163703R1001","ZL63RT","Комплект контактів ZL63RT",2340.6,"замовлення","4-6","ControlGear Equip",1,"шт.",null,"N3"]
["1SVR427041R1000","CP-D 12/0.83 ","Блок живлення CP-D 12/0.83 ",2298.4799999999996,"замовлення","4-6","Electronic Products",1,"шт.",null,"S7"]
["1SVR550107R2100","CT-ERE","Реле часу з затримкою вмикання CT-ERE",1765.9799999999998,"замовлення","4-6","Electronic Products",1,"шт.",null,"S7"]
["1SVR550120R4100","CT-ARE","Реле часу з затримкою вимикання CT-ARE",2562,"замовлення","4-6","Electronic Products",1,"шт.",null,"S7"]
["1SVR550151R3100","CT-AWE","Реле часу з імпульсом по вимиканню CT-AWE",2291.1600000000003,"замовлення","4-6","Electronic Products",1,"шт.",null,"S7"]
["1SVR730180R3300","CT-APS.22S","Реле часу з затримкою вимикання CT-APS.22S",2951.82,"замовлення","4-6","Electronic Products",1,"шт.",null,"S7"]
["1SVR730840R0500","CM-SRS.22S","Реле контролю однофазних кіл CM-SRS.22S",6844.2,"склад",1,"Electronic Products",1,"шт.",null,"S7"]
["1SVR730885R1300","CM-MPS.11S","Реле контролю трифазних кіл CM-MPS.11S",6558.7199999999993,"замовлення","4-6","Electronic Products",1,"шт.",null,"S7"]
["1SVR450331R0100","CM-LWN","Реле контролю навантаження CM-LWN",8249.6400000000012,"замовлення","4-6","Electronic Products",1,"шт.","див. закладку \"Акційне обладнання\"","S7"]
["1SVR730712R0200","CM-MSS.32S","Реле для термістор захисту CM-MSS.32S",2638.86,"замовлення","4-6","Electronic Products",1,"шт.",null,"S7"]
["1SVR730740R0100","CM-TCS.11S","Реле контролю температури CM-TCS.11S",6851.52,"замовлення","4-6","Electronic Products",1,"шт.",null,"S7"]
["1SVR730850R0100","CM-ENS.11S","Реле контролю рівня CM-ENS.11S",3299.52,"замовлення","4-6","Electronic Products",1,"шт.",null,"S7"]
["1SVR427031R0000","CP-E 24/1.25","Блок живлення CP-E 24/1.25",2186.88,"замовлення","4-6","Electronic Products",1,"шт.",null,"S7"]
["1SVR427055R2000","CP-T 48/10.0","Блок живлення CP-T 48/10.0",10390.74,"замовлення","4-6","Electronic Products",1,"шт.",null,"S7"]
["1SVR405611R6000","CR-M048DC2","Цокольне реле CR-M048DC2",226.92,"замовлення","4-6","Electronic Products",10,"шт.",null,"S7"]
["1SVR405613R7000","CR-M110AC4","Цокольне реле CR-M110AC4",259.86,"замовлення","4-6","Electronic Products",10,"шт.",null,"S7"]
["1SVR405618R9100","CR-M220DC4LG","Цокольне реле CR-M220DC4LG",508.74,"замовлення","4-6","Electronic Products",10,"шт.",null,"S7"]
["1SVR405660R0100","CR-U3E","Цоколь до реле CR-U3E",161.04,"замовлення","4-6","Electronic Products",10,"шт.",null,"S7"]
["1SVR405600R7000","CR-P110AC1","Цокольне реле CR-P110AC1",150.06,"замовлення","4-6","Electronic Products",10,"шт.",null,"S7"]
["1SVR405621R4000","CR-U012DC2","Цокольне реле CR-U012DC2",336.71999999999997,"замовлення","4-6","Electronic Products",10,"шт.",null,"S7"]
["1SVR405622R2100","CR-U120AC3L","Цокольне реле CR-U120AC3L",402.59999999999997,"замовлення","4-6","Electronic Products",10,"шт.",null,"S7"]
["1SVR405622R6000","CR-U048DC3","Цокольне реле CR-U048DC3",353.21999999999997,"замовлення","4-6","Electronic Products",10,"шт.",null,"S7"]
["1SVR405612R8100","CR-M110DC3L","Цокольне реле CR-M110DC3L",307.44,"замовлення","4-6","Electronic Products",10,"шт.",null,"S7"]
["1SVR405666R1000","CR-U71A","Функційний модуль CR-U71A",139.08000000000001,"замовлення","4-6","Electronic Products",10,"шт.",null,"S7"]
["1SVR405654R1100","CR-P/M92V","Функційний модуль CR-P/M92V",102.47999999999999,"замовлення","4-6","Electronic Products",10,"шт.",null,"S7"]
["1SVR440711R0100","CL-LSR.12DC2 ","Логічне реле CL-LSR.12DC2 ",7043.7,"замовлення","4-6","Electronic Products",1,"шт.",null,"S7"]
["1SVR440721R1200","CL-LMT.CX20DC2 ","Логічне реле CL-LMT.CX20DC2 ",8200.26,"замовлення","4-6","Electronic Products",1,"шт.",null,"S7"]
["1SVR440851R2000","CL-LDR.17DC2","Модуль вводу/выводу CL-LDR.17DC2",6320.8200000000006,"замовлення","4-6","Electronic Products",1,"шт.",null,"S7"]
["2TLA010025R0500","JSBRT11 230AC ","Реле безпеки JSBRT11 230AC ",15540.359999999999,"замовлення","4-6","Safety Products",1,"шт.",null,"S4"]
["2TLA010028R1400","RT7B 115AC ","Реле безпеки 3 s RT7B 115AC ",15650.16,"замовлення","4-6","Safety Products",1,"шт.",null,"S4"]
["2TLA020070R4300","VITAL 2 ","Контролер VITAL 2 ",21066.959999999999,"замовлення","4-6","Safety Products",1,"шт.",null,"S4"]
["1SDA066141R1","SOR-C A1-A2 480-525 Vac                 ","Аксесуари до корп. авт. вимикачів серії FormulA",711.76,"замовлення","4-6","MCCBs FormulA + acc.",1,"шт.",null,"A0"]
["1SDA066162R1","RHE_B A1-A2 BASE R.DIST.ADJ.ROT.HAND    ","Аксесуари до корп. авт. вимикачів серії FormulA",469.66,"замовлення","4-6","MCCBs FormulA + acc.",1,"шт.",null,"A0"]
["1SDA066194R1","PB 50mm 4pcs A1 3p                      ","Аксесуари до корп. авт. вимикачів серії FormulA",212.35,"замовлення","4-6","MCCBs FormulA + acc.",1,"шт.",null,"A0"]
["1SDA066213R1","KIT EF A1 2pcs                          ","Аксесуари до корп. авт. вимикачів серії FormulA",215.76,"замовлення","4-6","MCCBs FormulA + acc.",1,"шт.",null,"A0"]
["1SDA066225R1","KIT ES A1 3pcs                          ","Аксесуари до корп. авт. вимикачів серії FormulA",669.29,"частково",1,"MCCBs FormulA + acc.",1,"шт.",null,"A0"]
["1SDA066237R1","KIT FC CuAl A1 25mm2 4pcs               ","Аксесуари до корп. авт. вимикачів серії FormulA",1080.04,"замовлення","4-6","MCCBs FormulA + acc.",1,"шт.",null,"A0"]
["1SDA066256R1","KIT FC CuAl A2 185mm2 6pcs              ","Аксесуари до корп. авт. вимикачів серії FormulA",2665.69,"замовлення","4-6","MCCBs FormulA + acc.",1,"шт.",null,"A0"]
["1SDA066502R1","A1N 125 TMF 60-600 2p F F               ","Корпусний авт-ний вимикач серії FormulA до 630А",2074.21,"замовлення","4-6","MCCBs FormulA + acc.",1,"шт.",null,"A0"]
["1SDA066529R1","A1A 125 TMF 50-500 4p F F               ","Корпусний авт-ний вимикач серії FormulA до 630А",2316.3200000000002,"замовлення","4-6","MCCBs FormulA + acc.",1,"шт.",null,"A0"]
["1SDA066554R1","A2B 250 TMF 125-1250 4p F F             ","Корпусний авт-ний вимикач серії FormulA до 630А",3771.46,"замовлення","4-6","MCCBs FormulA + acc.",1,"шт.",null,"A0"]
["1SDA066688R1","A1N 125 TMF 30-400 1p F F               ","Корпусний авт-ний вимикач серії FormulA до 630А",1561.78,"замовлення","4-6","MCCBs FormulA + acc.",1,"шт.",null,"A0"]
["1SDA066698R1","A1B 125 TMF 20-400 3p F F               ","Корпусний авт-ний вимикач серії FormulA до 630А",1949.59,"замовлення","4-6","MCCBs FormulA + acc.",1,"шт.",null,"A0"]
["1SDA066725R1","A1N 125 TMF 40-400 3p F F               ","Корпусний авт-ний вимикач серії FormulA до 630А",2161.94,"замовлення","4-6","MCCBs FormulA + acc.",1,"шт.",null,"A0"]
["1SDA066731R1","A1N 125 TMF 100-1000 3p F F             ","Корпусний авт-ний вимикач серії FormulA до 630А",2440.63,"замовлення","4-6","MCCBs FormulA + acc.",1,"шт.",null,"A0"]
["1SDA066750R1","A1C 125 TMF 50-500 4p F F               ","Корпусний авт-ний вимикач серії FormulA до 630А",2566.1799999999998,"замовлення","4-6","MCCBs FormulA + acc.",1,"шт.",null,"A0"]
["1SDA066781R1","A2N 250 TMF 125-1250 3p F F             ","Корпусний авт-ний вимикач серії FormulA до 630А",3334.06,"замовлення","4-6","MCCBs FormulA + acc.",1,"шт.",null,"A0"]
["1SDA067114R1","UVR-C A1-A2 60 Vac/dc                   ","Аксесуари до корп. авт. вимикачів серії FormulA",1247.1400000000001,"замовлення","4-6","MCCBs FormulA + acc.",1,"шт.",null,"A0"]
["1SDA068762R1","A1B 125 TMF 32-400 4p F F               ","Корпусний авт-ний вимикач серії FormulA до 630А",2438.15,"замовлення","4-6","MCCBs FormulA + acc.",1,"шт.",null,"A0"]
["1SDA068778R1","A2N 250 TMF 150-1500 2p F F             ","Корпусний авт-ний вимикач серії FormulA до 630А",2835.58,"замовлення","4-6","MCCBs FormulA + acc.",1,"шт.",null,"A0"]
["1SDA014038R1","TERMINAL COVERS LOW 3P S6-T6            ","Аксесуари до корп. авт. вимикачів серії Tmax T",672.08,"частково",1,"MCCBs Tmax,XT ≤800A+",1,"шт.",null,"A1"]
["1SDA038054R1","KIT 1/2 3p F HR>F VR E3                 ","Аксесуари до повітр. авт. вимикачів серії Emax",16181.38,"замовлення","4-6","ACBs Emax acc.",1,"шт.",null,"A4"]
["1SDA038060R1","KIT 1/2 4p F HR>F VR E4                 ","Аксесуари до повітр. авт. вимикачів серії Emax",20649.41,"замовлення","4-6","ACBs Emax acc.",1,"шт.",null,"A4"]
["1SDA038293R1","SHUNT OPEN.RELEASE 240/250V    E1/6-T8  ","Аксесуари до повітр. авт. вимикачів серії Emax",6212.09,"замовлення","4-6","ACBs Emax acc.",1,"шт.",null,"A4"]
["1SDA038317R1","TIME DEL.UVR 48V E1/6-T7-X1-T8-E1.2/6.2 ","Аксесуари до повітр. авт. вимикачів серії Emax",7134.65,"замовлення","4-6","ACBs Emax acc.",1,"шт.",null,"A4"]
["1SDA038337R1","I1/4 MECC.TRIP INDICATION  E1/6         ","Аксесуари до повітр. авт. вимикачів серії Emax",2588.1999999999998,"замовлення","4-6","ACBs Emax acc.",1,"шт.",null,"A4"]
["1SDA043475R1","15 EXT. OPEN/CLOSED AUX.CONTACTS  E1/6  ","Аксесуари до повітр. авт. вимикачів серії Emax",11776.6,"замовлення","4-6","ACBs Emax acc.",1,"шт.",null,"A4"]
["1SDA050147R1","10 AUX.-CON.IN.V<24V E1-2 III/E4-6 3-4p ","Аксесуари до повітр. авт. вимикачів серії Emax",14786.38,"замовлення","4-6","ACBs Emax acc.",1,"шт.",null,"A4"]
["1SDA050689R1","KIT ES T6 - S6 8pcs                     ","Аксесуари до корп. авт. вимикачів серії Tmax T",15744.9,"замовлення","4-6","MCCBs Tmax,XT ≤800A+",1,"шт.",null,"A1"]
["1SDA051329R1","T2 P FP 3p F                            ","Корпусний авт-ний вимикач серії Tmax Т до 800А",2919.58,"замовлення","4-6","MCCBs Tmax,XT ≤800A+",1,"шт.",null,"A1"]
["1SDA051365R1","KIT 12 CABLES L=2M AUX T1-T2-T3         ","Аксесуари до корп. авт. вимикачів серії Tmax T",969.37,"замовлення","4-6","MCCBs Tmax,XT ≤800A+",1,"шт.",null,"A1"]
["1SDA051367R1","KIT 2 CABLES L=2M SOR-UVR T1-T2-T3      ","Аксесуари до корп. авт. вимикачів серії Tmax T",159.34,"замовлення","4-6","MCCBs Tmax,XT ≤800A+",1,"шт.",null,"A1"]
["1SDA051402R1","RC222/1 HV FOR T1 4p F                  ","Аксесуари до корп. авт. вимикачів серії Tmax T",13795.62,"замовлення","4-6","MCCBs Tmax,XT ≤800A+",1,"шт.",null,"A1"]
["1SDA051426R1","LTC T3 4p TERMINAL COVERS LOW 2pcs      ","Аксесуари до корп. авт. вимикачів серії Tmax T",659.99,"замовлення","4-6","MCCBs Tmax,XT ≤800A+",1,"шт.",null,"A1"]
["1SDA051446R1","KIT FC CuAl 35...95mm2 T1 3pcs          ","Аксесуари до корп. авт. вимикачів серії Tmax T",1916.11,"замовлення","4-6","MCCBs Tmax,XT ≤800A+",1,"шт.",null,"A1"]
["1SDA051471R1","KIT ES T2 4pcs                          ","Аксесуари до корп. авт. вимикачів серії Tmax T",1156.3,"замовлення","4-6","MCCBs Tmax,XT ≤800A+",1,"шт.",null,"A1"]
["1SDA051490R1","KIT EF T3 3pcs                          ","Аксесуари до корп. авт. вимикачів серії Tmax T",451.98,"замовлення","4-6","MCCBs Tmax,XT ≤800A+",1,"шт.",null,"A1"]
["1SDA052015R1","KLC T2 KEY LOCK RONIS WIT,OP/CL X C.BREA","Аксесуари до корп. авт. вимикачів серії Tmax T",1257.67,"замовлення","4-6","MCCBs Tmax,XT ≤800A+",1,"шт.",null,"A1"]
["1SDA054002R1","T4N 250 PR221DS-I In=250 3p F F         ","Корпусний авт-ний вимикач серії Tmax Т до 800А",19055.7,"замовлення","4-6","MCCBs Tmax,XT ≤800A+",1,"шт.",null,"A1"]
["1SDA054021R1","T4S 250 PR221DS-LS/I In=100 3p F F      ","Корпусний авт-ний вимикач серії Tmax Т до 800А",16381.96,"замовлення","4-6","MCCBs Tmax,XT ≤800A+",1,"шт.",null,"A1"]
["1SDA054027R1","T4S 250 PR222DS/P-LSI In=100 3p F F     ","Корпусний авт-ний вимикач серії Tmax Т до 800А",23123.52,"замовлення","4-6","MCCBs Tmax,XT ≤800A+",1,"шт.",null,"A1"]
["1SDA054052R1","T4H 250 PR222DS/P-LSI In=160 3p F F     ","Корпусний авт-ний вимикач серії Tmax Т до 800А",24392.98,"замовлення","4-6","MCCBs Tmax,XT ≤800A+",1,"шт.",null,"A1"]
["1SDA054064R1","T4H 250 PR222DS/P-LSI In=160 4p F F     ","Корпусний авт-ний вимикач серії Tmax Т до 800А",30491.599999999999,"замовлення","4-6","MCCBs Tmax,XT ≤800A+",1,"шт.",null,"A1"]
["1SDA054089R1","T4L 250 PR222DS/P-LSI In=250 4p F F     ","Корпусний авт-ний вимикач серії Tmax Т до 800А",40018.21,"замовлення","4-6","MCCBs Tmax,XT ≤800A+",1,"шт.",null,"A1"]
["1SDA054103R1","T4V 250 PR222DS/P-LSIG In=160 3p F F    ","Корпусний авт-ний вимикач серії Tmax Т до 800А",37873.01,"замовлення","4-6","MCCBs Tmax,XT ≤800A+",1,"шт.",null,"A1"]
["1SDA054132R1","T4S 320 PR222DS/P-LSIG In=320 4p F F    ","Корпусний авт-ний вимикач серії Tmax Т до 800А",37842.639999999999,"замовлення","4-6","MCCBs Tmax,XT ≤800A+",1,"шт.",null,"A1"]
["1SDA054151R1","T4V 320 PR222DS/P-LSI In=320 3p F F     ","Корпусний авт-ний вимикач серії Tmax Т до 800А",33865.33,"замовлення","4-6","MCCBs Tmax,XT ≤800A+",1,"шт.",null,"A1"]
["1SDA054184R1","T4N 250 TMA 100-1000 4p F F             ","Корпусний авт-ний вимикач серії Tmax Т до 800А",16332.35,"замовлення","4-6","MCCBs Tmax,XT ≤800A+",1,"шт.",null,"A1"]
["1SDA054194R1","T4S 250 TMA 125-1250 3p F F             ","Корпусний авт-ний вимикач серії Tmax Т до 800А",13630.08,"замовлення","4-6","MCCBs Tmax,XT ≤800A+",1,"шт.",null,"A1"]
["1SDA054208R1","T4H 250 TMD 32-320 3p F F               ","Корпусний авт-ний вимикач серії Tmax Т до 800А",14839.7,"замовлення","4-6","MCCBs Tmax,XT ≤800A+",1,"шт.",null,"A1"]
["1SDA054233R1","T4L 250 TMA 250-2500 3p F F             ","Корпусний авт-ний вимикач серії Tmax Т до 800А",22572.65,"замовлення","4-6","MCCBs Tmax,XT ≤800A+",1,"шт.",null,"A1"]
["1SDA054245R1","T4V 250 TMD 50-500 3p F F               ","Корпусний авт-ний вимикач серії Tmax Т до 800А",21201.83,"замовлення","4-6","MCCBs Tmax,XT ≤800A+",1,"шт.",null,"A1"]
["1SDA054280R1","T4H 250 TMA 160-1600 4p F F InN=100%In  ","Корпусний авт-ний вимикач серії Tmax Т до 800А",21672.41,"замовлення","4-6","MCCBs Tmax,XT ≤800A+",1,"шт.",null,"A1"]
["1SDA054312R1","T4L 250 MA 200-2800 3p F F              ","Корпусний авт-ний вимикач серії Tmax Т до 800А",21221.360000000001,"замовлення","4-6","MCCBs Tmax,XT ≤800A+",1,"шт.",null,"A1"]
["1SDA054334R1","T5S 400 PR221DS-I In=320 3p F F         ","Корпусний авт-ний вимикач серії Tmax Т до 800А",20293.22,"замовлення","4-6","MCCBs Tmax,XT ≤800A+",1,"шт.",null,"A1"]
["1SDA054338R1","T5S 400 PR222DS/P-LSIG In=320 3p F F    ","Корпусний авт-ний вимикач серії Tmax Т до 800А",31966.58,"замовлення","4-6","MCCBs Tmax,XT ≤800A+",1,"шт.",null,"A1"]
["1SDA054358R1","T5H 400 PR221DS-I In=320 4p F F         ","Корпусний авт-ний вимикач серії Tmax Т до 800А",27185.45,"замовлення","4-6","MCCBs Tmax,XT ≤800A+",1,"шт.",null,"A1"]
["1SDA054377R1","T5L 400 PR222DS/P-LSI In=400 4p F F     ","Корпусний авт-ний вимикач серії Tmax Т до 800А",44633.8,"замовлення","4-6","MCCBs Tmax,XT ≤800A+",1,"шт.",null,"A1"]
["1SDA054402R1","T5N 630 PR222DS/P-LSI In=630 4p F F     ","Корпусний авт-ний вимикач серії Tmax Т до 800А",40965.58,"замовлення","4-6","MCCBs Tmax,XT ≤800A+",1,"шт.",null,"A1"]
["1SDA054415R1","T5H 630 PR222DS/P-LSIG In=630 3p F F    ","Корпусний авт-ний вимикач серії Tmax Т до 800А",40587.370000000003,"замовлення","4-6","MCCBs Tmax,XT ≤800A+",1,"шт.",null,"A1"]
["1SDA054439R1","T5N 400 TMA 400-4000 4p F F             ","Корпусний авт-ний вимикач серії Tmax Т до 800А",22584.74,"замовлення","4-6","MCCBs Tmax,XT ≤800A+",1,"шт.",null,"A1"]
["1SDA054473R1","T5V 630 TMA 500-5000 3p F F             ","Корпусний авт-ний вимикач серії Tmax Т до 800А",34307.08,"замовлення","4-6","MCCBs Tmax,XT ≤800A+",1,"шт.",null,"A1"]
["1SDA054500R1","T4V250 TMA100-1000 4p FFC1150/1000VAC/DC","Корпусний авт-ний вимикач серії Tmax Т до 800А",34648.699999999997,"замовлення","4-6","MCCBs Tmax,XT ≤800A+",1,"шт.",null,"A1"]
["1SDA054517R1","T4V250 PR221DS-LS/I In250 3p FFC 1150VAC","Корпусний авт-ний вимикач серії Tmax Т до 800А",32646.1,"замовлення","4-6","MCCBs Tmax,XT ≤800A+",1,"шт.",null,"A1"]
["1SDA054524R1","T4N 250 Ekip M-LRIU In=200 3p F F       ","Корпусний авт-ний вимикач серії Tmax Т до 800А",35747.96,"замовлення","4-6","MCCBs Tmax,XT ≤800A+",1,"шт.",null,"A1"]
["1SDA054544R1","T5L 630 PR221DS-I In630 3p FFCCu1000V AC","Корпусний авт-ний вимикач серії Tmax Т до 800А",47320.26,"замовлення","4-6","MCCBs Tmax,XT ≤800A+",1,"шт.",null,"A1"]
["1SDA054564R1","T4H 250 BREAKING PART 4p F F            ","Корпусний авт-ний вимикач серії Tmax Т до 800А",15631.75,"замовлення","4-6","MCCBs Tmax,XT ≤800A+",1,"шт.",null,"A1"]
["1SDA054590R1","T5L 630 BREAKING PART 3p F F            ","Корпусний авт-ний вимикач серії Tmax Т до 800А",27406.48,"замовлення","4-6","MCCBs Tmax,XT ≤800A+",1,"шт.",null,"A1"]
["1SDA054609R1","PR222DS/P-LSI In=100 T4 3p              ","Аксесуари до корп. авт. вимикачів серії Tmax T",9729.0400000000009,"замовлення","4-6","MCCBs Tmax,XT ≤800A+",1,"шт.",null,"A1"]
["1SDA054633R1","PR222DS/P-LSI In=320 T4 320 4p          ","Аксесуари до корп. авт. вимикачів серії Tmax T",16663.740000000002,"замовлення","4-6","MCCBs Tmax,XT ≤800A+",1,"шт.",null,"A1"]
["1SDA054652R1","TMD 32-320 T4 3p                        ","Аксесуари до корп. авт. вимикачів серії Tmax T",4277.6899999999996,"замовлення","4-6","MCCBs Tmax,XT ≤800A+",1,"шт.",null,"A1"]
["1SDA054658R1","TMA 200-1000...2000 T4 3p               ","Аксесуари до корп. авт. вимикачів серії Tmax T",5934.95,"замовлення","4-6","MCCBs Tmax,XT ≤800A+",1,"шт.",null,"A1"]
["1SDA054680R1","MA 200-2800 T4 3p                       ","Аксесуари до корп. авт. вимикачів серії Tmax T",4706.74,"замовлення","4-6","MCCBs Tmax,XT ≤800A+",1,"шт.",null,"A1"]
["1SDA054711R1","PR222DS/PD-LSI In=320 MODBUS T5 3p      ","Аксесуари до корп. авт. вимикачів серії Tmax T",25288.87,"замовлення","4-6","MCCBs Tmax,XT ≤800A+",1,"шт.",null,"A1"]
["1SDA054725R1","TMA 320-3200 T5 4p                      ","Аксесуари до корп. авт. вимикачів серії Tmax T",8943.82,"замовлення","4-6","MCCBs Tmax,XT ≤800A+",1,"шт.",null,"A1"]
["1SDA054747R1","T4 W FP 4p VR                           ","Аксесуари до корп. авт. вимикачів серії Tmax T",7954.91,"замовлення","4-6","MCCBs Tmax,XT ≤800A+",1,"шт.",null,"A1"]
["1SDA054767R1","T5 630 P FP 4p HR                       ","Аксесуари до корп. авт. вимикачів серії Tmax T",9604.73,"замовлення","4-6","MCCBs Tmax,XT ≤800A+",1,"шт.",null,"A1"]
["1SDA054849R1","KIT MP T5 630 W 3p                      ","Аксесуари до корп. авт. вимикачів серії Tmax T",4012.33,"частково",1,"MCCBs Tmax,XT ≤800A+",1,"шт.",null,"A1"]
["1SDA054870R1","SOR-C T4-T5-T6 24...30 Vac/dc           ","Аксесуари до корп. авт. вимикачів серії Tmax T",944.57,"замовлення","4-6","MCCBs Tmax,XT ≤800A+",1,"шт.",null,"A1"]
["1SDA054876R1","PS-SOR T4-T5-T6 24 Vac/dc x PERM.SERV.  ","Аксесуари до корп. авт. вимикачів серії Tmax T",1414.22,"замовлення","4-6","MCCBs Tmax,XT ≤800A+",1,"шт.",null,"A1"]
["1SDA054903R1","MOE-E T4-T5 380 Vac X REM.CONTR.        ","Аксесуари до корп. авт. вимикачів серії Tmax T",19933.310000000001,"замовлення","4-6","MCCBs Tmax,XT ≤800A+",1,"шт.",null,"A1"]
["1SDA054913R1","AUX-C T4-T5-T6 2Q 400 Vac               ","Аксесуари до корп. авт. вимикачів серії Tmax T",1354.39,"замовлення","4-6","MCCBs Tmax,XT ≤800A+",1,"шт.",null,"A1"]
["1SDA054938R1","RHE_IP54 T4..T7PROTECTION IP54 ROT.HANDL","Аксесуари до корп. авт. вимикачів серії Tmax T",702.46,"замовлення","4-6","MCCBs Tmax,XT ≤800A+",1,"шт.",null,"A1"]
["1SDA054958R1","HTC T4 3p TERMINAL COVERS HIGH 2pcs     ","Аксесуари до корп. авт. вимикачів серії Tmax T",772.52,"замовлення","4-6","MCCBs Tmax,XT ≤800A+",1,"шт.",null,"A1"]
["1SDA054981R1","KIT FC Cu 1x185mm2 T4 4pcs              ","Аксесуари до корп. авт. вимикачів серії Tmax T",1168.3900000000001,"замовлення","4-6","MCCBs Tmax,XT ≤800A+",1,"шт.",null,"A1"]
["1SDA055003R1","KIT ES T4 8pcs                          ","Аксесуари до корп. авт. вимикачів серії Tmax T",2933.22,"замовлення","4-6","MCCBs Tmax,XT ≤800A+",1,"шт.",null,"A1"]
["1SDA055022R1","KIT FC CuAl 1x300mm2 T5 400 6pcs        ","Аксесуари до корп. авт. вимикачів серії Tmax T",1952.69,"замовлення","4-6","MCCBs Tmax,XT ≤800A+",1,"шт.",null,"A1"]
["1SDA055034R1","KIT EF T5 6pcs                          ","Аксесуари до корп. авт. вимикачів серії Tmax T",2347.94,"замовлення","4-6","MCCBs Tmax,XT ≤800A+",1,"шт.",null,"A1"]
["1SDA055065R1","EXTENSION 10pin MOE AUE T4-T5-T6 P/W    ","Аксесуари до корп. авт. вимикачів серії Tmax T",1535.74,"замовлення","4-6","MCCBs Tmax,XT ≤800A+",1,"шт.",null,"A1"]
["1SDA055154R1","KIT FC CuAl 2x95mm2 T2 4pcs             ","Аксесуари до корп. авт. вимикачів серії Tmax T",2348.56,"замовлення","4-6","MCCBs Tmax,XT ≤800A+",1,"шт.",null,"A1"]
["1SDA055160R1","PR221DS-I In=630 T5 630 4p              ","Аксесуари до корп. авт. вимикачів серії Tmax T",9414.08,"замовлення","4-6","MCCBs Tmax,XT ≤800A+",1,"шт.",null,"A1"]
["1SDA055365R1","Kit FC Cu 2x240mm2 T5 630 4pcs          ","Аксесуари до корп. авт. вимикачів серії Tmax T",5966.26,"замовлення","4-6","MCCBs Tmax,XT ≤800A+",1,"шт.",null,"A1"]
["1SDA055523R1","E4H/f 4000 PR122/P-LI In=4000A 4p F HR  ","Повітряний автоматичний вимикач серії Emax до 6300А",723069.11,"замовлення","4-6","ACBs Emax",1,"шт.",null,"A3"]
["1SDA055545R1","E4S/f 4000 PR121/P-LSI In=4000A 4p W MP ","Повітряний автоматичний вимикач серії Emax до 6300А",691762.52,"замовлення","4-6","ACBs Emax",1,"шт.",null,"A3"]
["1SDA055583R1","E6H/f 5000 PR123/P-LSIG In=5000A 4p W MP","Повітряний автоматичний вимикач серії Emax до 6300А",1339668.1000000001,"замовлення","4-6","ACBs Emax",1,"шт.",null,"A3"]
["1SDA055597R1","E6H/f 6300 PR122/P-LSIG In=6300A 4p W MP","Повітряний автоматичний вимикач серії Emax до 6300А",1561218.9,"замовлення","4-6","ACBs Emax",1,"шт.",null,"A3"]
["1SDA055632R1","E1B 1250 PR121/P-LI In=1250A 3p F HR    ","Повітряний автоматичний вимикач серії Emax до 6300А",118393.66,"замовлення","4-6","ACBs Emax",1,"шт.",null,"A3"]
["1SDA055653R1","E1B 1250 PR122/P-LSIG In=1250A 3p W MP  ","Повітряний автоматичний вимикач серії Emax до 6300А",188484.65,"замовлення","4-6","ACBs Emax",1,"шт.",null,"A3"]
["1SDA055656R1","E1B 1250 PR121/P-LI In=1250A 4p W MP    ","Повітряний автоматичний вимикач серії Emax до 6300А",156199.39000000001,"замовлення","4-6","ACBs Emax",1,"шт.",null,"A3"]
["1SDA055681R1","E1B 1600 PR121/P-LSI In=1600A 3p W MP   ","Повітряний автоматичний вимикач серії Emax до 6300А",165903.64000000001,"замовлення","4-6","ACBs Emax",1,"шт.",null,"A3"]
["1SDA055709R1","E1N 800 PR122/P-LSIG In=800A 4p F HR    ","Повітряний автоматичний вимикач серії Emax до 6300А",164768.41,"замовлення","4-6","ACBs Emax",1,"шт.",null,"A3"]
["1SDA055731R1","E1N 1250 PR122/P-LI In=1250A 3p F HR    ","Повітряний автоматичний вимикач серії Emax до 6300А",153294.70000000001,"замовлення","4-6","ACBs Emax",1,"шт.",null,"A3"]
["1SDA055760R1","E1N 1600 PR121/P-LI In=1600A 3p F HR    ","Повітряний автоматичний вимикач серії Emax до 6300А",142229.85999999999,"замовлення","4-6","ACBs Emax",1,"шт.",null,"A3"]
["1SDA055780R1","E1N 1600 PR122/P-LSI In=1600A 3p W MP   ","Повітряний автоматичний вимикач серії Emax до 6300А",194111.15,"замовлення","4-6","ACBs Emax",1,"шт.",null,"A3"]
["1SDA055802R1","E2B 1600 PR121/P-LSIG In=1600A 4p F HR  ","Повітряний автоматичний вимикач серії Emax до 6300А",204910,"замовлення","4-6","ACBs Emax",1,"шт.",null,"A3"]
["1SDA055823R1","E2B 1600 PR123/P-LSIG In=1600A 4p W MP  ","Повітряний автоматичний вимикач серії Emax до 6300А",364435.07,"замовлення","4-6","ACBs Emax",1,"шт.",null,"A3"]
["1SDA055829R1","E2B 2000 PR122/P-LSIG In=2000A 3p F HR  ","Повітряний автоматичний вимикач серії Emax до 6300А",208524.6,"замовлення","4-6","ACBs Emax",1,"шт.",null,"A3"]
["1SDA055851R1","E2B 2000 PR122/P-LI In=2000A 4p W MP    ","Повітряний автоматичний вимикач серії Emax до 6300А",260822.22,"замовлення","4-6","ACBs Emax",1,"шт.",null,"A3"]
["1SDA055880R1","E2N 1250 PR121/P-LI In=1250A 4p W MP    ","Повітряний автоматичний вимикач серії Emax до 6300А",175003.99,"замовлення","4-6","ACBs Emax",1,"шт.",null,"A3"]
["1SDA055906R1","E2N 1600 PR121/P-LSIG In=1600A 3p W MP  ","Повітряний автоматичний вимикач серії Emax до 6300А",204495.84,"замовлення","4-6","ACBs Emax",1,"шт.",null,"A3"]
["1SDA055922R1","E2N 2000 PR121/P-LSIG In=2000A 3p F HR  ","Повітряний автоматичний вимикач серії Emax до 6300А",202517.11,"замовлення","4-6","ACBs Emax",1,"шт.",null,"A3"]
["1SDA055951R1","E2N 2000 PR123/P-LSIG In=2000A 4p W MP  ","Повітряний автоматичний вимикач серії Emax до 6300А",402754.79,"замовлення","4-6","ACBs Emax",1,"шт.",null,"A3"]
["1SDA055972R1","E2S 1250 PR122/P-LSI In=1250A 3p W MP   ","Повітряний автоматичний вимикач серії Emax до 6300А",186786.16,"замовлення","4-6","ACBs Emax",1,"шт.",null,"A3"]
["1SDA055994R1","E2S 1600 PR121/P-LSIG In=1600A 4p F HR  ","Повітряний автоматичний вимикач серії Emax до 6300А",232924.08,"замовлення","4-6","ACBs Emax",1,"шт.",null,"A3"]
["1SDA056000R1","E2S 1600 PR121/P-LI In=1600A 3p W MP    ","Повітряний автоматичний вимикач серії Emax до 6300А",184143.72,"замовлення","4-6","ACBs Emax",1,"шт.",null,"A3"]
["1SDA056021R1","E2S 2000 PR122/P-LSIG In=2000A 3p F HR  ","Повітряний автоматичний вимикач серії Emax до 6300А",218323.7,"замовлення","4-6","ACBs Emax",1,"шт.",null,"A3"]
["1SDA056052R1","E2L 1250 PR122/P-LSI In=1250A 3p F HR   ","Повітряний автоматичний вимикач серії Emax до 6300А",181096.12,"замовлення","4-6","ACBs Emax",1,"шт.",null,"A3"]
["1SDA056071R1","E2L 1250 PR123/P-LSIG In=1250A 3p W MP  ","Повітряний автоматичний вимикач серії Emax до 6300А",333211.56,"замовлення","4-6","ACBs Emax",1,"шт.",null,"A3"]
["1SDA056092R1","E2L 1600 PR122/P-LSI In=1600A 4p F HR   ","Повітряний автоматичний вимикач серії Emax до 6300А",253286.44,"замовлення","4-6","ACBs Emax",1,"шт.",null,"A3"]
["1SDA056121R1","E3N 2500 PR121/P-LSI In=2500A 4p F HR   ","Повітряний автоматичний вимикач серії Emax до 6300А",301676.5,"замовлення","4-6","ACBs Emax",1,"шт.",null,"A3"]
["1SDA056136R1","E3N 2500 PR121/P-LI In=2500A 4p W MP    ","Повітряний автоматичний вимикач серії Emax до 6300А",317839.59999999998,"замовлення","4-6","ACBs Emax",1,"шт.",null,"A3"]
["1SDA056148R1","E3N 3200 PR122/P-LSI In=3200A 3p F HR   ","Повітряний автоматичний вимикач серії Emax до 6300А",318609.01,"замовлення","4-6","ACBs Emax",1,"шт.",null,"A3"]
["1SDA056170R1","E3N 3200 PR121/P-LSIG In=3200A 4p W MP  ","Повітряний автоматичний вимикач серії Emax до 6300А",417054.16,"замовлення","4-6","ACBs Emax",1,"шт.",null,"A3"]
["1SDA056194R1","E3S 1250 PR121/P-LSIG In=1250A 3p W MP  ","Повітряний автоматичний вимикач серії Emax до 6300А",186120.28,"замовлення","4-6","ACBs Emax",1,"шт.",null,"A3"]
["1SDA056219R1","E3S 1600 PR122/P-LI In=1600A 4p F HR    ","Повітряний автоматичний вимикач серії Emax до 6300А",247119.6,"замовлення","4-6","ACBs Emax",1,"шт.",null,"A3"]
["1SDA056241R1","E3S 2000 PR121/P-LSI In=2000A 3p F HR   ","Повітряний автоматичний вимикач серії Emax до 6300А",194232.67,"замовлення","4-6","ACBs Emax",1,"шт.",null,"A3"]
["1SDA056269R1","E3S 2000 PR122/P-LSIG In=2000A 4p W MP  ","Повітряний автоматичний вимикач серії Emax до 6300А",286010.03000000003,"замовлення","4-6","ACBs Emax",1,"шт.",null,"A3"]
["1SDA056282R1","E3S 2500 PR121/P-LSIG In=2500A 4p F HR  ","Повітряний автоматичний вимикач серії Emax до 6300А",327285.90999999997,"замовлення","4-6","ACBs Emax",1,"шт.",null,"A3"]
["1SDA056312R1","E3S 3200 PR121/P-LI In=3200A 4p F HR    ","Повітряний автоматичний вимикач серії Emax до 6300А",362412.32,"замовлення","4-6","ACBs Emax",1,"шт.",null,"A3"]
["1SDA056319R1","E3S 3200 PR123/P-LSIG In=3200A 4p F HR  ","Повітряний автоматичний вимикач серії Emax до 6300А",518468.18,"замовлення","4-6","ACBs Emax",1,"шт.",null,"A3"]
["1SDA056340R1","E3H 800 PR122/P-LSI In=800A 3p F HR     ","Повітряний автоматичний вимикач серії Emax до 6300А",147435.38,"замовлення","4-6","ACBs Emax",1,"шт.",null,"A3"]
["1SDA056365R1","E3H 800 PR122/P-LSIG In=800A 4p W MP    ","Повітряний автоматичний вимикач серії Emax до 6300А",192095.84,"замовлення","4-6","ACBs Emax",1,"шт.",null,"A3"]
["1SDA056389R1","E3H 1250 PR122/P-LSIG In=1250A 3p W MP  ","Повітряний автоматичний вимикач серії Emax до 6300А",212571.34,"замовлення","4-6","ACBs Emax",1,"шт.",null,"A3"]
["1SDA056411R1","E3H 1600 PR122/P-LI In=1600A 4p F HR    ","Повітряний автоматичний вимикач серії Emax до 6300А",253638.9,"замовлення","4-6","ACBs Emax",1,"шт.",null,"A3"]
["1SDA056428R1","E3H 1600 PR122/P-LSI In=1600A 4p W MP   ","Повітряний автоматичний вимикач серії Emax до 6300А",282174.40000000002,"замовлення","4-6","ACBs Emax",1,"шт.",null,"A3"]
["1SDA056460R1","E3H 2000 PR122/P-LSI In=2000A 4p W MP   ","Повітряний автоматичний вимикач серії Emax до 6300А",297068.34999999998,"замовлення","4-6","ACBs Emax",1,"шт.",null,"A3"]
["1SDA056482R1","E3H 2500 PR121/P-LSIG In=2500A 3p W MP  ","Повітряний автоматичний вимикач серії Emax до 6300А",300489.82,"замовлення","4-6","ACBs Emax",1,"шт.",null,"A3"]
["1SDA056511R1","E3H 3200 PR123/P-LSIG In=3200A 4p F HR  ","Повітряний автоматичний вимикач серії Emax до 6300А",536591.4,"замовлення","4-6","ACBs Emax",1,"шт.",null,"A3"]
["1SDA056512R1","E3H 3200 PR121/P-LI In=3200A 3p W MP    ","Повітряний автоматичний вимикач серії Emax до 6300А",340144.4,"замовлення","4-6","ACBs Emax",1,"шт.",null,"A3"]
["1SDA056538R1","E3V 800 PR121/P-LSIG In=800A 4p F HR    ","Повітряний автоматичний вимикач серії Emax до 6300А",168559.09,"замовлення","4-6","ACBs Emax",1,"шт.",null,"A3"]
["1SDA056560R1","E3V 1250 PR121/P-LI In=1250A 3p F HR    ","Повітряний автоматичний вимикач серії Emax до 6300А",157222.39000000001,"замовлення","4-6","ACBs Emax",1,"шт.",null,"A3"]
["1SDA056591R1","E3V 1250 PR123/P-LSIG In=1250A 4p W MP  ","Повітряний автоматичний вимикач серії Emax до 6300А",381254.44,"замовлення","4-6","ACBs Emax",1,"шт.",null,"A3"]
["1SDA056609R1","E3V 1600 PR121/P-LSI In=1600A 3p W MP   ","Повітряний автоматичний вимикач серії Emax до 6300А",222689.74,"замовлення","4-6","ACBs Emax",1,"шт.",null,"A3"]
["1SDA056631R1","E3V 2000 PR123/P-LSIG In=2000A 3p F HR  ","Повітряний автоматичний вимикач серії Emax до 6300А",367635.52,"замовлення","4-6","ACBs Emax",1,"шт.",null,"A3"]
["1SDA056652R1","E3V 2000 PR122/P-LSI In=2000A 4p W MP   ","Повітряний автоматичний вимикач серії Emax до 6300А",316284.32,"замовлення","4-6","ACBs Emax",1,"шт.",null,"A3"]
["1SDA056679R1","E3V 2500 PR123/P-LSIG In=2500A 3p W MP  ","Повітряний автоматичний вимикач серії Emax до 6300А",464292.58,"замовлення","4-6","ACBs Emax",1,"шт.",null,"A3"]
["1SDA056701R1","E3V 3200 PR122/P-LSIG In=3200A 4p F HR  ","Повітряний автоматичний вимикач серії Emax до 6300А",438374.72,"замовлення","4-6","ACBs Emax",1,"шт.",null,"A3"]
["1SDA056708R1","E3V 3200 PR122/P-LSI In=3200A 3p W MP   ","Повітряний автоматичний вимикач серії Emax до 6300А",394270.4,"замовлення","4-6","ACBs Emax",1,"шт.",null,"A3"]
["1SDA056730R1","E3L 2000 PR121/P-LSIG In=2000A 4p F HR  ","Повітряний автоматичний вимикач серії Emax до 6300А",272261.21999999997,"замовлення","4-6","ACBs Emax",1,"шт.",null,"A3"]
["1SDA056762R1","E3L 2500 PR121/P-LSIG In=2500A 4p F HR  ","Повітряний автоматичний вимикач серії Emax до 6300А",343287.49,"замовлення","4-6","ACBs Emax",1,"шт.",null,"A3"]
["1SDA056779R1","E3L 2500 PR122/P-LI In=2500A 4p W MP    ","Повітряний автоматичний вимикач серії Emax до 6300А",379474.72,"замовлення","4-6","ACBs Emax",1,"шт.",null,"A3"]
["1SDA056801R1","E4S 4000 PR121/P-LSI In=4000A 3p W MP   ","Повітряний автоматичний вимикач серії Emax до 6300А",493063.37,"замовлення","4-6","ACBs Emax",1,"шт.",null,"A3"]
["1SDA056852R1","E4H 4000 PR122/P-LSI In=4000A 3p F HR   ","Повітряний автоматичний вимикач серії Emax до 6300А",521289.18,"замовлення","4-6","ACBs Emax",1,"шт.",null,"A3"]
["1SDA056882R1","E4V 3200 PR121/P-LSIG In=3200A 3p F HR  ","Повітряний автоматичний вимикач серії Emax до 6300А",520575.88,"замовлення","4-6","ACBs Emax",1,"шт.",null,"A3"]
["1SDA056904R1","E4V 3200 PR121/P-LI In=3200A 4p W MP    ","Повітряний автоматичний вимикач серії Emax до 6300А",668419.83999999997,"замовлення","4-6","ACBs Emax",1,"шт.",null,"A3"]
["1SDA056911R1","E4V 3200 PR123/P-LSIG In=3200A 4p W MP  ","Повітряний автоматичний вимикач серії Emax до 6300А",840082.64,"замовлення","4-6","ACBs Emax",1,"шт.",null,"A3"]
["1SDA056940R1","E4V 4000 PR122/P-LSI In=4000A 4p W MP   ","Повітряний автоматичний вимикач серії Emax до 6300А",719873.32,"замовлення","4-6","ACBs Emax",1,"шт.",null,"A3"]
["1SDA056985R1","E6H 5000 PR121/P-LSI In=5000A 4p F HR   ","Повітряний автоматичний вимикач серії Emax до 6300А",928180.61,"замовлення","4-6","ACBs Emax",1,"шт.",null,"A3"]
["1SDA057013R1","E6H 6300 PR122/P-LSIG In=6300A 3p F HR  ","Повітряний автоматичний вимикач серії Emax до 6300А",1007070.04,"замовлення","4-6","ACBs Emax",1,"шт.",null,"A3"]
["1SDA057031R1","E6H 6300 PR123/P-LSIG In=6300A 3p W MP  ","Повітряний автоматичний вимикач серії Emax до 6300А",1236402.46,"замовлення","4-6","ACBs Emax",1,"шт.",null,"A3"]
["1SDA057127R1","E6V 5000 PR123/P-LSIG In=5000A 3p W MP  ","Повітряний автоматичний вимикач серії Emax до 6300А",1079846.56,"замовлення","4-6","ACBs Emax",1,"шт.",null,"A3"]
["1SDA057148R1","E6V 6300 PR122/P-LSI In=6300A 4p F HR   ","Повітряний автоматичний вимикач серії Emax до 6300А",1377616.75,"замовлення","4-6","ACBs Emax",1,"шт.",null,"A3"]
["1SDA058189R1","PR121/P-LI E1-E6                        ","Аксесуари до повітр. авт. вимикачів серії Emax",23965.79,"замовлення","4-6","ACBs Emax acc.",1,"шт.",null,"A4"]
["1SDA058216R1","CUR.S.EX.NEUTRAL N100%E4/fs-N200%E1-2new","Аксесуари до повітр. авт. вимикачів серії Emax",29222.15,"замовлення","4-6","ACBs Emax acc.",1,"шт.",null,"A4"]
["1SDA058234R1","RATING PLUG In=6300A E6IEC              ","Аксесуари до повітр. авт. вимикачів серії Emax",3234.54,"замовлення","4-6","ACBs Emax acc.",1,"шт.",null,"A4"]
["1SDA058274R1","KEY LOCK OPEN POS. N.20006 E1/6 new     ","Аксесуари до повітр. авт. вимикачів серії Emax",3338.39,"замовлення","4-6","ACBs Emax acc.",1,"шт.",null,"A4"]
["1SDA058303R1","E2S 800 PR122/P-LSIG In=800A 3p W MP    ","Повітряний автоматичний вимикач серії Emax до 6300А",181392.78,"замовлення","4-6","ACBs Emax",1,"шт.",null,"A3"]
["1SDA058551R1","E6H/E 50 VERS.SPEC.1150V AC new (EXTR)  ","Аксесуари до повітр. авт. вимикачів серії Emax",169006.42,"замовлення","4-6","ACBs Emax acc.",1,"шт.",null,"A4"]
["1SDA058872R1","E2S/MS 1600 4p W MP new                 ","Повітряний автоматичний вимикач серії Emax до 6300А",178761.19,"замовлення","4-6","ACBs Emax",1,"шт.",null,"A3"]
["1SDA058891R1","E3V/MS 2000 3p W MP new                 ","Повітряний автоматичний вимикач серії Emax до 6300А",169416.24,"замовлення","4-6","ACBs Emax",1,"шт.",null,"A3"]
["1SDA058896R1","E3V/MS 2500 4p W MP new                 ","Повітряний автоматичний вимикач серії Emax до 6300А",298519.46000000002,"замовлення","4-6","ACBs Emax",1,"шт.",null,"A3"]
["1SDA058923R1","E6H/E/f/MS 5000 4p F HR 1000V DC new    ","Повітряний автоматичний вимикач серії Emax до 6300А",1237064.6200000001,"замовлення","4-6","ACBs Emax",1,"шт.",null,"A3"]
["1SDA058946R1","E1N/MS 1250  4p W MP new                ","Повітряний автоматичний вимикач серії Emax до 6300А",129995.4,"замовлення","4-6","ACBs Emax",1,"шт.",null,"A3"]
["1SDA058971R1","E3S/MS 2000  3p F HR new                ","Повітряний автоматичний вимикач серії Emax до 6300А",150934.97,"замовлення","4-6","ACBs Emax",1,"шт.",null,"A3"]
["1SDA058985R1","E3S/MS 2000  3p W MP new                ","Повітряний автоматичний вимикач серії Emax до 6300А",166028.87,"замовлення","4-6","ACBs Emax",1,"шт.",null,"A3"]
["1SDA059012R1","E6H/MS 5000  4p W MP new                ","Повітряний автоматичний вимикач серії Emax до 6300А",999757.75,"замовлення","4-6","ACBs Emax",1,"шт.",null,"A3"]
["1SDA059037R1","E3H/E MS 2500 3p 1150V AC  W MP new     ","Повітряний автоматичний вимикач серії Emax до 6300А",146060.84,"замовлення","4-6","ACBs Emax",1,"шт.",null,"A3"]
["1SDA059058R1","E2N/E MS 1600 4p 1000V DC  W MP new     ","Повітряний автоматичний вимикач серії Emax до 6300А",236666.71,"замовлення","4-6","ACBs Emax",1,"шт.",null,"A3"]
["1SDA059074R1","E3H/E MS 1600 4p 1000V DC  W MP new     ","Повітряний автоматичний вимикач серії Emax до 6300А",203703.17,"замовлення","4-6","ACBs Emax",1,"шт.",null,"A3"]
["1SDA059080R1","E3H/E MS 3200 4p 1000V DC  W MP new     ","Повітряний автоматичний вимикач серії Emax до 6300А",235808.63,"замовлення","4-6","ACBs Emax",1,"шт.",null,"A3"]
["1SDA059099R1","E2MTP Earth.Sw.-Up.Term.2000 3p W MP new","Повітряний автоматичний вимикач серії Emax до 6300А",194155.48,"замовлення","4-6","ACBs Emax",1,"шт.",null,"A3"]
["1SDA059136R1","E4 /E/f  W FP 4p 1000V DC  HR-HR new    ","Аксесуари до повітр. авт. вимикачів серії Emax",106368.44,"замовлення","4-6","ACBs Emax acc.",1,"шт.",null,"A4"]
["1SDA059143R1","E6 /E/f  W FP 4p 1000V DC  VR-VR new    ","Аксесуари до повітр. авт. вимикачів серії Emax",149319.25,"замовлення","4-6","ACBs Emax acc.",1,"шт.",null,"A4"]
["1SDA059185R1","E1B 1000 PR122/P-LSI In=1000A 3p F HR   ","Повітряний автоматичний вимикач серії Emax до 6300А",144553.62,"замовлення","4-6","ACBs Emax",1,"шт.",null,"A3"]
["1SDA059222R1","E1N 1000 PR121/P-LSIG In=1000A 3p W MP  ","Повітряний автоматичний вимикач серії Emax до 6300А",157614.54,"замовлення","4-6","ACBs Emax",1,"шт.",null,"A3"]
["1SDA059256R1","E1N/MS 1000  4p W MP new                ","Повітряний автоматичний вимикач серії Emax до 6300А",120479.02,"замовлення","4-6","ACBs Emax",1,"шт.",null,"A3"]
["1SDA059271R1","E2N 1000 PR122/P-LI In=1000A 4p F HR    ","Повітряний автоматичний вимикач серії Emax до 6300А",173929.54,"замовлення","4-6","ACBs Emax",1,"шт.",null,"A3"]
["1SDA059308R1","E2S 1000 PR121/P-LSI In=1000A 4p W MP   ","Повітряний автоматичний вимикач серії Emax до 6300А",183871.24,"замовлення","4-6","ACBs Emax",1,"шт.",null,"A3"]
["1SDA059319R1","E2S 1000 PR122/P-LSI In=1000A 4p F HR   ","Повітряний автоматичний вимикач серії Emax до 6300А",188659.8,"замовлення","4-6","ACBs Emax",1,"шт.",null,"A3"]
["1SDA059344R1","E2S/MS 1000 4p W MP new                 ","Повітряний автоматичний вимикач серії Emax до 6300А",125296.12,"замовлення","4-6","ACBs Emax",1,"шт.",null,"A3"]
["1SDA059363R1","E3H 1000 PR122/P-LSI In=1000A 4p F HR   ","Повітряний автоматичний вимикач серії Emax до 6300А",213988.04,"замовлення","4-6","ACBs Emax",1,"шт.",null,"A3"]
["1SDA059394R1","E3S 1000 PR121/P-LSIG In=1000A 3p W MP  ","Повітряний автоматичний вимикач серії Emax до 6300А",178585.42,"замовлення","4-6","ACBs Emax",1,"шт.",null,"A3"]
["1SDA059479R1","T4L 250 PR223EF In=250A 3p F F          ","Корпусний авт-ний вимикач серії Tmax Т до 800А",61043.34,"замовлення","4-6","MCCBs Tmax,XT ≤800A+",1,"шт.",null,"A1"]
["1SDA059500R1","T4S 250 PR223DS In=160A 4p F F          ","Корпусний авт-ний вимикач серії Tmax Т до 800А",59745.06,"замовлення","4-6","MCCBs Tmax,XT ≤800A+",1,"шт.",null,"A1"]
["1SDA059531R1","T5N 400 PR223DS In=400A 3p F F          ","Корпусний авт-ний вимикач серії Tmax Т до 800А",47137.06,"замовлення","4-6","MCCBs Tmax,XT ≤800A+",1,"шт.",null,"A1"]
["1SDA059540R1","T5S 630 PR223DS In=630A 4p F F          ","Корпусний авт-ний вимикач серії Tmax Т до 800А",68451.41,"замовлення","4-6","MCCBs Tmax,XT ≤800A+",1,"шт.",null,"A1"]
["1SDA059570R1","PR223DS In=400 4p T5                    ","Аксесуари до корп. авт. вимикачів серії Tmax T",43712.17,"замовлення","4-6","MCCBs Tmax,XT ≤800A+",1,"шт.",null,"A1"]
["1SDA059599R1","MOS T1-T2 ADJA,MOUT. 110...250Vac/dc new","Аксесуари до корп. авт. вимикачів серії Tmax T",11511.54,"замовлення","4-6","MCCBs Tmax,XT ≤800A+",1,"шт.",null,"A1"]
["1SDA059670R1","E4 W FP 3p HR-HR new                    ","Аксесуари до повітр. авт. вимикачів серії Emax",95283.16,"частково",1,"ACBs Emax acc.",1,"шт.","див. закладку \"Акційне обладнання\"","A4"]
["1SDA059690R1","E1 W FP 3p HR-VR new                    ","Аксесуари до повітр. авт. вимикачів серії Emax",51738.7,"замовлення","4-6","ACBs Emax acc.",1,"шт.",null,"A4"]
["1SDA059773R1","E3 W FP 4p VR-VR new                    ","Аксесуари до повітр. авт. вимикачів серії Emax",103851.24,"замовлення","4-6","ACBs Emax acc.",1,"шт.",null,"A4"]
["1SDA059792R1","E6 W FP 4p FL-FL new                    ","Аксесуари до повітр. авт. вимикачів серії Emax",180256.63,"замовлення","4-6","ACBs Emax acc.",1,"шт.",null,"A4"]
["1SDA059897R1","E4 /E W FP 3p 750V DC  VR-VR new        ","Аксесуари до повітр. авт. вимикачів серії Emax",94694.15,"замовлення","4-6","ACBs Emax acc.",1,"шт.",null,"A4"]
["1SDA059907R1","E3 /E W FP 4p 1000V DC  VR-VR new       ","Аксесуари до повітр. авт. вимикачів серії Emax",72181.02,"замовлення","4-6","ACBs Emax acc.",1,"шт.",null,"A4"]
["1SDA060219R1","T6H 800 TMA 800-8000 4p F F             ","Корпусний авт-ний вимикач серії Tmax Т до 800А",41559.53,"замовлення","4-6","MCCBs Tmax,XT ≤800A+",1,"шт.",null,"A1"]
["1SDA060225R1","T6L 800 TMA 800-8000 4p F F InN=100%In  ","Корпусний авт-ний вимикач серії Tmax Т до 800А",44884.28,"замовлення","4-6","MCCBs Tmax,XT ≤800A+",1,"шт.",null,"A1"]
["1SDA060243R1","T6S 630 PR222DS/P-LSI In=630 4p F F     ","Корпусний авт-ний вимикач серії Tmax Т до 800А",49214.98,"замовлення","4-6","MCCBs Tmax,XT ≤800A+",1,"шт.",null,"A1"]
["1SDA060262R1","T6L 630 PR221DS-LS/I In=630 4p F F      ","Корпусний авт-ний вимикач серії Tmax Т до 800А",49293.41,"замовлення","4-6","MCCBs Tmax,XT ≤800A+",1,"шт.",null,"A1"]
["1SDA060287R1","T6S 800 PR223DS In=800 4p F F           ","Корпусний авт-ний вимикач серії Tmax Т до 800А",65214.080000000002,"замовлення","4-6","MCCBs Tmax,XT ≤800A+",1,"шт.",null,"A1"]
["1SDA060307R1","T6L 800 PR222DS/P-LSI In=800 4p F F     ","Корпусний авт-ний вимикач серії Tmax Т до 800А",58485.53,"замовлення","4-6","MCCBs Tmax,XT ≤800A+",1,"шт.",null,"A1"]
["1SDA060323R1","T6L800 PR221DS-LS/I In=800 3p FF 1000VAC","Корпусний авт-ний вимикач серії Tmax Т до 800А",45883.1,"замовлення","4-6","MCCBs Tmax,XT ≤800A+",1,"шт.",null,"A1"]
["1SDA060352R1","PR221DS-I In=630 T6 630 3p              ","Аксесуари до корп. авт. вимикачів серії Tmax T",6856.58,"замовлення","4-6","MCCBs Tmax,XT ≤800A+",1,"шт.",null,"A1"]
["1SDA060371R1","PR222DS/P-LSI In=800 T6 800 4p          ","Аксесуари до корп. авт. вимикачів серії Tmax T",18664.48,"замовлення","4-6","MCCBs Tmax,XT ≤800A+",1,"шт.",null,"A1"]
["1SDA060397R1","MOE T6 110...125 Vac/dc                 ","Аксесуари до корп. авт. вимикачів серії Tmax T",29509.21,"замовлення","4-6","MCCBs Tmax,XT ≤800A+",1,"шт.",null,"A1"]
["1SDA060400R1","MOE-E T6 24 Vdc x REM.CONTR.            ","Аксесуари до корп. авт. вимикачів серії Tmax T",34033.660000000003,"замовлення","4-6","MCCBs Tmax,XT ≤800A+",1,"шт.",null,"A1"]
["1SDA060427R1","KIT R T6 6pcs                           ","Аксесуари до корп. авт. вимикачів серії Tmax T",9144.3799999999992,"замовлення","4-6","MCCBs Tmax,XT ≤800A+",1,"шт.",null,"A1"]
["1SDA060548R1","T6S 1000 PR221DS-I In=1000 3p F F       ","Корпусний авт-ний вимикач серії Tmax Т понад 800А",42379.79,"замовлення","4-6","MCCBs Tmax > 800A",1,"шт.",null,"A2"]
["1SDA060582R1","T6L 1000 PR222DS/P-LSI In=1000 4p F F   ","Корпусний авт-ний вимикач серії Tmax Т понад 800А",72992.289999999994,"замовлення","4-6","MCCBs Tmax > 800A",1,"шт.",null,"A2"]
["1SDA060600R1","PR222DS/PD-LSI In=1000 T6 1000 3p       ","Аксесуари до корп. авт. вимикачів серії Tmax T",26553.98,"замовлення","4-6","MCCBs Tmax,XT ≤800A+",1,"шт.",null,"A1"]
["1SDA060685R1","MIR-HB T6-S6                            ","Аксесуари до корп. авт. вимикачів серії Tmax T",8477.8799999999992,"частково",1,"MCCBs Tmax,XT ≤800A+",1,"шт.",null,"A1"]
["1SDA061975R1","T7S 800 PR331/P LSIG In=800A 4p F F     ","Корпусний авт-ний вимикач серії Tmax Т до 800А",78244.62,"замовлення","4-6","MCCBs Tmax,XT ≤800A+",1,"шт.",null,"A1"]
["1SDA061997R1","X1B 630 PR331/P LSI In=630A 3p F F      ","Повітряний автоматичний вимикач серії Emax до 6300А",91290.97,"замовлення","4-6","ACBs Emax",1,"шт.",null,"A3"]
["1SDA061999R1","X1B 630 PR332/P LI In=630A 3p F F       ","Повітряний автоматичний вимикач серії Emax до 6300А",106409.98,"замовлення","4-6","ACBs Emax",1,"шт.",null,"A3"]
["1SDA062027R1","X1B 630 PR332/P LSI In=630A 4p W MP     ","Повітряний автоматичний вимикач серії Emax до 6300А",117267.73,"замовлення","4-6","ACBs Emax",1,"шт.",null,"A3"]
["1SDA062052R1","X1B/MS 1000 3p F F                      ","Повітряний автоматичний вимикач серії Emax до 6300А",75109.899999999994,"замовлення","4-6","ACBs Emax",1,"шт.",null,"A3"]
["1SDA062066R1","SOR T7-T7M-X1 30Va.c./d.c.              ","Аксесуари до корп. авт. вимикачів серії Tmax T",4349.3,"замовлення","4-6","MCCBs Tmax,XT ≤800A+",1,"шт.",null,"A1"]
["1SDA062103R1","AUX T7 1Q + 1SY 24Vd.c.                 ","Аксесуари до корп. авт. вимикачів серії Tmax T",921.64,"частково",1,"MCCBs Tmax,XT ≤800A+",1,"шт.","див. закладку \"Акційне обладнання\"","A1"]
["1SDA062122R1","RHE T7 F/W NORM. RETURNED               ","Аксесуари до корп. авт. вимикачів серії Tmax T",5297.59,"частково",1,"MCCBs Tmax,XT ≤800A+",1,"шт.","див. закладку \"Акційне обладнання\"","A1"]
["1SDA062143R1","KLC-S T7M KEY LOCK EQ.N.20006 OP.       ","Аксесуари до корп. авт. вимикачів серії Tmax T",1955.48,"замовлення","4-6","MCCBs Tmax,XT ≤800A+",1,"шт.",null,"A1"]
["1SDA062147R1","KLC X1 KEY LOCK CASTELL OP.(PREDIS)     ","Аксесуари до корп. авт. вимикачів серії Tmax T",1052.45,"замовлення","4-6","MCCBs Tmax,XT ≤800A+",1,"шт.",null,"A1"]
["1SDA062168R1","CENTRAL SLIDING CONTAC.FP C.BR.T7-T7M-X1","Аксесуари до корп. авт. вимикачів серії Tmax T",2530.2199999999998,"замовлення","4-6","MCCBs Tmax,XT ≤800A+",1,"шт.",null,"A1"]
["1SDA062199R1","X1N 630 PR333/P LSIG In=630A 3p W MP    ","Повітряний автоматичний вимикач серії Emax до 6300А",232810.93,"замовлення","4-6","ACBs Emax",1,"шт.",null,"A3"]
["1SDA062220R1","X1L 630 PR331/P LSIG In=630A 4p F F     ","Повітряний автоматичний вимикач серії Emax до 6300А",138080.20000000001,"замовлення","4-6","ACBs Emax",1,"шт.",null,"A3"]
["1SDA062250R1","X1B 800 PR332/P LSIG In=800A 3p F F     ","Повітряний автоматичний вимикач серії Emax до 6300А",139400.5,"замовлення","4-6","ACBs Emax",1,"шт.",null,"A3"]
["1SDA062279R1","X1B 800 PR333/P LSI In=800A 4p W MP     ","Повітряний автоматичний вимикач серії Emax до 6300А",264004.37,"замовлення","4-6","ACBs Emax",1,"шт.",null,"A3"]
["1SDA062294R1","X1N 800 PR332/P LSI In=800A 4p F F      ","Повітряний автоматичний вимикач серії Emax до 6300А",142458.01999999999,"замовлення","4-6","ACBs Emax",1,"шт.",null,"A3"]
["1SDA062334R1","X1L 800 PR333/P LSIG In=800A 4p F F     ","Повітряний автоматичний вимикач серії Emax до 6300А",272395.45,"замовлення","4-6","ACBs Emax",1,"шт.",null,"A3"]
["1SDA062362R1","X1B 1000 PR331/P LI In=1000A 4p F F     ","Повітряний автоматичний вимикач серії Emax до 6300А",109867.1,"замовлення","4-6","ACBs Emax",1,"шт.",null,"A3"]
["1SDA062383R1","X1B 1000 PR332/P LI In=1000A 4p W MP    ","Повітряний автоматичний вимикач серії Emax до 6300А",123817.72,"замовлення","4-6","ACBs Emax",1,"шт.",null,"A3"]
["1SDA062394R1","X1N 1000 PR332/P LSIG In=1000A 3p F F   ","Повітряний автоматичний вимикач серії Emax до 6300А",161023.92000000001,"замовлення","4-6","ACBs Emax",1,"шт.",null,"A3"]
["1SDA062410R1","X1N 1000 PR332/P LI In=1000A 3p W MP    ","Повітряний автоматичний вимикач серії Emax до 6300А",145057.99,"замовлення","4-6","ACBs Emax",1,"шт.",null,"A3"]
["1SDA062436R1","X1L 1000 PR331/P LSIG In=1000A 4p F F   ","Повітряний автоматичний вимикач серії Emax до 6300А",161191.63,"замовлення","4-6","ACBs Emax",1,"шт.",null,"A3"]
["1SDA062465R1","X1B 1250 PR332/P LSI In=1250A 3p F F    ","Повітряний автоматичний вимикач серії Emax до 6300А",144923.76,"замовлення","4-6","ACBs Emax",1,"шт.",null,"A3"]
["1SDA062493R1","X1B 1250 PR332/P LSIG In=1250A 4p W MP  ","Повітряний автоматичний вимикач серії Emax до 6300А",169803.74,"замовлення","4-6","ACBs Emax",1,"шт.",null,"A3"]
["1SDA062522R1","X1N 1250 PR333/P LSI In=1250A 3p W MP   ","Повітряний автоматичний вимикач серії Emax до 6300А",265520.58,"замовлення","4-6","ACBs Emax",1,"шт.",null,"A3"]
["1SDA062550R1","X1L 1250 PR333/P LSIG In=1250A 4p F F   ","Повітряний автоматичний вимикач серії Emax до 6300А",297611.78000000003,"замовлення","4-6","ACBs Emax",1,"шт.",null,"A3"]
["1SDA062556R1","X1L 1250 PR332/P LSIG In=1250A 3p W MP  ","Повітряний автоматичний вимикач серії Emax до 6300А",205228.68,"замовлення","4-6","ACBs Emax",1,"шт.",null,"A3"]
["1SDA062583R1","X1B 1600 PR332/P LSIG In=1600A 4p F F   ","Повітряний автоматичний вимикач серії Emax до 6300А",160519.54999999999,"замовлення","4-6","ACBs Emax",1,"шт.",null,"A3"]
["1SDA062605R1","X1N 1600 PR331/P LI In=1600A 3p F F     ","Повітряний автоматичний вимикач серії Emax до 6300А",109340.41,"замовлення","4-6","ACBs Emax",1,"шт.",null,"A3"]
["1SDA062621R1","X1N 1600 PR333/P LSI In=1600A 4p F F    ","Повітряний автоматичний вимикач серії Emax до 6300А",303378.09999999998,"замовлення","4-6","ACBs Emax",1,"шт.",null,"A3"]
["1SDA062648R1","T7H 800 PR332/P LSIRc In=800A 3p F F    ","Корпусний авт-ний вимикач серії Tmax Т до 800А",70076.44,"замовлення","4-6","MCCBs Tmax,XT ≤800A+",1,"шт.",null,"A1"]
["1SDA062667R1","T7H 800 PR232/P LSI In=800A 4p F F M    ","Корпусний авт-ний вимикач серії Tmax Т до 800А",59458,"замовлення","4-6","MCCBs Tmax,XT ≤800A+",1,"шт.",null,"A1"]
["1SDA062692R1","T7L 800 PR331/P LSIG In=800A 3p F F M   ","Корпусний авт-ний вимикач серії Tmax Т до 800А",82699.94,"замовлення","4-6","MCCBs Tmax,XT ≤800A+",1,"шт.",null,"A1"]
["1SDA062712R1","T7V 800 PR332/P LSIRc In=800A 3p F F    ","Корпусний авт-ний вимикач серії Tmax Т до 800А",75513.83,"замовлення","4-6","MCCBs Tmax,XT ≤800A+",1,"шт.",null,"A1"]
["1SDA062729R1","T7V 800 PR231/P I In=800A 4p F F M      ","Корпусний авт-ний вимикач серії Tmax Т до 800А",61078.37,"замовлення","4-6","MCCBs Tmax,XT ≤800A+",1,"шт.",null,"A1"]
["1SDA062735R1","T7V 800 PR332/P LSIG In=800A 4p F F M   ","Корпусний авт-ний вимикач серії Tmax Т до 800А",100912.44,"замовлення","4-6","MCCBs Tmax,XT ≤800A+",1,"шт.",null,"A1"]
["1SDA062754R1","T7S 1000 PR231/P LS/I In=1000A 3p F F M ","Корпусний авт-ний вимикач серії Tmax Т понад 800А",51061.03,"частково",1,"MCCBs Tmax > 800A",1,"шт.",null,"A2"]
["1SDA062771R1","T7H 1000 PR232/P LSI In=1000A 3p F F    ","Корпусний авт-ний вимикач серії Tmax Т понад 800А",57019.85,"замовлення","4-6","MCCBs Tmax > 800A",1,"шт.",null,"A2"]
["1SDA062797R1","T7H 1000 PR332/P LI In=1000A 4p F F M   ","Корпусний авт-ний вимикач серії Tmax Т понад 800А",80437.87,"замовлення","4-6","MCCBs Tmax > 800A",1,"шт.",null,"A2"]
["1SDA062816R1","T7L 1000 PR332/P LSIRc In=1000A 4p F F  ","Корпусний авт-ний вимикач серії Tmax Т понад 800А",96087.91,"замовлення","4-6","MCCBs Tmax > 800A",1,"шт.",null,"A2"]
["1SDA062840R1","T7V 1000 PR332/P LSIRc In=1000A 3p F F  ","Корпусний авт-ний вимикач серії Tmax Т понад 800А",88003.42,"замовлення","4-6","MCCBs Tmax > 800A",1,"шт.",null,"A2"]
["1SDA062859R1","T7V 1000 PR232/P LSI In=1000A 4p F F M  ","Корпусний авт-ний вимикач серії Tmax Т понад 800А",85231.09,"замовлення","4-6","MCCBs Tmax > 800A",1,"шт.",null,"A2"]
["1SDA062865R1","T7S 1250 PR231/P I In=1250A 3p F F      ","Корпусний авт-ний вимикач серії Tmax Т понад 800А",52550.89,"замовлення","4-6","MCCBs Tmax > 800A",1,"шт.",null,"A2"]
["1SDA062884R1","T7S 1250 PR331/P LSIG In=1250A 3p F F M ","Корпусний авт-ний вимикач серії Tmax Т понад 800А",96091.63,"замовлення","4-6","MCCBs Tmax > 800A",1,"шт.",null,"A2"]
["1SDA062913R1","T7H 1250 PR231/P I In=1250A 3p F F M    ","Корпусний авт-ний вимикач серії Tmax Т понад 800А",65084.2,"замовлення","4-6","MCCBs Tmax > 800A",1,"шт.",null,"A2"]
["1SDA062927R1","T7H 1250 PR332/P LSIG In=1250A 4p F F M ","Корпусний авт-ний вимикач серії Tmax Т понад 800А",121189.85,"замовлення","4-6","MCCBs Tmax > 800A",1,"шт.",null,"A2"]
["1SDA062946R1","T7L 1250 PR231/P LS/I In=1250A 3p F F M ","Корпусний авт-ний вимикач серії Tmax Т понад 800А",73486.740000000005,"замовлення","4-6","MCCBs Tmax > 800A",1,"шт.",null,"A2"]
["1SDA062964R1","T7V 1250 PR331/P LSIG In=1250A 3p F F   ","Корпусний авт-ний вимикач серії Tmax Т понад 800А",104243.39,"замовлення","4-6","MCCBs Tmax > 800A",1,"шт.",null,"A2"]
["1SDA062989R1","T7V 1250 PR332/P LI In=1250A 4p F F M   ","Корпусний авт-ний вимикач серії Tmax Т понад 800А",107063.46,"замовлення","4-6","MCCBs Tmax > 800A",1,"шт.",null,"A2"]
["1SDA063008R1","T7S 1600 PR332/P LSIRc In=1600A 4p F F  ","Корпусний авт-ний вимикач серії Tmax Т понад 800А",108658.1,"замовлення","4-6","MCCBs Tmax > 800A",1,"шт.",null,"A2"]
["1SDA063014R1","T7S 1600 PR332/P LSI In=1600A 3p F F M  ","Корпусний авт-ний вимикач серії Tmax Т понад 800А",95389.18,"замовлення","4-6","MCCBs Tmax > 800A",1,"шт.",null,"A2"]
["1SDA063041R1","T7H 1600 PR231/P I In=1600A 3p F F M    ","Корпусний авт-ний вимикач серії Tmax Т понад 800А",78061.42,"замовлення","4-6","MCCBs Tmax > 800A",1,"шт.",null,"A2"]
["1SDA063051R1","T7H 1600 PR232/P LSI In=1600A 4p F F M  ","Корпусний авт-ний вимикач серії Tmax Т понад 800А",103774.06,"замовлення","4-6","MCCBs Tmax > 800A",1,"шт.",null,"A2"]
["1SDA063076R1","T7L 1600 PR331/P LSIG In=1600A 3p F F M ","Корпусний авт-ний вимикач серії Tmax Т понад 800А",123714.49,"замовлення","4-6","MCCBs Tmax > 800A",1,"шт.",null,"A2"]
["1SDA063099R1","KIT F T7-T7M-X1 3pcs                    ","Аксесуари до корп. авт. вимикачів серії Tmax T",1804.51,"замовлення","4-6","MCCBs Tmax,XT ≤800A+",1,"шт.",null,"A1"]
["1SDA063118R1","KIT R T7-T7M-X1 6pcs                    ","Аксесуари до корп. авт. вимикачів серії Tmax T",13844.6,"замовлення","4-6","MCCBs Tmax,XT ≤800A+",1,"шт.",null,"A1"]
["1SDA063414R1","T4V 250 TMA 125-1250 3p F FC 1150V AC   ","Корпусний авт-ний вимикач серії Tmax Т до 800А",25541.21,"замовлення","4-6","MCCBs Tmax,XT ≤800A+",1,"шт.",null,"A1"]
["1SDA063433R1","T4V250 PR222DS/P-LSIG In250 4pFFC1150VAC","Корпусний авт-ний вимикач серії Tmax Т до 800А",50703.91,"замовлення","4-6","MCCBs Tmax,XT ≤800A+",1,"шт.",null,"A1"]
["1SDA063445R1","T5V 400 PR221DS-I In=400 4p F FC 1150VAC","Корпусний авт-ний вимикач серії Tmax Т до 800А",42987.4,"замовлення","4-6","MCCBs Tmax,XT ≤800A+",1,"шт.",null,"A1"]
["1SDA063457R1","T5L 400 Ekip M-LRIU In=400 3p FF 1000Vac","Корпусний авт-ний вимикач серії Tmax Т до 800А",39965.82,"замовлення","4-6","MCCBs Tmax,XT ≤800A+",1,"шт.",null,"A1"]
["1SDA063487R1","T5V400 PR222DS/P-LSI In320 3p FFC1150VAC","Корпусний авт-ний вимикач серії Tmax Т до 800А",42831.77,"замовлення","4-6","MCCBs Tmax,XT ≤800A+",1,"шт.",null,"A1"]
["1SDA063566R1","KLC-S X1 KEY LOCK EQ.N.20008 OP.        ","Аксесуари до повітр. авт. вимикачів серії Emax",854.36,"замовлення","4-6","ACBs Emax acc.",1,"шт.",null,"A4"]
["1SDA063869R1","TOR TRAN.Rc xPR122/3-332/3 E1/2 3p-T7-X1","Аксесуари до корп. авт. вимикачів серії Tmax T",32511.88,"замовлення","4-6","MCCBs Tmax,XT ≤800A+",1,"шт.",null,"A1"]
["1SDA064514R1","MOD.UNIV.SD030 DO EXT.xDIG.SIG.xSYST.BUS","Аксесуари до корп. авт. вимикачів серії Tmax T",19665.16,"замовлення","4-6","MCCBs Tmax,XT ≤800A+",1,"шт.",null,"A1"]
["1SDA064584R1","E2N 1600 PR122/DC In=1600A 3p F VR<HR   ","Повітряний автоматичний вимикач серії Emax до 6300А",316266.96000000002,"замовлення","4-6","ACBs Emax",1,"шт.",null,"A3"]
["1SDA064608R1","E3H 2500 PR122/DC In=2500A 3p F VR<HR   ","Повітряний автоматичний вимикач серії Emax до 6300А",482024.27,"замовлення","4-6","ACBs Emax",1,"шт.",null,"A3"]
["1SDA064627R1","E3N 800 PR122/DC In=800A 4p W MP        ","Повітряний автоматичний вимикач серії Emax до 6300А",443701.76000000001,"замовлення","4-6","ACBs Emax",1,"шт.",null,"A3"]
["1SDA064646R1","E4S 1600 PR122/DC In=1600A 3p W MP      ","Повітряний автоматичний вимикач серії Emax до 6300А",523202.5,"замовлення","4-6","ACBs Emax",1,"шт.",null,"A3"]
["1SDA064665R1","E6H/f 3200 PR122/DC In=3200A 4p W MP    ","Повітряний автоматичний вимикач серії Emax до 6300А",1065620.04,"замовлення","4-6","ACBs Emax",1,"шт.",null,"A3"]
["1SDA064667R1","E6H/f 5000 PR122/DC In=5000A 4p W MP    ","Повітряний автоматичний вимикач серії Emax до 6300А",1428497.36,"замовлення","4-6","ACBs Emax",1,"шт.",null,"A3"]
["1SDA064689R1","E3N 1000 PR123/DC In=1000A 3p F VR<HR   ","Повітряний автоматичний вимикач серії Emax до 6300А",560141.80000000005,"замовлення","4-6","ACBs Emax",1,"шт.",null,"A3"]
["1SDA064714R1","E3H 2500 PR123/DC In=2500A 3p W MP      ","Повітряний автоматичний вимикач серії Emax до 6300А",681320.8,"замовлення","4-6","ACBs Emax",1,"шт.",null,"A3"]
["1SDA064736R1","E4S 2500 PR123/DC In=2500A 3p W MP      ","Повітряний автоматичний вимикач серії Emax до 6300А",784021.31,"замовлення","4-6","ACBs Emax",1,"шт.",null,"A3"]
["1SDA064751R1","E6H 4000 PR123/DC In=4000A 3p W MP      ","Повітряний автоматичний вимикач серії Emax до 6300А",1032486,"замовлення","4-6","ACBs Emax",1,"шт.",null,"A3"]
["1SDA065746R1","T8V2500 PR232/P LSI In2500 4p FF 1000VAC","Корпусний авт-ний вимикач серії Tmax Т понад 800А",291118.84000000003,"замовлення","4-6","MCCBs Tmax > 800A",1,"шт.",null,"A2"]
["1SDA065770R1","T8V 2000 PR331/P LSIG In=2000A 3p F F   ","Корпусний авт-ний вимикач серії Tmax Т понад 800А",195162.67,"замовлення","4-6","MCCBs Tmax > 800A",1,"шт.",null,"A2"]
["1SDA065796R1","T8V 3200 PR331/P LSI In=3200A 4p F VR   ","Корпусний авт-ний вимикач серії Tmax Т понад 800А",304257.25,"замовлення","4-6","MCCBs Tmax > 800A",1,"шт.",null,"A2"]
["1SDA065999R1","KEY LOCK OPEN POS. N.20005 T8           ","Аксесуари до корп. авт. вимикачів серії Tmax T",1015.56,"замовлення","4-6","MCCBs Tmax,XT ≤800A+",1,"шт.",null,"A1"]
["1SDA066260R1","KIT EF FP XT1 3pcs                      ","Аксесуари до корп. авт. вимикачів серії Tmax XT",246.76,"замовлення","4-6","MCCBs Tmax,XT ≤800A+",1,"шт.",null,"A1"]
["1SDA066285R1","KIT W MP XT2 4p                         ","Аксесуари до корп. авт. вимикачів серії Tmax XT",2129.6999999999998,"замовлення","4-6","MCCBs Tmax,XT ≤800A+",1,"шт.",null,"A1"]
["1SDA066316R1","SOR XT1..XT4 110...127 Vac-110...125 Vdc","Аксесуари до корп. авт. вимикачів серії Tmax XT",692.23,"замовлення","4-6","MCCBs Tmax,XT ≤800A+",1,"шт.",null,"A1"]
["1SDA066331R1","SOR-C XT2-XT4 W 110-127Vac-110-125Vdc   ","Аксесуари до корп. авт. вимикачів серії Tmax XT",962.24,"замовлення","4-6","MCCBs Tmax,XT ≤800A+",1,"шт.",null,"A1"]
["1SDA066412R1","CONNECT. PLUG-SOCK. SWITC.15PIN XT1..XT4","Аксесуари до корп. авт. вимикачів серії Tmax XT",913.26,"замовлення","4-6","MCCBs Tmax,XT ≤800A+",1,"шт.",null,"A1"]
["1SDA066426R1","AUX-C 3Q L 250Vac/dc XT1                ","Аксесуари до корп. авт. вимикачів серії Tmax XT",1844.2,"замовлення","4-6","MCCBs Tmax,XT ≤800A+",1,"шт.",null,"A1"]
["1SDA066438R1","AUX-C 2Q+2SY+1S51 250Vac/dc XT2-XT4 F/P ","Аксесуари до корп. авт. вимикачів серії Tmax XT",2838.67,"замовлення","4-6","MCCBs Tmax,XT ≤800A+",1,"шт.",null,"A1"]
["1SDA066460R1","MOD XT1-XT3 220...250V ac/dc            ","Аксесуари до корп. авт. вимикачів серії Tmax XT",6561.77,"частково",1,"MCCBs Tmax,XT ≤800A+",1,"шт.",null,"A1"]
["1SDA066479R1","RHE XT1-XT3 F/P STAND. RETURNED         ","Аксесуари до корп. авт. вимикачів серії Tmax XT",1478.7,"частково",1,"MCCBs Tmax,XT ≤800A+",1,"шт.",null,"A1"]
["1SDA066597R1","KLC XT1 KEY LOCK RONIS EQ.FEL.D OP.xC.BR","Аксесуари до корп. авт. вимикачів серії Tmax XT",1007.2,"замовлення","4-6","MCCBs Tmax,XT ≤800A+",1,"шт.",null,"A1"]
["1SDA066619R1","RHL XT1..XT4 KEY LOCK RONIS EQ. FEL. B  ","Аксесуари до корп. авт. вимикачів серії Tmax XT",920.7,"замовлення","4-6","MCCBs Tmax,XT ≤800A+",1,"шт.",null,"A1"]
["1SDA066639R1","MIR-P x XT1 F                           ","Аксесуари до корп. авт. вимикачів серії Tmax XT",1150.0999999999999,"замовлення","4-6","MCCBs Tmax,XT ≤800A+",1,"шт.",null,"A1"]
["1SDA066662R1","LTC XT4 3p TERMINAL COVERS LOW 2pcs     ","Аксесуари до корп. авт. вимикачів серії Tmax XT",543.12,"частково",1,"MCCBs Tmax,XT ≤800A+",1,"шт.",null,"A1"]
["1SDA066805R1","XT1B 160 TMD 63-630 3p F F              ","Корпусний авт-ний вимикач серії Tmax ХТ до 250А",3029.94,"частково",1,"MCCBs Tmax,XT ≤800A+",1,"шт.",null,"A1"]
["1SDA066811R1","XT1B 160 TMD 20-450 4p F F              ","Корпусний авт-ний вимикач серії Tmax ХТ до 250А",3595.38,"замовлення","4-6","MCCBs Tmax,XT ≤800A+",1,"шт.",null,"A1"]
["1SDA066857R1","KIT F XT3 3pcs                          ","Аксесуари до корп. авт. вимикачів серії Tmax XT",247.69,"замовлення","4-6","MCCBs Tmax,XT ≤800A+",1,"шт.",null,"A1"]
["1SDA066878R1","KIT EF XT4 4pcs                         ","Аксесуари до корп. авт. вимикачів серії Tmax XT",1480.56,"замовлення","4-6","MCCBs Tmax,XT ≤800A+",1,"шт.",null,"A1"]
["1SDA066907R1","KIT FC Cu XT1 6pcs                      ","Аксесуари до корп. авт. вимикачів серії Tmax XT",443.92,"замовлення","4-6","MCCBs Tmax,XT ≤800A+",1,"шт.",null,"A1"]
["1SDA066926R1","KIT MC CuAl 6x2.5...35mm2 XT2 4pcs      ","Аксесуари до корп. авт. вимикачів серії Tmax XT",2170,"замовлення","4-6","MCCBs Tmax,XT ≤800A+",1,"шт.",null,"A1"]
["1SDA066951R1","KIT R XT4 6pcs                          ","Аксесуари до корп. авт. вимикачів серії Tmax XT",2539.21,"замовлення","4-6","MCCBs Tmax,XT ≤800A+",1,"шт.",null,"A1"]
["1SDA066964R1","KIT FB XT2 8pcs                         ","Аксесуари до корп. авт. вимикачів серії Tmax XT",1335.17,"замовлення","4-6","MCCBs Tmax,XT ≤800A+",1,"шт.",null,"A1"]
["1SDA067002R1","XT2N 160 TMD 2,5-25 3p F F              ","Корпусний авт-ний вимикач серії Tmax ХТ до 250А",6528.6,"замовлення","4-6","MCCBs Tmax,XT ≤800A+",1,"шт.",null,"A1"]
["1SDA067008R1","XT2N 160 TMD 10-100 3p F F              ","Корпусний авт-ний вимикач серії Tmax ХТ до 250А",6528.6,"замовлення","4-6","MCCBs Tmax,XT ≤800A+",1,"шт.",null,"A1"]
["1SDA067027R1","XT2N 160 TMD 6,3-63 4p F F              ","Корпусний авт-ний вимикач серії Tmax ХТ до 250А",8163.85,"замовлення","4-6","MCCBs Tmax,XT ≤800A+",1,"шт.",null,"A1"]
["1SDA067045R1","XT2N 160 MF 2 Im=28 3p F F              ","Корпусний авт-ний вимикач серії Tmax ХТ до 250А",5142.8999999999996,"замовлення","4-6","MCCBs Tmax,XT ≤800A+",1,"шт.",null,"A1"]
["1SDA067073R1","XT2N 160 Ekip LSIG In=25A 3p F F        ","Корпусний авт-ний вимикач серії Tmax ХТ до 250А",10744.6,"замовлення","4-6","MCCBs Tmax,XT ≤800A+",1,"шт.",null,"A1"]
["1SDA067103R1","XT2N 160 Ekip LSI In=25A 4p F F         ","Корпусний авт-ний вимикач серії Tmax ХТ до 250А",11770.08,"замовлення","4-6","MCCBs Tmax,XT ≤800A+",1,"шт.",null,"A1"]
["1SDA067122R1","RC Inst HV 85...690Vac XT1 3p F         ","Аксесуари до корп. авт. вимикачів серії Tmax XT",7571.75,"замовлення","4-6","MCCBs Tmax,XT ≤800A+",1,"шт.",null,"A1"]
["1SDA067163R1","KIT FC CuAl 1x2,5...95mm2 XT2 3pcs      ","Аксесуари до корп. авт. вимикачів серії Tmax XT",1325.87,"частково",1,"MCCBs Tmax,XT ≤800A+",1,"шт.",null,"A1"]
["1SDA067182R1","KIT FC CuAl 1x95...185mm2 XT3 8pcs      ","Аксесуари до корп. авт. вимикачів серії Tmax XT",2408.6999999999998,"замовлення","4-6","MCCBs Tmax,XT ≤800A+",1,"шт.",null,"A1"]
["1SDA067212R1","TA NEUTRO EXT 25A XT2                   ","Аксесуари до корп. авт. вимикачів серії Tmax XT",4123,"замовлення","4-6","MCCBs Tmax,XT ≤800A+",1,"шт.",null,"A1"]
["1SDA067227R1","TMD 20-300 XT2 3p                       ","Аксесуари до корп. авт. вимикачів серії Tmax XT",2155.4299999999998,"замовлення","4-6","MCCBs Tmax,XT ≤800A+",1,"шт.",null,"A1"]
["1SDA067256R1","TMA 125-1250 XT2 4p InN=50%             ","Аксесуари до корп. авт. вимикачів серії Tmax XT",2748.16,"замовлення","4-6","MCCBs Tmax,XT ≤800A+",1,"шт.",null,"A1"]
["1SDA067306R1","Ekip LSI In=25A XT2 3p                  ","Аксесуари до корп. авт. вимикачів серії Tmax XT",6644.54,"замовлення","4-6","MCCBs Tmax,XT ≤800A+",1,"шт.",null,"A1"]
["1SDA067352R1","Ekip M-LIU In=25A XT2 3p                ","Аксесуари до корп. авт. вимикачів серії Tmax XT",10321.14,"замовлення","4-6","MCCBs Tmax,XT ≤800A+",1,"шт.",null,"A1"]
["1SDA067377R1","TMD 16-300 XT4 3p                       ","Аксесуари до корп. авт. вимикачів серії Tmax XT",4152.46,"замовлення","4-6","MCCBs Tmax,XT ≤800A+",1,"шт.",null,"A1"]
["1SDA067396R1","XT1C 160 TMD 80-800 3p F F              ","Корпусний авт-ний вимикач серії Tmax ХТ до 250А",3189.28,"частково",1,"MCCBs Tmax,XT ≤800A+",1,"шт.",null,"A1"]
["1SDA067415R1","XT1N 160 TMD 80-800 3p F F              ","Корпусний авт-ний вимикач серії Tmax ХТ до 250А",3359.78,"частково",1,"MCCBs Tmax,XT ≤800A+",1,"шт.",null,"A1"]
["1SDA067442R1","XT1S 160 TMD 100-1000 4p F F            ","Корпусний авт-ний вимикач серії Tmax ХТ до 250А",4500.28,"замовлення","4-6","MCCBs Tmax,XT ≤800A+",1,"шт.",null,"A1"]
["1SDA067468R1","TMD 20-300 XT4 4p                       ","Аксесуари до корп. авт. вимикачів серії Tmax XT",5190.95,"замовлення","4-6","MCCBs Tmax,XT ≤800A+",1,"шт.",null,"A1"]
["1SDA067474R1","TMA 80-800 XT4 4p                       ","Аксесуари до корп. авт. вимикачів серії Tmax XT",5190.95,"замовлення","4-6","MCCBs Tmax,XT ≤800A+",1,"шт.",null,"A1"]
["1SDA067503R1","Ekip I In=40A XT4 3p                    ","Аксесуари до корп. авт. вимикачів серії Tmax XT",5006.8100000000004,"замовлення","4-6","MCCBs Tmax,XT ≤800A+",1,"шт.",null,"A1"]
["1SDA067515R1","Ekip LSIG In=100A XT4 3p                ","Аксесуари до корп. авт. вимикачів серії Tmax XT",9406.64,"замовлення","4-6","MCCBs Tmax,XT ≤800A+",1,"шт.",null,"A1"]
["1SDA067542R1","XT2S 160 TMD 2,5-25 3p F F              ","Корпусний авт-ний вимикач серії Tmax ХТ до 250А",6857.51,"замовлення","4-6","MCCBs Tmax,XT ≤800A+",1,"шт.",null,"A1"]
["1SDA067561R1","XT2S 160 TMD 1,6-16 4p F F              ","Корпусний авт-ний вимикач серії Tmax ХТ до 250А",8569.9599999999991,"замовлення","4-6","MCCBs Tmax,XT ≤800A+",1,"шт.",null,"A1"]
["1SDA067578R1","XT2S 160 TMA 80-800 4p F F              ","Корпусний авт-ний вимикач серії Tmax ХТ до 250А",8841.52,"замовлення","4-6","MCCBs Tmax,XT ≤800A+",1,"шт.",null,"A1"]
["1SDA067604R1","XT2H 160 TMA 160-1600 3p F F            ","Корпусний авт-ний вимикач серії Tmax ХТ до 250А",8839.66,"замовлення","4-6","MCCBs Tmax,XT ≤800A+",1,"шт.",null,"A1"]
["1SDA067623R1","XT2H 160 TMA 100-1000 4p F F            ","Корпусний авт-ний вимикач серії Tmax ХТ до 250А",11051.2,"замовлення","4-6","MCCBs Tmax,XT ≤800A+",1,"шт.",null,"A1"]
["1SDA067633R1","XT2L 160 TMD 5-50 3p F F                ","Корпусний авт-ний вимикач серії Tmax ХТ до 250А",12701.02,"замовлення","4-6","MCCBs Tmax,XT ≤800A+",1,"шт.",null,"A1"]
["1SDA067647R1","XT2L  160 TMA 125-1250 3p F F           ","Корпусний авт-ний вимикач серії Tmax ХТ до 250А",13368.44,"замовлення","4-6","MCCBs Tmax,XT ≤800A+",1,"шт.",null,"A1"]
["1SDA067666R1","XT2L 160 TMA 80-800 4p F F              ","Корпусний авт-ний вимикач серії Tmax ХТ до 250А",16377.3,"замовлення","4-6","MCCBs Tmax,XT ≤800A+",1,"шт.",null,"A1"]
["1SDA067691R1","XT2V 160 TMA 125-1250 3p F F            ","Корпусний авт-ний вимикач серії Tmax ХТ до 250А",14642.86,"замовлення","4-6","MCCBs Tmax,XT ≤800A+",1,"шт.",null,"A1"]
["1SDA067706R1","XT2V 160 TMD 32-320 4p F F              ","Корпусний авт-ний вимикач серії Tmax ХТ до 250А",17390.080000000002,"замовлення","4-6","MCCBs Tmax,XT ≤800A+",1,"шт.",null,"A1"]
["1SDA067728R1","XT2N 160 TMG 20-160 4p F F              ","Корпусний авт-ний вимикач серії Tmax ХТ до 250А",8163.85,"замовлення","4-6","MCCBs Tmax,XT ≤800A+",1,"шт.",null,"A1"]
["1SDA067753R1","XT2S 160 TMG 40-200 4p F F              ","Корпусний авт-ний вимикач серії Tmax ХТ до 250А",7072.96,"замовлення","4-6","MCCBs Tmax,XT ≤800A+",1,"шт.",null,"A1"]
["1SDA067772R1","XT2H 160 MF 4 Im=56 3p F F              ","Корпусний авт-ний вимикач серії Tmax ХТ до 250А",7375.84,"замовлення","4-6","MCCBs Tmax,XT ≤800A+",1,"шт.",null,"A1"]
["1SDA067783R1","XT2L 160 MF 8,5 Im=120 3p F F           ","Корпусний авт-ний вимикач серії Tmax ХТ до 250А",11836.42,"замовлення","4-6","MCCBs Tmax,XT ≤800A+",1,"шт.",null,"A1"]
["1SDA067796R1","XT2V 160 MA 32 Im=192...448 3p F F      ","Корпусний авт-ний вимикач серії Tmax ХТ до 250А",13215.61,"замовлення","4-6","MCCBs Tmax,XT ≤800A+",1,"шт.",null,"A1"]
["1SDA067815R1","XT2S 160 Ekip LSIG In=10A 3p F F        ","Корпусний авт-ний вимикач серії Tmax ХТ до 250А",11133.04,"замовлення","4-6","MCCBs Tmax,XT ≤800A+",1,"шт.",null,"A1"]
["1SDA067845R1","XT2S 160 Ekip LSI In=10A 4p F F         ","Корпусний авт-ний вимикач серії Tmax ХТ до 250А",12254.62,"замовлення","4-6","MCCBs Tmax,XT ≤800A+",1,"шт.",null,"A1"]
["1SDA067871R1","XT2H 160 Ekip LSI In=160A 3p F F        ","Корпусний авт-ний вимикач серії Tmax ХТ до 250А",12470.06,"замовлення","4-6","MCCBs Tmax,XT ≤800A+",1,"шт.",null,"A1"]
["1SDA067908R1","XT2H 160 Ekip LSIG In=10A 4p F F        ","Корпусний авт-ний вимикач серії Tmax ХТ до 250А",16221.68,"замовлення","4-6","MCCBs Tmax,XT ≤800A+",1,"шт.",null,"A1"]
["1SDA067928R1","XT2L 160 Ekip LSI In=160A 3p F F        ","Корпусний авт-ний вимикач серії Tmax ХТ до 250А",16931.580000000002,"замовлення","4-6","MCCBs Tmax,XT ≤800A+",1,"шт.",null,"A1"]
["1SDA067933R1","XT2L 160 Ekip LSIG In=160A 3p F F       ","Корпусний авт-ний вимикач серії Tmax ХТ до 250А",16931.580000000002,"замовлення","4-6","MCCBs Tmax,XT ≤800A+",1,"шт.",null,"A1"]
["1SDA067964R1","XT2L 160 Ekip LSI In=160A 4p F F In=100%","Корпусний авт-ний вимикач серії Tmax ХТ до 250А",21164.94,"замовлення","4-6","MCCBs Tmax,XT ≤800A+",1,"шт.",null,"A1"]
["1SDA067984R1","XT2V 160 Ekip LSI In=100A 3p F F        ","Корпусний авт-ний вимикач серії Tmax ХТ до 250А",17490.52,"замовлення","4-6","MCCBs Tmax,XT ≤800A+",1,"шт.",null,"A1"]
["1SDA068028R1","Ekip M-LIU In=40A XT4 3p                ","Аксесуари до корп. авт. вимикачів серії Tmax XT",12384.19,"замовлення","4-6","MCCBs Tmax,XT ≤800A+",1,"шт.",null,"A1"]
["1SDA068041R1","Ekip G-LS/I In=160A XT4 3p              ","Аксесуари до корп. авт. вимикачів серії Tmax XT",5271.86,"замовлення","4-6","MCCBs Tmax,XT ≤800A+",1,"шт.",null,"A1"]
["1SDA068060R1","XT3N 250 TMD 63-630 4p F F              ","Корпусний авт-ний вимикач серії Tmax ХТ до 250А",11762.95,"замовлення","4-6","MCCBs Tmax,XT ≤800A+",1,"шт.",null,"A1"]
["1SDA068089R1","XT4N 160 TMA 160-1600 3p F F            ","Корпусний авт-ний вимикач серії Tmax ХТ до 250А",9853.36,"замовлення","4-6","MCCBs Tmax,XT ≤800A+",1,"шт.",null,"A1"]
["1SDA068110R1","XT4N 250 TMA 225-2250 4p F F InN=100%   ","Корпусний авт-ний вимикач серії Tmax ХТ до 250А",13113.62,"замовлення","4-6","MCCBs Tmax,XT ≤800A+",1,"шт.",null,"A1"]
["1SDA068126R1","XT4N 250 Ekip LS/I In=250A 3p F F       ","Корпусний авт-ний вимикач серії Tmax ХТ до 250А",14845.28,"частково",1,"MCCBs Tmax,XT ≤800A+",1,"шт.",null,"A1"]
["1SDA068132R1","XT4N 160 Ekip LSI In=40A 3p F F         ","Корпусний авт-ний вимикач серії Tmax ХТ до 250А",14118.95,"замовлення","4-6","MCCBs Tmax,XT ≤800A+",1,"шт.",null,"A1"]
["1SDA068152R1","XT4N 250 Ekip I In=250A 4p F F          ","Корпусний авт-ний вимикач серії Tmax ХТ до 250А",17858.8,"замовлення","4-6","MCCBs Tmax,XT ≤800A+",1,"шт.",null,"A1"]
["1SDA068170R1","XT2H 160 BREAKING PART 4p F F           ","Аксесуари до корп. авт. вимикачів серії Tmax XT",6257.04,"замовлення","4-6","MCCBs Tmax,XT ≤800A+",1,"шт.",null,"A1"]
["1SDA068196R1","XT4 P FP 3p EF                          ","Аксесуари до корп. авт. вимикачів серії Tmax XT",2301.7600000000002,"частково",1,"MCCBs Tmax,XT ≤800A+",1,"шт.",null,"A1"]
["1SDA068216R1","XT3S 250 TMD 80-800 3p F F              ","Корпусний авт-ний вимикач серії Tmax ХТ до 250А",9881.8700000000008,"замовлення","4-6","MCCBs Tmax,XT ≤800A+",1,"шт.",null,"A1"]
["1SDA068259R1","XT3N 250 TMG 80-400 4p F F              ","Корпусний авт-ний вимикач серії Tmax ХТ до 250А",11762.95,"замовлення","4-6","MCCBs Tmax,XT ≤800A+",1,"шт.",null,"A1"]
["1SDA068277R1","XT3S 250 TMG 200-600 4p F F InN=100%    ","Корпусний авт-ний вимикач серії Tmax ХТ до 250А",13000.16,"замовлення","4-6","MCCBs Tmax,XT ≤800A+",1,"шт.",null,"A1"]
["1SDA068302R1","XT4S 160 TMD 32-320 3p F F              ","Корпусний авт-ний вимикач серії Tmax ХТ до 250А",10664.62,"замовлення","4-6","MCCBs Tmax,XT ≤800A+",1,"шт.",null,"A1"]
["1SDA068308R1","XT4S 160 TMA 125-1250 3p F F            ","Корпусний авт-ний вимикач серії Tmax ХТ до 250А",11102.65,"замовлення","4-6","MCCBs Tmax,XT ≤800A+",1,"шт.",null,"A1"]
["1SDA068338R1","XT4H 160 TMA 63-630 3p F F              ","Корпусний авт-ний вимикач серії Tmax ХТ до 250А",12086.9,"замовлення","4-6","MCCBs Tmax,XT ≤800A+",1,"шт.",null,"A1"]
["1SDA068351R1","XT4H 160 TMA 50-500 4p F F              ","Корпусний авт-ний вимикач серії Tmax ХТ до 250А",13448.74,"замовлення","4-6","MCCBs Tmax,XT ≤800A+",1,"шт.",null,"A1"]
["1SDA068370R1","XT4L 160 TMA 50-500 3p F F              ","Корпусний авт-ний вимикач серії Tmax ХТ до 250А",14683.46,"замовлення","4-6","MCCBs Tmax,XT ≤800A+",1,"шт.",null,"A1"]
["1SDA068389R1","XT4L 160 TMA 160-1600 4p F F InN=50%    ","Корпусний авт-ний вимикач серії Tmax ХТ до 250А",23122.6,"замовлення","4-6","MCCBs Tmax,XT ≤800A+",1,"шт.",null,"A1"]
["1SDA068413R1","XT4V 160 TMD 20-300 4p F F              ","Корпусний авт-ний вимикач серії Tmax ХТ до 250А",21589.64,"замовлення","4-6","MCCBs Tmax,XT ≤800A+",1,"шт.",null,"A1"]
["1SDA068432R1","XT4S 160 MA 12,5 Im=62,5...125 3p F F   ","Корпусний авт-ний вимикач серії Tmax ХТ до 250А",8836.86,"замовлення","4-6","MCCBs Tmax,XT ≤800A+",1,"шт.",null,"A1"]
["1SDA068451R1","XT4L 160 MA 10 Im=50...100 3p F F       ","Корпусний авт-ний вимикач серії Tmax ХТ до 250А",16667.46,"замовлення","4-6","MCCBs Tmax,XT ≤800A+",1,"шт.",null,"A1"]
["1SDA068466R1","XT4V 160 MA 80 Im=400...800 3p F F      ","Корпусний авт-ний вимикач серії Tmax ХТ до 250А",19853.02,"замовлення","4-6","MCCBs Tmax,XT ≤800A+",1,"шт.",null,"A1"]
["1SDA068494R1","XT4S 160 Ekip LS/I In=160A 4p F F       ","Корпусний авт-ний вимикач серії Tmax ХТ до 250А",16995.13,"замовлення","4-6","MCCBs Tmax,XT ≤800A+",1,"шт.",null,"A1"]
["1SDA068500R1","XT4S 250 Ekip I In=250A 4p F F          ","Корпусний авт-ний вимикач серії Tmax ХТ до 250А",18657.04,"замовлення","4-6","MCCBs Tmax,XT ≤800A+",1,"шт.",null,"A1"]
["1SDA068519R1","XT4H 160 Ekip I In=160A 3p F F          ","Корпусний авт-ний вимикач серії Tmax ХТ до 250А",13959.61,"замовлення","4-6","MCCBs Tmax,XT ≤800A+",1,"шт.",null,"A1"]
["1SDA068539R1","XT4H 160 Ekip I In=160A 4p F F          ","Корпусний авт-ний вимикач серії Tmax ХТ до 250А",17448.04,"замовлення","4-6","MCCBs Tmax,XT ≤800A+",1,"шт.",null,"A1"]
["1SDA069055R1","RHE XT2-XT4 F/P STAND. RETURNED         ","Аксесуари до корп. авт. вимикачів серії Tmax XT",1573.56,"частково",1,"MCCBs Tmax,XT ≤800A+",1,"шт.",null,"A1"]
["1SDA070697R1","E1.2N 250 Ekip G Touch LSIG 3p F F      ","Повітряний автоматичний вимикач серії Emax 2 до 6300А",185168.27,"замовлення","4-6","ACBs Emax",1,"шт.",null,"A3"]
["1SDA070710R1","E1.2B 630 Ekip G Hi-Touch LSIG 3p F F   ","Повітряний автоматичний вимикач серії Emax 2 до 6300А",189795.95,"замовлення","4-6","ACBs Emax",1,"шт.",null,"A3"]
["1SDA070750R1","E1.2B 800 Ekip G Hi-Touch LSIG 3p F F   ","Повітряний автоматичний вимикач серії Emax 2 до 6300А",198190.75,"замовлення","4-6","ACBs Emax",1,"шт.",null,"A3"]
["1SDA070769R1","E1.2N 800 Ekip Hi-Touch LSIG 3p F F     ","Повітряний автоматичний вимикач серії Emax 2 до 6300А",191882.26,"замовлення","4-6","ACBs Emax",1,"шт.",null,"A3"]
["1SDA070785R1","E1.2B 1000 Ekip Touch LSI 3p F F        ","Повітряний автоматичний вимикач серії Emax 2 до 6300А",97283.89,"замовлення","4-6","ACBs Emax",1,"шт.",null,"A3"]
["1SDA070803R1","E1.2N 1000 Ekip Dip LSIG 3p F F         ","Повітряний автоматичний вимикач серії Emax 2 до 6300А",107076.48,"замовлення","4-6","ACBs Emax",1,"шт.",null,"A3"]
["1SDA070832R1","E1.2C 1250 Ekip Dip LSI 3p F F          ","Повітряний автоматичний вимикач серії Emax 2 до 6300А",88818.1,"замовлення","4-6","ACBs Emax",1,"шт.",null,"A3"]
["1SDA070867R1","E1.2B 1600 Ekip G Touch LSIG 3p F F     ","Повітряний автоматичний вимикач серії Emax 2 до 6300А",204910.93,"замовлення","4-6","ACBs Emax",1,"шт.",null,"A3"]
["1SDA070892R1","E2.2N 800 Ekip Dip LSI 3p FHR           ","Повітряний автоматичний вимикач серії Emax 2 до 6300А",98908.91,"замовлення","4-6","ACBs Emax",1,"шт.",null,"A3"]
["1SDA070910R1","E2.2S 800 Ekip G Hi-Touch LSIG 3p FHR   ","Повітряний автоматичний вимикач серії Emax 2 до 6300А",231206.06,"замовлення","4-6","ACBs Emax",1,"шт.",null,"A3"]
["1SDA070929R1","E2.2N 1000 Ekip Hi-Touch LSIG 3p FHR    ","Повітряний автоматичний вимикач серії Emax 2 до 6300А",210858.59,"замовлення","4-6","ACBs Emax",1,"шт.",null,"A3"]
["1SDA070948R1","E2.2H 1000 Ekip Hi-Touch LSI 3p FHR     ","Повітряний автоматичний вимикач серії Emax 2 до 6300А",222319.6,"замовлення","4-6","ACBs Emax",1,"шт.",null,"A3"]
["1SDA070951R1","E2.2N 1250 Ekip Dip LI 3p FHR           ","Повітряний автоматичний вимикач серії Emax 2 до 6300А",101296.22,"замовлення","4-6","ACBs Emax",1,"шт.",null,"A3"]
["1SDA070972R1","E2.2H 1250 Ekip Dip LSI 3p FHR          ","Повітряний автоматичний вимикач серії Emax 2 до 6300А",127978.24000000001,"замовлення","4-6","ACBs Emax",1,"шт.",null,"A3"]
["1SDA070997R1","E2.2N 1600 Ekip G Touch LSIG 3p FHR     ","Повітряний автоматичний вимикач серії Emax 2 до 6300А",232632.37,"замовлення","4-6","ACBs Emax",1,"шт.",null,"A3"]
["1SDA071016R1","E2.2H 1600 Ekip Touch LSIG 3p FHR       ","Повітряний автоматичний вимикач серії Emax 2 до 6300А",173149.57,"замовлення","4-6","ACBs Emax",1,"шт.",null,"A3"]
["1SDA071042R1","E2.2S 2000 Ekip Dip LSI 3p FHR          ","Повітряний автоматичний вимикач серії Emax 2 до 6300А",147213.42000000001,"замовлення","4-6","ACBs Emax",1,"шт.",null,"A3"]
["1SDA071059R1","E2.2H 2000 Ekip Hi-Touch LSIG 3p FHR    ","Повітряний автоматичний вимикач серії Emax 2 до 6300А",275503.82,"замовлення","4-6","ACBs Emax",1,"шт.",null,"A3"]
["1SDA071078R1","E2.2S 2500 Ekip Hi-Touch LSI 3p FHR     ","Повітряний автоматичний вимикач серії Emax 2 до 6300А",292191.43,"замовлення","4-6","ACBs Emax",1,"шт.",null,"A3"]
["1SDA071103R1","E4.2V 2000 Ekip Dip LSIG 3p FHR         ","Повітряний автоматичний вимикач серії Emax 2 до 6300А",200035.87,"замовлення","4-6","ACBs Emax",1,"шт.",null,"A3"]
["1SDA071122R1","E4.2V 2500 Ekip Dip LSI 3p FHR          ","Повітряний автоматичний вимикач серії Emax 2 до 6300А",235192.04,"замовлення","4-6","ACBs Emax",1,"шт.",null,"A3"]
["1SDA071151R1","E4.2S 3200 Ekip Dip LI 3p FHR           ","Повітряний автоматичний вимикач серії Emax 2 до 6300А",232834.8,"замовлення","4-6","ACBs Emax",1,"шт.",null,"A3"]
["1SDA071176R1","E4.2V 3200 Ekip Touch LSIG 3p FHR       ","Повітряний автоматичний вимикач серії Emax 2 до 6300А",398413.55,"замовлення","4-6","ACBs Emax",1,"шт.",null,"A3"]
["1SDA071210R1","E4.2S 4000 Ekip G Hi-Touch LSIG 3p FHR  ","Повітряний автоматичний вимикач серії Emax 2 до 6300А",496368.59,"замовлення","4-6","ACBs Emax",1,"шт.",null,"A3"]
["1SDA071223R1","E4.2V 4000 Ekip Dip LSIG 3p FHR         ","Повітряний автоматичний вимикач серії Emax 2 до 6300А",406980.71,"замовлення","4-6","ACBs Emax",1,"шт.",null,"A3"]
["1SDA071248R1","E6.2V 4000 Ekip Hi-Touch LSI 3p FHR     ","Повітряний автоматичний вимикач серії Emax 2 до 6300А",596351.34,"замовлення","4-6","ACBs Emax",1,"шт.",null,"A3"]
["1SDA071271R1","E6.2V 5000 Ekip Dip LI 3p FHR           ","Повітряний автоматичний вимикач серії Emax 2 до 6300А",633259.31999999995,"замовлення","4-6","ACBs Emax",1,"шт.",null,"A3"]
["1SDA071305R1","E6.2V 6300 Ekip Touch LSI 3p FHR        ","Повітряний автоматичний вимикач серії Emax 2 до 6300А",854240.96,"замовлення","4-6","ACBs Emax",1,"шт.",null,"A3"]
["1SDA071321R1","E1.2N 250 Ekip Dip LI 4p F F            ","Повітряний автоматичний вимикач серії Emax 2 до 6300А",95720.56,"замовлення","4-6","ACBs Emax",1,"шт.",null,"A3"]
["1SDA071340R1","E1.2B 630 Ekip G Hi-Touch LSIG 4p F F   ","Повітряний автоматичний вимикач серії Emax 2 до 6300А",237245.17,"замовлення","4-6","ACBs Emax",1,"шт.",null,"A3"]
["1SDA071378R1","E1.2B 800 Ekip Hi-Touch LSI 4p F F      ","Повітряний автоматичний вимикач серії Emax 2 до 6300А",201293.54,"замовлення","4-6","ACBs Emax",1,"шт.",null,"A3"]
["1SDA071393R1","E1.2N 800 Ekip Dip LSIG 4p F F          ","Повітряний автоматичний вимикач серії Emax 2 до 6300А",129574.73,"замовлення","4-6","ACBs Emax",1,"шт.",null,"A3"]
["1SDA071422R1","E1.2C 1000 Ekip Dip LSI 4p F F          ","Повітряний автоматичний вимикач серії Emax 2 до 6300А",105734.18,"замовлення","4-6","ACBs Emax",1,"шт.",null,"A3"]
["1SDA071457R1","E1.2B 1250 Ekip G Touch LSIG 4p F F     ","Повітряний автоматичний вимикач серії Emax 2 до 6300А",247115.88,"замовлення","4-6","ACBs Emax",1,"шт.",null,"A3"]
["1SDA071471R1","E1.2N 1250 Ekip Dip LI 4p F F           ","Повітряний автоматичний вимикач серії Emax 2 до 6300А",119022.64,"замовлення","4-6","ACBs Emax",1,"шт.",null,"A3"]
["1SDA071491R1","E1.2B 1600 Ekip Dip LI 4p F F           ","Повітряний автоматичний вимикач серії Emax 2 до 6300А",97958.76,"замовлення","4-6","ACBs Emax",1,"шт.",null,"A3"]
["1SDA071510R1","E1.2C 1600 Ekip G Hi-Touch LSIG 4p F F  ","Повітряний автоматичний вимикач серії Emax 2 до 6300А",296431.3,"замовлення","4-6","ACBs Emax",1,"шт.",null,"A3"]
["1SDA071532R1","E2.2S 800 Ekip Dip LSI 4p FHR           ","Повітряний автоматичний вимикач серії Emax 2 до 6300А",134125.84,"замовлення","4-6","ACBs Emax",1,"шт.",null,"A3"]
["1SDA071553R1","E2.2N 1000 Ekip Dip LSIG 4p FHR         ","Повітряний автоматичний вимикач серії Emax 2 до 6300А",142389.82,"замовлення","4-6","ACBs Emax",1,"шт.",null,"A3"]
["1SDA071572R1","E2.2H 1000 Ekip Dip LSI 4p FHR          ","Повітряний автоматичний вимикач серії Emax 2 до 6300А",154673.88,"замовлення","4-6","ACBs Emax",1,"шт.",null,"A3"]
["1SDA071591R1","E2.2S 1250 Ekip Dip LI 4p FHR           ","Повітряний автоматичний вимикач серії Emax 2 до 6300А",129980.83,"замовлення","4-6","ACBs Emax",1,"шт.",null,"A3"]
["1SDA071609R1","E2.2H 1250 Ekip Hi-Touch LSIG 4p FHR    ","Повітряний автоматичний вимикач серії Emax 2 до 6300А",299646.31,"замовлення","4-6","ACBs Emax",1,"шт.",null,"A3"]
["1SDA071634R1","E2.2S 1600 Ekip Touch LI 4p FHR         ","Повітряний автоматичний вимикач серії Emax 2 до 6300А",190558.24,"замовлення","4-6","ACBs Emax",1,"шт.",null,"A3"]
["1SDA071659R1","E2.2B 2000 Ekip Hi-Touch LSIG 4p FHR    ","Повітряний автоматичний вимикач серії Emax 2 до 6300А",312033.59999999998,"замовлення","4-6","ACBs Emax",1,"шт.",null,"A3"]
["1SDA071660R1","E2.2B 2000 Ekip G Hi-Touch LSIG 4p FHR  ","Повітряний автоматичний вимикач серії Emax 2 до 6300А",329294.71000000002,"замовлення","4-6","ACBs Emax",1,"шт.",null,"A3"]
["1SDA071696R1","E2.2N 2500 Ekip Touch LSIG 4p FHR       ","Повітряний автоматичний вимикач серії Emax 2 до 6300А",263730.02,"замовлення","4-6","ACBs Emax",1,"шт.",null,"A3"]
["1SDA071702R1","E2.2S 2500 Ekip Dip LSI 4p FHR          ","Повітряний автоматичний вимикач серії Emax 2 до 6300А",245082.9,"замовлення","4-6","ACBs Emax",1,"шт.",null,"A3"]
["1SDA071731R1","E4.2V 2000 Ekip Dip LI 4p FHR           ","Повітряний автоматичний вимикач серії Emax 2 до 6300А",218762.04,"замовлення","4-6","ACBs Emax",1,"шт.",null,"A3"]
["1SDA071781R1","E4.2S 3200 Ekip Dip LI 4p FHR           ","Повітряний автоматичний вимикач серії Emax 2 до 6300А",291044.44,"замовлення","4-6","ACBs Emax",1,"шт.",null,"A3"]
["1SDA071794R1","E4.2H 3200 Ekip Touch LI 4p FHR         ","Повітряний автоматичний вимикач серії Emax 2 до 6300А",336322.42,"замовлення","4-6","ACBs Emax",1,"шт.",null,"A3"]
["1SDA071823R1","E4.2N 4000 Ekip Dip LSIG 4p FHR         ","Повітряний автоматичний вимикач серії Emax 2 до 6300А",445986.16,"замовлення","4-6","ACBs Emax",1,"шт.",null,"A3"]
["1SDA071848R1","E4.2H 4000 Ekip Hi-Touch LSI 4p FHR     ","Повітряний автоматичний вимикач серії Emax 2 до 6300А",599329.81999999995,"замовлення","4-6","ACBs Emax",1,"шт.",null,"A3"]
["1SDA071850R1","E4.2H 4000 Ekip G Hi-Touch LSIG 4p FHR  ","Повітряний автоматичний вимикач серії Emax 2 до 6300А",633850.49,"замовлення","4-6","ACBs Emax",1,"шт.",null,"A3"]
["1SDA071895R1","E6.2H 5000 Ekip Touch LSI 4p FHR        ","Повітряний автоматичний вимикач серії Emax 2 до 6300А",739572.58,"замовлення","4-6","ACBs Emax",1,"шт.",null,"A3"]
["1SDA071901R1","E6.2V 5000 Ekip Dip LI 4p FHR           ","Повітряний автоматичний вимикач серії Emax 2 до 6300А",791573.53,"замовлення","4-6","ACBs Emax",1,"шт.",null,"A3"]
["1SDA071939R1","E6.2V 6300 Ekip Hi-Touch LSIG 4p FHR    ","Повітряний автоматичний вимикач серії Emax 2 до 6300А",1184600.21,"замовлення","4-6","ACBs Emax",1,"шт.",null,"A3"]
["1SDA071964R1","E6.2V/f 4000 Ekip Touch LI 4p FHR       ","Повітряний автоматичний вимикач серії Emax 2 до 6300А",721746.04,"замовлення","4-6","ACBs Emax",1,"шт.",null,"A3"]
["1SDA071993R1","E6.2V/f 5000 Ekip Dip LSIG 4p FHR       ","Повітряний автоматичний вимикач серії Emax 2 до 6300А",924520.13,"замовлення","4-6","ACBs Emax",1,"шт.",null,"A3"]
["1SDA072022R1","E6.2V/f 6300 Ekip Dip LSI 4p FHR        ","Повітряний автоматичний вимикач серії Emax 2 до 6300А",1188693.76,"замовлення","4-6","ACBs Emax",1,"шт.",null,"A3"]
["1SDA072056R1","E1.2B 630 Ekip Touch LSIG 3p WMP        ","Повітряний автоматичний вимикач серії Emax 2 до 6300А",104776.6,"замовлення","4-6","ACBs Emax",1,"шт.",null,"A3"]
["1SDA072075R1","E1.2N 630 Ekip Touch LSI 3p WMP         ","Повітряний автоматичний вимикач серії Emax 2 до 6300А",111077.96,"замовлення","4-6","ACBs Emax",1,"шт.",null,"A3"]
["1SDA072104R1","E1.2C 800 Ekip Touch LI 3p WMP          ","Повітряний автоматичний вимикач серії Emax 2 до 6300А",104975.3,"замовлення","4-6","ACBs Emax",1,"шт.",null,"A3"]
["1SDA072117R1","E1.2N 800 Ekip G Touch LSIG 3p WMP      ","Повітряний автоматичний вимикач серії Emax 2 до 6300А",212726.03,"замовлення","4-6","ACBs Emax",1,"шт.",null,"A3"]
["1SDA072138R1","E1.2B 1000 Ekip Hi-Touch LSI 3p WMP     ","Повітряний автоматичний вимикач серії Emax 2 до 6300А",189724.96,"замовлення","4-6","ACBs Emax",1,"шт.",null,"A3"]
["1SDA072173R1","E1.2B 1250 Ekip Dip LSIG 3p WMP         ","Повітряний автоматичний вимикач серії Emax 2 до 6300А",108693.13,"замовлення","4-6","ACBs Emax",1,"шт.",null,"A3"]
["1SDA072192R1","E1.2N 1250 Ekip Dip LSI 3p WMP          ","Повітряний автоматичний вимикач серії Emax 2 до 6300А",114837.02,"замовлення","4-6","ACBs Emax",1,"шт.",null,"A3"]
["1SDA072220R1","E1.2B 1600 Ekip G Hi-Touch LSIG 3p WMP  ","Повітряний автоматичний вимикач серії Emax 2 до 6300А",248186.62,"замовлення","4-6","ACBs Emax",1,"шт.",null,"A3"]
["1SDA072245R1","E2.2N 800 Ekip Touch LSI 3p WMP         ","Повітряний автоматичний вимикач серії Emax 2 до 6300А",126577.96,"замовлення","4-6","ACBs Emax",1,"шт.",null,"A3"]
["1SDA072264R1","E2.2H 800 Ekip Touch LI 3p WMP          ","Повітряний автоматичний вимикач серії Emax 2 до 6300А",140254.85,"замовлення","4-6","ACBs Emax",1,"шт.",null,"A3"]
["1SDA072270R1","E2.2H 800 Ekip G Hi-Touch LSIG 3p WMP   ","Повітряний автоматичний вимикач серії Emax 2 до 6300А",261023.1,"замовлення","4-6","ACBs Emax",1,"шт.",null,"A3"]
["1SDA072297R1","E2.2H 1000 Ekip G Touch LSIG 3p WMP     ","Повітряний автоматичний вимикач серії Emax 2 до 6300А",249445.22,"замовлення","4-6","ACBs Emax",1,"шт.",null,"A3"]
["1SDA072307R1","E2.2N 1250 Ekip G Touch LSIG 3p WMP     ","Повітряний автоматичний вимикач серії Emax 2 до 6300А",235499.56,"замовлення","4-6","ACBs Emax",1,"шт.",null,"A3"]
["1SDA072332R1","E2.2B 1600 Ekip Dip LSI 3p WMP          ","Повітряний автоматичний вимикач серії Emax 2 до 6300А",133073.39000000001,"замовлення","4-6","ACBs Emax",1,"шт.",null,"A3"]
["1SDA072348R1","E2.2N 1600 Ekip Hi-Touch LSI 3p WMP     ","Повітряний автоматичний вимикач серії Emax 2 до 6300А",248301.64,"замовлення","4-6","ACBs Emax",1,"шт.",null,"A3"]
["1SDA072369R1","E2.2H 1600 Ekip Hi-Touch LSIG 3p WMP    ","Повітряний автоматичний вимикач серії Emax 2 до 6300А",297872.18,"замовлення","4-6","ACBs Emax",1,"шт.",null,"A3"]
["1SDA072394R1","E2.2S 2000 Ekip Touch LI 3p WMP         ","Повітряний автоматичний вимикач серії Emax 2 до 6300А",177642.71,"замовлення","4-6","ACBs Emax",1,"шт.",null,"A3"]
["1SDA072413R1","E2.2N 2500 Ekip Dip LSIG 3p WMP         ","Повітряний автоматичний вимикач серії Emax 2 до 6300А",224097.46,"замовлення","4-6","ACBs Emax",1,"шт.",null,"A3"]
["1SDA072425R1","E2.2S 2500 Ekip Touch LSI 3p WMP        ","Повітряний автоматичний вимикач серії Emax 2 до 6300А",233815.33,"замовлення","4-6","ACBs Emax",1,"шт.",null,"A3"]
["1SDA072437R1","E2.2H 2500 Ekip G Touch LSIG 3p WMP     ","Повітряний автоматичний вимикач серії Emax 2 до 6300А",329525.98,"замовлення","4-6","ACBs Emax",1,"шт.",null,"A3"]
["1SDA072476R1","E4.2V 2500 Ekip Touch LSIG 3p WMP       ","Повітряний автоматичний вимикач серії Emax 2 до 6300А",283203.59999999998,"замовлення","4-6","ACBs Emax",1,"шт.",null,"A3"]
["1SDA072506R1","E4.2S 3200 Ekip Touch LSIG 3p WMP       ","Повітряний автоматичний вимикач серії Emax 2 до 6300А",290119.08,"замовлення","4-6","ACBs Emax",1,"шт.",null,"A3"]
["1SDA072529R1","E4.2V 3200 Ekip Hi-Touch LSIG 3p WMP    ","Повітряний автоматичний вимикач серії Emax 2 до 6300А",534938.80000000005,"замовлення","4-6","ACBs Emax",1,"шт.",null,"A3"]
["1SDA072558R1","E4.2S 4000 Ekip Hi-Touch LSI 3p WMP     ","Повітряний автоматичний вимикач серії Emax 2 до 6300А",522635.51,"замовлення","4-6","ACBs Emax",1,"шт.",null,"A3"]
["1SDA072583R1","E6.2H 4000 Ekip Dip LSIG 3p WMP         ","Повітряний автоматичний вимикач серії Emax 2 до 6300А",504170.68,"замовлення","4-6","ACBs Emax",1,"шт.",null,"A3"]
["1SDA072589R1","E6.2H 4000 Ekip Hi-Touch LSIG 3p WMP    ","Повітряний автоматичний вимикач серії Emax 2 до 6300А",610811.6,"замовлення","4-6","ACBs Emax",1,"шт.",null,"A3"]
["1SDA072617R1","E6.2H 5000 Ekip G Touch LSIG 3p WMP     ","Повітряний автоматичний вимикач серії Emax 2 до 6300А",746011.9,"замовлення","4-6","ACBs Emax",1,"шт.",null,"A3"]
["1SDA072646R1","E6.2H 6300 Ekip Touch LSIG 3p WMP       ","Повітряний автоматичний вимикач серії Emax 2 до 6300А",849672.49,"замовлення","4-6","ACBs Emax",1,"шт.",null,"A3"]
["1SDA072675R1","E1.2N 250 Ekip Touch LSI 4p WMP         ","Повітряний автоматичний вимикач серії Emax 2 до 6300А",135619.12,"замовлення","4-6","ACBs Emax",1,"шт.",null,"A3"]
["1SDA072696R1","E1.2C 630 Ekip Touch LSIG 4p WMP        ","Повітряний автоматичний вимикач серії Emax 2 до 6300А",142715.94,"замовлення","4-6","ACBs Emax",1,"шт.",null,"A3"]
["1SDA072728R1","E1.2B 800 Ekip Hi-Touch LSI 4p WMP      ","Повітряний автоматичний вимикач серії Emax 2 до 6300А",221422.78,"замовлення","4-6","ACBs Emax",1,"шт.",null,"A3"]
["1SDA072763R1","E1.2B 1000 Ekip Dip LSIG 4p WMP         ","Повітряний автоматичний вимикач серії Emax 2 до 6300А",129500.95,"замовлення","4-6","ACBs Emax",1,"шт.",null,"A3"]
["1SDA072785R1","E1.2N 1000 Ekip Touch LSI 4p WMP        ","Повітряний автоматичний вимикач серії Emax 2 до 6300А",151764.53,"замовлення","4-6","ACBs Emax",1,"шт.",null,"A3"]
["1SDA072810R1","E1.2B 1250 Ekip G Hi-Touch LSIG 4p WMP  ","Повітряний автоматичний вимикач серії Emax 2 до 6300А",300305.68,"замовлення","4-6","ACBs Emax",1,"шт.",null,"A3"]
["1SDA072845R1","E1.2B 1600 Ekip Touch LSI 4p WMP        ","Повітряний автоматичний вимикач серії Emax 2 до 6300А",162767.67999999999,"замовлення","4-6","ACBs Emax",1,"шт.",null,"A3"]
["1SDA072864R1","E1.2N 1600 Ekip Touch LI 4p WMP         ","Повітряний автоматичний вимикач серії Emax 2 до 6300А",185972.1,"замовлення","4-6","ACBs Emax",1,"шт.",null,"A3"]
["1SDA072878R1","E2.2N 800 Ekip Hi-Touch LSI 4p WMP      ","Повітряний автоматичний вимикач серії Emax 2 до 6300А",265527.09999999998,"замовлення","4-6","ACBs Emax",1,"шт.",null,"A3"]
["1SDA072888R1","E2.2S 800 Ekip Hi-Touch LSI 4p WMP      ","Повітряний автоматичний вимикач серії Emax 2 до 6300А",281028.95,"замовлення","4-6","ACBs Emax",1,"шт.",null,"A3"]
["1SDA072907R1","E2.2N 1000 Ekip G Touch LSIG 4p WMP     ","Повітряний автоматичний вимикач серії Emax 2 до 6300А",280438.71999999997,"замовлення","4-6","ACBs Emax",1,"шт.",null,"A3"]
["1SDA072933R1","E2.2N 1250 Ekip Dip LSIG 4p WMP         ","Повітряний автоматичний вимикач серії Emax 2 до 6300А",170562.31,"замовлення","4-6","ACBs Emax",1,"шт.",null,"A3"]
["1SDA072950R1","E2.2S 1250 Ekip G Hi-Touch LSIG 4p WMP  ","Повітряний автоматичний вимикач серії Emax 2 до 6300А",326547.49,"замовлення","4-6","ACBs Emax",1,"шт.",null,"A3"]
["1SDA072969R1","E2.2B 1600 Ekip Hi-Touch LSIG 4p WMP    ","Повітряний автоматичний вимикач серії Emax 2 до 6300А",317494.25,"замовлення","4-6","ACBs Emax",1,"шт.",null,"A3"]
["1SDA072994R1","E2.2H 1600 Ekip Touch LI 4p WMP         ","Повітряний автоматичний вимикач серії Emax 2 до 6300А",228717.38,"замовлення","4-6","ACBs Emax",1,"шт.",null,"A3"]
["1SDA073006R1","E2.2B 2000 Ekip Touch LSIG 4p WMP       ","Повітряний автоматичний вимикач серії Emax 2 до 6300А",219917.41,"замовлення","4-6","ACBs Emax",1,"шт.",null,"A3"]
["1SDA073031R1","E2.2H 2000 Ekip Dip LI 4p WMP           ","Повітряний автоматичний вимикач серії Emax 2 до 6300А",204026.2,"замовлення","4-6","ACBs Emax",1,"шт.",null,"A3"]
["1SDA073037R1","E2.2H 2000 Ekip G Touch LSIG 4p WMP     ","Повітряний автоматичний вимикач серії Emax 2 до 6300А",359115.47,"замовлення","4-6","ACBs Emax",1,"шт.",null,"A3"]
["1SDA073056R1","E2.2S 2500 Ekip Touch LSIG 4p WMP       ","Повітряний автоматичний вимикач серії Emax 2 до 6300А",297428.57,"замовлення","4-6","ACBs Emax",1,"шт.",null,"A3"]
["1SDA073103R1","E4.2V 2500 Ekip Dip LSIG 4p WMP         ","Повітряний автоматичний вимикач серії Emax 2 до 6300А",343024.3,"замовлення","4-6","ACBs Emax",1,"шт.",null,"A3"]
["1SDA073129R1","E4.2N 3200 Ekip Hi-Touch LSIG 4p WMP    ","Повітряний автоматичний вимикач серії Emax 2 до 6300А",464495.94,"замовлення","4-6","ACBs Emax",1,"шт.",null,"A3"]
["1SDA073148R1","E4.2H 3200 Ekip Hi-Touch LSI 4p WMP     ","Повітряний автоматичний вимикач серії Emax 2 до 6300А",485865.48,"замовлення","4-6","ACBs Emax",1,"шт.",null,"A3"]
["1SDA073174R1","E4.2N 4000 Ekip Touch LI 4p WMP         ","Повітряний автоматичний вимикач серії Emax 2 до 6300А",492368.35,"замовлення","4-6","ACBs Emax",1,"шт.",null,"A3"]
["1SDA073201R1","E4.2V 4000 Ekip Dip LI 4p WMP           ","Повітряний автоматичний вимикач серії Emax 2 до 6300А",528316.88,"замовлення","4-6","ACBs Emax",1,"шт.",null,"A3"]
["1SDA073207R1","E4.2V 4000 Ekip G Touch LSIG 4p WMP     ","Повітряний автоматичний вимикач серії Emax 2 до 6300А",683409.88,"замовлення","4-6","ACBs Emax",1,"шт.",null,"A3"]
["1SDA073226R1","E6.2V 4000 Ekip Touch LSIG 4p WMP       ","Повітряний автоматичний вимикач серії Emax 2 до 6300А",715649.88,"замовлення","4-6","ACBs Emax",1,"шт.",null,"A3"]
["1SDA073257R1","E6.2V 5000 Ekip G Touch LSIG 4p WMP     ","Повітряний автоматичний вимикач серії Emax 2 до 6300А",1025822.86,"замовлення","4-6","ACBs Emax",1,"шт.",null,"A3"]
["1SDA073289R1","E6.2V 6300 Ekip Hi-Touch LSIG 4p WMP    ","Повітряний автоматичний вимикач серії Emax 2 до 6300А",1303059.28,"замовлення","4-6","ACBs Emax",1,"шт.",null,"A3"]
["1SDA073318R1","E6.2V/f 4000 Ekip Hi-Touch LSI 4p WMP   ","Повітряний автоматичний вимикач серії Emax 2 до 6300А",892952.83,"замовлення","4-6","ACBs Emax",1,"шт.",null,"A3"]
["1SDA073338R1","E6.2H/f 5000 Ekip Hi-Touch LSI 4p WMP   ","Повітряний автоматичний вимикач серії Emax 2 до 6300А",1010828.16,"замовлення","4-6","ACBs Emax",1,"шт.",null,"A3"]
["1SDA073391R1","E1.2N/MS 250 3p F F                     ","Повітряний автоматичний вимикач серії Emax 2 до 6300А",64436.92,"замовлення","4-6","ACBs Emax",1,"шт.",null,"A3"]
["1SDA073410R1","E2.2H/MS 1600 3p FHR                    ","Повітряний автоматичний вимикач серії Emax 2 до 6300А",105381.4,"замовлення","4-6","ACBs Emax",1,"шт.",null,"A3"]
["1SDA073416R1","E4.2V/MS 2000 3p FHR                    ","Повітряний автоматичний вимикач серії Emax 2 до 6300А",129943.01,"замовлення","4-6","ACBs Emax",1,"шт.",null,"A3"]
["1SDA073435R1","E1.2B/MS 1000 4p F F                    ","Повітряний автоматичний вимикач серії Emax 2 до 6300А",72011.759999999995,"замовлення","4-6","ACBs Emax",1,"шт.",null,"A3"]
["1SDA073453R1","E2.2N/MS 2500 4p FHR                    ","Повітряний автоматичний вимикач серії Emax 2 до 6300А",196278.36,"замовлення","4-6","ACBs Emax",1,"шт.",null,"A3"]
["1SDA073478R1","E1.2B/MS 800 3p WMP                     ","Повітряний автоматичний вимикач серії Emax 2 до 6300А",62102.92,"замовлення","4-6","ACBs Emax",1,"шт.",null,"A3"]
["1SDA073497R1","E2.2H/MS 2000 3p WMP                    ","Повітряний автоматичний вимикач серії Emax 2 до 6300А",129943.01,"замовлення","4-6","ACBs Emax",1,"шт.",null,"A3"]
["1SDA073512R1","E6.2H/MS 6300 3p WMP                    ","Повітряний автоматичний вимикач серії Emax 2 до 6300А",385496.16,"замовлення","4-6","ACBs Emax",1,"шт.",null,"A3"]
["1SDA073540R1","E4.2V/MS 2500 4p WMP                    ","Повітряний автоматичний вимикач серії Emax 2 до 6300А",251863.84,"замовлення","4-6","ACBs Emax",1,"шт.",null,"A3"]
["1SDA073628R1","E2.2S 250 Ekip Dip LI 3p FHR            ","Повітряний автоматичний вимикач серії Emax 2 до 6300А",94543.8,"замовлення","4-6","ACBs Emax",1,"шт.",null,"A3"]
["1SDA073650R1","E2.2S 250 Ekip Dip LSIG 3p WMP          ","Повітряний автоматичний вимикач серії Emax 2 до 6300А",120414.54,"замовлення","4-6","ACBs Emax",1,"шт.",null,"A3"]
["1SDA073652R1","E2.2S 250 Ekip Touch LSI 3p WMP         ","Повітряний автоматичний вимикач серії Emax 2 до 6300А",123958.46,"замовлення","4-6","ACBs Emax",1,"шт.",null,"A3"]
["1SDA073671R1","YO  E1.2..E6.2 60 VAC/DC                ","Аксесуари до повітр. авт. вимикачів серії Emax 2",4764.7,"замовлення","4-6","ACBs Emax acc.",1,"шт.",null,"A4"]
["1SDA073698R1","YU E1.2..E6.2 110-120 VAC/DC            ","Аксесуари до повітр. авт. вимикачів серії Emax 2",5755.15,"замовлення","4-6","ACBs Emax acc.",1,"шт.",null,"A4"]
["1SDA073732R1","M E2.2...E6.2 220-250 VAC/DC + MC 24V   ","Аксесуари до повітр. авт. вимикачів серії Emax 2",25961.88,"замовлення","4-6","ACBs Emax acc.",1,"шт.",null,"A4"]
["1SDA073749R1","YR 220 VAC/DC E2.2...E6.2               ","Аксесуари до повітр. авт. вимикачів серії Emax 2",4366.97,"замовлення","4-6","ACBs Emax acc.",1,"шт.",null,"A4"]
["1SDA073768R1","AUP Ekip aux position contact E1.2..E6.2","Аксесуари до повітр. авт. вимикачів серії Emax 2",1333.31,"замовлення","4-6","ACBs Emax acc.",1,"шт.",null,"A4"]
["1SDA073785R1","KLC-S Key lock open N.20007 E1.2        ","Аксесуари до повітр. авт. вимикачів серії Emax 2",797.32,"замовлення","4-6","ACBs Emax acc.",1,"шт.",null,"A4"]
["1SDA073793R1","KLC-S Key lock open N.20006 E2.2..E6.2  ","Аксесуари до повітр. авт. вимикачів серії Emax 2",2560.6,"замовлення","4-6","ACBs Emax acc.",1,"шт.",null,"A4"]
["1SDA073812R1","KLP-D Pos.lock E2.2...E6.2 2Key         ","Аксесуари до повітр. авт. вимикачів серії Emax 2",2560.6,"замовлення","4-6","ACBs Emax acc.",1,"шт.",null,"A4"]
["1SDA073832R1","KLP-S Pos.lock N.20008 E1.2  2key       ","Аксесуари до повітр. авт. вимикачів серії Emax 2",1917.04,"замовлення","4-6","ACBs Emax acc.",1,"шт.",null,"A4"]
["1SDA073868R1","IP54 Flange key No. 20005 E1.2          ","Аксесуари до повітр. авт. вимикачів серії Emax 2",6255.18,"замовлення","4-6","ACBs Emax acc.",1,"шт.",null,"A4"]
["1SDA073882R1","Cable interlock B, C, D - HR E2.2...E6.2","Аксесуари до повітр. авт. вимикачів серії Emax 2",8011.02,"замовлення","4-6","ACBs Emax acc.",1,"шт.",null,"A4"]
["1SDA073919R1","E6.2 W FP Iu=5000 4p/f HR HR            ","Аксесуари до повітр. авт. вимикачів серії Emax 2",125278.75,"замовлення","4-6","ACBs Emax acc.",1,"шт.",null,"A4"]
["1SDA073953R1","Kit ES Low E1.2 W FP 3pcs INST          ","Аксесуари до повітр. авт. вимикачів серії Emax 2",5963.47,"замовлення","4-6","ACBs Emax acc.",1,"шт.",null,"A4"]
["1SDA073980R1","KIT ES E1.2 F 4PCS                      ","Аксесуари до повітр. авт. вимикачів серії Emax 2",11527.04,"замовлення","4-6","ACBs Emax acc.",1,"шт.",null,"A4"]
["1SDA074033R1","Kit VR/HR E6.2 W FP Iu=5000 3pcs        ","Аксесуари до повітр. авт. вимикачів серії Emax 2",23245.040000000001,"замовлення","4-6","ACBs Emax acc.",1,"шт.",null,"A4"]
["1SDA074058R1","Kit SVR Up E2.2 Iu=2000 4pcs INST       ","Аксесуари до повітр. авт. вимикачів серії Emax 2",3617.39,"замовлення","4-6","ACBs Emax acc.",1,"шт.",null,"A4"]
["1SDA074068R1","KIT SVR E2.2 IU=2500 4PCS               ","Аксесуари до повітр. авт. вимикачів серії Emax 2",14592.32,"замовлення","4-6","ACBs Emax acc.",1,"шт.",null,"A4"]
["1SDA074103R1","Kit F Sup E4.2 W FP 4pcs                ","Аксесуари до повітр. авт. вимикачів серії Emax 2",34262.14,"замовлення","4-6","ACBs Emax acc.",1,"шт.",null,"A4"]
["1SDA074122R1","KIT F SUP E2.2 F 3PCS                   ","Аксесуари до повітр. авт. вимикачів серії Emax 2",17432.54,"замовлення","4-6","ACBs Emax acc.",1,"шт.",null,"A4"]
["1SDA074151R1","EKIP COM MODBUS TCP E1.2..E6.2          ","Аксесуари до повітр. авт. вимикачів серії Emax 2",19178.150000000001,"замовлення","4-6","ACBs Emax acc.",1,"шт.",null,"A4"]
["1SDA074166R1","EKIP COM ACTUATOR E1.2..E6.2            ","Аксесуари до повітр. авт. вимикачів серії Emax 2",2692.97,"замовлення","4-6","ACBs Emax acc.",1,"шт.",null,"A4"]
["1SDA074199R1","EKIP TOUCH LSIG  E1.2..E6.2             ","Аксесуари до повітр. авт. вимикачів серії Emax 2",48388.21,"замовлення","4-6","ACBs Emax acc.",1,"шт.",null,"A4"]
["1SDA074227R1","RATING PLUG 2000 E2.2..E6.2             ","Аксесуари до повітр. авт. вимикачів серії Emax 2",2480.3200000000002,"замовлення","4-6","ACBs Emax acc.",1,"шт.",null,"A4"]
["1SDA074231R1","RATING PLUG 5000 E6.2                   ","Аксесуари до повітр. авт. вимикачів серії Emax 2",2480.3200000000002,"замовлення","4-6","ACBs Emax acc.",1,"шт.",null,"A4"]
["1SDA074251R1","RATING PLUG RC R400 E1.2..E6.2          ","Аксесуари до повітр. авт. вимикачів серії Emax 2",2480.3200000000002,"замовлення","4-6","ACBs Emax acc.",1,"шт.",null,"A4"]
["1SDA074591R1","Kit SHR Low E2.2 2500A W FP 3pcs INST   ","Аксесуари до повітр. авт. вимикачів серії Emax 2",7903.14,"замовлення","4-6","ACBs Emax acc.",1,"шт.",null,"A4"]
["1SDA076529R1","XT2N 160 MA 160 Im=960…2240 3p F F","Корпусний авт-ний вимикач серії Tmax ХТ до 250А",6476.21,"замовлення","4-6","MCCBs Tmax,XT ≤800A+",1,"шт.",null,"A1"]
["1SDA050228R1","SOR TEST UNIT T7-T7M-X1-E1/6-T8-E1.2/6.2","Аксесуари до корп. авт. вимикачів серії Tmax T",17785.009999999998,"замовлення","4-6","MCCBs Tmax,XT ≤800A+",1,"шт.",null,"A1"]
["2CMA142420R1000","BWS325TPN","Запобіжний вимикач у боксі",984.25,"замовлення","6-8","CAM, OS, Encl. swt.",1,"шт.",null,"C3"]
["1SCA022722R2630","EMMU63","Аксесуари до вимикачів",331.7,"замовлення","6-8","OT,CO,ATS ≤800A+acc.",1,"шт.",null,"B6"]
["1SCA101160R1001","EPN650M32/M40","Аксесуари до вимикачів",273.11,"замовлення","6-8","OT,CO,ATS ≤800A+acc.",1,"шт.",null,"B6"]
["1SCA022749R6920","KRM25/12","Аксесуари до вимикачів",259.77999999999997,"замовлення","6-8","OT,CO,ATS ≤800A+acc.",1,"шт.",null,"B6"]
["2CMA144581R1000","KSE363D/TPN","Вимикач-роз'єднувач у боксі",4960.62,"замовлення","6-8","CAM, OS, Encl. swt.",1,"шт.",null,"C3"]
["2CMA142433R1000","LBAS425TPSN","Запобіжний вимикач у боксі",2024.92,"замовлення","6-8","CAM, OS, Encl. swt.",1,"шт.",null,"C3"]
["1SCA022185R3310","OBEA10AU","Аксесуари до вимикачів",671.15,"замовлення","6-8","OT,CO,ATS ≤800A+acc.",1,"шт.",null,"B6"]
["1SCA136625R1001","OC10G01PNGN00NA1","Пакетний (кулачковий) перемикач",554.9,"замовлення","6-8","CAM, OS, Encl. swt.",1,"шт.",null,"C3"]
["1SCA136514R1001","OC10G02PNBN00NUP1","Пакетний (кулачковий) перемикач",649.14,"замовлення","6-8","CAM, OS, Encl. swt.",1,"шт.",null,"C3"]
["1SCA126552R1001","OC10G04PNBN00NSO22","Пакетний (кулачковий) перемикач",888.46,"замовлення","6-8","CAM, OS, Encl. swt.",1,"шт.",null,"C3"]
["1SCA135003R1001","OC10G05PNBN00NB5","Пакетний (кулачковий) перемикач",1026.72,"замовлення","6-8","CAM, OS, Encl. swt.",1,"шт.",null,"C3"]
["1SCA126655R1001","OC10G06PNBN00NVN30","Пакетний (кулачковий) перемикач",1120.6600000000001,"замовлення","6-8","CAM, OS, Encl. swt.",1,"шт.",null,"C3"]
["1SCA126587R1001","OC10G08PNBN00NSO42","Пакетний (кулачковий) перемикач",1359.97,"замовлення","6-8","CAM, OS, Encl. swt.",1,"шт.",null,"C3"]
["1SCA136639R1001","OC25G01PNGN00NA1","Пакетний (кулачковий) перемикач",828.94,"замовлення","6-8","CAM, OS, Encl. swt.",1,"шт.",null,"C3"]
["1SCA137266R1001","OC25G02KNBN00NA2","Пакетний (кулачковий) перемикач",1924.79,"замовлення","6-8","CAM, OS, Encl. swt.",1,"шт.",null,"C3"]
["1SCA138098R1001","OC25G02P3YN00NB2","Пакетний (кулачковий) перемикач",1414.22,"замовлення","6-8","CAM, OS, Encl. swt.",1,"шт.",null,"C3"]
["1SCA134820R1001","OC25G02PNBN00NWN1","Пакетний (кулачковий) перемикач",946.74,"замовлення","6-8","CAM, OS, Encl. swt.",1,"шт.",null,"C3"]
["1SCA126558R1001","OC25G02RNBN00NSO21","Пакетний (кулачковий) перемикач",858.08,"замовлення","6-8","CAM, OS, Encl. swt.",1,"шт.",null,"C3"]
["1SCA126645R1001","OC25G03MNGN00NUR13","Пакетний (кулачковий) перемикач",1717.4,"замовлення","6-8","CAM, OS, Encl. swt.",1,"шт.",null,"C3"]
["1SCA128715R1001","OC25G03RNBN00NA03","Пакетний (кулачковий) перемикач",1051.52,"замовлення","6-8","CAM, OS, Encl. swt.",1,"шт.",null,"C3"]
["1SCA136415R1001","OC25G04MNGN00NMCV4","Пакетний (кулачковий) перемикач",1843.26,"замовлення","6-8","CAM, OS, Encl. swt.",1,"шт.",null,"C3"]
["1SCA134983R1001","OC25G04P3BN00NB4","Пакетний (кулачковий) перемикач",1731.66,"замовлення","6-8","CAM, OS, Encl. swt.",1,"шт.",null,"C3"]
["1SCA126628R1001","OC25G04PNBN00NW2","Пакетний (кулачковий) перемикач",1265.1099999999999,"замовлення","6-8","CAM, OS, Encl. swt.",1,"шт.",null,"C3"]
["1SCA126527R1001","OC25G04PXBN00NWS2","Пакетний (кулачковий) перемикач",1832.72,"замовлення","6-8","CAM, OS, Encl. swt.",1,"шт.",null,"C3"]
["1SCA133624R1001","OC25G04RNBN0PNV3","Пакетний (кулачковий) перемикач",1176.46,"замовлення","6-8","CAM, OS, Encl. swt.",1,"шт.",null,"C3"]
["1SCA126458R1001","OC25G06MNGN00NA6","Пакетний (кулачковий) перемикач",2154.5,"замовлення","6-8","CAM, OS, Encl. swt.",1,"шт.",null,"C3"]
["1SCA126678R1001","OC25G06PNBN00NB072","Пакетний (кулачковий) перемикач",1576.36,"замовлення","6-8","CAM, OS, Encl. swt.",1,"шт.",null,"C3"]
["1SCA134747R1001","OC25G06PNBN0PNAU31","Пакетний (кулачковий) перемикач",1576.36,"замовлення","6-8","CAM, OS, Encl. swt.",1,"шт.",null,"C3"]
["1SCA136101R1001","OC25G06RNBN00NST61","Пакетний (кулачковий) перемикач",1487.69,"замовлення","6-8","CAM, OS, Encl. swt.",1,"шт.",null,"C3"]
["1SCA126532R1001","OC25G06RNBN00NWS3","Пакетний (кулачковий) перемикач",1487.69,"замовлення","6-8","CAM, OS, Encl. swt.",1,"шт.",null,"C3"]
["1SCA126590R1001","OC25G08PNBN00NSO42","Пакетний (кулачковий) перемикач",1894.72,"замовлення","6-8","CAM, OS, Encl. swt.",1,"шт.",null,"C3"]
["1SCA126534R1001","OC25G08PXBN00NWS4","Пакетний (кулачковий) перемикач",2461.09,"замовлення","6-8","CAM, OS, Encl. swt.",1,"шт.",null,"C3"]
["1SCA126672R1001","OC25G10PNBN00NAV12","Пакетний (кулачковий) перемикач",2420.48,"замовлення","6-8","CAM, OS, Encl. swt.",1,"шт.",null,"C3"]
["1SCA126624R1001","OC25G12PNBN00NST12","Пакетний (кулачковий) перемикач",2768.92,"замовлення","6-8","CAM, OS, Encl. swt.",1,"шт.",null,"C3"]
["1SCA135763R1001","OC25G16RNBN00NWS8","Пакетний (кулачковий) перемикач",3375.28,"замовлення","6-8","CAM, OS, Encl. swt.",1,"шт.",null,"C3"]
["1SCA116892R1001","ODPSE230C","Аксесуари до вимикачів",3917.78,"частково","1","OT,CO,ATS ≤800A+acc.",1,"шт.",null,"B6"]
["1SCA022560R4500","OEZXB2","Аксесуари до вимикачів",1479.64,"замовлення","6-8","OT,CO,ATS ≤800A+acc.",1,"шт.",null,"B6"]
["1SCA022277R5020","OEZXP38R","Аксесуари до вимикачів",4482.6000000000004,"замовлення","6-8","OT,CO,ATS ≤800A+acc.",1,"шт.",null,"B6"]
["1SCA022399R1440","OEZXPE120C","Аксесуари до вимикачів",2500.15,"замовлення","6-8","OT,CO,ATS ≤800A+acc.",1,"шт.",null,"B6"]
["1SCA022399R1010","OEZXRE134","Аксесуари до вимикачів",3620.8,"замовлення","6-8","OT,CO,ATS ≤800A+acc.",1,"шт.",null,"B6"]
["1SCA022661R8840","OFAA000GG25","Запобіжник",239.32,"частково","1","Fusegear",1,"шт.",null,"E7"]
["1SCA022703R2690","OFAA1GG16","Запобіжник",425.63,"замовлення","6-8","Fusegear",1,"шт.",null,"E7"]
["1SCA022703R4040","OFAA2GG300","Запобіжник",509.02,"замовлення","6-8","Fusegear",1,"шт.",null,"E7"]
["1SCA022706R4030","OFAA3GG425","Запобіжник",1196.92,"замовлення","6-8","Fusegear",1,"шт.",null,"E7"]
["1SCA022652R0360","OFAF000AM2","Запобіжник",204.91,"замовлення","6-8","Fusegear",1,"шт.",null,"E7"]
["1SCA022627R0310","OFAF000H4","Запобіжник",139.19,"замовлення","6-8","Fusegear",1,"шт.",null,"E7"]
["1SCA022627R0400","OFAF000H6","Запобіжник",139.19,"частково","1","Fusegear",1,"шт.",null,"E7"]
["1SCA022697R5610","OFAF0AM63","Запобіжник",351.85,"замовлення","6-8","Fusegear",1,"шт.",null,"E7"]
["1SCA022697R7220","OFAF1AM100","Запобіжник",425.63,"замовлення","6-8","Fusegear",1,"шт.",null,"E7"]
["1SCA022627R3760","OFAF1H40","Запобіжник",351.85,"замовлення","6-8","Fusegear",1,"шт.",null,"E7"]
["1SCA022697R8200","OFAF2AM40","Запобіжник",560.48,"замовлення","6-8","Fusegear",1,"шт.",null,"E7"]
["1SCA022697R9940","OFAF3AM315","Запобіжник",1072.9100000000001,"замовлення","6-8","Fusegear",1,"шт.",null,"E7"]
["1SCA022698R1920","OFAF4AAM1250","Запобіжник",6042.22,"замовлення","6-8","Fusegear",1,"шт.",null,"E7"]
["1SCA022627R7750","OFAF4H1000","Запобіжник",4829.18,"замовлення","6-8","Fusegear",1,"шт.",null,"E7"]
["1SCA022003R9920","OFAW3","Запобіжник",1443.36,"замовлення","6-8","Fusegear",1,"шт.",null,"E7"]
["1SCA022382R9770","OHB125J12E20","Аксесуари до вимикачів",879.47,"замовлення","6-8","OT,CO,ATS ≤800A+acc.",1,"шт.",null,"B6"]
["1SCA100239R1001","OHB175J12E-RUH","Аксесуари до вимикачів",1220.78,"частково","1","OT,CO,ATS ≤800A+acc.",1,"шт.",null,"B6"]
["1SCA111564R1001","OHB200L12P","Аксесуари до вимикачів",1855.66,"замовлення","6-8","OT,CO,ATS ≤800A+acc.",1,"шт.",null,"B6"]
["1SCA022783R7420","OHB45N6","Аксесуари до вимикачів",527.62,"замовлення","6-8","OT,CO,ATS ≤800A+acc.",1,"шт.",null,"B6"]
["1SCA022841R6450","OHB65L6EH","Аксесуари до вимикачів",861.8,"замовлення","6-8","OT,CO,ATS ≤800A+acc.",1,"шт.",null,"B6"]
["1SCA022783R9550","OHB80N6","Аксесуари до вимикачів",717.34,"замовлення","6-8","OT,CO,ATS ≤800A+acc.",1,"шт.",null,"B6"]
["1SCA109089R1001","OHBS2","Аксесуари до вимикачів",167.71,"частково","1","OT,CO,ATS ≤800A+acc.",1,"шт.",null,"B6"]
["1SCA108239R1001","OHBS2AJE-RUH","Аксесуари до вимикачів",255.44,"частково","1","OT,CO,ATS ≤800A+acc.",1,"шт.",null,"B6"]
["1SCA022381R2610","OHG175J12","Аксесуари до вимикачів",1220.78,"замовлення","6-8","OT,CO,ATS ≤800A+acc.",1,"шт.",null,"B6"]
["1SCA108666R1001","OHRS9","Аксесуари до вимикачів",124,"частково","1","OT,CO,ATS ≤800A+acc.",1,"шт.",null,"B6"]
["1SCA115919R1001","OHY274J12","Аксесуари до вимикачів",2000.12,"частково","1","OT,CO,ATS ≤800A+acc.",1,"шт.",null,"B6"]
["1SCA022701R5840","OHY95L10","Аксесуари до вимикачів",707.42,"замовлення","6-8","OT,CO,ATS ≤800A+acc.",1,"шт.",null,"B6"]
["1SCA022708R3170","OHZX11","Аксесуари до вимикачів",72.849999999999994,"замовлення","6-8","OT,CO,ATS ≤800A+acc.",1,"шт.",null,"B6"]
["1SCA022790R2340","OL125WS1RB","Пакетний (кулачковий) перемикач",3646.54,"замовлення","6-8","CAM, OS, Encl. swt.",1,"шт.",null,"C3"]
["1SCA022790R7060","OL160U3RB","Пакетний (кулачковий) перемикач",11285.56,"замовлення","6-8","CAM, OS, Encl. swt.",1,"шт.",null,"C3"]
["1SCA022790R8110","OL160WS2RB","Пакетний (кулачковий) перемикач",8488.42,"замовлення","6-8","CAM, OS, Encl. swt.",1,"шт.",null,"C3"]
["1SCA022791R2220","OL200UC4RB","Пакетний (кулачковий) перемикач",19126.689999999999,"замовлення","6-8","CAM, OS, Encl. swt.",1,"шт.",null,"C3"]
["1SCA022771R5070","OL40A3KBA","Пакетний (кулачковий) перемикач",1912.39,"замовлення","6-8","CAM, OS, Encl. swt.",1,"шт.",null,"C3"]
["1SCA022773R1940","OL40AU32PB","Пакетний (кулачковий) перемикач",1577.28,"замовлення","6-8","CAM, OS, Encl. swt.",1,"шт.",null,"C3"]
["1SCA022773R3130","OL40SO51PB","Пакетний (кулачковий) перемикач",1061.1400000000001,"замовлення","6-8","CAM, OS, Encl. swt.",1,"шт.",null,"C3"]
["1SCA022773R3640","OL40ST33PB","Пакетний (кулачковий) перемикач",1505.36,"замовлення","6-8","CAM, OS, Encl. swt.",1,"шт.",null,"C3"]
["1SCA022761R0990","OL40U1PB","Пакетний (кулачковий) перемикач",686.34,"замовлення","6-8","CAM, OS, Encl. swt.",1,"шт.",null,"C3"]
["1SCA100308R1001","OL40U2RB","Пакетний (кулачковий) перемикач",813.13,"замовлення","6-8","CAM, OS, Encl. swt.",1,"шт.",null,"C3"]
["1SCA022715R3210","OL40URR2KB","Пакетний (кулачковий) перемикач",1985.24,"замовлення","6-8","CAM, OS, Encl. swt.",1,"шт.",null,"C3"]
["1SCA022799R8430","OL40WC1PB","Пакетний (кулачковий) перемикач",686.34,"замовлення","6-8","CAM, OS, Encl. swt.",1,"шт.",null,"C3"]
["1SCA100321R1001","OL40WS4RB","Пакетний (кулачковий) перемикач",1255.5,"замовлення","6-8","CAM, OS, Encl. swt.",1,"шт.",null,"C3"]
["1SCA110937R1001","OL63U2RB","Пакетний (кулачковий) перемикач",1696.94,"замовлення","6-8","CAM, OS, Encl. swt.",1,"шт.",null,"C3"]
["1SCA111641R1001","OL80NPW36RB","Пакетний (кулачковий) перемикач",5503.12,"замовлення","6-8","CAM, OS, Encl. swt.",1,"шт.",null,"C3"]
["1SCA111651R1001","OL80NWC4RB","Пакетний (кулачковий) перемикач",4926.83,"замовлення","6-8","CAM, OS, Encl. swt.",1,"шт.",null,"C3"]
["1SCA022791R1920","OL80UC4RB","Пакетний (кулачковий) перемикач",4638.84,"замовлення","6-8","CAM, OS, Encl. swt.",1,"шт.",null,"C3"]
["1SCA022820R3380","OLISD1","Аксесуари до вимикачів",204.91,"замовлення","6-8","OT,CO,ATS ≤800A+acc.",1,"шт.",null,"B6"]
["1SCA112523R1001","OLZ20RRY","Аксесуари до вимикачів",110.05,"замовлення","6-8","OT,CO,ATS ≤800A+acc.",1,"шт.",null,"B6"]
["1SCA130279R1001","OM8PBS25696","Пакетний (кулачковий) перемикач",1681.13,"замовлення","6-8","CAM, OS, Encl. swt.",1,"шт.",null,"C3"]
["1SCA022708R7240","OMA01XB","Пакетний (кулачковий) перемикач",610.08000000000004,"частково","1","CAM, OS, Encl. swt.",1,"шт.",null,"C3"]
["1SCA022841R3860","OMA14KG","Пакетний (кулачковий) перемикач",2763.65,"частково","1","CAM, OS, Encl. swt.",1,"шт.",null,"C3"]
["1SCA022534R6110","OMA3KG","Пакетний (кулачковий) перемикач",1736.93,"частково","1","CAM, OS, Encl. swt.",1,"шт.",null,"C3"]
["1SCA022535R2260","OMAU31PG","Пакетний (кулачковий) перемикач",893.74,"частково","1","CAM, OS, Encl. swt.",1,"шт.",null,"C3"]
["1SCA022531R6380","OMSA2PB","Пакетний (кулачковий) перемикач",518.63,"частково","1","CAM, OS, Encl. swt.",1,"шт.",null,"C3"]
["1SCA022545R3110","OMSO31PB","Пакетний (кулачковий) перемикач",629.62,"частково","1","CAM, OS, Encl. swt.",1,"шт.","див. закладку \"Акційне обладнання\"","C3"]
["1SCA022533R3710","OMSO43PB","Пакетний (кулачковий) перемикач",1465.68,"частково","1","CAM, OS, Encl. swt.",1,"шт.",null,"C3"]
["1SCA022709R5180","OMST32XB","Пакетний (кулачковий) перемикач",1060.51,"частково","1","CAM, OS, Encl. swt.",1,"шт.",null,"C3"]
["1SCA022533R4790","OMST43PB","Пакетний (кулачковий) перемикач",1465.68,"частково","1","CAM, OS, Encl. swt.",1,"шт.",null,"C3"]
["1SCA022532R6340","OMU1KB","Пакетний (кулачковий) перемикач",1625.95,"частково","1","CAM, OS, Encl. swt.",1,"шт.",null,"C3"]
["1SCA113960R1001","OMU3PBR","Пакетний (кулачковий) перемикач",827.08,"замовлення","6-8","CAM, OS, Encl. swt.",1,"шт.",null,"C3"]
["1SCA022535R1610","OMV30PG","Пакетний (кулачковий) перемикач",841.34,"замовлення","6-8","CAM, OS, Encl. swt.",1,"шт.",null,"C3"]
["1SCA022799R9080","OMWC3PB","Пакетний (кулачковий) перемикач",893.74,"замовлення","6-8","CAM, OS, Encl. swt.",1,"шт.",null,"C3"]
["1SCA121324R1001","OMZC003","Аксесуари до вимикачів",1723.6,"замовлення","6-8","OT,CO,ATS ≤800A+acc.",1,"шт.",null,"B6"]
["1SCA128206R1001","ON4PBS24812","Пакетний (кулачковий) перемикач",1063.92,"частково","1","CAM, OS, Encl. swt.",1,"шт.",null,"C3"]
["1SCA104451R1001","ON8XBS16616","Пакетний (кулачковий) перемикач",1553.41,"замовлення","6-8","CAM, OS, Encl. swt.",1,"шт.",null,"C3"]
["1SCA022708R6780","ONA02XB","Пакетний (кулачковий) перемикач",813.13,"замовлення","6-8","CAM, OS, Encl. swt.",1,"шт.",null,"C3"]
["1SCA022708R7080","ONA05XB","Пакетний (кулачковий) перемикач",1160.6400000000001,"замовлення","6-8","CAM, OS, Encl. swt.",1,"шт.",null,"C3"]
["1SCA112514R1001","ONA2EZ3PRY","Пакетний (кулачковий) перемикач",1153.51,"замовлення","6-8","CAM, OS, Encl. swt.",1,"шт.",null,"C3"]
["1SCA022755R1700","ONA3EZB","Пакетний (кулачковий) перемикач",1525.82,"замовлення","6-8","CAM, OS, Encl. swt.",1,"шт.",null,"C3"]
["1SCA112517R1001","ONA5EZ3PRY","Пакетний (кулачковий) перемикач",1624.4,"замовлення","6-8","CAM, OS, Encl. swt.",1,"шт.",null,"C3"]
["1SCA022800R5400","ONAU11PB","Пакетний (кулачковий) перемикач",641.08000000000004,"замовлення","6-8","CAM, OS, Encl. swt.",1,"шт.",null,"C3"]
["1SCA022535R2340","ONAU31PG","Пакетний (кулачковий) перемикач",1039.1199999999999,"замовлення","6-8","CAM, OS, Encl. swt.",1,"шт.",null,"C3"]
["1SCA022555R5020","ONFB72","Аксесуари до вимикачів",110.05,"замовлення","6-8","OT,CO,ATS ≤800A+acc.",1,"шт.",null,"B6"]
["1SCA106726R1001","ONRFY101","Аксесуари до вимикачів",58.6,"замовлення","6-8","OT,CO,ATS ≤800A+acc.",1,"шт.",null,"B6"]
["1SCA022531R6890","ONSEA10PB","Пакетний (кулачковий) перемикач",641.08000000000004,"замовлення","6-8","CAM, OS, Encl. swt.",1,"шт.",null,"C3"]
["1SCA100188R1001","ONSO23KB","Пакетний (кулачковий) перемикач",2115.44,"замовлення","6-8","CAM, OS, Encl. swt.",1,"шт.",null,"C3"]
["1SCA022709R3050","ONSO33XB","Пакетний (кулачковий) перемикач",1661.6,"замовлення","6-8","CAM, OS, Encl. swt.",1,"шт.",null,"C3"]
["1SCA022535R3070","ONSO52PG","Пакетний (кулачковий) перемикач",1575.42,"замовлення","6-8","CAM, OS, Encl. swt.",1,"шт.",null,"C3"]
["1SCA022535R3310","ONST31PG","Пакетний (кулачковий) перемикач",763.22,"замовлення","6-8","CAM, OS, Encl. swt.",1,"шт.",null,"C3"]
["1SCA022648R4620","ONST32PB/H-O-A","Пакетний (кулачковий) перемикач",1039.1199999999999,"замовлення","6-8","CAM, OS, Encl. swt.",1,"шт.",null,"C3"]
["1SCA022535R4470","ONST41PG","Пакетний (кулачковий) перемикач",843.2,"замовлення","6-8","CAM, OS, Encl. swt.",1,"шт.",null,"C3"]
["1SCA022776R1850","ONST63PB","Пакетний (кулачковий) перемикач",2453.34,"замовлення","6-8","CAM, OS, Encl. swt.",1,"шт.",null,"C3"]
["1SCA022708R9370","ONU1XB","Пакетний (кулачковий) перемикач",813.13,"замовлення","6-8","CAM, OS, Encl. swt.",1,"шт.",null,"C3"]
["1SCA022563R5210","ONU2PB/K-0-A","Пакетний (кулачковий) перемикач",843.2,"замовлення","6-8","CAM, OS, Encl. swt.",1,"шт.",null,"C3"]
["1SCA022833R2350","ONU3PB/A-0-1","Пакетний (кулачковий) перемикач",1039.1199999999999,"замовлення","6-8","CAM, OS, Encl. swt.",1,"шт.",null,"C3"]
["1SCA022657R1860","ONU5PB","Пакетний (кулачковий) перемикач",1575.42,"замовлення","6-8","CAM, OS, Encl. swt.",1,"шт.",null,"C3"]
["1SCA022534R8580","ONURR3PG","Пакетний (кулачковий) перемикач",1039.1199999999999,"замовлення","6-8","CAM, OS, Encl. swt.",1,"шт.",null,"C3"]
["1SCA022533R5680","ONV3PB","Пакетний (кулачковий) перемикач",843.2,"замовлення","6-8","CAM, OS, Encl. swt.",1,"шт.",null,"C3"]
["1SCA022549R9010","ONVN30M","Пакетний (кулачковий) перемикач",1674.94,"замовлення","6-8","CAM, OS, Encl. swt.",1,"шт.",null,"C3"]
["1SCA100236R1001","ONWS1RB","Пакетний (кулачковий) перемикач",543.42999999999995,"замовлення","6-8","CAM, OS, Encl. swt.",1,"шт.",null,"C3"]
["1SCA022696R9630","ONWS2PB/UPS","Пакетний (кулачковий) перемикач",843.2,"замовлення","6-8","CAM, OS, Encl. swt.",1,"шт.",null,"C3"]
["1SCA022742R7610","ONWS5KG","Пакетний (кулачковий) перемикач",2649.26,"замовлення","6-8","CAM, OS, Encl. swt.",1,"шт.",null,"C3"]
["1SCA022621R1730","ONZ10L6","Аксесуари до вимикачів",416.64,"замовлення","6-8","OT,CO,ATS ≤800A+acc.",1,"шт.",null,"B6"]
["1SCA125891R1001","OS100GB01P","Вимикач-запобіжник серії OS",5273.41,"замовлення","6-8","CAM, OS, Encl. swt.",1,"шт.",null,"C3"]
["1SCA116758R1001","OS100GBS30","Вимикач-запобіжник серії OS",6729.17,"замовлення","6-8","CAM, OS, Encl. swt.",1,"шт.",null,"C3"]
["1SCA115971R1001","OS100GJS30","Вимикач-запобіжник серії OS",7404.04,"замовлення","6-8","CAM, OS, Encl. swt.",1,"шт.",null,"C3"]
["1SCA105470R1001","OS1250B12P","Вимикач-запобіжник серії OS",71208.240000000005,"замовлення","6-8","CAM, OS, Encl. swt.",1,"шт.",null,"C3"]
["1SCA105475R1001","OS1250D03P","Вимикач-запобіжник серії OS",55982.59,"замовлення","6-8","CAM, OS, Encl. swt.",1,"шт.",null,"C3"]
["1SCA122621R1001","OS1250DA03N3","Вимикач-запобіжник серії OS",58067.96,"замовлення","6-8","CAM, OS, Encl. swt.",1,"шт.",null,"C3"]
["1SCA105243R1001","OS1250DA04N2P","Вимикач-запобіжник серії OS",69609.58,"замовлення","6-8","CAM, OS, Encl. swt.",1,"шт.",null,"C3"]
["1SCA116853R1001","OS125GB11P","Вимикач-запобіжник серії OS",5841.02,"замовлення","6-8","CAM, OS, Encl. swt.",1,"шт.",null,"C3"]
["1SCA116878R1001","OS125GD03K","Вимикач-запобіжник серії OS",4625.51,"замовлення","6-8","CAM, OS, Encl. swt.",1,"шт.",null,"C3"]
["1SCA130496R1001","OS125GD12K","Вимикач-запобіжник серії OS",4625.51,"замовлення","6-8","CAM, OS, Encl. swt.",1,"шт.",null,"C3"]
["1SCA116805R1001","OS125GD22N1","Вимикач-запобіжник серії OS",5134.22,"замовлення","6-8","CAM, OS, Encl. swt.",1,"шт.",null,"C3"]
["1SCA115606R1001","OS125GF04FP","Вимикач-запобіжник серії OS",9647.2000000000007,"замовлення","6-8","CAM, OS, Encl. swt.",1,"шт.",null,"C3"]
["1SCA116754R1001","OS160GB04N1K","Вимикач-запобіжник серії OS",7807.36,"замовлення","6-8","CAM, OS, Encl. swt.",1,"шт.",null,"C3"]
["1SCA120271R1001","OS160GB12LRP","Вимикач-запобіжник серії OS",12839.89,"замовлення","6-8","CAM, OS, Encl. swt.",1,"шт.",null,"C3"]
["1SCA116717R1001","OS160GD02P","Вимикач-запобіжник серії OS",4642.25,"замовлення","6-8","CAM, OS, Encl. swt.",1,"шт.",null,"C3"]
["1SCA115882R1001","OS160GD04N2P","Вимикач-запобіжник серії OS",6217.67,"замовлення","6-8","CAM, OS, Encl. swt.",1,"шт.",null,"C3"]
["1SCA120759R1001","OS160GD22BBN2P","Вимикач-запобіжник серії OS",7117.6,"замовлення","6-8","CAM, OS, Encl. swt.",1,"шт.",null,"C3"]
["1SCA022769R7820","OS200B02P","Вимикач-запобіжник серії OS",7056.53,"замовлення","6-8","CAM, OS, Encl. swt.",1,"шт.",null,"C3"]
["1SCA022709R9410","OS200B04N2P","Вимикач-запобіжник серії OS",9571.8700000000008,"замовлення","6-8","CAM, OS, Encl. swt.",1,"шт.",null,"C3"]
["1SCA022870R7510","OS200BS04N2","Вимикач-запобіжник серії OS",10056.709999999999,"замовлення","6-8","CAM, OS, Encl. swt.",1,"шт.",null,"C3"]
["1SCA022709R9500","OS200D03P","Вимикач-запобіжник серії OS",8206.32,"замовлення","6-8","CAM, OS, Encl. swt.",1,"шт.",null,"C3"]
["1SCA022783R1220","OS200D04FK","Вимикач-запобіжник серії OS",10257.9,"замовлення","6-8","CAM, OS, Encl. swt.",1,"шт.",null,"C3"]
["1SCA102161R1001","OS200D12UB","Вимикач-запобіжник серії OS",9047.66,"замовлення","6-8","CAM, OS, Encl. swt.",1,"шт.",null,"C3"]
["1SCA022720R1040","OS200D30P","Вимикач-запобіжник серії OS",8206.32,"замовлення","6-8","CAM, OS, Encl. swt.",1,"шт.",null,"C3"]
["1SCA123903R1001","OS200GB03","Вимикач-запобіжник серії OS",5831.1,"замовлення","6-8","CAM, OS, Encl. swt.",1,"шт.",null,"C3"]
["1SCA108791R1001","OS20FB12A1-2","Вимикач-запобіжник серії OS",2488.6799999999998,"замовлення","6-8","CAM, OS, Encl. swt.",1,"шт.",null,"C3"]
["1SCA022763R6010","OS250B03K","Вимикач-запобіжник серії OS",10938.97,"замовлення","6-8","CAM, OS, Encl. swt.",1,"шт.",null,"C3"]
["1SCA022860R4610","OS250BS04FK","Вимикач-запобіжник серії OS",14721.9,"замовлення","6-8","CAM, OS, Encl. swt.",1,"шт.",null,"C3"]
["1SCA022749R9430","OS250D03N3P","Вимикач-запобіжник серії OS",11807.59,"замовлення","6-8","CAM, OS, Encl. swt.",1,"шт.",null,"C3"]
["1SCA022727R0360","OS250D04F","Вимикач-запобіжник серії OS",12632.2,"замовлення","6-8","CAM, OS, Encl. swt.",1,"шт.",null,"C3"]
["1SCA100228R1001","OS250D13N1P","Вимикач-запобіжник серії OS",13224.6,"замовлення","6-8","CAM, OS, Encl. swt.",1,"шт.",null,"C3"]
["1SCA022853R0230","OS250D22LR","Вимикач-запобіжник серії OS",23748.48,"замовлення","6-8","CAM, OS, Encl. swt.",1,"шт.",null,"C3"]
["1SCA108801R1001","OS25FF1210-2","Вимикач-запобіжник серії OS",2440.94,"замовлення","6-8","CAM, OS, Encl. swt.",1,"шт.",null,"C3"]
["1SCA108829R1001","OS30FAJ22F","Вимикач-запобіжник серії OS",4597.92,"замовлення","6-8","CAM, OS, Encl. swt.",1,"шт.",null,"C3"]
["1SCA022753R3390","OS315B22N2P","Вимикач-запобіжник серії OS",21945.22,"замовлення","6-8","CAM, OS, Encl. swt.",1,"шт.",null,"C3"]
["1SCA022870R9390","OS315BS30","Вимикач-запобіжник серії OS",19577.12,"замовлення","6-8","CAM, OS, Encl. swt.",1,"шт.",null,"C3"]
["1SCA108643R1001","OS32FF2214F","Вимикач-запобіжник серії OS",4368.22,"замовлення","6-8","CAM, OS, Encl. swt.",1,"шт.",null,"C3"]
["1SCA116744R1001","OS32GB03K","Вимикач-запобіжник серії OS",4988.83,"замовлення","6-8","CAM, OS, Encl. swt.",1,"шт.",null,"C3"]
["1SCA116714R1001","OS32GD02P","Вимикач-запобіжник серії OS",4354.88,"замовлення","6-8","CAM, OS, Encl. swt.",1,"шт.",null,"C3"]
["1SCA115204R1001","OS32GD22F","Вимикач-запобіжник серії OS",5535.05,"замовлення","6-8","CAM, OS, Encl. swt.",1,"шт.",null,"C3"]
["1SCA022753R6900","OS400B04FP","Вимикач-запобіжник серії OS",21726.97,"замовлення","6-8","CAM, OS, Encl. swt.",1,"шт.",null,"C3"]
["1SCA022754R8740","OS400B13N2","Вимикач-запобіжник серії OS",21279.34,"замовлення","6-8","CAM, OS, Encl. swt.",1,"шт.",null,"C3"]
["1SCA022871R0130","OS400BS30","Вимикач-запобіжник серії OS",19577.12,"замовлення","6-8","CAM, OS, Encl. swt.",1,"шт.",null,"C3"]
["1SCA022779R5410","OS400D03K","Вимикач-запобіжник серії OS",13868.16,"замовлення","6-8","CAM, OS, Encl. swt.",1,"шт.",null,"C3"]
["1SCA106322R1001","OS400D13N1P","Вимикач-запобіжник серії OS",16722.95,"замовлення","6-8","CAM, OS, Encl. swt.",1,"шт.",null,"C3"]
["1SCA022754R4080","OS400D22F","Вимикач-запобіжник серії OS",16224.78,"замовлення","6-8","CAM, OS, Encl. swt.",1,"шт.",null,"C3"]
["1SCA128474R1001","OS400D31N2","Вимикач-запобіжник серії OS",16224.78,"замовлення","6-8","CAM, OS, Encl. swt.",1,"шт.",null,"C3"]
["1SCA022719R2970","OS400J04N2P","Вимикач-запобіжник серії OS",22784.69,"замовлення","6-8","CAM, OS, Encl. swt.",1,"шт.",null,"C3"]
["1SCA115497R1001","OS50GF04F","Вимикач-запобіжник серії OS",6817.84,"замовлення","6-8","CAM, OS, Encl. swt.",1,"шт.",null,"C3"]
["1SCA107595R1001","OS600J02P","Вимикач-запобіжник серії OS",30259.72,"замовлення","6-8","CAM, OS, Encl. swt.",1,"шт.",null,"C3"]
["1SCA116736R1001","OS60GJ04N1P","Вимикач-запобіжник серії OS",7732.96,"замовлення","6-8","CAM, OS, Encl. swt.",1,"шт.",null,"C3"]
["1SCA022825R6150","OS630B04N2","Вимикач-запобіжник серії OS",34179.360000000001,"замовлення","6-8","CAM, OS, Encl. swt.",1,"шт.",null,"C3"]
["1SCA022837R8260","OS630B30","Вимикач-запобіжник серії OS",27342.62,"замовлення","6-8","CAM, OS, Encl. swt.",1,"шт.",null,"C3"]
["1SCA105799R1001","OS630D01","Вимикач-запобіжник серії OS",19118.63,"замовлення","6-8","CAM, OS, Encl. swt.",1,"шт.",null,"C3"]
["1SCA022825R2670","OS630D03","Вимикач-запобіжник серії OS",24137.84,"замовлення","6-8","CAM, OS, Encl. swt.",1,"шт.",null,"C3"]
["1SCA110311R1001","OS630D13N2K","Вимикач-запобіжник серії OS",31800.42,"замовлення","6-8","CAM, OS, Encl. swt.",1,"шт.",null,"C3"]
["1SCA022320R7690","OS630D3LAA4B","Вимикач-запобіжник у боксі",79503.22,"замовлення","6-8","CAM, OS, Encl. swt.",1,"шт.",null,"C3"]
["1SCA116745R1001","OS63GB03K","Вимикач-запобіжник серії OS",4988.83,"замовлення","6-8","CAM, OS, Encl. swt.",1,"шт.",null,"C3"]
["1SCA118067R1001","OS63GD01","Вимикач-запобіжник серії OS",3619.87,"замовлення","6-8","CAM, OS, Encl. swt.",1,"шт.",null,"C3"]
["1SCA128544R1001","OS63GD12K","Вимикач-запобіжник серії OS",5044.01,"замовлення","6-8","CAM, OS, Encl. swt.",1,"шт.",null,"C3"]
["1SCA118488R1001","OS63GDS01K","Вимикач-запобіжник серії OS",4549.25,"замовлення","6-8","CAM, OS, Encl. swt.",1,"шт.",null,"C3"]
["1SCA116047R1001","OS63GDS40N2","Вимикач-запобіжник серії OS",6335.78,"замовлення","6-8","CAM, OS, Encl. swt.",1,"шт.",null,"C3"]
["1SCA022837R5670","OS800B31N1","Вимикач-запобіжник серії OS",34179.360000000001,"замовлення","6-8","CAM, OS, Encl. swt.",1,"шт.",null,"C3"]
["1SCA022837R4780","OS800B40N1","Вимикач-запобіжник серії OS",34179.360000000001,"замовлення","6-8","CAM, OS, Encl. swt.",1,"шт.",null,"C3"]
["1SCA022825R4880","OS800D03P","Вимикач-запобіжник серії OS",34091.629999999997,"замовлення","6-8","CAM, OS, Encl. swt.",1,"шт.",null,"C3"]
["1SCA022834R6900","OS800D31FP","Вимикач-запобіжник серії OS",42281.83,"замовлення","6-8","CAM, OS, Encl. swt.",1,"шт.",null,"C3"]
["1SCA108094R1001","OS800DS04F","Вимикач-запобіжник серії OS",45863.88,"замовлення","6-8","CAM, OS, Encl. swt.",1,"шт.",null,"C3"]
["1SCA022839R6160","OS800L21","Вимикач-запобіжник серії OS",27536.06,"замовлення","6-8","CAM, OS, Encl. swt.",1,"шт.",null,"C3"]
["1SCA104315R1001","OSM400D3M230C","Вимикач-запобіжник серії OS",29502.400000000001,"замовлення","6-8","CAM, OS, Encl. swt.",1,"шт.",null,"C3"]
["1SCA022735R9340","OSP250D","Аксесуари до вимикачів",2816.66,"замовлення","6-8","OT,CO,ATS ≤800A+acc.",1,"шт.",null,"B6"]
["1SCA116370R1001","OSS160GT1L/4","Аксесуари до вимикачів",398.04,"замовлення","6-8","OT,CO,ATS ≤800A+acc.",1,"шт.",null,"B6"]
["1SCA022715R5510","OSS200G1S","Аксесуари до вимикачів",122.45,"замовлення","6-8","OT,CO,ATS ≤800A+acc.",1,"шт.",null,"B6"]
["1SCA100390R1001","OSS400G3SS","Аксесуари до вимикачів",593.03,"замовлення","6-8","OT,CO,ATS ≤800A+acc.",1,"шт.",null,"B6"]
["1SCA022782R4790","OSS400T1S","Аксесуари до вимикачів",182.59,"замовлення","6-8","OT,CO,ATS ≤800A+acc.",1,"шт.",null,"B6"]
["1SCA106532R1001","OSZT1A","Аксесуари до вимикачів",709.28,"замовлення","6-8","OT,CO,ATS ≤800A+acc.",1,"шт.",null,"B6"]
["1SCA123134R1001","OT1000E01P","Вимикач-роз'єднувач серії OT понад 800А",24056.93,"замовлення","6-8","OT,CO,ATS > 800A",1,"шт.",null,"B7"]
["1SCA103287R1001","OT1000E12CP","Перемикач наван-ня серії OT_C понад 800А",66612.179999999993,"замовлення","6-8","OT,CO,ATS > 800A",1,"шт.",null,"B7"]
["1SCA022871R8380","OT1000E30W8P","Вимикач-роз'єднувач серії OT понад 800А",44105.56,"замовлення","6-8","OT,CO,ATS > 800A",1,"шт.",null,"B7"]
["1SCA105032R1001","OT100FT4N1","Вимикач-роз'єднувач серії OT до 800А",1971.91,"замовлення","6-8","OT,CO,ATS ≤800A+acc.",1,"шт.",null,"B6"]
["1SCA022866R1920","OT1250E03W4P","Вимикач-роз'єднувач серії OT понад 800А",49247.839999999997,"замовлення","6-8","OT,CO,ATS > 800A",1,"шт.",null,"B7"]
["1SCA100764R1001","OT1250E04W8P","Вимикач-роз'єднувач серії OT понад 800А",69666.3,"замовлення","6-8","OT,CO,ATS > 800A",1,"шт.",null,"B7"]
["1SCA109221R1001","OT1250E22W4P","Вимикач-роз'єднувач серії OT понад 800А",57255.76,"замовлення","6-8","OT,CO,ATS > 800A",1,"шт.",null,"B7"]
["1SCA112372R1001","OT125FL3","Вимикач-роз'єднувач серії OT до 800А",2664.14,"замовлення","6-8","OT,CO,ATS ≤800A+acc.",1,"шт.",null,"B6"]
["1SCA022860R6580","OT1600E03P","Вимикач-роз'єднувач серії OT понад 800А",52935.29,"замовлення","6-8","OT,CO,ATS > 800A",1,"шт.",null,"B7"]
["1SCA115013R1001","OT1600E12W8P","Вимикач-роз'єднувач серії OT понад 800А",74789.98,"замовлення","6-8","OT,CO,ATS > 800A",1,"шт.",null,"B7"]
["1SCA118948R1001","OT1600EM04P","Вимикач-роз'єднувач серії OT понад 800А",72360.820000000007,"замовлення","6-8","OT,CO,ATS > 800A",1,"шт.",null,"B7"]
["1SCA022767R0030","OT160E03C","Перемикач наван-ня серії OT_C до 800А",9913.18,"частково","1","OT,CO,ATS ≤800A+acc.",1,"шт.",null,"B6"]
["1SCA108490R1001","OT160E04CL","Перемикач наван-ня серії OT_C до 800А",14277.05,"замовлення","6-8","OT,CO,ATS ≤800A+acc.",1,"шт.",null,"B6"]
["1SCA108503R1001","OT160E13CL","Перемикач наван-ня серії OT_C до 800А",14277.05,"замовлення","6-8","OT,CO,ATS ≤800A+acc.",1,"шт.",null,"B6"]
["1SCA120606R1001","OT160EV12WP","Вимикач-роз'єднувач серії OT до 800А",3807.11,"замовлення","6-8","OT,CO,ATS ≤800A+acc.",1,"шт.",null,"B6"]
["1SCA126070R1001","OT16F3/B50","Вимикач-роз'єднувач серії OT до 800А",23223.65,"замовлення","6-8","OT,CO,ATS ≤800A+acc.",1,"шт.",null,"B6"]
["1SCA108037R1001","OT2000E03N3P","Вимикач-роз'єднувач серії OT понад 800А",80700.13,"замовлення","6-8","OT,CO,ATS > 800A",1,"шт.",null,"B7"]
["1SCA109284R1001","OT2000E13W4P","Вимикач-роз'єднувач серії OT понад 800А",89739.11,"замовлення","6-8","OT,CO,ATS > 800A",1,"шт.",null,"B7"]
["1SCA022750R5180","OT200E01P","Вимикач-роз'єднувач серії OT до 800А",3160.76,"замовлення","6-8","OT,CO,ATS ≤800A+acc.",1,"шт.",null,"B6"]
["1SCA108522R1001","OT200E03CLP","Перемикач наван-ня серії OT_C до 800А",13758.11,"частково","1","OT,CO,ATS ≤800A+acc.",1,"шт.",null,"B6"]
["1SCA108527R1001","OT200E04CF","Перемикач наван-ня серії OT_C до 800А",14897.68,"замовлення","6-8","OT,CO,ATS ≤800A+acc.",1,"шт.",null,"B6"]
["1SCA022776R8600","OT200E12C","Перемикач наван-ня серії OT_C до 800А",10345.629999999999,"замовлення","6-8","OT,CO,ATS ≤800A+acc.",1,"шт.",null,"B6"]
["1SCA022722R9720","OT200E22","Вимикач-роз'єднувач серії OT до 800А",4309.62,"замовлення","6-8","OT,CO,ATS ≤800A+acc.",1,"шт.",null,"B6"]
["1SCA022860R0540","OT200ES04","Вимикач-роз'єднувач серії OT до 800А",5746.16,"замовлення","6-8","OT,CO,ATS ≤800A+acc.",1,"шт.",null,"B6"]
["1SCA022280R2360","OT200KLAA3C","Перемикач навантаження у боксі",28161.02,"замовлення","6-8","CAM, OS, Encl. swt.",1,"шт.",null,"C3"]
["1SCA104972R1001","OT2500E03P","Вимикач-роз'єднувач серії OT понад 800А",82573.460000000006,"замовлення","6-8","OT,CO,ATS > 800A",1,"шт.",null,"B7"]
["1SCA103906R1001","OT2500E04CP","Перемикач наван-ня серії OT_C понад 800А",281232.94,"замовлення","6-8","OT,CO,ATS > 800A",1,"шт.",null,"B7"]
["1SCA118945R1001","OT2500EM04W8P","Вимикач-роз'єднувач серії OT понад 800А",149419.69,"замовлення","6-8","OT,CO,ATS > 800A",1,"шт.",null,"B7"]
["1SCA108594R1001","OT250E03WCF","Перемикач наван-ня серії OT_C до 800А",15489.77,"замовлення","6-8","OT,CO,ATS ≤800A+acc.",1,"шт.",null,"B6"]
["1SCA022710R0520","OT250E04P","Вимикач-роз'єднувач серії OT до 800А",5414.46,"замовлення","6-8","OT,CO,ATS ≤800A+acc.",1,"шт.",null,"B6"]
["1SCA022760R0410","OT250E10","Вимикач-роз'єднувач серії OT до 800А",3053.5,"замовлення","6-8","OT,CO,ATS ≤800A+acc.",1,"шт.",null,"B6"]
["1SCA108617R1001","OT250E13CL","Перемикач наван-ня серії OT_C до 800А",16896.86,"замовлення","6-8","OT,CO,ATS ≤800A+acc.",1,"шт.",null,"B6"]
["1SCA022722R9810","OT250E30","Вимикач-роз'єднувач серії OT до 800А",4071.23,"замовлення","6-8","OT,CO,ATS ≤800A+acc.",1,"шт.",null,"B6"]
["1SCA022834R0020","OT250KFCC3BA","Вимикач-роз'єднувач у боксі",25480.14,"замовлення","6-8","CAM, OS, Encl. swt.",1,"шт.",null,"C3"]
["1SCA022512R7490","OT250KLRR3AZ","Запобіжний вимикач у боксі",32950.519999999997,"замовлення","6-8","CAM, OS, Encl. swt.",1,"шт.",null,"C3"]
["1SCA022799R7200","OT315E01","Вимикач-роз'єднувач серії OT до 800А",4777.1000000000004,"замовлення","6-8","OT,CO,ATS ≤800A+acc.",1,"шт.",null,"B6"]
["1SCA022718R8510","OT315E03P","Вимикач-роз'єднувач серії OT до 800А",7197.28,"частково","1","OT,CO,ATS ≤800A+acc.",1,"шт.",null,"B6"]
["1SCA022809R9380","OT315E12WP","Вимикач-роз'єднувач серії OT до 800А",8089.45,"замовлення","6-8","OT,CO,ATS ≤800A+acc.",1,"шт.",null,"B6"]
["1SCA022777R0410","OT315E13CP","Перемикач наван-ня серії OT_C до 800А",19815.52,"замовлення","6-8","OT,CO,ATS ≤800A+acc.",1,"шт.",null,"B6"]
["1SCA022727R4010","OT315E40P","Вимикач-роз'єднувач серії OT до 800А",8471.3799999999992,"замовлення","6-8","OT,CO,ATS ≤800A+acc.",1,"шт.",null,"B6"]
["1SCA022342R6220","OT315KLAA4BZ","Вимикач-роз'єднувач у боксі",23947.19,"замовлення","6-8","CAM, OS, Encl. swt.",1,"шт.",null,"C3"]
["1SCA128479R1001","OT3200E04","Вимикач-роз'єднувач серії OT понад 800А",116580.77,"замовлення","6-8","OT,CO,ATS > 800A",1,"шт.",null,"B7"]
["1SCA124855R1001","OT4000E04","Вимикач-роз'єднувач серії OT понад 800А",145671.79,"замовлення","6-8","OT,CO,ATS > 800A",1,"шт.",null,"B7"]
["1SCA022609R5480","OT400DFCC4B","Вимикач-роз'єднувач у боксі",42242.15,"замовлення","6-8","CAM, OS, Encl. swt.",1,"шт.",null,"C3"]
["1SCA022512R7650","OT400DLRR3AZ","Запобіжний вимикач у боксі",39942.26,"замовлення","6-8","CAM, OS, Encl. swt.",1,"шт.",null,"C3"]
["1SCA108650R1001","OT400E04CFP","Перемикач наван-ня серії OT_C до 800А",28498.92,"замовлення","6-8","OT,CO,ATS ≤800A+acc.",1,"шт.",null,"B6"]
["1SCA022809R8730","OT400E04W","Вимикач-роз'єднувач серії OT до 800А",9048.59,"замовлення","6-8","OT,CO,ATS ≤800A+acc.",1,"шт.",null,"B6"]
["1SCA106447R1001","OT400E13CLP","Перемикач наван-ня серії OT_C до 800А",28498.92,"замовлення","6-8","OT,CO,ATS ≤800A+acc.",1,"шт.",null,"B6"]
["1SCA118628R1001","OT400E33C","Перемикач наван-ня серії OT_C до 800А",41748.32,"замовлення","6-8","OT,CO,ATS ≤800A+acc.",1,"шт.",null,"B6"]
["1SCA104934R1001","OT40F4C","Перемикач наван-ня серії OT_C до 800А",2542.62,"частково","1","OT,CO,ATS ≤800A+acc.",1,"шт.",null,"B6"]
["1SCA102496R1001","OT500E22P","Вимикач-роз'єднувач серії OT до 800А",12429.14,"замовлення","6-8","OT,CO,ATS ≤800A+acc.",1,"шт.",null,"B6"]
["1SCA022779R4510","OT630E03N3","Вимикач-роз'єднувач серії OT до 800А",15172.33,"замовлення","6-8","OT,CO,ATS ≤800A+acc.",1,"шт.",null,"B6"]
["1SCA106987R1001","OT630E13CF","Перемикач наван-ня серії OT_C до 800А",37518.370000000003,"замовлення","6-8","OT,CO,ATS ≤800A+acc.",1,"шт.",null,"B6"]
["1SCA107832R1001","OT630E33P","Вимикач-роз'єднувач серії OT до 800А",23137.48,"замовлення","6-8","OT,CO,ATS ≤800A+acc.",1,"шт.",null,"B6"]
["1SCA022860R2320","OT630ES03K","Вимикач-роз'єднувач серії OT до 800А",19344.62,"замовлення","6-8","OT,CO,ATS ≤800A+acc.",1,"шт.",null,"B6"]
["1SCA022584R5700","OT630KFCC4B","Вимикач-роз'єднувач у боксі",51820.84,"замовлення","6-8","CAM, OS, Encl. swt.",1,"шт.",null,"C3"]
["1SCA105381R1001","OT63F8","Вимикач-роз'єднувач серії OT до 800А",2678.4,"замовлення","6-8","OT,CO,ATS ≤800A+acc.",1,"шт.",null,"B6"]
["1SCA022779R4600","OT800E03N3","Вимикач-роз'єднувач серії OT до 800А",20172.939999999999,"замовлення","6-8","OT,CO,ATS ≤800A+acc.",1,"шт.",null,"B6"]
["1SCA022779R5240","OT800E04K","Вимикач-роз'єднувач серії OT до 800А",22358.14,"замовлення","6-8","OT,CO,ATS ≤800A+acc.",1,"шт.",null,"B6"]
["1SCA107833R1001","OT800E33P","Вимикач-роз'єднувач серії OT до 800А",30763.16,"замовлення","6-8","OT,CO,ATS ≤800A+acc.",1,"шт.",null,"B6"]
["1SCA022834R1340","OT800KLAA6BZ","Вимикач-роз'єднувач у боксі",84866.22,"замовлення","6-8","CAM, OS, Encl. swt.",1,"шт.",null,"C3"]
["1SCA022821R7760","OTB800/6","Аксесуари до вимикачів",1311.3,"замовлення","6-8","OT,CO,ATS ≤800A+acc.",1,"шт.",null,"B6"]
["1SCA022745R4760","OTC45M25","Пакетний (кулачковий) перемикач",287.38,"замовлення","6-8","CAM, OS, Encl. swt.",1,"шт.",null,"C3"]
["1SCA123745R1001","OTDC160E11","Вимикач-роз'єднувач серії OT до 800А",6056.47,"замовлення","6-8","OT,CO,ATS ≤800A+acc.",1,"шт.",null,"B6"]
["1SCA125867R1001","OTDC250E02P","Вимикач-роз'єднувач серії OT до 800А",8037.06,"замовлення","6-8","OT,CO,ATS ≤800A+acc.",1,"шт.",null,"B6"]
["1SCA132259R1001","OTDC315EV12K","Вимикач-роз'єднувач серії OT до 800А",17531.740000000002,"замовлення","6-8","OT,CO,ATS ≤800A+acc.",1,"шт.",null,"B6"]
["1SCA132350R1001","OTDC400E02K","Вимикач-роз'єднувач серії OT до 800А",14644.72,"замовлення","6-8","OT,CO,ATS ≤800A+acc.",1,"шт.",null,"B6"]
["1SCA137236R1001","OTDC500E33K","Вимикач-роз'єднувач серії OT до 800А",44176.55,"замовлення","6-8","OT,CO,ATS ≤800A+acc.",1,"шт.",null,"B6"]
["1SCA022613R9010","OTE25A3M","Запобіжний вимикач EMC у боксі",2719.94,"замовлення","6-8","CAM, OS, Encl. swt.",1,"шт.",null,"C3"]
["1SCA022562R8430","OTL100B3U","Вимикач-роз'єднувач у боксі",7088.46,"замовлення","6-8","CAM, OS, Encl. swt.",1,"шт.",null,"C3"]
["1SCA022562R8510","OTL100B4B","Вимикач-роз'єднувач у боксі",7615.15,"замовлення","6-8","CAM, OS, Encl. swt.",1,"шт.",null,"C3"]
["1SCA022562R2070","OTL16BA4M","Вимикач-роз'єднувач у боксі",4568.78,"замовлення","6-8","CAM, OS, Encl. swt.",1,"шт.",null,"C3"]
["1SCA022610R4810","OTL45B6U","Вимикач-роз'єднувач у боксі",9675.41,"замовлення","6-8","CAM, OS, Encl. swt.",1,"шт.",null,"C3"]
["1SCA022610R5380","OTL63BA6B","Вимикач-роз'єднувач у боксі",8334.0400000000009,"замовлення","6-8","CAM, OS, Encl. swt.",1,"шт.",null,"C3"]
["1SCA112868R1001","OTM1000E3C8D230C","Перемикач наван-ня з АВР серії OTM_С_D понад 800А",154603.51,"замовлення","6-8","OT,CO,ATS > 800A",1,"шт.",null,"B7"]
["1SCA112676R1001","OTM1250E3CM230C","Перемикач наван-ня мотор. серії OTM_С понад 800А",115805.77,"частково","1","OT,CO,ATS > 800A",1,"шт.",null,"B7"]
["1SCA121280R1001","OTM1600E2CM230V","Перемикач наван-ня мотор. серії OTM_С понад 800А",137842.43,"замовлення","6-8","OT,CO,ATS > 800A",1,"шт.",null,"B7"]
["1SCA022845R8530","OTM160E3CM110V","Перемикач наван-ня мотор. серії OTM_С до 800А",32871.47,"замовлення","6-8","OT,CO,ATS ≤800A+acc.",1,"шт.",null,"B6"]
["1SCA022848R1510","OTM160E4CM230C","Перемикач наван-ня мотор. серії OTM_С до 800А",35346.199999999997,"замовлення","6-8","OT,CO,ATS ≤800A+acc.",1,"шт.",null,"B6"]
["1SCA113689R1001","OTM2000E3CM48D","Перемикач наван-ня мотор. серії OTM_С понад 800А",178074.54,"замовлення","6-8","OT,CO,ATS > 800A",1,"шт.",null,"B7"]
["1SCA022845R8880","OTM200E3CM110V","Перемикач наван-ня мотор. серії OTM_С до 800А",37147.61,"замовлення","6-8","OT,CO,ATS ≤800A+acc.",1,"шт.",null,"B6"]
["1SCA115288R1001","OTM200E3WM230C","Вимикач-роз'єднувач мотор. серії OTM до 800А",25552.68,"замовлення","6-8","OT,CO,ATS ≤800A+acc.",1,"шт.",null,"B6"]
["1SCA113684R1001","OTM2500E3CM110V","Перемикач наван-ня мотор. серії OTM_С понад 800А",182972.23,"замовлення","6-8","OT,CO,ATS > 800A",1,"шт.",null,"B7"]
["1SCA107681R1001","OTM250E3CB8D230C","Перемикач наван-ня з АВР серії OTM_С_D до 800А",64971.040000000001,"замовлення","6-8","OT,CO,ATS ≤800A+acc.",1,"шт.",null,"B6"]
["1SCA022846R1750","OTM250E4CM48D","Перемикач наван-ня мотор. серії OTM_С до 800А",44254.67,"замовлення","6-8","OT,CO,ATS ≤800A+acc.",1,"шт.",null,"B6"]
["1SCA108002R1001","OTM315E4CB2D230C","Перемикач наван-ня з АВР серії OTM_С_D до 800А",62375.72,"замовлення","6-8","OT,CO,ATS ≤800A+acc.",1,"шт.",null,"B6"]
["1SCA101064R1001","OTM400E4C8D230C","Перемикач наван-ня з АВР серії OTM_С_D до 800А",86879.679999999993,"частково","1","OT,CO,ATS ≤800A+acc.",1,"шт.",null,"B6"]
["1SCA022847R3090","OTM400E4CM48D","Перемикач наван-ня мотор. серії OTM_С до 800А",51532.85,"замовлення","6-8","OT,CO,ATS ≤800A+acc.",1,"шт.",null,"B6"]
["1SCA108732R1001","OTM630E4CB3D230C","Перемикач наван-ня з АВР серії OTM_С_D до 800А",99167.14,"замовлення","6-8","OT,CO,ATS ≤800A+acc.",1,"шт.",null,"B6"]
["1SCA108728R1001","OTM800E4C3D230C","Перемикач наван-ня з АВР серії OTM_С_D до 800А",127257.17,"замовлення","6-8","OT,CO,ATS ≤800A+acc.",1,"шт.",null,"B6"]
["1SCA022812R7340","OTP125B6M","Вимикач-роз'єднувач у боксі",9913.18,"замовлення","6-8","CAM, OS, Encl. swt.",1,"шт.",null,"C3"]
["1SCA022699R3690","OTP16HB3M25","Вимикач-роз'єднувач у боксі",1322.77,"замовлення","6-8","CAM, OS, Encl. swt.",1,"шт.",null,"C3"]
["1SCA022389R8400","OTP32B3M","Вимикач-роз'єднувач у боксі",2529.6,"замовлення","6-8","CAM, OS, Encl. swt.",1,"шт.",null,"C3"]
["1SCA022382R0550","OTP75A3B","Запобіжний вимикач у боксі",5986.42,"замовлення","6-8","CAM, OS, Encl. swt.",1,"шт.",null,"C3"]
["1SCA022371R2910","OTP75T3B","Запобіжний вимикач у боксі",5986.42,"замовлення","6-8","CAM, OS, Encl. swt.",1,"шт.",null,"C3"]
["1SCA022425R0810","OTPK30S","Аксесуари до вимикачів",2864.71,"замовлення","6-8","OT,CO,ATS ≤800A+acc.",1,"шт.",null,"B6"]
["1SCA105090R1001","OTPL125FP","Аксесуари до вимикачів",458.5,"замовлення","6-8","OT,CO,ATS ≤800A+acc.",1,"шт.",null,"B6"]
["1SCA105458R1001","OTPS80FD","Аксесуари до вимикачів",327.98,"замовлення","6-8","OT,CO,ATS ≤800A+acc.",1,"шт.",null,"B6"]
["1SCA022569R7830","OTR125BA4B","Вимикач-роз'єднувач у боксі",19635.400000000001,"замовлення","6-8","CAM, OS, Encl. swt.",1,"шт.",null,"C3"]
["1SCA022611R6660","OTR45B6B","Вимикач-роз'єднувач у боксі",20977.08,"замовлення","6-8","CAM, OS, Encl. swt.",1,"шт.",null,"C3"]
["1SCA022491R9890","OTS125T3P","Аксесуари до вимикачів",163.06,"замовлення","6-8","OT,CO,ATS ≤800A+acc.",1,"шт.",null,"B6"]
["1SCA022731R8580","OTS250T1S/3","Аксесуари до вимикачів",265.06,"частково","1","OT,CO,ATS ≤800A+acc.",1,"шт.",null,"B6"]
["1SCA105317R1001","OTS40T3","Аксесуари до вимикачів",84.32,"частково","1","OT,CO,ATS ≤800A+acc.",1,"шт.",null,"B6"]
["1SCA022776R7970","OTS800G1L/4","Аксесуари до вимикачів",1047.18,"частково","1","OT,CO,ATS ≤800A+acc.",1,"шт.",null,"B6"]
["1SCA113147R1001","OTV400ECFK","Аксесуари до вимикачів",1169.32,"частково","1","OT,CO,ATS ≤800A+acc.",1,"шт.",null,"B6"]
["1SCA022868R1100","OTZC63","Аксесуари до вимикачів",15565.1,"замовлення","6-8","OT,CO,ATS ≤800A+acc.",1,"шт.",null,"B6"]
["1SCA106525R1001","OTZT3A","Аксесуари до вимикачів",3276.08,"замовлення","6-8","OT,CO,ATS ≤800A+acc.",1,"шт.",null,"B6"]
["1SCA111933R1001","OX6X300","Аксесуари до вимикачів",156.86000000000001,"замовлення","6-8","OT,CO,ATS ≤800A+acc.",1,"шт.",null,"B6"]
["1SCA022650R3780","OXP10X700","Аксесуари до вимикачів",395.56,"замовлення","6-8","OT,CO,ATS ≤800A+acc.",1,"шт.",null,"B6"]
["1SCA120312R1001","OXP6X120","Аксесуари до вимикачів",76.260000000000005,"замовлення","6-8","OT,CO,ATS ≤800A+acc.",1,"шт.",null,"B6"]
["1SCA022706R3060","OXP6X228","Аксесуари до вимикачів",123.38,"замовлення","6-8","OT,CO,ATS ≤800A+acc.",1,"шт.",null,"B6"]
["1SCA022042R6530","OXP6X360","Аксесуари до вимикачів",170.2,"частково","1","OT,CO,ATS ≤800A+acc.",1,"шт.",null,"B6"]
["1SCA101643R1001","OXS6X57","Аксесуари до вимикачів",62.93,"замовлення","6-8","OT,CO,ATS ≤800A+acc.",1,"шт.",null,"B6"]
["1SCA100657R1001","OZ331PB","Аксесуари до вимикачів",234.98,"замовлення","6-8","OT,CO,ATS ≤800A+acc.",1,"шт.",null,"B6"]
["1SCA022169R2030","OZXB1L","Аксесуари до вимикачів",915.12,"замовлення","6-8","OT,CO,ATS ≤800A+acc.",1,"шт.",null,"B6"]
["1SCA022644R7000","OZXB5K/1","Аксесуари до вимикачів",2691.73,"замовлення","6-8","OT,CO,ATS ≤800A+acc.",1,"шт.",null,"B6"]
["1SCA115542R1001","OZXP240","Аксесуари до вимикачів",1935.34,"замовлення","6-8","OT,CO,ATS ≤800A+acc.",1,"шт.",null,"B6"]
["1SCA107102R1001","PDAL2/230AC50HZ","Аксесуари до вимикачів",2825.65,"замовлення","6-8","OT,CO,ATS ≤800A+acc.",1,"шт.",null,"B6"]
["1SCA010352R4520","YMF-MB10537","Аксесуари до вимикачів",537.23,"замовлення","6-8","OT,CO,ATS ≤800A+acc.",1,"шт.",null,"B6"]
["1SCA135536R1001","ONE20M3Y","Вимикач-роз'єднувач у боксі",602.02,"замовлення","6-8","CAM, OS, Encl. swt.",1,"шт.",null,"C3"]
["1SCA151872R1001","OC25G04PEBN00S083H","Пакетний (кулачковий) перемикач",1658.81,"замовлення","6-8","CAM, OS, Encl. swt.",1,"шт.",null,"C3"]
["1SCA135137R1001","OT160GT04","Вимикач-роз'єднувач серії OT до 800А",4928.6899999999996,"замовлення","6-8","OT,CO,ATS ≤800A+acc.",1,"шт.",null,"B6"]
["1SCA142591R1001","OTA315P3B","Запобіжний вимикач у боксі",101560.03,"замовлення","6-8","CAM, OS, Encl. swt.",1,"шт.",null,"C3"]
["1SCA151166R1001","OFAZ2P3","Тримач під запобіжник",2883.31,"замовлення","6-8","Fusegear",1,"шт.",null,"E7"]
["1SCA151492R1001","OXB1000E3X3QT","Перемикач наван-ня з АВР серії TruONE понад 800А",174654,"замовлення","6-8","OT,CO,ATS > 800A",1,"шт.",null,"B7"]
["1SCA152414R1001","OXB1600E3S4QB","Перемикач наван-ня з АВР серії TruONE понад 800А",321258.58,"замовлення","6-8","OT,CO,ATS > 800A",1,"шт.",null,"B7"]
["1SCA153424R1001","OXB200E1S2QT","Перемикач наван-ня з АВР серії TruONE до 800А",50244.49,"замовлення","6-8","OT,CO,ATS ≤800A+acc.",1,"шт.",null,"B6"]
["1SCA153500R1001","OXB315E1S3QT","Перемикач наван-ня з АВР серії TruONE до 800А",84291.79,"замовлення","6-8","OT,CO,ATS ≤800A+acc.",1,"шт.",null,"B6"]
["1SCA153517R1001","OXB400E3S3QB","Перемикач наван-ня з АВР серії TruONE до 800А",104673.67,"замовлення","6-8","OT,CO,ATS ≤800A+acc.",1,"шт.",null,"B6"]
["1SCA151744R1001","OXB500E3X3QB","Перемикач наван-ня з АВР серії TruONE до 800А",106633.18,"замовлення","6-8","OT,CO,ATS ≤800A+acc.",1,"шт.",null,"B6"]
["1SCA151050R1001","OXB630E1S2QT","Перемикач наван-ня з АВР серії TruONE до 800А",83794.240000000005,"замовлення","6-8","OT,CO,ATS ≤800A+acc.",1,"шт.",null,"B6"]
["1SCA150934R1001","OXB800E3S2QB","Перемикач наван-ня з АВР серії TruONE до 800А",148258.12,"замовлення","6-8","OT,CO,ATS ≤800A+acc.",1,"шт.",null,"B6"]
["1SCA150198R1001","OXES800G1S/4","Аксесуари до перемикачів наван-ня серії TruONE",1170.25,"замовлення","6-8","OT,CO,ATS ≤800A+acc.",1,"шт.",null,"B6"]
["1SEP101891R0004","XLP1-6M10","250 A incl. 6xM10 bolts",3776.74,"замовлення","6-8","Fusegear",1,"шт.",null,"E7"]
["1SEP102286R0001","XLP2-A60/120-B","400 A incl. A60/120 adapter, cable bellow without clamps or bolts ",8264.2900000000009,"замовлення","6-8","Fusegear",1,"шт.",null,"E7"]
["1SEP600124R0002","XLP2-4P-8BC","400 A, 4P incl. 8 Bridge clamps",16186.34,"замовлення","6-8","Fusegear",1,"шт.",null,"E7"]
["1SEP407741R0003","XLP000 Frontframe for 3 XLP000","XLP000 Frontframe for 3 XLP000",279,"замовлення","6-8","Fusegear",1,"шт.",null,"E7"]
["1SEP101915R0001","XLP00 A60/60 Adapter below","For 60 mm busbar distance, 5 or 10 mm, cable below",1221.0999999999999,"замовлення","6-8","Fusegear",1,"шт.",null,"E7"]
["1SEP407955R0001","XLP3 Frontframe f/ 1 XLP3","XLP3 Frontframe f/ 1 XLP3",678.59,"замовлення","6-8","Fusegear",1,"шт.",null,"E7"]
["1SEP407951R0041","XLP2 4P Front Frame f/1 Apparatus","XLP2 4P Front Frame f/1 Apparatus",535.67999999999995,"замовлення","6-8","Fusegear",1,"шт.",null,"E7"]
["1SEP620021R1000","ZHBM1-1P-M12","Запобіжник-вимикач-роз'єднувач до 250 A, 1P, 3xM12 Universal Bolt",4822.9799999999996,"замовлення","6-8","Fusegear",1,"шт.",null,"E7"]
["1SEP619215R0001","ZLBM / ZHBM 123 A-meter housing for A-meter 72x72 mm","ZLBM / ZHBM 00 Тримач для амперметра 72x72 mm",506.54,"замовлення","6-8","Fusegear",1,"шт.",null,"E7"]
["1SEP408149R0009","CT terminal 600/5A 5VA cl.1","ТС для установки на каб. виводи 600/5A; 5ВА; cl. 1",3842.45,"замовлення","6-8","Fusegear",1,"шт.",null,"E7"]
["1SEP102142R0131","XLBM2-3P-EFM","400A 3pole, incl. EFM, incl. 3x M12 bolts",9837.5400000000009,"замовлення","6-8","Fusegear",1,"шт.",null,"E7"]
["1SEP600835R0001","XLBM800A-3P 4xVClamp","800A 3 pole, incl. 4xV-clamps",20327.32,"замовлення","6-8","Fusegear",1,"шт.",null,"E7"]
["1SEP102191R0001","BXL1600A-1P","1600A 1 pole, incl. 4x3 M12 bolts",32571.7,"замовлення","6-8","Fusegear",1,"шт.",null,"E7"]
["1SEP102142R0201","XLBM2-1P-Z","400A 1pole, w. hooked clamp, incl. 3x M12 bolts",8355.74,"замовлення","6-8","Fusegear",1,"шт.",null,"E7"]
["1SEP102148R0201","BXL1000A-1P-Z","1000A 1 pole, w. hooked clamp, incl. 2x3 M12 bolts",16358.08,"замовлення","6-8","Fusegear",1,"шт.",null,"E7"]
["1SEP408413R0002","XLBM2 Front cable shroud","XLBM2 Front cable shroud",358.36,"замовлення","6-8","Fusegear",1,"шт.",null,"E7"]
["1SEP408422R0005","XLBM3-1P  Upper part w. operating handle","XLBM3-1P  Upper part w. operating handle",2137.14,"замовлення","6-8","Fusegear",1,"шт.",null,"E7"]
["2CGX0 63030195","AD 300","З'єднувач ізольований",1057.42,"частково","1","Kabeldon IP-system",1,"шт.",null,"F1"]
["2CGX0 53310615","C 60-TNS","Комплект для перетворення в 5-провідну систему",7080.1,"замовлення","6-8","Kabeldon IP-system",1,"шт.",null,"F1"]
["2CGX0 63300451","CDCA","Шафа для зовнішньої установки",19105.3,"замовлення","6-8","Kabeldon IP-system",1,"шт.",null,"F1"]
["2CGX0 43311040","CDC-LTC","Замок для шаф з телеком. обладнанням",1088.0999999999999,"замовлення","6-8","Kabeldon IP-system",1,"шт.",null,"F1"]
["2CGX0 63190225","FV","Кронштейн",1264.49,"замовлення","6-8","Kabeldon IP-system",1,"шт.",null,"F1"]
["2CGX0 53190319","KN 00","Контакт ножевий",3317,"замовлення","6-8","Kabeldon IP-system",1,"шт.",null,"F1"]
["2CGX0 53320353","KSFS 25182 CSS","Шина ізольована",28020.28,"замовлення","6-8","Kabeldon IP-system",1,"шт.",null,"F1"]
["2CGX0 63130007","KSKP 50","Коробка клемна",3328.16,"замовлення","6-8","Kabeldon IP-system",1,"шт.",null,"F1"]
["2CGX0 63090018","KSSM-S 1200","Міст шинний",25532.22,"частково","1","Kabeldon IP-system",1,"шт.","див. закладку \"Акційне обладнання\"","F1"]
["2CGX0 63300439","MARK-S 48","Основа для установки на землю",18503.900000000001,"замовлення","6-8","Kabeldon IP-system",1,"шт.",null,"F1"]
["2CGX0 63050249","PHDL","Ручка для паралельної комутації",3617.7,"замовлення","6-8","Kabeldon IP-system",1,"шт.",null,"F1"]
["2CGX0 63300433","SDC 048","Шафа для зовнішньої установки",38656.379999999997,"замовлення","6-8","Kabeldon IP-system",1,"шт.",null,"F1"]
["2CGX0 63050233","SEKOD 160","Вимикач-запобіжник з двостороннім розвивом",41651.919999999998,"замовлення","6-8","Kabeldon IP-system",1,"шт.",null,"F1"]
["2CGX0 63050102","SLOB 800","Вимикач-запобіжник з двостороннім розвивом секційний",134711.74,"замовлення","6-8","Kabeldon IP-system",1,"шт.",null,"F1"]
["1/10RG4","2CPX045656R9999","1/10RG4    Frame w. Rearwall",17545.38,"замовлення","6-8","Main DB",1,"шт.",null,"H4"]
["2/8R3","2CPX045602R9999","2/8R3      Switchgear cabinet",24702.66,"замовлення","6-8","Main DB",1,"шт.",null,"H4"]
["3/10RG8","2CPX045678R9999","3/10RG8    Frame w. Rearwall",20848.740000000002,"замовлення","6-8","Main DB",1,"шт.",null,"H4"]
["4/8RG4","2CPX045654R9999","4/8RG4     Frame w.  Rearwall",20482.32,"замовлення","6-8","Main DB",1,"шт.",null,"H4"]
["5/8RG6","2CPX045665R9999","5/8RG6     Frame w.  Rearwall",24702.66,"замовлення","6-8","Main DB",1,"шт.",null,"H4"]
["E8R6","2CPX045686R9999","Кутова шафа із задньою стінкою",38687.69,"замовлення","6-8","Main DB",1,"шт.",null,"H4"]
["PAC0841F1","2CPX022623R9999","PAC0841F1  TBB Cu 800A 4p Cable T6 Fix",25954.44,"замовлення","6-8","Main DB",1,"шт.",null,"H4"]
["PAC1041G1","2CPX022626R9999","PAC1041G1  TBB Cu 1000A 4p Cable TX Fix",28839.3,"замовлення","6-8","Main DB",1,"шт.",null,"H4"]
["PAC1231G3A","2CPX020393R9999","PAC1231G3A TBB Cu 1250A 3p Cable TX With",25859.27,"замовлення","6-8","Main DB",1,"шт.",null,"H4"]
["PAC2031I1A","2CPX020396R9999","PAC2031I1A TBB Cu 2000A 3p Cable E2 Fix",44796.86,"замовлення","6-8","Main DB",1,"шт.",null,"H4"]
["PAC2051IT","2CPX023126R9999","PAC2051IT  TBB Cu 2000A 3N Cable E2 With",73298.570000000007,"замовлення","6-8","Main DB",1,"шт.",null,"H4"]
["PAC3231J1A","2CPX022042R9999","PAC3231J1A TBB Cu 3200A 3p Cable E3 Fix",111413.69,"замовлення","6-8","Main DB",1,"шт.",null,"H4"]
["PAH0231","2CPX020371R9999","ТВВ Комплект тримачів шини д=208мм3х",4073.71,"замовлення","6-8","Main DB",1,"шт.",null,"H4"]
["PAH0471","2CPX022371R9999","TBB тримач комплект L352mm 7x Cable",10203.65,"частково","1","Main DB",1,"шт.",null,"H4"]
["PAH3121","2CPX023210R9999","PAH3121    TBB Holder L250mm 2x Cable",3927.08,"замовлення","6-8","Main DB",1,"шт.",null,"H4"]
["PAH3541","2CPX023313R9999","PAH3541    TBB Holder L478mm 4x Cable",9836.92,"замовлення","6-8","Main DB",1,"шт.",null,"H4"]
["PB2545","2CPX023342R9999","Захисний екран Ш2,5/В450мм",3284.76,"замовлення","6-8","Main DB",1,"шт.",null,"H4"]
["PB260A","2CPX021761R9999","PB260A     Touch protection 2PW H600",3854.86,"замовлення","6-8","Main DB",1,"шт.",null,"H4"]
["PB460","2CPX021774R9999","Захисний екран Ш4/В600мм",3854.86,"замовлення","6-8","Main DB",1,"шт.",null,"H4"]
["PC034S202A","2CPX022985R9999","PC034S202A Comp 320A 4p plug H200 2b",15782.72,"замовлення","6-8","Main DB",1,"шт.",null,"H4"]
["PC3BBS154A","2CPX021723R9999","PC3BBS154A Comp 3p T2 F/R plug H150 4b",13361.32,"замовлення","6-8","Main DB",1,"шт.",null,"H4"]
["PC3EAS304","2CPX021753R9999","Відсік 3п Т5 фіксов. важіль втичний В300мм до 4b ",16444.57,"замовлення","6-8","Main DB",1,"шт.",null,"H4"]
["PC3XDS154A","2CPX024794R9999","PC3XDS154A Comp 3p X2 P/L plug H150 4b",13361.32,"замовлення","6-8","Main DB",1,"шт.",null,"H4"]
["PC3YDS204A","2CPX024797R9999","PC3YDS204A Comp 3p X3 P/L plug H200 4b",14608.75,"замовлення","6-8","Main DB",1,"шт.",null,"H4"]
["PC4CGS204","2CPX022960R9999","Відсік 4п Т3 фіксов. мотор втичний В200мм до 4b ",18866.29,"замовлення","6-8","Main DB",1,"шт.",null,"H4"]
["PC4DES304","2CPX022967R9999","Відсік 4п Т4 вик. важіль втичний В300мм до 4b ",21877.32,"замовлення","6-8","Main DB",1,"шт.",null,"H4"]
["PC4YAS204A","2CPX024817R9999","PC4YAS204A Comp 4p X3 F/L plug H200 4b",19453.740000000002,"замовлення","6-8","Main DB",1,"шт.",null,"H4"]
["PCKFGB204A","2CPX021520R9999","PCKFGB204A Comp cab F rotary T3 H200 4b",4771.84,"замовлення","6-8","Main DB",1,"шт.",null,"H4"]
["PCKFUG204","2CPX021534R9999","Відсік для вимикача втичн. T3 250 A/T4 320А В200мм до 4b ",4367.28,"замовлення","6-8","Main DB",1,"шт.",null,"H4"]
["PCKTGG904A","2CPX021504R9999","PCKTGG904A Comp cab T H900 4b",9176.93,"замовлення","6-8","Main DB",1,"шт.",null,"H4"]
["PHC103R2","2CPX020231R9999","МВВ Шини мідні 1000 А, 3п 2Ш",7354.13,"замовлення","6-8","Main DB",1,"шт.",null,"H4"]
["PHC104R15A","2CPX020156R9999","PHC104R15A MBB Cu 1000A 4p 1,5PW",8603.44,"замовлення","6-8","Main DB",1,"шт.",null,"H4"]
["PHC104R4","2CPX020241R9999","МВВ Шини мідні комплект 1000A 4p Ш4          ",19273.63,"замовлення","6-8","Main DB",1,"шт.",null,"H4"]
["PHC123R66A","2CPX021867R9999","PHC123R66A MBB Cu corn 1250A 3p D6 D6",24175.360000000001,"замовлення","6-8","Main DB",1,"шт.",null,"H4"]
["PHC163R25","2CPX020256R9999","МВВ Шини мідні 1600 А, 3п 2,5Ш",18937.900000000001,"замовлення","6-8","Main DB",1,"шт.",null,"H4"]
["PHC164R35A","2CPX020184R9999","PHC164R35A MBB Cu 1600A 4p 3,5PW",36913.56,"замовлення","6-8","Main DB",1,"шт.",null,"H4"]
["PHC204R1A","2CPX022549R9999","PHC204R1A  MBB Cu 2000A 4p 1PW",18313.25,"замовлення","6-8","Main DB",1,"шт.",null,"H4"]
["PHC253R25A","2CPX020200R9999","PHC253R25A MBB Cu 2500A 3p 2,5PW",41575.660000000003,"замовлення","6-8","Main DB",1,"шт.",null,"H4"]
["PHC253R66","2CPX021876R9999","Комплект збірної мідної шини MBB 2500A 3p кутова D6",51717.3,"замовлення","6-8","Main DB",1,"шт.",null,"H4"]
["PHC254R66","2CPX022580R9999","МВВ Шини мідні комплект углові 2500A 4p Г6 ",88006.21,"замовлення","6-8","Main DB",1,"шт.",null,"H4"]
["PHC324R15","2CPX022564R9999","МВВ Шини мідні комплект 3200A 4p Ш1,5        ",30424.959999999999,"замовлення","6-8","Main DB",1,"шт.",null,"H4"]
["PHH104R2","2CPX020211R9999","МВВ Комплект тримачів збірної шини 1000 А, 4п 2x       ",4221.28,"замовлення","6-8","Main DB",1,"шт.",null,"H4"]
["PHH203R3A","2CPX020146R9999","PHH203R3A  MBB Holder 2000A 3p 3x",5505.91,"замовлення","6-8","Main DB",1,"шт.",null,"H4"]
["PHH324R3A","2CPX022583R9999","PHH324R3A  MBB Holder 3200A 4p 3x",10828.3,"замовлення","6-8","Main DB",1,"шт.",null,"H4"]
["PMA386","2CPX020848R9999","Монтажна рама Ш3/В8/Г6 ",6460.09,"частково","1","Main DB",1,"шт.",null,"H4"]
["PMD866","2CPX022219R9999","Монтажна рама H8 кутова D6",7231.37,"замовлення","6-8","Main DB",1,"шт.",null,"H4"]
["PMM258","2CPX022452R9999","Комплект для фідерної комірки втичні XR Ш2,5 В8",8882.74,"частково","1","Main DB",1,"шт.",null,"H4"]
["PMS48","2CPX021433R9999","Комплект для монтажу кабел. підкл. фідерів Ш4",10645.4,"частково","1","Main DB",1,"шт.",null,"H4"]
["PMT3F13A","2CPX022225R9999","PMT3F13A   Mountplate Tmax 3p T6 Fix M",2404.98,"замовлення","6-8","Main DB",1,"шт.",null,"H4"]
["PMT41A","2CPX020939R9999","PMT41A     Mounting set Tmax 4PW M",2661.04,"замовлення","6-8","Main DB",1,"шт.",null,"H4"]
["PMT4G31A","2CPX022850R9999","PMT4G31A   Mountpl Tmax 4p TX With M",3175.33,"замовлення","6-8","Main DB",1,"шт.",null,"H4"]
["PNC12HD15A","2CPX020648R9999","PNC12HD15A N Cu 1250A hori Perm. 1,5PW",6536.98,"замовлення","6-8","Main DB",1,"шт.",null,"H4"]
["PNC12VE12","2CPX022681R9999","N Комплект шин MBB4p Cu 1250A",11824.02,"замовлення","6-8","Main DB",1,"шт.",null,"H4"]
["PNC16HD1A","2CPX021918R9999","PNC16HD1A  N Cu 1600A H Cont. 1PW",6393.13,"замовлення","6-8","Main DB",1,"шт.",null,"H4"]
["PNC16HK35A","2CPX020627R9999","PNC16HK35A N Cu 1600A hori Cable 3,5PW",11967.86,"замовлення","6-8","Main DB",1,"шт.",null,"H4"]
["PNC16VC11","2CPX020827R9999","Комплект мідних шин N 1600 А верт. 4п",29655.53,"замовлення","6-8","Main DB",1,"шт.",null,"H4"]
["PNC20HK2A","2CPX020630R9999","PNC20HK2A  N Cu 2000A hori Cable 2PW",11775.35,"замовлення","6-8","Main DB",1,"шт.",null,"H4"]
["PNC20VC11A","2CPX020821R9999","PNC20VC11A N Cu 2000A V MBB 4p D6/H8 S",46574.71,"замовлення","6-8","Main DB",1,"шт.",null,"H4"]
["PNC25HD3","2CPX020608R9999","Комплект мідних шин N 2500А 3Ш",17593.12,"замовлення","6-8","Main DB",1,"шт.",null,"H4"]
["PNC25VK11A","2CPX023261R9999","PNC25VK11A N Cu 2500A V MBB4p D6/H8 S",9757.25,"замовлення","6-8","Main DB",1,"шт.",null,"H4"]
["PNC32HK4","2CPX021950R9999","Комплект мідної шини N 3200A каб. 4PW",22494.84,"замовлення","6-8","Main DB",1,"шт.",null,"H4"]
["PNHV2G2","2CPX023416R9999","Тримач N 4п 2x",1809.47,"замовлення","6-8","Main DB",1,"шт.",null,"H4"]
["PPC12HK15A","2CPX020740R9999","PPC12HK15A PE Cu 1250A hori Cable 1,5PW",3844.93,"замовлення","6-8","Main DB",1,"шт.",null,"H4"]
["PPC12VA11A","2CPX020805R9999","PPC12VA11A PE Cu 1250A V D6/H8 S",12017.46,"замовлення","6-8","Main DB",1,"шт.",null,"H4"]
["PPC16HK15","2CPX020684R9999","Комплект мідних шин PE 1600А 1,5Ш ",3990.01,"замовлення","6-8","Main DB",1,"шт.",null,"H4"]
["PPC16HK3","2CPX020687R9999","Комплект мідних шин PE 1600А 3Ш",5480.5,"замовлення","6-8","Main DB",1,"шт.",null,"H4"]
["PPC20HD15","2CPX020721R9999","Комплект мідних шин PE 2000А 1,5Ш ",4854.91,"замовлення","6-8","Main DB",1,"шт.",null,"H4"]
["PPC20HK4","2CPX020695R9999","Комплект мідних шин PE 2000А 4Ш",8987.83,"замовлення","6-8","Main DB",1,"шт.",null,"H4"]
["PPC25HD25A","2CPX020800R9999","PPC25HD25A PE Cu 2500A hori Perm. 2,5PW",8266.15,"замовлення","6-8","Main DB",1,"шт.",null,"H4"]
["PPC25HK4A","2CPX020767R9999","PPC25HK4A  PE Cu 2500A hori Cable 4PW",11727.61,"замовлення","6-8","Main DB",1,"шт.",null,"H4"]
["PPC32HD25","2CPX021975R9999","Комплект мідної шини PE 3200A 2,5PW",8027.45,"замовлення","6-8","Main DB",1,"шт.",null,"H4"]
["PPC32VZ11","2CPX023407R9999","Шина PE верт. 3200А",7978.78,"замовлення","6-8","Main DB",1,"шт.",null,"H4"]
["PT164SA","2CPX023450R9999","PT164SA    IFOS 1600A 4p 50kA",10423.44,"замовлення","6-8","Main DB",1,"шт.",null,"H4"]
["PT324SA","2CPX023453R9999","PT324SA    IFOS 3200A 4p 50kA",10423.44,"замовлення","6-8","Main DB",1,"шт.",null,"H4"]
["PTBGCA24","2CPX022297R9999","Внутрішня форма секціонування TX викот. Г6 2PW 4b",8148.66,"замовлення","6-8","Main DB",1,"шт.",null,"H4"]
["PTBGDA24","2CPX022298R9999","Внутрішня форма секціонування TX фікс. Г6 2PW 4b",8148.66,"замовлення","6-8","Main DB",1,"шт.",null,"H4"]
["PTBICK24","2CPX021089R9999","Внутрішня форма секціонування E1/E2 викат. 2Ш 4b ",8002.66,"замовлення","6-8","Main DB",1,"шт.",null,"H4"]
["PTBJFK34A","2CPX022397R9999","PTBJFK34A  IFOS E3 With D6 3PW 4b",10423.44,"замовлення","6-8","Main DB",1,"шт.",null,"H4"]
["PTBNA464","2CPX022335R9999","Внутрішня форма секціонування IL Ш4 Г6 4b",8882.74,"замовлення","6-8","Main DB",1,"шт.",null,"H4"]
["PTBVA264","2CPX021383R9999","Внутрішня форма секціонування Jean Müller SL,  4b ",7928.56,"замовлення","6-8","Main DB",1,"шт.",null,"H4"]
["PTCVC20","2CPX021610R9999","Верт. перегородка відсіку під кабель 2х14-68мм В200мм",1589.38,"замовлення","6-8","Main DB",1,"шт.",null,"H4"]
["PTCVD20","2CPX021613R9999","Верт. перегородка відсіку під кабель 4х12-25мм В200мм",728.81,"замовлення","6-8","Main DB",1,"шт.",null,"H4"]
["PTKA38","2CPX021059R9999","Внутрішня форма секціонування 3Ш 4b",4882.1899999999996,"замовлення","6-8","Main DB",1,"шт.",null,"H4"]
["PTMM2560A","2CPX020980R9999","PTMM2560A  Form M&C CLM 2,5PW H600",4000.55,"замовлення","6-8","Main DB",1,"шт.",null,"H4"]
["PTMS2606","2CPX021036R9999","Внутрішня форма секціонування Ш2/В600мм/Г6 4b",5505.91,"замовлення","6-8","Main DB",1,"шт.",null,"H4"]
["PTMS4606A","2CPX020974R9999","PTMS4606A  Form M&C swiv 4PW H600 D6",6900.29,"замовлення","6-8","Main DB",1,"шт.",null,"H4"]
["PUC103G3A","2CPX020460R9999","PUC103G3A  CBB-BR Cu 1000A 3p TX With",21725.42,"замовлення","6-8","Main DB",1,"шт.",null,"H4"]
["PUC164G1","2CPX022727R9999","СВВ Комплект мідних шин 1600А 4п Т7/Х1 фіксов.",42295.78,"замовлення","6-8","Main DB",1,"шт.",null,"H4"]
["PVC103VL8","2CPX021456R9999","DBB Шини мідні 1000 А кабел. підкл. фідерів верт.",28694.22,"замовлення","6-8","Main DB",1,"шт.",null,"H4"]
["PVC123HL3","2CPX020347R9999","DBB Шини мідні 1250 А, 3Ш",19610.29,"замовлення","6-8","Main DB",1,"шт.",null,"H4"]
["PVC124HL4A","2CPX022690R9999","PVC124HL4A DBB Cu 1250A 4p H lying 4PW",33452.720000000001,"замовлення","6-8","Main DB",1,"шт.",null,"H4"]
["PVC164HL4","2CPX022702R9999","DBB Комплект шин 4p Cu 1600A Ш4",43882.67,"замовлення","6-8","Main DB",1,"шт.",null,"H4"]
["PVC204HL4A","2CPX022696R9999","PVC204HL4A DBB Cu 2000A 4p H lying 4PW",51909.19,"замовлення","6-8","Main DB",1,"шт.",null,"H4"]
["PVH12HM4A","2CPX022340R9999","PVH12HM4A  DBB Holder 1250A H XR 4PW",11231.92,"замовлення","6-8","Main DB",1,"шт.",null,"H4"]
["PVH16VU6","2CPX021474R9999","DBB Комплект ізоляторів 1600 А верт. Jean Müller 6х фідерна комірка ",16150.38,"замовлення","6-8","Main DB",1,"шт.",null,"H4"]
["PVH20HU3A","2CPX020329R9999","PVH20HU3A  DBB Holder 2000A H SA 3PW",9690.2900000000009,"замовлення","6-8","Main DB",1,"шт.",null,"H4"]
["PVH20VS4","2CPX021476R9999","DBB Комплект ізоляторів до 2000 А верт. 4х фідерна комірка",16444.57,"частково","1","Main DB",1,"шт.",null,"H4"]
["PWA00222A","2CPX023426R9999","PWA00222A  CBB Connection w/o 2pcs",1428.48,"замовлення","6-8","Main DB",1,"шт.",null,"H4"]
["PWA00422","2CPX023383R9999","PWA00422   CBB Connection w/o 4pcs",2807.68,"замовлення","6-8","Main DB",1,"шт.",null,"H4"]
["PWA30121A","2CPX023271R9999","PWA30121A  CBB Connection 30mm 1pcs",1115.08,"замовлення","6-8","Main DB",1,"шт.",null,"H4"]
["PWA30312A","2CPX022402R9999","PWA30312A  CBB Connection 30mm 3pcs",2293.69,"замовлення","6-8","Main DB",1,"шт.",null,"H4"]
["PWA30923","2CPX022387R9999","CBB Комплект з'єднання 30мм 9шт",10828.3,"замовлення","6-8","Main DB",1,"шт.",null,"H4"]
["PWA40111","2CPX023228R9999","PWA40111   CBB Connection 40mm 1pcs",737.8,"замовлення","6-8","Main DB",1,"шт.",null,"H4"]
["PWA40321A","2CPX022378R9999","PWA40321A  CBB Connection 40mm 3pcs",4331.9399999999996,"замовлення","6-8","Main DB",1,"шт.",null,"H4"]
["PWA40421","2CPX022902R9999","PWA40421   CBB Connection 40mm 4pcs",5212.66,"замовлення","6-8","Main DB",1,"шт.",null,"H4"]
["PWA40822A","2CPX023186R9999","PWA40822A  CBB Connection 40mm 8pcs",11892.84,"замовлення","6-8","Main DB",1,"шт.",null,"H4"]
["PWC083RFB","2CPX022136R9999","CBB Комплект шин 800A 3p T6 фикс. D6",14899.22,"замовлення","6-8","Main DB",1,"шт.",null,"H4"]
["PWC084RFS","2CPX022783R9999","CBB Комплект шин 800A 4п T6 викатний Г6",16630.88,"замовлення","6-8","Main DB",1,"шт.",null,"H4"]
["PWC103RGBA","2CPX020499R9999","PWC103RGBA CBB Cu 1000A 3p TX Fix D6",21341.02,"замовлення","6-8","Main DB",1,"шт.",null,"H4"]
["PWC104RGB","2CPX022789R9999","CBB Комплект шин 1000A 4п T7 фікс. Г6",19803.73,"замовлення","6-8","Main DB",1,"шт.",null,"H4"]
["PWC123HV1A","2CPX020544R9999","PWC123HV1A CBB-V Cu 1250A 3p H SL D6",26771.919999999998,"замовлення","6-8","Main DB",1,"шт.",null,"H4"]
["PWC124RGBA","2CPX022751R9999","PWC124RGBA CBB Cu 1250A 4p TX Fix D6",27491.74,"замовлення","6-8","Main DB",1,"шт.",null,"H4"]
["PWC163RGC","2CPX020487R9999","СВВ Комплект мідних шин 1600А3п Т7/Х1 фіксов. D6",37202.480000000003,"замовлення","6-8","Main DB",1,"шт.",null,"H4"]
["PWC163RGS","2CPX020489R9999","СВВ Комплект мідних шин 1600А3п Т7/Х1 викат. D6",28501.72,"замовлення","6-8","Main DB",1,"шт.",null,"H4"]
["PWC203HN1A","2CPX020549R9999","PWC203HN1A CBB-V Cu 2000A 3p H IL D6",39797.18,"замовлення","6-8","Main DB",1,"шт.",null,"H4"]
["PWC203RIBA","2CPX020518R9999","PWC203RIBA CBB Cu 2000A 3p E2 Fix D6",34990.94,"замовлення","6-8","Main DB",1,"шт.",null,"H4"]
["PWC204RIC","2CPX022808R9999","CBB Комплект шин 2000A 4п Е2 фікс. Г6",40519.18,"замовлення","6-8","Main DB",1,"шт.",null,"H4"]
["PWC253RJTA","2CPX022393R9999","PWC253RJTA CBB Cu 2500A 3p E3 With D6",64695.14,"замовлення","6-8","Main DB",1,"шт.",null,"H4"]
["PWH012RA","2CPX020429R9999","PWH012RA   CBB Holder L 190mm 2x",2257.42,"замовлення","6-8","Main DB",1,"шт.",null,"H4"]
["PWH034R","2CPX022522R9999","Комплект тримачів скловолокно L240mm 4x",4515.46,"замовлення","6-8","Main DB",1,"шт.",null,"H4"]
["PWH082R","2CPX022484R9999","Комплект тримачів скловолокно L180 mm 2шт",1853.5,"замовлення","6-8","Main DB",1,"шт.",null,"H4"]
["PWH084RA","2CPX022507R9999","PWH084RA   CBB Holder L1870mm 4x",4441.37,"замовлення","6-8","Main DB",1,"шт.",null,"H4"]
["PWH234RA","2CPX023045R9999","PWH234RA   CBB Holder L282mm 4x",5541.25,"замовлення","6-8","Main DB",1,"шт.",null,"H4"]
["PWH243RA","2CPX023048R9999","PWH243RA   CBB Holder L330mm 3x",4515.46,"замовлення","6-8","Main DB",1,"шт.",null,"H4"]
["PWH373R","2CPX023308R9999","Тримач CBB довжиною 279мм 3x",2936.63,"замовлення","6-8","Main DB",1,"шт.",null,"H4"]
["PWH432R","2CPX023396R9999","Тримач CBB довжиною 278мм 2x",2641.82,"замовлення","6-8","Main DB",1,"шт.",null,"H4"]
["PXC203RA","2CPX022175R9999","PXC203RA   CBB MBB-MBB Cu 2000A 3p",55467.06,"замовлення","6-8","Main DB",1,"шт.",null,"H4"]
["PXH165R","2CPX023203R9999","Тримач CBB MBB-MBB довжиною 325мм 5х",5066.0200000000004,"замовлення","6-8","Main DB",1,"шт.",null,"H4"]
["RB13F1","2CPX045785R9999","Нижня пластина з одним рядом отворів ",935.58,"замовлення","6-8","Main DB",1,"шт.",null,"H4"]
["RB28F","2CPX046626R9999","Дно с прорезью под синус без фланца   ",2110.79,"замовлення","6-8","Main DB",1,"шт.",null,"H4"]
["RB36G","2CPX045777R9999","Нижня пластина глуха",1428.48,"замовлення","6-8","Main DB",1,"шт.",null,"H4"]
["RB46F1","2CPX045798R9999","Нижня пластина з одним рядом отворів ",2753.11,"замовлення","6-8","Main DB",1,"шт.",null,"H4"]
["RB510","2CPX045939R9999","Захист від дотику Ш5/В10      ",3395.44,"замовлення","6-8","Main DB",1,"шт.",null,"H4"]
["RBA356LA","2CPX020856R9999","RBA356LA   B.plate wo Cut 3,5PW D6 V",4148.1099999999997,"замовлення","6-8","Main DB",1,"шт.",null,"H4"]
["RBAHA4","2CPX021659R9999","Кришка фронтальна 4Ш",2183.9499999999998,"замовлення","6-8","Main DB",1,"шт.",null,"H4"]
["RBB36LA","2CPX020861R9999","RBB36LA    B.plate bg Cut 3PW D6 V",3964.28,"замовлення","6-8","Main DB",1,"шт.",null,"H4"]
["RBBHM1A","2CPX023151R9999","RBBHM1A    Cover Lable/metal H 1PW",5286.12,"замовлення","6-8","Main DB",1,"шт.",null,"H4"]
["RBH36","2CPX023466R9999","Нижня плата Ш3 Г6",2275.09,"замовлення","6-8","Main DB",1,"шт.",null,"H4"]
["RBM200","2CPX021676R9999","Кришка фронтальна XR, В200мм",1199.7,"замовлення","6-8","Main DB",1,"шт.",null,"H4"]
["RBU100","2CPX021679R9999","Кришка фронтальна Jean Müller Sasil Plus, В100мм",1020.52,"замовлення","6-8","Main DB",1,"шт.",null,"H4"]
["RBU50A","2CPX021668R9999","RBU50A     Cover SA H50",1142.3499999999999,"замовлення","6-8","Main DB",1,"шт.",null,"H4"]
["RCT214","2CPX066158R9999","Комплект подключения T2 фикс. станд. 4 пол.",3376.84,"замовлення","6-8","Main DB",1,"шт.",null,"H4"]
["RCT323A","2CPX021813R9999","RCT323A    Connec. set T3 fixed r. 3P",2110.79,"замовлення","6-8","Main DB",1,"шт.",null,"H4"]
["RCT424A","2CPX023090R9999","RCT424A    Connec. set T4 fixed r. 4P",2588.81,"замовлення","6-8","Main DB",1,"шт.",null,"H4"]
["RD14F1","2CPX045736R9999","Дах з одним рядом отворів    ",1835.82,"замовлення","6-8","Main DB",1,"шт.",null,"H4"]
["RD26G","2CPX045722R9999","Дах глухий       ",2165.35,"замовлення","6-8","Main DB",1,"шт.",null,"H4"]
["RD36F2","2CPX045753R9999","Дах з двома рядами отворів",2715.91,"замовлення","6-8","Main DB",1,"шт.",null,"H4"]
["RD43F11","2CPX046744R9999","Крыша з отворами під фланці",2202.5500000000002,"замовлення","6-8","Main DB",1,"шт.",null,"H4"]
["RD54F1","2CPX045740R9999","Дах з одним рядом отворів    ",2624.15,"замовлення","6-8","Main DB",1,"шт.",null,"H4"]
["RDA3630","2CPX020903R9999","Дах з вент. Ш3/Г6 IP30",5763.22,"замовлення","6-8","Main DB",1,"шт.",null,"H4"]
["RDC25630","2CPX020914R9999","Дах з вент. для ZW Ш2,5/Г6 IP30",5579.38,"замовлення","6-8","Main DB",1,"шт.",null,"H4"]
["RFBB4A","2CPX021478R9999","RFBB4A     Flange pl. closed sm. 4PW",877.3,"замовлення","6-8","Main DB",1,"шт.",null,"H4"]
["RFKA2","2CPX021414R9999","Фланець алюм. для введеня кабелю 14-68мм 2Ш",8955.9,"замовлення","6-8","Main DB",1,"шт.",null,"H4"]
["RFKA4A","2CPX021400R9999","RFKA4A     Flange plate support 4PW",21582.2,"замовлення","6-8","Main DB",1,"шт.",null,"H4"]
["RM10","2CPX045919R9999","Проставка між монтажними платами В10     ",4441.37,"замовлення","6-8","Main DB",1,"шт.",null,"H4"]
["RM6001","2CPX066442R9999","Секц. монт. плата 600 мм     ",2147.6799999999998,"частково","1","Main DB",1,"шт.",null,"H4"]
["RMS3002","2CPX066346R9999","Секц. монт. осн. 300 мм T5 поворотная ручка  ",1230.7,"замовлення","6-8","Main DB",1,"шт.",null,"H4"]
["RR158","2CPX021137R9999","Задня стінка Ш1,5/В8 ",3359.16,"частково","1","Main DB",1,"шт.",null,"H4"]
["RR358RA","2CPX021126R9999","RR358RA    Rear wall 3,5PW H8 re.",2973.83,"замовлення","6-8","Main DB",1,"шт.",null,"H4"]
["RRW38","2CPX046513R9999","Задня панель Ш3 В8      ",4662.1000000000004,"склад","1","Main DB",1,"шт.",null,"H4"]
["RRW48RL","2CPX046597R9999","TriLine-R задняя стенка Ш4 В8 права с вентиляцией",7415.2,"замовлення","6-8","Main DB",1,"шт.",null,"H4"]
["RSR36L","2CPX066801R9999","Цоколь вент. Ш3/Г6 100 мм     ",5505.91,"замовлення","6-8","Main DB",1,"шт.",null,"H4"]
["RST17","2CPX046806R9999","Датчик с оптическим кабелем 8м",12847.96,"замовлення","6-8","Main DB",1,"шт.",null,"H4"]
["RT1504","2CPX066309R9999","Секц. дверь 150 мм T2 стандартная ручка   ",2091.2600000000002,"замовлення","6-8","Main DB",1,"шт.",null,"H4"]
["RT310","2CPX045839R9999","Двері TriLine-R Ш3 В10",10828.3,"частково","1","Main DB",1,"шт.",null,"H4"]
["RT510L","2CPX045842R9999","Двері TriLine-R Ш5 В8 ліва",9396.1,"замовлення","6-8","Main DB",1,"шт.",null,"H4"]
["RTAG90","2CPX021847R9999","Панель фронтальна глуха В900мм",5248.92,"замовлення","6-8","Main DB",1,"шт.",null,"H4"]
["RTBB13560","2CPX023318R9999","Кришка фронтальна Т6 фікс. Ш3,5 600мм",5763.22,"замовлення","6-8","Main DB",1,"шт.",null,"H4"]
["RTBE3360","2CPX021301R9999","RTBE3360   Sec cover TX Fix 3PW H600",5505.91,"замовлення","6-8","Main DB",1,"шт.",null,"H4"]
["RTBNDT313A","2CPX022442R9999","RTBNDT313A Sec cover IL T 3PW H1350",7011.58,"замовлення","6-8","Main DB",1,"шт.",null,"H4"]
["RTBVDB413","2CPX022418R9999","Фронтальна кришка SL/EF B 4PW H1350",6754.28,"замовлення","6-8","Main DB",1,"шт.",null,"H4"]
["RTD28A","2CPX022305R9999","RTD28A     Door 2PW H8",7965.76,"замовлення","6-8","Main DB",1,"шт.",null,"H4"]
["RTS1560","2CPX021212R9999","Двері сегментні Ш1,5/В600   ",3321.96,"замовлення","6-8","Main DB",1,"шт.",null,"H4"]
["RTS2590","2CPX021222R9999","Двері сегментні Ш2,5/В900   ",4624.2700000000004,"замовлення","6-8","Main DB",1,"шт.",null,"H4"]
["RTS3560A","2CPX021200R9999","RTS3560A   Sect door 3,5PW H600",4734.6400000000003,"замовлення","6-8","Main DB",1,"шт.",null,"H4"]
["RTS58L","2CPX045849R9999","Прозорі двері Ш5/В8 ліва      ",21693.49,"замовлення","6-8","Main DB",1,"шт.",null,"H4"]
["RTSA4260A","2CPX022456R9999","RTSA4260A  Sec Door T6 Fix L 2PW H600",5432.75,"замовлення","6-8","Main DB",1,"шт.",null,"H4"]
["RTSD6260","2CPX022249R9999","Двері сегментні TX викот. праві 2PW H600",5138.5600000000004,"замовлення","6-8","Main DB",1,"шт.",null,"H4"]
["RTW1502A","2CPX021792R9999","RTW1502A   Comp. Part vert. 150mm 4hole",1354.39,"замовлення","6-8","Main DB",1,"шт.",null,"H4"]
["RTW4004","2CPX066459R9999","Секц. перегородка верт. 400 мм     ",1684.85,"замовлення","6-8","Main DB",1,"шт.",null,"H4"]
["RTW8001","2CPX066457R9999","Секц. перегородка верт. 800 мм глухая    ",1684.85,"замовлення","6-8","Main DB",1,"шт.",null,"H4"]
["RZ121","2CPX046298R9999","Кабельна рейка",477.1,"замовлення","6-8","Main DB",1,"шт.",null,"H4"]
["RZ197","2CPX046974R9999","Комплект з'єднання шин 3200A 4p",21964.74,"замовлення","6-8","Main DB",1,"шт.",null,"H4"]
["RZ222","2CPX022875R9999","Кронштейн N/PE шини верт. Ш2",1152.8900000000001,"замовлення","6-8","Main DB",1,"шт.",null,"H4"]
["RZ3P4","2CPX046006R9999","Кріплення до полу цоколя",216.38,"замовлення","6-8","Main DB",1,"шт.",null,"H4"]
["RZ5P4","2CPX046008R9999","З'єднання цоколів",629.91999999999996,"замовлення","6-8","Main DB",1,"шт.",null,"H4"]
["RZB110","2CPX046039R9999","Профіль No.10 Ш1       ",475.24,"замовлення","6-8","Main DB",1,"шт.",null,"H4"]
["RZBA1510","2CPX047000R9999","RZBA1510   Profile No.10 1,5PW",534.44000000000005,"замовлення","6-8","Main DB",1,"шт.",null,"H4"]
["RZBA310","2CPX046051R9999","Профіль No.10 Ш3       ",884.44,"частково","1","Main DB",1,"шт.",null,"H4"]
["RZF3","2CPX066834R9999","Алюминиевая плата для ввода кабеля 3x90 мм   ",13506.08,"замовлення","6-8","Main DB",1,"шт.",null,"H4"]
["RZT6P2","2CPX045954R9999","Універсальний поперечний профіль Г6      ",1835.82,"замовлення","6-8","Main DB",1,"шт.",null,"H4"]
["RZULB35","2CPX046419R9999","Універсальна траверса Ш3,5",1185.76,"замовлення","6-8","Main DB",1,"шт.",null,"H4"]
["ZH237","2CPX066359R9999","Т-образная ручка с замком для мод. дверей   ",1512.49,"замовлення","6-8","Main DB",1,"шт.",null,"H4"]
["ZX180","2CPX044026R9999","Дистанціююча втулка 1000 мм. паперова",1189.1600000000001,"частково","1","Main DB",1,"шт.",null,"H4"]
["ZX197P10","2CPX062120R9999","Т образный болт M10x50 мм.     ",2183.9499999999998,"замовлення","6-8","Main DB",1,"шт.",null,"H4"]
["ZX213P10","2CPX062129R9999","Болт шестигранный M12x190 мм. V2A     ",2458.92,"замовлення","6-8","Main DB",1,"шт.",null,"H4"]
["ZX218P500","2CPX062658R9999","Усиленная шайба 10 мм.      ",7341.11,"замовлення","6-8","Main DB",1,"шт.",null,"H4"]
["ZX37P10","2CPX062132R9999","Мідна дістанціююча втулка 20x8,5x22 мм.     ",1750.26,"замовлення","6-8","Main DB",1,"шт.",null,"H4"]
["ZX552","2CPX061457R9999","Держатель шин для CU60x10мм",3247.87,"замовлення","6-8","Main DB",1,"шт.",null,"H4"]
["ZX643","2CPX046080R9999","Адаптер для шинотримача 4 пол.     ",822.43,"замовлення","6-8","Main DB",1,"шт.",null,"H4"]
["ZX650","2CPX046087R9999","Мідна вкладка 60x10 мм.      ",509.64,"замовлення","6-8","Main DB",1,"шт.",null,"H4"]
["ZX679","2CPX046980R9999","Скловолокно ізолятор 2000мм. товщиною 8мм.",2533.0100000000002,"замовлення","6-8","Main DB",1,"шт.",null,"H4"]
["ZX698","2CPX046904R9999","Скловолок. изол. тримач",1560.23,"замовлення","6-8","Main DB",1,"шт.",null,"H4"]
["ZX765P10","2CPX021859R9999","Болт шестигранный M12x45 мм. 10 шт.      ",319.92,"замовлення","6-8","Main DB",1,"шт.",null,"H4"]
["ZX770P10","2CPX062621R9999","Болт шестигранный M12x70 мм.      ",491.35,"замовлення","6-8","Main DB",1,"шт.",null,"H4"]
["PBFA5005","PBFA5005","FLAT CUPONAL BUSBAR 50x5 L=1750MM",3604.68,"замовлення","6-8","Main DB",1,"шт.",null,"H4"]
["PBGT5738","PBGT5738","CON.T5 3P SHA.B.800A SCA.BH.4+2 INTERN.",7373.66,"замовлення","6-8","Main DB",1,"шт.",null,"H4"]
["PBRN0002","PBRN0002","N.2 BRACKETS FOR N",1221.0999999999999,"замовлення","6-8","Main DB",1,"шт.",null,"H4"]
["PBSC1000","PBSC1000","SHAPED COPPER BUSBAR In 1000A L=1750MM",8368.4500000000007,"замовлення","6-8","Main DB",1,"шт.",null,"H4"]
["PBWP2550","PBWP2550","KIT BOT.WITH-OUT PLINTH W=250MM D=500MM",652.86,"замовлення","6-8","Main DB",1,"шт.",null,"H4"]
["PBWP6050","PBWP6050","KIT BOT.WITH-OUT PLINTH W=600MM D=500MM",1934.09,"замовлення","6-8","Main DB",1,"шт.",null,"H4"]
["PCBS1580","PCBS1580","BLIND CELL FOR SEGR. H=150MM W=800MM",1315.64,"замовлення","6-8","Main DB",1,"шт.",null,"H4"]
["PCCM0800","PCCM0800","2 GALVANIZ. SHEET CROSSPIECES CC W=800MM",864.9,"замовлення","6-8","Main DB",1,"шт.",null,"H4"]
["PCFM0900","PCFM0900","4 GALVANIZ. SHEET CROSSPIECES D=900MM",2399.71,"замовлення","6-8","Main DB",1,"шт.",null,"H4"]
["PCIS0700","PCIS0700","INTERMEDIATE CROSSPIECE 3B D=700MM",734.08,"замовлення","6-8","Main DB",1,"шт.",null,"H4"]
["PCNL0100","PCNL0100","VER.INLINE COMPENSATOR COVER W=100",1261.7,"замовлення","6-8","Main DB",1,"шт.",null,"H4"]
["PCRM1788","PCRM1788","2 GALVANIZED SHEET CROSSPIECES W=1788MM",2013.46,"замовлення","6-8","Main DB",1,"шт.",null,"H4"]
["PCTT7631","PCTT7631","CON.T7/E1.2 3P S.B.1600A P.L.6+3IN-6+4EX",45952.54,"замовлення","6-8","Main DB",1,"шт.",null,"H4"]
["PCVS0508","PCVS0508","ANG.+ PAN.LEXAN P0 H=500MM W=800MM",2115.13,"замовлення","6-8","Main DB",1,"шт.",null,"H4"]
["PCVS1504","PCVS1504","CUBICLE P1 H=500MM W=400MM",2686.78,"замовлення","6-8","Main DB",1,"шт.",null,"H4"]
["PCVS2606","PCVS2606","CUBICLE P2 H=600MM W=600MM",3397.91,"замовлення","6-8","Main DB",1,"шт.",null,"H4"]
["PDCB1844","PDCB1844","BLIND DOOR E CABLE CONT.H=1800MM W=400MM",3355.44,"замовлення","6-8","Main DB",1,"шт.",null,"H4"]
["PDLB1816","PDLB1816","IP65 BLIND DOOR H=1800MM W=1000MM",10367.950000000001,"замовлення","6-8","Main DB",1,"шт.",null,"H4"]
["PDLB2030","PDLB2030","IP40 BLIND DOOR H=2000MM W=300MM",4502.4399999999996,"замовлення","6-8","Main DB",1,"шт.",null,"H4"]
["PDLG1842","PDLG1842","IP65 GL.DOOR 12 DIN H=1800MM W=600MM",12182.69,"замовлення","6-8","Main DB",1,"шт.",null,"H4"]
["PDLG2060","PDLG2060","IP40 GL.DOOR 24 DIN H=2000MM W=600MM",13032.4,"замовлення","6-8","Main DB",1,"шт.",null,"H4"]
["PDPT4631","PDPT4631","CON.T4 4P SHA.B.1600A LI.BH.4+3IN-4+4EX",8513.5300000000007,"замовлення","6-8","Main DB",1,"шт.",null,"H4"]
["PDTX2631","PDTX2631","CON.XT2 4P SHA.B.1600A LI.BH.6+3IN-6+4EX",6844.49,"замовлення","6-8","Main DB",1,"шт.",null,"H4"]
["PFCF1090","PFCF1090","CABLE ENTRY FLANGE W=1000MM D=900MM",2540.14,"замовлення","6-8","Main DB",1,"шт.",null,"H4"]
["PFCF2570","PFCF2570","CABLE ENTRY FLANGE W=250MM D=700MM",783.68,"замовлення","6-8","Main DB",1,"шт.",null,"H4"]
["PFCF5020","PFCF5020","CABLE ENTRY FLANGE W=500MM D=200MM",345.34,"замовлення","6-8","Main DB",1,"шт.",null,"H4"]
["PFCS1050","PFCS1050","2 SLIDING CABLE FLANGES W=1000MM D=500MM",1573.56,"замовлення","6-8","Main DB",1,"шт.",null,"H4"]
["PFCS8070","PFCS8070","2 SLIDING CABLE FLANGES W=800MM D=700MM",1768.86,"замовлення","6-8","Main DB",1,"шт.",null,"H4"]
["PFPF2080","PFPF2080","FIXED FRAME FOR PANELS H=2000MM W=800MM",6495.43,"замовлення","6-8","Main DB",1,"шт.",null,"H4"]
["PFVS2060","PFVS2060","SEGR.VER.FRONT.H200EACH W W600",1415.46,"замовлення","6-8","Main DB",1,"шт.",null,"H4"]
["PFVS8032","PFVS8032","SEG.INT.UPR.LEV.EXT.CA.COM.H=1800W=300MM",3030.56,"замовлення","6-8","Main DB",1,"шт.",null,"H4"]
["PHBT4404","PHBT4404","T4 KIT 3-4P FIXED MOT.HOR.INST. W=400MM",3395.44,"замовлення","6-8","Main DB",1,"шт.",null,"H4"]
["PHBX2401","PHBX2401","XT2 KIT 3-4P FIXED HOR.INST. W=400MM",2732.65,"замовлення","6-8","Main DB",1,"шт.",null,"H4"]
["PHBX2410","PHBX2410","XT2 KIT 3-4P WITHDRAW. HOR.INS. W=400MM",3064.97,"замовлення","6-8","Main DB",1,"шт.",null,"H4"]
["PHBX4427","PHBX4427","XT4 KIT 3-4P PLUG IN RHD HOR.INS.W=400MM",3250.36,"замовлення","6-8","Main DB",1,"шт.",null,"H4"]
["PHCT5304","PHCT5304","T5 KIT 3P FIXED MOT.(400/630A)H.W=400MM",3104.65,"замовлення","6-8","Main DB",1,"шт.",null,"H4"]
["PHCT5426","PHCT5426","T5 KIT 3-4P PLUG IN+RHD(400A)H.W=600MM",3332.5,"замовлення","6-8","Main DB",1,"шт.",null,"H4"]
["PHCT7329","PHCT7329","T7 KIT 3P F (MOT-RHD-I-IM) HOR.W=600MM",3953.74,"замовлення","6-8","Main DB",1,"шт.",null,"H4"]
["PHCX2412","PHCX2412","XT2 KIT 3-4P WITH.MOT. HOR.INST.W=600MM",3478.2,"замовлення","6-8","Main DB",1,"шт.",null,"H4"]
["PHCX3423","PHCX3423","XT3 KIT 4P FIXED+RCD. HOR.INST. W=600MM",3048.85,"замовлення","6-8","Main DB",1,"шт.",null,"H4"]
["PHDE1240","PHDE1240","E1.2 KIT 3-4P WITH.-INT. HORIZ. W=800MM",3943.82,"замовлення","6-8","Main DB",1,"шт.",null,"H4"]
["PHDT5306","PHDT5306","T5 KIT 3P FIXED+RHD(400/630A)H.W=800MM",3746.98,"замовлення","6-8","Main DB",1,"шт.",null,"H4"]
["PHDX2407","PHDX2407","XT2 KIT 3-4P PLUG IN HOR,INS,W=800MM",3948.47,"замовлення","6-8","Main DB",1,"шт.",null,"H4"]
["PHDX4423","PHDX4423","XT4 KIT 4P FIXED+RCD.HOR.INST. W=800MM",3518.2,"замовлення","6-8","Main DB",1,"шт.",null,"H4"]
["PITH6000","PITH6000","N.1 INSULA.CONN. T6 IN H",1979.98,"замовлення","6-8","Main DB",1,"шт.",null,"H4"]
["PKNL1260","PKNL1260","MOUNTING KIT+INLINE PANEL H=1200 W=600",4434.24,"замовлення","6-8","Main DB",1,"шт.",null,"H4"]
["PKST0301","PKST0301","N.2 ROOF KIT IP31/41 COL.SIN.P=300MM",721.06,"замовлення","6-8","Main DB",1,"шт.",null,"H4"]
["PLVS0572","PLVS0572","SIDE VERT.SEGREG. H=50MM D=700MM INT.UP.",865.84,"замовлення","6-8","Main DB",1,"шт.",null,"H4"]
["PLVS2592","PLVS2592","SEGR.VERT.LAT. H=250MM D=900MM INT.UP.",859.63,"замовлення","6-8","Main DB",1,"шт.",null,"H4"]
["PLVS7092","PLVS7092","SEGR.VERT.LAT. H=700MM D=900MM INT.UP.",1054.93,"замовлення","6-8","Main DB",1,"шт.",null,"H4"]
["PMCS2090","PMCS2090","2 LAT.CABLE CONNEC.MOD. H=200MM D=900MM",2696.38,"замовлення","6-8","Main DB",1,"шт.",null,"H4"]
["PPBS0100","PPBS0100","LATERAL BLIND CELL SEGREGATION H=100MM",445.16,"замовлення","6-8","Main DB",1,"шт.",null,"H4"]
["PPEA2050","PPEA2050","IP30 AERATED EXT. PAN. H=2000MM D=500MM",2253.08,"замовлення","6-8","Main DB",1,"шт.",null,"H4"]
["PPEB1856","PPEB1856","IP65 EXTERNAL PANEL H=1800MM W/D=500MM",2197.2800000000002,"замовлення","6-8","Main DB",1,"шт.",null,"H4"]
["PPEB2070","PPEB2070","IP30/40 EXTERNAL PANEL H=2000MM D=700MM",4091.38,"замовлення","6-8","Main DB",1,"шт.",null,"H4"]
["PPFB1080","PPFB1080","BLIND FLAT PANEL H=100MM W=800MM",616.6,"замовлення","6-8","Main DB",1,"шт.",null,"H4"]
["PPFB2512","PPFB2512","BLIND FLAT PANEL H=250MM W=1250MM",1571.7,"замовлення","6-8","Main DB",1,"шт.",null,"H4"]
["PPFB6010","PPFB6010","BLIND FLAT PANEL H=600MM W=1000MM",1925.1,"замовлення","6-8","Main DB",1,"шт.",null,"H4"]
["PPFI2966","PPFI2966","INSTRUM. PANEL 2 96X96 W=600MM",1147.6199999999999,"замовлення","6-8","Main DB",1,"шт.",null,"H4"]
["PPFM1020","PPFM1020","2 SIDE PLINTH FLANGES H=100MM D=200MM",631.78,"замовлення","6-8","Main DB",1,"шт.",null,"H4"]
["PPMB1560","PPMB1560","BLIND MOUNTING PLATE H=150MM W=600MM",1364.93,"замовлення","6-8","Main DB",1,"шт.",null,"H4"]
["PPMB3512","PPMB3512","BLIND MOUNTING PLATE H=350MM W=1250MM",2771.4,"замовлення","6-8","Main DB",1,"шт.",null,"H4"]
["PPMF2040","PPMF2040","12 DIN MOD. PANEL H=200MM W=400MM",586.52,"замовлення","6-8","Main DB",1,"шт.",null,"H4"]
["PPNL3080","PPNL3080","BLIND PANEL H=300MM W=800MM",1395,"замовлення","6-8","Main DB",1,"шт.",null,"H4"]
["PRBS8240","PRBS8240","SEGR.VERT.REAR INT.CC H=800MM W=400MM",966.58,"замовлення","6-8","Main DB",1,"шт.",null,"H4"]
["PRVS1061","PRVS1061","SEGR.VERT.REAR H=1000MM W=600MM INT.UP.",1076.02,"замовлення","6-8","Main DB",1,"шт.",null,"H4"]
["PRVS1781","PRVS1781","SEGR.VERT.REAR H=175MM W=800MM INT.UP.",810.04,"замовлення","6-8","Main DB",1,"шт.",null,"H4"]
["PRVS2061","PRVS2061","SEGR.VERT.REAR H=200MM W=600MM INT.UP.",741.22,"замовлення","6-8","Main DB",1,"шт.",null,"H4"]
["PRVS2560","PRVS2560","SEGR.VERT.REAR H=250MM W=600MM  NO I.UP.",1391.59,"замовлення","6-8","Main DB",1,"шт.",null,"H4"]
["PRVS3581","PRVS3581","SEGR.VERT.REAR H=350MM W=800MM INT.UP.",932.17,"замовлення","6-8","Main DB",1,"шт.",null,"H4"]
["PSHF1096","PSHF1096","HORIZ.SEG.F3B E6.2 W=1000MM D=900MM",3109,"замовлення","6-8","Main DB",1,"шт.",null,"H4"]
["PSHS1901","PSHS1901","HORIZONTAL SHELF W=1000MM",1305.72,"замовлення","6-8","Main DB",1,"шт.",null,"H4"]
["PSHW6051","PSHW6051","SEGR.HOR.F3B E1.2 T7 3/4P V. 600X500MM",1471.88,"замовлення","6-8","Main DB",1,"шт.",null,"H4"]
["PSVF6084","PSVF6084","SEGR.F2A-3A E4.2 H=600MM W=800MM",6738.47,"замовлення","6-8","Main DB",1,"шт.",null,"H4"]
["PSVS0307","PSVS0307","SEGREG.VERT.REAR H=300MM D=700MM",731.6,"замовлення","6-8","Main DB",1,"шт.",null,"H4"]
["PSVS2051","PSVS2051","REAR V.SEG.KIT RECES.PLAT.H=200 D=500MM",2135.2800000000002,"замовлення","6-8","Main DB",1,"шт.",null,"H4"]
["PSVS3091","PSVS3091","REAR V.SEG.H300 P900MM T5 3P W MO 400A",2706.3,"замовлення","6-8","Main DB",1,"шт.",null,"H4"]
["PSVW5061","PSVW5061","SEGR.F2A-3A E1.2 T7 3/4P V. 500X600MM",6277.19,"замовлення","6-8","Main DB",1,"шт.",null,"H4"]
["PTBB2530","PTBB2530","IP40 BLIND TOP/BOTTOM W=250MM D=300MM",244.6,"замовлення","6-8","Main DB",1,"шт.",null,"H4"]
["PTBB3030","PTBB3030","IP40 BLIND TOP/BOTTOM W=300MM D=300MM",575.98,"замовлення","6-8","Main DB",1,"шт.",null,"H4"]
["PTBB5096","PTBB5096","IP65 BLIND TOP/BOTTOM W=500MM D=900MM",1029.2,"замовлення","6-8","Main DB",1,"шт.",null,"H4"]
["PTBB7550","PTBB7550","IP40 BLIND TOP/BOTTOM W=750MM D=500MM",1116,"замовлення","6-8","Main DB",1,"шт.",null,"H4"]
["PTBO1230","PTBO1230","IP65 OPEN TOP/BOTTOM W=1250MM D=300MM",1066.4000000000001,"замовлення","6-8","Main DB",1,"шт.",null,"H4"]
["PTBO1290","PTBO1290","IP65 OPEN TOP/BOTTOM W=1250MM D=900MM",3298.09,"замовлення","6-8","Main DB",1,"шт.",null,"H4"]
["PTBO4070","PTBO4070","IP65 OPEN TOP/BOTTOM W=400MM D=700MM",913.57,"замовлення","6-8","Main DB",1,"шт.",null,"H4"]
["PTBS1072","PTBS1072","SEGR.V.LAT.REAR+INT.UP.H1000 D700 BLIND",1779.4,"замовлення","6-8","Main DB",1,"шт.",null,"H4"]
["PTHS1072","PTHS1072","SEG.BUS.HOR.REAR +INT.UP.W1000 FOR D700",2267.96,"замовлення","6-8","Main DB",1,"шт.",null,"H4"]
["PTHS4052","PTHS4052","SEG.BUS.HOR.REAR +INT.UP.W400 FOR D500",1876.43,"замовлення","6-8","Main DB",1,"шт.",null,"H4"]
["PTHS6092","PTHS6092","SEG.BUS.HOR.REAR +INT.UP.W600 FOR D900",2165.35,"замовлення","6-8","Main DB",1,"шт.",null,"H4"]
["PTVS8050","PTVS8050","SEGR.VER.LAT.NO IN.UP. H800 D500+PRE-C.",1862.48,"замовлення","6-8","Main DB",1,"шт.",null,"H4"]
["PUCM2000","PUCM2000","GALV. SHEET C.CONT. UPRIGHT H=2000MM",1138.94,"замовлення","6-8","Main DB",1,"шт.",null,"H4"]
["PVBT5414","PVBT5414","T5 KIT 3-4P WITH+RHD(400A)VER.W=400MM",3457.12,"замовлення","6-8","Main DB",1,"шт.",null,"H4"]
["PVBX2423","PVBX2423","XT2 KIT 4P FIXED+RCD. VERT.INS. W=400MM",2566.4899999999998,"замовлення","6-8","Main DB",1,"шт.",null,"H4"]
["PVBX4423","PVBX4423","XT4 KIT 4P FIXED+RCD. VERT.INS. W=400MM",3064.97,"замовлення","6-8","Main DB",1,"шт.",null,"H4"]
["PVCT5601","PVCT5601","N.2 T5 630A 3P WIT.VER.W600 T.FR.NO SEG.",6676.48,"замовлення","6-8","Main DB",1,"шт.",null,"H4"]
["PVCX2401","PVCX2401","XT2 KIT 3-4P FIXED VERT.INST. W=600MM",2783.18,"замовлення","6-8","Main DB",1,"шт.",null,"H4"]
["PVCX3707","PVCX3707","3 XT3 KIT 3P PLUG IN VERT.W=600MM",3425.2,"замовлення","6-8","Main DB",1,"шт.",null,"H4"]
["PVDT5406","PVDT5406","T5 KIT 3-4P FIXED+RHD(400/630A)V.W=800MM",4264.67,"замовлення","6-8","Main DB",1,"шт.",null,"H4"]
["PVDT5610","PVDT5610","2 T5 KIT 3-4P WITH. VERT.W=800MM",5480.5,"замовлення","6-8","Main DB",1,"шт.",null,"H4"]
["PVFT5710","PVFT5710","3 T5 KIT 3-4P WITH. VERT. W=1000MM",5699.35,"замовлення","6-8","Main DB",1,"шт.",null,"H4"]
["PWRP1880","PWRP1880","FULL H.MOUNTING PLATE H=1800MM L=800MM",11339.8,"замовлення","6-8","Main DB",1,"шт.",null,"H4"]
["AD1064","AD1064","Винт Т-образный М8 в комплекте длиной 27 мм. для шины 10 мм., 12 шт.",535.05999999999995,"замовлення","6-8","Automation DB",1,"шт.",null,"G7"]
["BS6350","BS6350","Соединитель для шины квадратный 4 шт. h=63 мм.             ",8205.08,"замовлення","6-8","Automation DB",1,"шт.",null,"G7"]
["EA1060","EA1060","Оцинкованная монтажная плата  1000x600 мм.  (HxW)             ",3160.14,"замовлення","6-8","Automation DB",1,"шт.",null,"G7"]
["EA1910","EA1910","Монтажная плата увеличенная с направляющими 1800x1000 мм. (hxw)",7229.51,"замовлення","6-8","Automation DB",1,"шт.",null,"G7"]
["EA2112","EA2112","Монтажная плата увеличенная с направляющими 2000x1200 мм(hxw)",9797.86,"замовлення","6-8","Automation DB",1,"шт.",null,"G7"]
["EA2200","EA2200","Комплект соединения h=2200 мм           ",4184.08,"замовлення","6-8","Automation DB",1,"шт.",null,"G7"]
["EA5811","EA5811","Дополнительная монтажная плата 1800x1000 мм (HxW)       ",7902.83,"замовлення","6-8","Automation DB",1,"шт.",null,"G7"]
["EB1000","EB1000","2 шт поперечен d=1000 мм   ",1147,"замовлення","6-8","Automation DB",1,"шт.",null,"G7"]
["EB1100","EB1100","Профиль 2 шт., d=1000 мм ",2091.58,"замовлення","6-8","Automation DB",1,"шт.",null,"G7"]
["EC1882","EC1882","Глухая дверь с перфорацией 1800X800   ",11344.76,"замовлення","6-8","Automation DB",1,"шт.",null,"G7"]
["EC2080FC8K","EC2080FC8K","Часть двойной глухой двери 2000x800m(hxw)        ",6995.15,"замовлення","6-8","Automation DB",1,"шт.",null,"G7"]
["EC2280FC6K","EC2280FC6K","Часть двойной глухой двери 2200x600m(hxw)        ",7112.33,"замовлення","6-8","Automation DB",1,"шт.",null,"G7"]
["ED2010SK","ED2010SK","Часть двойной глухой двери внахлест.2000x500 мм.(hxw)    ",6225.73,"замовлення","6-8","Automation DB",1,"шт.",null,"G7"]
["EE0024","EE0024","Заглушка 10 шт. ",998.82,"замовлення","6-8","Automation DB",1,"шт.",null,"G7"]
["EE1810K","EE1810K","Внутренняя глухая дверь 1800x1000 мм.(hxw)       ",10186.6,"замовлення","6-8","Automation DB",1,"шт.",null,"G7"]
["EE2051","EE2051","Верт. разделительная плата 2000x500 мм.(hxd)      ",2504.5,"замовлення","6-8","Automation DB",1,"шт.",null,"G7"]
["EE2260K","EE2260K","Внутренняя глухая дверь 2200x600 мм.(hxw)        ",8903.2000000000007,"замовлення","6-8","Automation DB",1,"шт.",null,"G7"]
["EE2406","EE2406","Пластина переходник 5 шт. 24-6poles ",617.83000000000004,"замовлення","6-8","Automation DB",1,"шт.",null,"G7"]
["EF1060","EF1060","Скользящие фланцы кабельных вводов 1000x600 мм.  ",1244.3399999999999,"замовлення","6-8","Automation DB",1,"шт.",null,"G7"]
["EF4081","EF4081","Наборные фланцы кабельных вводов 400x800 мм. ",1066.0899999999999,"замовлення","6-8","Automation DB",1,"шт.",null,"G7"]
["EF8011","EF8011","Наборные фланцы кабельных вводов 800x1000 мм.",2177.75,"замовлення","6-8","Automation DB",1,"шт.",null,"G7"]
["EG1880","EG1880","Рама 19\" на 38HE 1800x800 мм.",2549.14,"частково","1","Automation DB",1,"шт.",null,"G7"]
["EG1991","EG1991","Фальшпанель для 19\" рамы-2HE h=44,45 мм.  ",658.44,"замовлення","6-8","Automation DB",1,"шт.",null,"G7"]
["EH0562K","EH0562K","Глухая лицевая панель 50x600 мм.(hxw)               ",706.8,"замовлення","6-8","Automation DB",1,"шт.",null,"G7"]
["EH1529K","EH1529K","29 DIN фальшпанель 150x800 мм. (ВхШ)  ",946.12,"замовлення","6-8","Automation DB",1,"шт.",null,"G7"]
["EH2081K","EH2081K","Глухая дверца для секционных ячеек 200x800 мм. (ВхШ) ",3790.06,"замовлення","6-8","Automation DB",1,"шт.",null,"G7"]
["EH3272K","EH3272K","Фальшпанель для измерительных приборов с 2 отв..72x72-200x800 мм. (ВхШ)",1839.85,"замовлення","6-8","Automation DB",1,"шт.",null,"G7"]
["EH5081K","EH5081K","Глухая дверца для секционных ячеек 500x800 мм. (ВхШ) ",4365.7299999999996,"замовлення","6-8","Automation DB",1,"шт.",null,"G7"]
["EH7284K","EH7284K","Фальшпанель для измерительных приборов с 4 отв..96x96-200x800 мм. (ВхШ)",4295.9799999999996,"замовлення","6-8","Automation DB",1,"шт.",null,"G7"]
["EK4010KN","EK4010KN","Низ/Верх IS2 400х1000 ШхГ",14217.22,"замовлення","6-8","Automation DB",1,"шт.",null,"G7"]
["EK6080RK","EK6080RK","ROOF 600X800MM (WXD)-SPARE PART 7035",6893.47,"замовлення","6-8","Automation DB",1,"шт.",null,"G7"]
["EL1850K","EL1850K","2 шт глухих боковых панелей 1800x500 мм. (hxw)   ",5520.79,"замовлення","6-8","Automation DB",1,"шт.",null,"G7"]
["EL2041K","EL2041K","1 шт глухой боковой панели2000X400 мм. (hxw)              ",3026.53,"замовлення","6-8","Automation DB",1,"шт.",null,"G7"]
["EL2280K","EL2280K","2 шт глухих боковых панелей 2200x800 мм. (hxw)   ",9381.5300000000007,"замовлення","6-8","Automation DB",1,"шт.",null,"G7"]
["EM2211","EM2211","Траверса h=2200 мм.      ",2218.36,"замовлення","6-8","Automation DB",1,"шт.",null,"G7"]
["EN2150EMCK","EN2150EMCK","EMC Вент. решетка с фильтром + вентилятор 115V kit 150x150 мм.    ",13158.88,"замовлення","6-8","Automation DB",1,"шт.",null,"G7"]
["EP2012K","EP2012K","Задняя глухая панель 2000x1200 мм. (hxw)       ",5911.08,"замовлення","6-8","Automation DB",1,"шт.",null,"G7"]
["ER3050K","ER3050K","Боковой кабельный контейнер.1800x300x500 мм.  ",13965.5,"замовлення","6-8","Automation DB",1,"шт.",null,"G7"]
["ER4011K","ER4011K","Контейнер для ввода кабелей сверху 400x1000 мм. (wxd)         ",9307.44,"замовлення","6-8","Automation DB",1,"шт.",null,"G7"]
["ES1800K","ES1800K","Шкаф с глухой дверью 1800x1000x800 мм.",53425.72,"замовлення","6-8","Automation DB",1,"шт.",null,"G7"]
["ES1805VK","ES1805VK","Шкаф с прозрачной дверью 1800x1000x500 мм. (ВхШхГ)",42739.39,"замовлення","6-8","Automation DB",1,"шт.",null,"G7"]
["ES1825VC4K","ES1825VC4K","Шкаф с прозрачной дверью и кабельным отсеком шириной 400 мм. 1800x1200x500 (ВхШхГ)",59798.69,"замовлення","6-8","Automation DB",1,"шт.",null,"G7"]
["ES1827BK","ES1827BK","Шкаф с двойной глухой дверью1800x1200x500 мм.",42506.58,"замовлення","6-8","Automation DB",1,"шт.",null,"G7"]
["ES1864MFK","ES1864MFK","Шкаф для установки ячеек 1800x600x400 мм. (ВхШхГ)  ",23708.18,"замовлення","6-8","Automation DB",1,"шт.",null,"G7"]
["ES1880K","ES1880K","Шкаф с глухой дверью 1800x800x1000 мм.",42856.57,"замовлення","6-8","Automation DB",1,"шт.",null,"G7"]
["ES1884LK","ES1884LK","Шкаф с консолью 1800x800x400 мм. (ВхШхГ)  ",53693.56,"замовлення","6-8","Automation DB",1,"шт.",null,"G7"]
["ES2000MF2K","ES2000MF2K","Шкаф для установки ячеек 2000x1000x1000 мм. с кабельным отсеком шириной 200 мм.",48856.31,"замовлення","6-8","Automation DB",1,"шт.",null,"G7"]
["ES2004MF2K","ES2004MF2K","Шкаф для установки ячеек 2000x1000x400 мм. с кабельным отсеком шириной 200 мм.",38648.32,"замовлення","6-8","Automation DB",1,"шт.",null,"G7"]
["ES2006VK","ES2006VK","Шкаф с прозрачной дверью 2000x1000x600 мм. (ВхШхГ)",48704.72,"замовлення","6-8","Automation DB",1,"шт.",null,"G7"]
["ES2018K","ES2018K","Шкаф с двойной глухой дверью 2000x1000x800 мм. (ВхШ)",46421.57,"замовлення","6-8","Automation DB",1,"шт.",null,"G7"]
["ES2024BK","ES2024BK","Шкаф с двойной глухой дверью 2000x1200x400 мм.",44572.42,"замовлення","6-8","Automation DB",1,"шт.",null,"G7"]
["ES2024FV4K","ES2024FV4K","Шкаф с глухими дверями и кабельным отсеком шириной 400 мм. (ВхШхГ)2000x1200x400 (ВхШхГ)",48654.5,"замовлення","6-8","Automation DB",1,"шт.",null,"G7"]
["ES2024K","ES2024K","Шкаф с двойной глухой дверью 2000x1200x400 мм.",44572.42,"замовлення","6-8","Automation DB",1,"шт.",null,"G7"]
["ES2024MF4K","ES2024MF4K","Шкаф для установки ячеек 2000x1200x400 мм. с кабельным отсеком шириной 400 мм.",50525.66,"замовлення","6-8","Automation DB",1,"шт.",null,"G7"]
["ES2024VC4K","ES2024VC4K","Шкаф с прозрачной дверью и кабельным отсеком шириной 400 мм. 2000x1200x400 (ВхШхГ)",65254.69,"замовлення","6-8","Automation DB",1,"шт.",null,"G7"]
["ES2024VK","ES2024VK","Шкаф с прозрачной дверью 2000x1200x400 мм. (ВхШхГ)",61796.95,"замовлення","6-8","Automation DB",1,"шт.",null,"G7"]
["ES2025BK","ES2025BK","Шкаф с глухими перекрывающимися дверями 2000x1200x500мм.    ",45758.17,"замовлення","6-8","Automation DB",1,"шт.",null,"G7"]
["ES2025FV4K","ES2025FV4K","Шкаф с глухими дверями и кабельным отсеком шириной 400 мм. (ВхШхГ)2000x1200x500 (ВхШхГ)",49768.02,"замовлення","6-8","Automation DB",1,"шт.",null,"G7"]
["ES2025K","ES2025K","Шкаф с двойной глухой дверью 2000x1200x500 мм.",45758.17,"замовлення","6-8","Automation DB",1,"шт.",null,"G7"]
["ES2025MF4K","ES2025MF4K","Шкаф для установки ячеек 2000x1200x500 мм. с кабельным отсеком шириной 400 мм.",51746.75,"замовлення","6-8","Automation DB",1,"шт.",null,"G7"]
["ES2025VC4K","ES2025VC4K","Шкаф с прозрачной дверью и кабельным отсеком шириной 400 мм. 2000x1200x500 (ВхШхГ)",66682.55,"замовлення","6-8","Automation DB",1,"шт.",null,"G7"]
["ES2025VK","ES2025VK","Шкаф с прозрачной дверью 2000x1200x500 мм. (ВхШхГ)",62877.919999999998,"замовлення","6-8","Automation DB",1,"шт.",null,"G7"]
["ES2026BK","ES2026BK","Шкаф с глухими перекрывающимися дверями 2000x1200x600мм.    ",46942.37,"замовлення","6-8","Automation DB",1,"шт.",null,"G7"]
["ES2026BX","ES2026BX","CABINET 2BL. DOOR ST.STEEL 2000x1200x600",302922.7,"замовлення","6-8","Automation DB",1,"шт.",null,"G7"]
["ES2026FV4K","ES2026FV4K","Шкаф с глухими дверями и кабельным отсеком шириной 400 мм. (ВхШхГ)2000x1200x600 (ВхШхГ)",50885.88,"замовлення","6-8","Automation DB",1,"шт.",null,"G7"]
["ES2026K","ES2026K","Шкаф с двойной глухой дверью 2000x1200x600 мм.",46942.37,"замовлення","6-8","Automation DB",1,"шт.",null,"G7"]
["ES2026MF4K","ES2026MF4K","Шкаф для установки ячеек 2000x1200x600 мм. с кабельным отсеком шириной 400 мм.",52966.3,"замовлення","6-8","Automation DB",1,"шт.",null,"G7"]
["ES2026VC4K","ES2026VC4K","Шкаф с прозрачной дверью и кабельным отсеком шириной 400 мм. 2000x1200x600 (ВхШхГ)",68110.720000000001,"замовлення","6-8","Automation DB",1,"шт.",null,"G7"]
["ES2026VK","ES2026VK","Шкаф с прозрачной дверью 2000x1200x600 мм. (ВхШхГ)",63957.65,"замовлення","6-8","Automation DB",1,"шт.",null,"G7"]
["ES2028BK","ES2028BK","Шкаф с глухими перекрывающимися дверями 2000x1200x800мм.    ",49821.65,"замовлення","6-8","Automation DB",1,"шт.",null,"G7"]
["ES2028FV4K","ES2028FV4K","Шкаф с глухими дверями и кабельным отсеком шириной 400 мм. (ВхШхГ)2000x1200x800 (ВхШхГ)",53557.46,"замовлення","6-8","Automation DB",1,"шт.",null,"G7"]
["ES2028K","ES2028K","Шкаф с двойной глухой дверью 2000x1200x800 мм.",49821.65,"замовлення","6-8","Automation DB",1,"шт.",null,"G7"]
["ES2028MF4K","ES2028MF4K","Шкаф для установки ячеек 2000x1200x800 мм. с кабельным отсеком шириной 400 мм.",56133.25,"замовлення","6-8","Automation DB",1,"шт.",null,"G7"]
["ES2028VC4K","ES2028VC4K","Шкаф с прозрачной дверью и кабельным отсеком шириной 400 мм. 2000x1200x800 (ВхШхГ)",71818.94,"замовлення","6-8","Automation DB",1,"шт.",null,"G7"]
["ES2028VK","ES2028VK","Шкаф с прозрачной дверью 2000x1200x800 мм. (ВхШхГ)",67047.11,"замовлення","6-8","Automation DB",1,"шт.",null,"G7"]
["ES2040K","ES2040K","Шкаф с глухой дверью 2000x400x1000 мм.",34220.28,"замовлення","6-8","Automation DB",1,"шт.",null,"G7"]
["ES2044K","ES2044K","Шкаф с глухой дверью 2000x400x400 мм. ",25650.639999999999,"замовлення","6-8","Automation DB",1,"шт.",null,"G7"]
["ES2045K","ES2045K","Шкаф с глухой дверью 2000x400x500 мм. ",26604.52,"замовлення","6-8","Automation DB",1,"шт.",null,"G7"]
["ES2046K","ES2046K","Шкаф с глухой дверью 2000x400x600 мм. ",27556.21,"замовлення","6-8","Automation DB",1,"шт.",null,"G7"]
["ES2048K","ES2048K","Шкаф с глухой дверью 2000x400x800 мм. ",29128.84,"замовлення","6-8","Automation DB",1,"шт.",null,"G7"]
["ES2060K","ES2060K","Шкаф с глухой дверью 2000x600x1000 мм.",41893.72,"замовлення","6-8","Automation DB",1,"шт.",null,"G7"]
["ES2060MFK","ES2060MFK","Шкаф для установки ячеек 2000x1000x1000 мм. (ВхШхГ) ",38880.199999999997,"замовлення","6-8","Automation DB",1,"шт.",null,"G7"]
["ES2060VK","ES2060VK","Шкаф с прозрачной дверью 2000x600x800 мм. (ВхШхГ) ",50748.86,"замовлення","6-8","Automation DB",1,"шт.",null,"G7"]
["ES2064CK","ES2064CK","Шкаф с консолью 2000x600x400 мм. (ВхШхГ)  ",48119.44,"замовлення","6-8","Automation DB",1,"шт.",null,"G7"]
["ES2064K","ES2064K","Шкаф с глухой дверью 2000x600x400 мм. ",30549.88,"замовлення","6-8","Automation DB",1,"шт.",null,"G7"]
["ES2064MFK","ES2064MFK","Шкаф для установки ячеек 2000x600x400 мм. (ВхШхГ)  ",27790.57,"замовлення","6-8","Automation DB",1,"шт.",null,"G7"]
["ES2064VK","ES2064VK","Шкаф с прозрачной дверью 2000x600x400 мм. (ВхШхГ) ",39336.83,"замовлення","6-8","Automation DB",1,"шт.",null,"G7"]
["ES2065CK","ES2065CK","Шкаф с консолью 2000x600x500 мм. (ВхШхГ)  ",48834.61,"замовлення","6-8","Automation DB",1,"шт.",null,"G7"]
["ES2065K","ES2065K","Шкаф с глухой дверью 2000x600x500 мм. ",31299.77,"замовлення","6-8","Automation DB",1,"шт.",null,"G7"]
["ES2065MFK","ES2065MFK","Шкаф для установки ячеек 2000x600x500 мм. (ВхШхГ)  ",28294.63,"замовлення","6-8","Automation DB",1,"шт.",null,"G7"]
["ES2065VK","ES2065VK","Шкаф с прозрачной дверью 2000x600x500 мм. (ВхШхГ) ",39979.78,"замовлення","6-8","Automation DB",1,"шт.",null,"G7"]
["ES2066CK","ES2066CK","Шкаф с консолью 2000x600x600 мм. (ВхШхГ)  ",49548.23,"замовлення","6-8","Automation DB",1,"шт.",null,"G7"]
["ES2066EMCK","ES2066EMCK","Шкаф EMC IP54 с глухой дверью  2000x600x600 мм.",75878.080000000002,"замовлення","6-8","Automation DB",1,"шт.",null,"G7"]
["ES2066K","ES2066K","Шкаф с глухой дверью 2000x600x600 мм. ",32046.880000000001,"замовлення","6-8","Automation DB",1,"шт.",null,"G7"]
["ES2066MFK","ES2066MFK","Шкаф для установки ячеек 2000x600x600 мм. (ВхШхГ)  ",28800.55,"замовлення","6-8","Automation DB",1,"шт.",null,"G7"]
["ES2066PCK","ES2066PCK","Шкаф для компьютера 2000x600x600     ",71758.490000000005,"замовлення","6-8","Automation DB",1,"шт.",null,"G7"]
["ES2066VEMCK","ES2066VEMCK","EMC glass door enclosure 2000x600x600 мм.",93436.479999999996,"замовлення","6-8","Automation DB",1,"шт.",null,"G7"]
["ES2066VK","ES2066VK","Шкаф с прозрачной дверью 2000x600x600 мм. (ВхШхГ) ",40623.64,"замовлення","6-8","Automation DB",1,"шт.",null,"G7"]
["ES2068CK","ES2068CK","Шкаф с консолью 2000x600x800 мм. (ВхШхГ)  ",53366.2,"замовлення","6-8","Automation DB",1,"шт.",null,"G7"]
["ES2068EMCK","ES2068EMCK","Шкаф EMC IP54 с глухой дверью  2000x600x800 мм.",81217.84,"замовлення","6-8","Automation DB",1,"шт.",null,"G7"]
["ES2068K","ES2068K","Шкаф с глухой дверью 2000x600x800 мм. ",35659.61,"замовлення","6-8","Automation DB",1,"шт.",null,"G7"]
["ES2068MFK","ES2068MFK","Шкаф для установки ячеек 2000x800x800 мм. (ВхШхГ)  ",33462.949999999997,"замовлення","6-8","Automation DB",1,"шт.",null,"G7"]
["ES2068PCK","ES2068PCK","Шкаф для компьютера 2000x600x800     ",81085.149999999994,"замовлення","6-8","Automation DB",1,"шт.",null,"G7"]
["ES2068VK","ES2068VK","Шкаф с прозрачной дверью 2000x600x800 мм. (ВхШхГ) ",44374.02,"замовлення","6-8","Automation DB",1,"шт.",null,"G7"]
["ES2075BK","ES2075BK","Глухая дверь для шкафа2000x1600x500 с перекр.    ",58610.15,"замовлення","6-8","Automation DB",1,"шт.",null,"G7"]
["ES2075K","ES2075K","Глухая дверь для шкафа 2000x1600x500      ",58610.15,"замовлення","6-8","Automation DB",1,"шт.",null,"G7"]
["ES2076BK","ES2076BK","Глухая дверь для шкафа2000x1600x600 с перекр.    ",60859.51,"замовлення","6-8","Automation DB",1,"шт.",null,"G7"]
["ES2076K","ES2076K","Глухая дверь для шкафа 2000x1600x600      ",60859.51,"замовлення","6-8","Automation DB",1,"шт.",null,"G7"]
["ES2078BK","ES2078BK","Глухая дверь для шкафа2000x1600x800 с перекр.    ",64592.84,"замовлення","6-8","Automation DB",1,"шт.",null,"G7"]
["ES2078K","ES2078K","Глухая дверь для шкафа 2000x1600x800      ",64592.84,"замовлення","6-8","Automation DB",1,"шт.",null,"G7"]
["ES2080K","ES2080K","Шкаф с глухой дверью 2000x800x1000 мм.",45415,"замовлення","6-8","Automation DB",1,"шт.",null,"G7"]
["ES2080MF2K","ES2080MF2K","Шкаф для установки ячеек 2000x1000x1000 мм. с кабельным отсеком шириной 200 мм.",47348.160000000003,"замовлення","6-8","Automation DB",1,"шт.",null,"G7"]
["ES2080MFK","ES2080MFK","Шкаф для установки ячеек 2000x1000x1000 мм. (ВхШхГ)",39578.32,"замовлення","6-8","Automation DB",1,"шт.",null,"G7"]
["ES2080VK","ES2080VK","Шкаф с прозрачной дверью 2000x800x1000 мм. (ВхШхГ)",55793.8,"замовлення","6-8","Automation DB",1,"шт.",null,"G7"]
["ES2084CK","ES2084CK","Шкаф с консолью 2000x800x400 мм. (ВхШхГ)  ",50927.11,"замовлення","6-8","Automation DB",1,"шт.",null,"G7"]
["ES2084FV2K","ES2084FV2K","Шкаф с глухими дверями и кабельным отсеком шириной 200 мм. (ВхШхГ)2000x800x400 (ВхШхГ) ",38197.58,"замовлення","6-8","Automation DB",1,"шт.",null,"G7"]
["ES2084K","ES2084K","Шкаф с глухой дверью 2000x800x400 мм. ",31903.03,"замовлення","6-8","Automation DB",1,"шт.",null,"G7"]
["ES2084MF2K","ES2084MF2K","Шкаф для установки ячеек 2000x800x400 мм. с кабельным отсеком шириной 200 мм.",36613.480000000003,"замовлення","6-8","Automation DB",1,"шт.",null,"G7"]
["ES2084MFK","ES2084MFK","Шкаф для установки ячеек 2000x800x400 мм. (ВхШхГ)  ",28864.42,"замовлення","6-8","Automation DB",1,"шт.",null,"G7"]
["ES2084VC2K","ES2084VC2K","Шкаф с прозрачной дверью и кабельным отсеком шириной 200 мм. 2000x800x400 (ВхШхГ)",48712.480000000003,"замовлення","6-8","Automation DB",1,"шт.",null,"G7"]
["ES2084VK","ES2084VK","Шкаф с прозрачной дверью 2000x800x400 мм. (ВхШхГ) ",42210.22,"замовлення","6-8","Automation DB",1,"шт.",null,"G7"]
["ES2085CK","ES2085CK","Шкаф с консолью 2000x800x500 мм. (ВхШхГ)  ",51256.33,"замовлення","6-8","Automation DB",1,"шт.",null,"G7"]
["ES2085FV2K","ES2085FV2K","Шкаф с глухими дверями и кабельным отсеком шириной 200 мм. (ВхШхГ)2000x800x500 (ВхШхГ) ",38564.620000000003,"замовлення","6-8","Automation DB",1,"шт.",null,"G7"]
["ES2085K","ES2085K","Шкаф с глухой дверью 2000x800x500 мм. ",32372.68,"замовлення","6-8","Automation DB",1,"шт.",null,"G7"]
["ES2085MF2K","ES2085MF2K","Шкаф для установки ячеек 2000x800x500 мм. с кабельным отсеком шириной 200 мм.",37221.08,"замовлення","6-8","Automation DB",1,"шт.",null,"G7"]
["ES2085MFK","ES2085MFK","Шкаф для установки ячеек 2000x800x500 мм. (ВхШхГ)  ",29475.42,"замовлення","6-8","Automation DB",1,"шт.",null,"G7"]
["ES2085VC2K","ES2085VC2K","Шкаф с прозрачной дверью и кабельным отсеком шириной 200 мм. 2000x800x500 (ВхШхГ)",49114.85,"замовлення","6-8","Automation DB",1,"шт.",null,"G7"]
["ES2085VK","ES2085VK","Шкаф с прозрачной дверью 2000x800x500 мм. (ВхШхГ) ",42507.519999999997,"замовлення","6-8","Automation DB",1,"шт.",null,"G7"]
["ES2086CK","ES2086CK","Шкаф с консолью 2000x800x600 мм. (ВхШхГ)  ",51586.48,"замовлення","6-8","Automation DB",1,"шт.",null,"G7"]
["ES2086EMCK","ES2086EMCK","Шкаф EMC IP54 с глухой дверью  2000x800x600 мм.",81322.92,"замовлення","6-8","Automation DB",1,"шт.",null,"G7"]
["ES2086FV2K","ES2086FV2K","Шкаф с глухими дверями и кабельным отсеком шириной 200 мм. (ВхШхГ)2000x800x600 (ВхШхГ) ",38933.519999999997,"замовлення","6-8","Automation DB",1,"шт.",null,"G7"]
["ES2086K","ES2086K","Шкаф с глухой дверью 2000x800x600 мм. ",32844.82,"замовлення","6-8","Automation DB",1,"шт.",null,"G7"]
["ES2086MF2K","ES2086MF2K","Шкаф для установки ячеек 2000x800x600 мм. с кабельным отсеком шириной 200 мм.",37830.54,"замовлення","6-8","Automation DB",1,"шт.",null,"G7"]
["ES2086MFK","ES2086MFK","Шкаф для установки ячеек 2000x800x600 мм. (ВхШхГ)  ",30082.720000000001,"замовлення","6-8","Automation DB",1,"шт.",null,"G7"]
["ES2086VC2K","ES2086VC2K","Шкаф с прозрачной дверью и кабельным отсеком шириной 200 мм. 2000x800x600 (ВхШхГ)",49514.75,"замовлення","6-8","Automation DB",1,"шт.",null,"G7"]
["ES2086VK","ES2086VK","Шкаф с прозрачной дверью 2000x800x600 мм. (ВхШхГ) ",42803.87,"замовлення","6-8","Automation DB",1,"шт.",null,"G7"]
["ES2086X","ES2086X","CABINET BLIND DOOR ST.STEEL 2000x800x600",245188,"замовлення","6-8","Automation DB",1,"шт.",null,"G7"]
["ES2088CK","ES2088CK","Шкаф с консолью 2000x800x800 мм. (ВхШхГ)  ",55586.1,"замовлення","6-8","Automation DB",1,"шт.",null,"G7"]
["ES2088FV2K","ES2088FV2K","Шкаф с глухими дверями и кабельным отсеком шириной 200 мм. (ВхШхГ)2000x800x800 (ВхШхГ) ",42721.1,"замовлення","6-8","Automation DB",1,"шт.",null,"G7"]
["ES2088MF2K","ES2088MF2K","Шкаф для установки ячеек 2000x800x800 мм. с кабельным отсеком шириной 200 мм.",42323.06,"замовлення","6-8","Automation DB",1,"шт.",null,"G7"]
["ES2088MFK","ES2088MFK","Шкаф для установки ячеек 2000x800x800 мм. (ВхШхГ)  ",34504.86,"замовлення","6-8","Automation DB",1,"шт.",null,"G7"]
["ES2088VC2K","ES2088VC2K","Шкаф с прозрачной дверью и кабельным отсеком шириной 200 мм. 2000x800x800 (ВхШхГ)",53374.87,"замовлення","6-8","Automation DB",1,"шт.",null,"G7"]
["ES2088VK","ES2088VK","Шкаф с прозрачной дверью 2000x800x800 мм. (ВхШхГ) ",46801.63,"замовлення","6-8","Automation DB",1,"шт.",null,"G7"]
["ES2089EMCK","ES2089EMCK","Шкаф EMC IP54 с глухой дверью  2000x800x800 мм.",87467.44,"замовлення","6-8","Automation DB",1,"шт.",null,"G7"]
["ES2089K","ES2089K","Шкаф с глухой дверью 2000x800x800 мм. ",36563.57,"замовлення","6-8","Automation DB",1,"шт.",null,"G7"]
["ES2200K","ES2200K","Шкаф с глухой дверью 2200x1000x1000 мм.    ",56952.89,"замовлення","6-8","Automation DB",1,"шт.",null,"G7"]
["ES2200MF2K","ES2200MF2K","Шкаф для установки ячеек 2200x1000x1000 мм. с кабельным отсеком шириной 200 мм.",51805.34,"замовлення","6-8","Automation DB",1,"шт.",null,"G7"]
["ES2200MF4K","ES2200MF4K","Шкаф для установки ячеек 2200x1000x1000 мм. с кабельным отсеком шириной 400 мм.",52834.239999999998,"замовлення","6-8","Automation DB",1,"шт.",null,"G7"]
["ES2200VK","ES2200VK","Шкаф с прозрачной дверью 2200x1000x800 мм. (ВхШхГ)",68918.89,"замовлення","6-8","Automation DB",1,"шт.",null,"G7"]
["ES2204FV2K","ES2204FV2K","Шкаф с глухими дверями и кабельным отсеком шириной 200 мм. (ВхШхГ)2200x1000x400 (ВхШхГ)",44524.06,"замовлення","6-8","Automation DB",1,"шт.",null,"G7"]
["ES2204FV4K","ES2204FV4K","Шкаф с глухими дверями и кабельным отсеком шириной 400 мм. (ВхШхГ)2200x1000x400 (ВхШхГ)",47334.52,"замовлення","6-8","Automation DB",1,"шт.",null,"G7"]
["ES2204K","ES2204K","Шкаф с глухой дверью 2200x1000x400 мм.",38020.879999999997,"замовлення","6-8","Automation DB",1,"шт.",null,"G7"]
["ES2204MF2K","ES2204MF2K","Шкаф для установки ячеек 2200x1000x400 мм. с кабельным отсеком шириной 200 мм.",40446.94,"замовлення","6-8","Automation DB",1,"шт.",null,"G7"]
["ES2204MF4K","ES2204MF4K","Шкаф для установки ячеек 2200x1000x400 мм. с кабельным отсеком шириной 400 мм.",41484.519999999997,"замовлення","6-8","Automation DB",1,"шт.",null,"G7"]
["ES2204VC2K","ES2204VC2K","Шкаф с прозрачной дверью и кабельным отсеком шириной 200 мм. 2200x1000x400 (ВхШхГ)",53102.38,"замовлення","6-8","Automation DB",1,"шт.",null,"G7"]
["ES2204VC4K","ES2204VC4K","Шкаф с прозрачной дверью и кабельным отсеком шириной 400 мм. 2200x1000x400 (ВхШхГ)",56144.41,"замовлення","6-8","Automation DB",1,"шт.",null,"G7"]
["ES2204VK","ES2204VK","Шкаф с прозрачной дверью 2200x1000x400 мм. (ВхШхГ)",50268.05,"замовлення","6-8","Automation DB",1,"шт.",null,"G7"]
["ES2205FV2K","ES2205FV2K","Шкаф с глухими дверями и кабельным отсеком шириной 200 мм. (ВхШхГ)2200x1000x500 (ВхШхГ)",45645.34,"замовлення","6-8","Automation DB",1,"шт.",null,"G7"]
["ES2205FV4K","ES2205FV4K","Шкаф с глухими дверями и кабельным отсеком шириной 400 мм. (ВхШхГ)2200x1000x500 (ВхШхГ)",48058.37,"замовлення","6-8","Automation DB",1,"шт.",null,"G7"]
["ES2205K","ES2205K","Шкаф с глухой дверью 2200x1000x500 мм.",39398.83,"замовлення","6-8","Automation DB",1,"шт.",null,"G7"]
["ES2205MF2K","ES2205MF2K","Шкаф для установки ячеек 2200x1000x500 мм. с кабельным отсеком шириной 200 мм.",42298.879999999997,"замовлення","6-8","Automation DB",1,"шт.",null,"G7"]
["ES2205MF4K","ES2205MF4K","Шкаф для установки ячеек 2200x1000x500 мм. с кабельным отсеком шириной 400 мм.",43333.97,"замовлення","6-8","Automation DB",1,"шт.",null,"G7"]
["ES2205VC2K","ES2205VC2K","Шкаф с прозрачной дверью и кабельным отсеком шириной 200 мм. 2200x1000x500 (ВхШхГ)",56229.97,"замовлення","6-8","Automation DB",1,"шт.",null,"G7"]
["ES2205VC4K","ES2205VC4K","Шкаф с прозрачной дверью и кабельным отсеком шириной 400 мм. 2200x1000x500 (ВхШхГ)",58617.9,"замовлення","6-8","Automation DB",1,"шт.",null,"G7"]
["ES2205VK","ES2205VK","Шкаф с прозрачной дверью 2200x1000x500 мм. (ВхШхГ)",51145.36,"замовлення","6-8","Automation DB",1,"шт.",null,"G7"]
["ES2206FV2K","ES2206FV2K","Шкаф с глухими дверями и кабельным отсеком шириной 200 мм. (ВхШхГ)2200x1000x600 (ВхШхГ)",46768.15,"замовлення","6-8","Automation DB",1,"шт.",null,"G7"]
["ES2206FV4K","ES2206FV4K","Шкаф с глухими дверями и кабельным отсеком шириной 400 мм. (ВхШхГ)2200x1000x600 (ВхШхГ)",48782.22,"замовлення","6-8","Automation DB",1,"шт.",null,"G7"]
["ES2206K","ES2206K","Шкаф с глухой дверью 2200x1000x600 мм.",40780.5,"замовлення","6-8","Automation DB",1,"шт.",null,"G7"]
["ES2206MF2K","ES2206MF2K","Шкаф для установки ячеек 2200x1000x600 мм. с кабельным отсеком шириной 200 мм.",44145.86,"замовлення","6-8","Automation DB",1,"шт.",null,"G7"]
["ES2206MF4K","ES2206MF4K","Шкаф для установки ячеек 2200x1000x600 мм. с кабельным отсеком шириной 400 мм.",45183.43,"замовлення","6-8","Automation DB",1,"шт.",null,"G7"]
["ES2206VC2K","ES2206VC2K","Шкаф с прозрачной дверью и кабельным отсеком шириной 200 мм. 2200x1000x600 (ВхШхГ)",59357.26,"замовлення","6-8","Automation DB",1,"шт.",null,"G7"]
["ES2206VC4K","ES2206VC4K","Шкаф с прозрачной дверью и кабельным отсеком шириной 400 мм. 2200x1000x600 (ВхШхГ)",61087.06,"замовлення","6-8","Automation DB",1,"шт.",null,"G7"]
["ES2206VK","ES2206VK","Шкаф с прозрачной дверью 2200x1000x600 мм. (ВхШхГ)",52027,"замовлення","6-8","Automation DB",1,"шт.",null,"G7"]
["ES2208FV2K","ES2208FV2K","Шкаф с глухими дверями и кабельным отсеком шириной 200 мм. (ВхШхГ)2200x1000x800 (ВхШхГ)",48702.86,"замовлення","6-8","Automation DB",1,"шт.",null,"G7"]
["ES2208FV4K","ES2208FV4K","Шкаф с глухими дверями и кабельным отсеком шириной 400 мм. (ВхШхГ)2200x1000x800 (ВхШхГ)",51422.8,"замовлення","6-8","Automation DB",1,"шт.",null,"G7"]
["ES2208K","ES2208K","Шкаф с глухой дверью 2200x1000x800 мм.",41993.84,"замовлення","6-8","Automation DB",1,"шт.",null,"G7"]
["ES2208MF2K","ES2208MF2K","Шкаф для установки ячеек 2200x1000x800 мм. с кабельным отсеком шириной 200 мм.",47822.15,"замовлення","6-8","Automation DB",1,"шт.",null,"G7"]
["ES2208MF4K","ES2208MF4K","Шкаф для установки ячеек 2200x1000x800 мм. с кабельным отсеком шириной 400 мм.",48859.72,"замовлення","6-8","Automation DB",1,"шт.",null,"G7"]
["ES2208VC2K","ES2208VC2K","Шкаф с прозрачной дверью и кабельным отсеком шириной 200 мм. 2200x1000x800 (ВхШхГ)",61291.96,"замовлення","6-8","Automation DB",1,"шт.",null,"G7"]
["ES2208VC4K","ES2208VC4K","Шкаф с прозрачной дверью и кабельным отсеком шириной 400 мм. 2200x1000x800 (ВхШхГ)",63714.61,"замовлення","6-8","Automation DB",1,"шт.",null,"G7"]
["ES2208VK","ES2208VK","Шкаф с прозрачной дверью 2200x1000x800 мм. (ВхШхГ)",54445,"замовлення","6-8","Automation DB",1,"шт.",null,"G7"]
["ES2210BK","ES2210BK","Шкаф с двойной глухой дверью 2200x1000x1000 мм.",66053.56,"замовлення","6-8","Automation DB",1,"шт.",null,"G7"]
["ES2210K","ES2210K","Шкаф с двойной глухой дверью 2200x1000x1000 мм. (ВхШ)",66053.56,"замовлення","6-8","Automation DB",1,"шт.",null,"G7"]
["ES2214BK","ES2214BK","Шкаф с двойной глухой дверью 2200x1000x400 мм.",44524.06,"замовлення","6-8","Automation DB",1,"шт.",null,"G7"]
["ES2214K","ES2214K","Шкаф с двойной глухой дверью 2200x1000x400 мм. (ВхШ) ",44524.06,"замовлення","6-8","Automation DB",1,"шт.",null,"G7"]
["ES2215BK","ES2215BK","Шкаф с двойной глухой дверью 2200x1000x500 мм.",46007.1,"замовлення","6-8","Automation DB",1,"шт.",null,"G7"]
["ES2215K","ES2215K","Шкаф с двойной глухой дверью 2200x1000x500 мм. (ВхШ) ",46007.1,"замовлення","6-8","Automation DB",1,"шт.",null,"G7"]
["ES2216BK","ES2216BK","Шкаф с двойной глухой дверью 2200x1000x600 мм.",47490.46,"замовлення","6-8","Automation DB",1,"шт.",null,"G7"]
["ES2216K","ES2216K","Шкаф с двойной глухой дверью 2200x1000x600 мм. (ВхШ) ",47490.46,"замовлення","6-8","Automation DB",1,"шт.",null,"G7"]
["ES2218BK","ES2218BK","Шкаф с двойной глухой дверью 2200x1000x800 мм.",48702.86,"замовлення","6-8","Automation DB",1,"шт.",null,"G7"]
["ES2218K","ES2218K","Шкаф с двойной глухой дверью 2200x1000x800 мм. (ВхШ) ",48702.86,"замовлення","6-8","Automation DB",1,"шт.",null,"G7"]
["ES2224BK","ES2224BK","Шкаф с глухими перекрывающимися дверями 2200x1200x400мм.    ",49968.9,"замовлення","6-8","Automation DB",1,"шт.",null,"G7"]
["ES2224FV4K","ES2224FV4K","Шкаф с глухими дверями и кабельным отсеком шириной 400 мм. (ВхШхГ)2200x1200x400 (ВхШхГ)",54121.04,"замовлення","6-8","Automation DB",1,"шт.",null,"G7"]
["ES2224K","ES2224K","Шкаф с двойной глухой дверью 2200x1200x400 мм.",49968.9,"замовлення","6-8","Automation DB",1,"шт.",null,"G7"]
["ES2224MF4K","ES2224MF4K","Шкаф для установки ячеек 2200x1200x400 мм. с кабельным отсеком шириной 400 мм.",52738.75,"замовлення","6-8","Automation DB",1,"шт.",null,"G7"]
["ES2224VC4K","ES2224VC4K","Шкаф с прозрачной дверью и кабельным отсеком шириной 400 мм. 2200x1200x400 (ВхШхГ)",72797.919999999998,"замовлення","6-8","Automation DB",1,"шт.",null,"G7"]
["ES2224VK","ES2224VK","Шкаф с прозрачной дверью 2200x1200x400 мм. (ВхШхГ)",68159.7,"замовлення","6-8","Automation DB",1,"шт.",null,"G7"]
["ES2225BK","ES2225BK","Шкаф с глухими перекрывающимися дверями 2200x1200x500мм.    ",51417.53,"замовлення","6-8","Automation DB",1,"шт.",null,"G7"]
["ES2225FV4K","ES2225FV4K","Шкаф с глухими дверями и кабельным отсеком шириной 400 мм. (ВхШхГ)2200x1200x500 (ВхШхГ)",55026.86,"замовлення","6-8","Automation DB",1,"шт.",null,"G7"]
["ES2225K","ES2225K","Шкаф с двойной глухой дверью 2200x1200x500 мм.",51417.53,"замовлення","6-8","Automation DB",1,"шт.",null,"G7"]
["ES2225MF4K","ES2225MF4K","Шкаф для установки ячеек 2200x1200x500 мм. с кабельным отсеком шириной 400 мм.",53754,"замовлення","6-8","Automation DB",1,"шт.",null,"G7"]
["ES2225VC4K","ES2225VC4K","Шкаф с прозрачной дверью и кабельным отсеком шириной 400 мм. 2200x1200x500 (ВхШхГ)",73636.479999999996,"замовлення","6-8","Automation DB",1,"шт.",null,"G7"]
["ES2225VK","ES2225VK","Шкаф с прозрачной дверью 2200x1200x500 мм. (ВхШхГ)",68791.48,"замовлення","6-8","Automation DB",1,"шт.",null,"G7"]
["ES2226BK","ES2226BK","Шкаф с глухими перекрывающимися дверями 2200x1200x600мм.    ",52868.95,"замовлення","6-8","Automation DB",1,"шт.",null,"G7"]
["ES2226FV4K","ES2226FV4K","Шкаф с глухими дверями и кабельным отсеком шириной 400 мм. (ВхШхГ)2200x1200x600 (ВхШхГ)",55936.72,"замовлення","6-8","Automation DB",1,"шт.",null,"G7"]
["ES2226K","ES2226K","Шкаф с двойной глухой дверью 2200x1200x600 мм.",52868.95,"замовлення","6-8","Automation DB",1,"шт.",null,"G7"]
["ES2226MF4K","ES2226MF4K","Шкаф для установки ячеек 2200x1200x600 мм. с кабельным отсеком шириной 400 мм.",54766.46,"замовлення","6-8","Automation DB",1,"шт.",null,"G7"]
["ES2226VC4K","ES2226VC4K","Шкаф с прозрачной дверью и кабельным отсеком шириной 400 мм. 2200x1200x600 (ВхШхГ)",74475.02,"замовлення","6-8","Automation DB",1,"шт.",null,"G7"]
["ES2226VK","ES2226VK","Шкаф с прозрачной дверью 2200x1200x600 мм. (ВхШхГ)",69423.259999999995,"замовлення","6-8","Automation DB",1,"шт.",null,"G7"]
["ES2228BK","ES2228BK","Шкаф с глухими перекрывающимися дверями 2200x1200x800мм.    ",52451.69,"замовлення","6-8","Automation DB",1,"шт.",null,"G7"]
["ES2228FV4K","ES2228FV4K","Шкаф с глухими дверями и кабельным отсеком шириной 400 мм. (ВхШхГ)2200x1200x800 (ВхШхГ)",56806.26,"замовлення","6-8","Automation DB",1,"шт.",null,"G7"]
["ES2228K","ES2228K","Шкаф с двойной глухой дверью 2200x1200x800 мм.",52451.69,"замовлення","6-8","Automation DB",1,"шт.",null,"G7"]
["ES2228MF4K","ES2228MF4K","Шкаф для установки ячеек 2200x1200x800 мм. с кабельным отсеком шириной 400 мм.",55650.89,"замовлення","6-8","Automation DB",1,"шт.",null,"G7"]
["ES2228VC4K","ES2228VC4K","Шкаф с прозрачной дверью и кабельным отсеком шириной 400 мм. 2200x1200x800 (ВхШхГ)",77144.740000000005,"замовлення","6-8","Automation DB",1,"шт.",null,"G7"]
["ES2228VK","ES2228VK","Шкаф с прозрачной дверью 2200x1200x800 мм. (ВхШхГ)",70918.39,"замовлення","6-8","Automation DB",1,"шт.",null,"G7"]
["ES2240K","ES2240K","Шкаф с глухой дверью 2200x400x1000 мм.",36110.35,"замовлення","6-8","Automation DB",1,"шт.",null,"G7"]
["ES2244K","ES2244K","Шкаф с глухой дверью 2200x400x400 мм. ",27934.42,"замовлення","6-8","Automation DB",1,"шт.",null,"G7"]
["ES2245K","ES2245K","Шкаф с глухой дверью 2200x400x500 мм. ",28896.959999999999,"замовлення","6-8","Automation DB",1,"шт.",null,"G7"]
["ES2246K","ES2246K","Шкаф с глухой дверью 2200x400x600 мм. ",29859.52,"замовлення","6-8","Automation DB",1,"шт.",null,"G7"]
["ES2248K","ES2248K","Шкаф с глухой дверью 2200x400x800 мм. ",31065.41,"замовлення","6-8","Automation DB",1,"шт.",null,"G7"]
["ES2260K","ES2260K","Шкаф с глухой дверью 2200x600x1000 мм.",43138.36,"замовлення","6-8","Automation DB",1,"шт.",null,"G7"]
["ES2260MFK","ES2260MFK","Шкаф для установки ячеек 2200x1000x1000 мм. (ВхШхГ)",38599.96,"замовлення","6-8","Automation DB",1,"шт.",null,"G7"]
["ES2260VK","ES2260VK","Шкаф с прозрачной дверью 2200x600x800 мм. (ВхШхГ) ",52338.85,"замовлення","6-8","Automation DB",1,"шт.",null,"G7"]
["ES2264K","ES2264K","Шкаф с глухой дверью 2200x600x400 мм. ",32762.98,"замовлення","6-8","Automation DB",1,"шт.",null,"G7"]
["ES2264MFK","ES2264MFK","Шкаф для установки ячеек 2200x600x400 мм. (ВхШхГ)  ",29448.46,"замовлення","6-8","Automation DB",1,"шт.",null,"G7"]
["ES2264VK","ES2264VK","Шкаф с прозрачной дверью 2200x600x400 мм. (ВхШхГ) ",41961.91,"замовлення","6-8","Automation DB",1,"шт.",null,"G7"]
["ES2265K","ES2265K","Шкаф с глухой дверью 2200x600x500 мм. ",33558.43,"замовлення","6-8","Automation DB",1,"шт.",null,"G7"]
["ES2265MFK","ES2265MFK","Шкаф для установки ячеек 2200x600x500 мм. (ВхШхГ)  ",30958.46,"замовлення","6-8","Automation DB",1,"шт.",null,"G7"]
["ES2265VK","ES2265VK","Шкаф с прозрачной дверью 2200x600x500 мм. (ВхШхГ) ",42434.98,"замовлення","6-8","Automation DB",1,"шт.",null,"G7"]
["ES2266K","ES2266K","Шкаф с глухой дверью 2200x600x600 мм. ",34352.339999999997,"замовлення","6-8","Automation DB",1,"шт.",null,"G7"]
["ES2266MFK","ES2266MFK","Шкаф для установки ячеек 2200x600x600 мм. (ВхШхГ)  ",32465.68,"замовлення","6-8","Automation DB",1,"шт.",null,"G7"]
["ES2266VK","ES2266VK","Шкаф с прозрачной дверью 2200x600x600 мм. (ВхШхГ) ",42908.03,"замовлення","6-8","Automation DB",1,"шт.",null,"G7"]
["ES2268K","ES2268K","Шкаф с глухой дверью 2200x600x800 мм. ",37111.660000000003,"замовлення","6-8","Automation DB",1,"шт.",null,"G7"]
["ES2268MFK","ES2268MFK","Шкаф для установки ячеек 2200x800x800 мм. (ВхШхГ)  ",35400.14,"замовлення","6-8","Automation DB",1,"шт.",null,"G7"]
["ES2268VK","ES2268VK","Шкаф с прозрачной дверью 2200x600x800 мм. (ВхШхГ) ",46241.46,"замовлення","6-8","Automation DB",1,"шт.",null,"G7"]
["ES2275BK","ES2275BK","Глухая дверь для шкафа2200x1600x500 с перекр.    ",66007.06,"замовлення","6-8","Automation DB",1,"шт.",null,"G7"]
["ES2275K","ES2275K","Глухая дверь для шкафа 2200x1600x500 мм.     ",66007.06,"замовлення","6-8","Automation DB",1,"шт.",null,"G7"]
["ES2276BK","ES2276BK","Глухая дверь для шкафа2200x1600x600 с перекр.    ",68542.55,"замовлення","6-8","Automation DB",1,"шт.",null,"G7"]
["ES2276K","ES2276K","Глухая дверь для шкафа 2200x1600x600 мм.     ",68542.55,"замовлення","6-8","Automation DB",1,"шт.",null,"G7"]
["ES2279BK","ES2279BK","Глухая дверь для шкафа2200x1600x800 с перекр.    ",68000.36,"замовлення","6-8","Automation DB",1,"шт.",null,"G7"]
["ES2279K","ES2279K","Глухая дверь для шкафа 2200x1600x800 мм.     ",68000.36,"замовлення","6-8","Automation DB",1,"шт.",null,"G7"]
["ES2280K","ES2280K","Шкаф с глухой дверью 2200x800x1000 мм.",47836.72,"замовлення","6-8","Automation DB",1,"шт.",null,"G7"]
["ES2280MFK","ES2280MFK","Шкаф для установки ячеек 2200x1000x1000 мм. (ВхШхГ)",42198.13,"замовлення","6-8","Automation DB",1,"шт.",null,"G7"]
["ES2280VK","ES2280VK","Шкаф с прозрачной дверью 2200x800x800 мм. (ВхШхГ) ",58351.61,"замовлення","6-8","Automation DB",1,"шт.",null,"G7"]
["ES2284FV2K","ES2284FV2K","Шкаф с глухими дверями и кабельным отсеком шириной 200 мм. (ВхШхГ)2200x800x400 (ВхШхГ) ",40550.17,"замовлення","6-8","Automation DB",1,"шт.",null,"G7"]
["ES2284K","ES2284K","Шкаф с глухой дверью 2200x800x400 мм. ",33840.22,"замовлення","6-8","Automation DB",1,"шт.",null,"G7"]
["ES2284MF2K","ES2284MF2K","Шкаф для установки ячеек 2200x800x400 мм. с кабельным отсеком шириной 200",38204.400000000001,"замовлення","6-8","Automation DB",1,"шт.",null,"G7"]
["ES2284MFK","ES2284MFK","Шкаф для установки ячеек 2200x800x400 мм. (ВхШхГ)  ",30526.63,"замовлення","6-8","Automation DB",1,"шт.",null,"G7"]
["ES2284VC2K","ES2284VC2K","Шкаф с прозрачной дверью и кабельным отсеком шириной 200 мм. 2200x800x400 (ВхШхГ)",48989.919999999998,"замовлення","6-8","Automation DB",1,"шт.",null,"G7"]
["ES2284VK","ES2284VK","Шкаф с прозрачной дверью 2200x800x400 мм. (ВхШхГ) ",43871.51,"замовлення","6-8","Automation DB",1,"шт.",null,"G7"]
["ES2285FV2K","ES2285FV2K","Шкаф с глухими дверями и кабельным отсеком шириной 200 мм. (ВхШхГ)2200x800x500 (ВхШхГ) ",41090.5,"замовлення","6-8","Automation DB",1,"шт.",null,"G7"]
["ES2285K","ES2285K","Шкаф с глухой дверью 2200x800x500 мм. ",34764.019999999997,"замовлення","6-8","Automation DB",1,"шт.",null,"G7"]
["ES2285MF2K","ES2285MF2K","Шкаф для установки ячеек 2200x800x500 мм. с кабельным отсеком шириной 200",38949.019999999997,"замовлення","6-8","Automation DB",1,"шт.",null,"G7"]
["ES2285MFK","ES2285MFK","Шкаф для установки ячеек 2200x800x500 мм. (ВхШхГ)  ",31239.32,"замовлення","6-8","Automation DB",1,"шт.",null,"G7"]
["ES2285VC2K","ES2285VC2K","Шкаф с прозрачной дверью и кабельным отсеком шириной 200 мм. 2200x800x500 (ВхШхГ)",50151.49,"замовлення","6-8","Automation DB",1,"шт.",null,"G7"]
["ES2285VK","ES2285VK","Шкаф с прозрачной дверью 2200x800x500 мм. (ВхШхГ) ",44894.51,"замовлення","6-8","Automation DB",1,"шт.",null,"G7"]
["ES2286FV2K","ES2286FV2K","Шкаф с глухими дверями и кабельным отсеком шириной 200 мм. (ВхШхГ)2200x800x600 (ВхШхГ) ",41630.21,"замовлення","6-8","Automation DB",1,"шт.",null,"G7"]
["ES2286MF2K","ES2286MF2K","Шкаф для установки ячеек 2200x800x600 мм. с кабельным отсеком шириной 200",39697.06,"замовлення","6-8","Automation DB",1,"шт.",null,"G7"]
["ES2286MFK","ES2286MFK","Шкаф для установки ячеек 2200x800x600 мм. (ВхШхГ)  ",31952.02,"замовлення","6-8","Automation DB",1,"шт.",null,"G7"]
["ES2286VC2K","ES2286VC2K","Шкаф с прозрачной дверью и кабельным отсеком шириной 200 мм. 2200x800x600 (ВхШхГ) ",51314.3,"замовлення","6-8","Automation DB",1,"шт.",null,"G7"]
["ES2286VK","ES2286VK","Шкаф с прозрачной дверью 2200x800x600 мм. (ВхШхГ) ",45918.44,"замовлення","6-8","Automation DB",1,"шт.",null,"G7"]
["ES2287K","ES2287K","Шкаф с глухой дверью 2200x800x600 мм. ",35685.339999999997,"замовлення","6-8","Automation DB",1,"шт.",null,"G7"]
["ES2288FV2K","ES2288FV2K","Шкаф с глухими дверями и кабельным отсеком шириной 200 мм. (ВхШхГ)2200x800x800 (ВхШхГ) ",46040.89,"замовлення","6-8","Automation DB",1,"шт.",null,"G7"]
["ES2288K","ES2288K","Шкаф с глухой дверью 2200x800x800 мм. ",39398.83,"замовлення","6-8","Automation DB",1,"шт.",null,"G7"]
["ES2288MF2K","ES2288MF2K","Шкаф для установки ячеек 2200x800x800 мм. с кабельным отсеком шириной 200",44463.61,"замовлення","6-8","Automation DB",1,"шт.",null,"G7"]
["ES2288MFK","ES2288MFK","Шкаф для установки ячеек 2200x800x800 мм. (ВхШхГ)  ",36718.57,"замовлення","6-8","Automation DB",1,"шт.",null,"G7"]
["ES2288VC2K","ES2288VC2K","Шкаф с прозрачной дверью и кабельным отсеком шириной 200 мм. 2200x800x800 (ВхШхГ)",58077.58,"замовлення","6-8","Automation DB",1,"шт.",null,"G7"]
["ES2288VK","ES2288VK","Шкаф с прозрачной дверью 2200x800x800 мм. (ВхШхГ) ",49777.63,"замовлення","6-8","Automation DB",1,"шт.",null,"G7"]
["ET1810K","ET1810K","Прозрачная дверь 1800x1000 мм. (hxw)        ",13967.98,"замовлення","6-8","Automation DB",1,"шт.",null,"G7"]
["ET1860K","ET1860K","Прозрачная дверь 1800x600 мм. (hxw)         ",10030.36,"замовлення","6-8","Automation DB",1,"шт.",null,"G7"]
["ET1880K","ET1880K","Прозрачная дверь 1800x800 мм. (hxw)         ",12001.34,"замовлення","6-8","Automation DB",1,"шт.",null,"G7"]
["ET2010K","ET2010K","Прозрачная дверь 2000x1000 мм. (hxw)        ",17352.25,"замовлення","6-8","Automation DB",1,"шт.",null,"G7"]
["ET2060K","ET2060K","Прозрачная дверь 2000x600 мм. (hxw)         ",13292.5,"замовлення","6-8","Automation DB",1,"шт.",null,"G7"]
["ET2060SPEC","ET2060SPEC","Прозрачная дверь 2000x600mm(hxw)         ",12968.23,"замовлення","6-8","Automation DB",1,"шт.",null,"G7"]
["ET2080K","ET2080K","Прозрачная дверь 2000x800 мм. (hxw)         ",15446.99,"замовлення","6-8","Automation DB",1,"шт.",null,"G7"]
["ET2080SPEC","ET2080SPEC","Прозрачная дверь 2000x800mm(hxw)         ",16991.099999999999,"замовлення","6-8","Automation DB",1,"шт.",null,"G7"]
["ET2211K","ET2211K","Прозрачная дверь 2200x1000 мм. (hxw)        ",20074.060000000001,"замовлення","6-8","Automation DB",1,"шт.",null,"G7"]
["ET2260K","ET2260K","Прозрачная дверь 2200x600 мм. (hxw)         ",15534.1,"замовлення","6-8","Automation DB",1,"шт.",null,"G7"]
["ET2280K","ET2280K","Прозрачная дверь 2200x800 мм. (hxw)         ",17684.88,"частково","1","Automation DB",1,"шт.",null,"G7"]
["ET2280SPEC","ET2280SPEC","Прозрачная дверь 2200x800mm(hxw)         ",17254.91,"замовлення","6-8","Automation DB",1,"шт.",null,"G7"]
["EV0001","EV0001","N°5 sliding back plate kits with front insertion",2371.81,"замовлення","6-8","Automation DB",1,"шт.",null,"G7"]
["EV0002","EV0002","Набор соединения шкафов",1483.04,"частково","1","Automation DB",1,"шт.",null,"G7"]
["EV0003","EV0003","Набор соединения шкафов",1260.77,"частково","1","Automation DB",1,"шт.",null,"G7"]
["EV0005","EV0005","Фиксатор двери",828.32,"частково","1","Automation DB",1,"шт.",null,"G7"]
["EV0006","EV0006","Набор соединения шкафов",1483.04,"замовлення","6-8","Automation DB",1,"шт.",null,"G7"]
["EV0006EMC","EV0006EMC","Набор соединения шкафов EMC                       ",7574.23,"замовлення","6-8","Automation DB",1,"шт.",null,"G7"]
["EV0008","EV0008","Штифты, 8 шт.",87.11,"замовлення","6-8","Automation DB",1,"шт.",null,"G7"]
["EV0101","EV0102","N.10 PLASTIC COVER IS2 HANDLE",1430.65,"замовлення","6-8","Automation DB",1,"шт.",null,"G7"]
["EV0118","EV0118","Вертикальные стойки 4 шт с петлями 180 град., h=1800",6629.04,"замовлення","6-8","Automation DB",1,"шт.",null,"G7"]
["EV0120","EV0120","Вертикальные стойки 4 шт с петлями 180 град., h=2000",6935.63,"замовлення","6-8","Automation DB",1,"шт.",null,"G7"]
["EV0122","EV0122","Вертикальные стойки 4 шт с петлями 180 град., h=2200",7400.32,"замовлення","6-8","Automation DB",1,"шт.",null,"G7"]
["EV1004","EV1004","Ножки М12, 4 шт.     ",3245.39,"замовлення","6-8","Automation DB",1,"шт.",null,"G7"]
["EV1005","EV1005","Ножки ролики диаметром 80 мм. без стопоров, 4 шт.",6080.96,"замовлення","6-8","Automation DB",1,"шт.",null,"G7"]
["EV1006","EV1006","Ножки ролики диаметром 80 мм. с стопором, 4 шт.",8722.16,"замовлення","6-8","Automation DB",1,"шт.",null,"G7"]
["EV1007","EV1007","Уголки для подъёма шкафа, 2 шт.",2088.16,"замовлення","6-8","Automation DB",1,"шт.",null,"G7"]
["EV1008","EV1008","Рукоятка",84.32,"замовлення","6-8","Automation DB",1,"шт.",null,"G7"]
["EV1030","EV1030","Ручка з замком в комплекті",1536.67,"замовлення","6-8","Automation DB",1,"шт.",null,"G7"]
["EV1036","EV1036","Цилиндр типа Yale",257.62,"замовлення","6-8","Automation DB",1,"шт.",null,"G7"]
["EV1037","EV1037","Цилиндр типа Ronis 455",196.54,"замовлення","6-8","Automation DB",1,"шт.",null,"G7"]
["EV1039","EV1039","Вставка под ключ",80.92,"частково","1","Automation DB",1,"шт.",null,"G7"]
["EV1040","EV1040","Светильник 8W 220 240V L=342   ",2862.85,"Частково","1","Automation DB",1,"шт.",null,"G7"]
["EV1041","EV1041","Светильник 13W-220-240V W=574 мм.    ",3079.24,"замовлення","6-8","Automation DB",1,"шт.",null,"G7"]
["EV1042","EV1042","Концевой выключатель",1088.4100000000001,"замовлення","6-8","Automation DB",1,"шт.",null,"G7"]
["EV1043","EV1043","Светильник с розеткой 11W-230V w=355 на магните",5780.88,"замовлення","6-8","Automation DB",1,"шт.",null,"G7"]
["EV1044","EV1044","Разъем, 5 шт.",1372.06,"замовлення","6-8","Automation DB",1,"шт.",null,"G7"]
["EV1045","EV1045","Двухжильный кабель длиной 10м.",724.78,"замовлення","6-8","Automation DB",1,"шт.",null,"G7"]
["EV1047","EV1047","Концевой выключатель+коннектор+кабель    ",1742.51,"замовлення","6-8","Automation DB",1,"шт.",null,"G7"]
["EV1048","EV1048","Светильник E27                        ",1452.97,"замовлення","6-8","Automation DB",1,"шт.",null,"G7"]
["EV1050","EV1050","Алюминиевый профиль длинной 2000 мм.  30x15х1.8, 10 шт.   ",5189.71,"замовлення","6-8","Automation DB",1,"шт.",null,"G7"]
["EV1051","EV1051","Кронштейн для EV1050, 25 шт.               ",522.97,"частково","1","Automation DB",1,"шт.",null,"G7"]
["EV1056","EV1056","Гайка M6 для EV1050, 100 шт.               ",5317.43,"частково","1","Automation DB",1,"шт.",null,"G7"]
["EV1057","EV1057","Комплект IS2 survival kit",2419.86,"замовлення","6-8","Automation DB",1,"шт.",null,"G7"]
["EV1058","EV1058","Гайка M8 для EV1050, 100 шт.               ",5578.45,"замовлення","6-8","Automation DB",1,"шт.",null,"G7"]
["EV1060K","EV1060K","Полка 280x250 (ШхГ) для дверей w=600 мм.     ",2667.24,"замовлення","6-8","Automation DB",1,"шт.",null,"G7"]
["EV1061K","EV1061K","Полка 480x2500 (ШхГ) для дверей w=800 мм.     ",2964.53,"замовлення","6-8","Automation DB",1,"шт.",null,"G7"]
["EV1071K","EV1071K","Металлический карман для документов w=600 мм.   ",1545.97,"замовлення","6-8","Automation DB",1,"шт.",null,"G7"]
["EV1072K","EV1072K","Металлический карман для документов w=800 мм.   ",1984.62,"замовлення","6-8","Automation DB",1,"шт.",null,"G7"]
["EV1073K","EV1073K","Металлический карман для документов w=1000 мм.  ",2193.25,"замовлення","6-8","Automation DB",1,"шт.",null,"G7"]
["EV1075K","EV1075K","Карман для документов A4          ",564.52,"замовлення","6-8","Automation DB",1,"шт.",null,"G7"]
["EV1090","EV1090","Кабельный зажим диаметром от 9-16 мм., 10 шт.",636.74,"частково","1","Automation DB",1,"шт.",null,"G7"]
["EV1091","EV1091","Кабельный зажим диаметром от 16-30 мм., 10 шт.",705.88,"частково","1","Automation DB",1,"шт.",null,"G7"]
["EV1092","EV1092","Кабельный зажим диаметром от 30-48 мм., 5 шт.",410.14,"замовлення","6-8","Automation DB",1,"шт.",null,"G7"]
["EV1093","EV1093","Кабельный зажим диаметром от 48-72 мм., 5 шт.",491.35,"замовлення","6-8","Automation DB",1,"шт.",null,"G7"]
["EV1100","EV1100","Винты 4.2x13 мм., 1000 шт. ",3675.67,"замовлення","6-8","Automation DB",1,"шт.",null,"G7"]
["EV1101","EV1101","Винты 4.2x19 мм., 100 шт.",4353.95,"замовлення","6-8","Automation DB",1,"шт.",null,"G7"]
["EV1110","EV1110","Угловые держатели 50 шт. ",1204.6600000000001,"частково","1","Automation DB",1,"шт.",null,"G7"]
["EV1111","EV1111","Угловые держатели 10 шт. ",2954.3,"замовлення","6-8","Automation DB",1,"шт.",null,"G7"]
["EV1112","EV1112","Угловые держатели 50 шт. ",3090.4,"замовлення","6-8","Automation DB",1,"шт.",null,"G7"]
["EV1115","EV1115","Шина медная 6x6 мм. w=2000 мм.         ",1196.92,"замовлення","6-8","Automation DB",1,"шт.",null,"G7"]
["EV1116","EV1116","Клема для EV1115, 50 шт. ",2684.6,"замовлення","6-8","Automation DB",1,"шт.",null,"G7"]
["EV1117","EV1117","Клема 0.5-16 мм.кв. для EV1115, 100 шт. ",2667.24,"замовлення","6-8","Automation DB",1,"шт.",null,"G7"]
["EV1118","EV1118","Клема 4-35 мм.кв. для EV1115, 100 шт. ",4089.22,"замовлення","6-8","Automation DB",1,"шт.",null,"G7"]
["EV1119","EV1119","Шина с резьбовыми отверстиями М6 20x5 мм. w=2000мм, 2 шт. ",4525.38,"частково","1","Automation DB",1,"шт.",null,"G7"]
["EV1120","EV1120","Шина с резьбовыми отверстиями М6 25x5 мм. w=2000мм, 2 шт. ",5588.06,"замовлення","6-8","Automation DB",1,"шт.",null,"G7"]
["EV1121","EV1121","Шина с резьбовыми отверстиями М6 50x5 мм. w=2000мм, 2 шт. ",7484.02,"замовлення","6-8","Automation DB",1,"шт.",null,"G7"]
["EV1122","EV1122","Изолятор бочонок 50 шт. M6x30           ",6012.76,"замовлення","6-8","Automation DB",1,"шт.",null,"G7"]
["EV1123","EV1123","Изолятор бочонок 50 шт. M8x30           ",6012.76,"замовлення","6-8","Automation DB",1,"шт.",null,"G7"]
["EV1124","EV1124","Изолятор бочонок 25 шт. M6x50           ",3242.92,"замовлення","6-8","Automation DB",1,"шт.",null,"G7"]
["EV1125","EV1125","Изолятор бочонок 25 шт. M8x50           ",3242.92,"замовлення","6-8","Automation DB",1,"шт.",null,"G7"]
["EV1130","EV1130","Держатель короба 100 шт.",6225.73,"замовлення","6-8","Automation DB",1,"шт.",null,"G7"]
["EV1131","EV1131","Держатель короба под кнопку 100 шт.",3747.9,"замовлення","6-8","Automation DB",1,"шт.",null,"G7"]
["EV1136","EV1136","Заглушка 5 шт. 96x96 мм.    ",913.57,"замовлення","6-8","Automation DB",1,"шт.",null,"G7"]
["EV1137","EV1137","Заглушка под кнопку 50 шт.",3793.78,"замовлення","6-8","Automation DB",1,"шт.",null,"G7"]
["EV1140","EV1140","Кінцевий вимикач дверей",1817.53,"замовлення","6-8","Automation DB",1,"шт.",null,"G7"]
["EV1143","EV1143","Блок доп. контактов + 1NC                ",801.35,"замовлення","6-8","Automation DB",1,"шт.",null,"G7"]
["EV1144","EV1144","Доп. контакт 1NC                            ",380.99,"замовлення","6-8","Automation DB",1,"шт.",null,"G7"]
["EV1145","EV1145","Доп. контакт 1NО                       ",380.99,"замовлення","6-8","Automation DB",1,"шт.",null,"G7"]
["EV1146","EV1146","Винт W=46 мм. x2 contacts                 ",120.59,"замовлення","6-8","Automation DB",1,"шт.",null,"G7"]
["EV1148","EV1148","Индикатор напряжения с  доп. конт. 1NC         ",7735.43,"замовлення","6-8","Automation DB",1,"шт.",null,"G7"]
["EV1150","EV1150","Наклейка диаметром 12 мм. с символом N                  ",562.66,"замовлення","6-8","Automation DB",1,"шт.",null,"G7"]
["EV1151","EV1151","Наклейка диаметром 12 мм. с символом L1                 ",562.66,"замовлення","6-8","Automation DB",1,"шт.",null,"G7"]
["EV1152","EV1152","Наклейка диаметром 12 мм. с символом L2                 ",562.66,"замовлення","6-8","Automation DB",1,"шт.",null,"G7"]
["EV1153","EV1153","Наклейка диаметром 12 мм. с символом L3                 ",562.66,"замовлення","6-8","Automation DB",1,"шт.",null,"G7"]
["EV1154","EV1154","Наклейка диаметром 12 мм. с символом PE                ",562.66,"замовлення","6-8","Automation DB",1,"шт.",null,"G7"]
["EV1155","EV1155","Наклейка треугольник с молнией 125 мм, 10 шт.",562.66,"частково","1","Automation DB",1,"шт.",null,"G7"]
["EV1156","EV1156","Наклейка треугольник с молнией 20 мм, 300 шт.",562.66,"замовлення","6-8","Automation DB",1,"шт.",null,"G7"]
["EV1157","EV1157","Наклейка ABB-IS2 logo w=1000 мм.    ",3272.36,"замовлення","6-8","Automation DB",1,"шт.",null,"G7"]
["EV1160","EV1160","Устройство блокировки дверей",828.32,"замовлення","6-8","Automation DB",1,"шт.",null,"G7"]
["EV2110","EV2110","Угловые держатели 10 шт. ",377.58,"частково","1","Automation DB",1,"шт.",null,"G7"]
["EV2112","EV2112","Угловые держатели 10 шт. ",742.76,"замовлення","6-8","Automation DB",1,"шт.",null,"G7"]
["EX1860","EX1860","Монтажная плата оцинованная под ДИН 1800x600 мм. (ВxШ)   ",4340,"замовлення","6-8","Automation DB",1,"шт.",null,"G7"]
["EX1880","EX1880","Монтажная плата оцинованная под ДИН 1800x800 мм. (ВxШ)   ",5561.09,"замовлення","6-8","Automation DB",1,"шт.",null,"G7"]
["EX2060","EX2060","Монтажная плата оцинованная под ДИН 2000x600 мм. (ВxШ)   ",4928.6899999999996,"замовлення","6-8","Automation DB",1,"шт.",null,"G7"]
["EX2080","EX2080","Монтажная плата оцинованная под ДИН 2000x800 мм. (ВxШ)   ",6508.45,"замовлення","6-8","Automation DB",1,"шт.",null,"G7"]
["EX2260","EX2260","Монтажная плата оцинованная под ДИН 2200x600 мм. (ВxШ)   ",5561.09,"замовлення","6-8","Automation DB",1,"шт.",null,"G7"]
["EX2280","EX2280","Монтажная плата оцинованная под ДИН 2200x800 мм. (ВxШ)   ",7229.51,"замовлення","6-8","Automation DB",1,"шт.",null,"G7"]
["EZ1001","EZ1001","Усиленный цоколь 2 шт. w=1000 мм.       ",11263.85,"замовлення","6-8","Automation DB",1,"шт.",null,"G7"]
["EZ1201","EZ1201","Усиленный цоколь 2 шт. w=1200 мм.       ",13516.62,"замовлення","6-8","Automation DB",1,"шт.",null,"G7"]
["EZ1601","EZ1601","Усиленный цоколь 2 шт. w=1600 мм.       ",16242.46,"замовлення","6-8","Automation DB",1,"шт.",null,"G7"]
["EZ4001","EZ4001","Усиленный цоколь 2 шт. w=400 мм.        ",5692.22,"замовлення","6-8","Automation DB",1,"шт.",null,"G7"]
["EZ6001","EZ6001","Усиленный цоколь 2 шт. w=600 мм.        ",6877.04,"замовлення","6-8","Automation DB",1,"шт.",null,"G7"]
["EZ8001","EZ8001","Усиленный цоколь 2 шт. w=800 мм.        ",9009.2199999999993,"замовлення","6-8","Automation DB",1,"шт.",null,"G7"]
["FOR01","FOR01","OVERPRICE DRILLING PLATE/DOOR/PAN.AM2-C3",1521.79,"замовлення","6-8","Automation DB",1,"шт.",null,"G7"]
["FOR02","FOR02","OVERPRICE FOR DRILLING ROOF AM2-C3",1142.04,"замовлення","6-8","Automation DB",1,"шт.",null,"G7"]
["MD1000","MD1000","Вертикальні стійки АМ2 для обладнання 2шт. H=1000мм.        ",4230.58,"замовлення","6-8","Automation DB",1,"шт.",null,"G7"]
["MD1200","MD1200","Вертикальні стійки АМ2 для обладнання 2шт. H=1200мм.        ",4348.68,"замовлення","6-8","Automation DB",1,"шт.",null,"G7"]
["TA1207","TA1207","Скоби кріплення до стіни 2шт.",326.74,"замовлення","6-8","Automation DB",1,"шт.",null,"G7"]
["TA5510","TA5510","Фіксатор дверей АМ2",936.82,"замовлення","6-8","Automation DB",1,"шт.",null,"G7"]
["TA7100","TA7100","Кінцевий вимач для дверей",2054.6799999999998,"замовлення","6-8","Automation DB",1,"шт.",null,"G7"]
["TA9600","TA9600","Рим болти 2 шт. АМ2",609.16,"замовлення","6-8","Automation DB",1,"шт.",null,"G7"]
["TA9601","TA9601","Рим болти 4 шт. АМ2, С2",867.7,"замовлення","6-8","Automation DB",1,"шт.",null,"G7"]
["TC1006K","TC1006K","Двері глухі АМ2  1000X600мм.             ",5033.78,"замовлення","6-8","Automation DB",1,"шт.",null,"G7"]
["TC1006KMT","TC1006KMT","REAR PAN.REPL./BLIND DOOR1000X600 7035",2628.49,"замовлення","6-8","Automation DB",1,"шт.",null,"G7"]
["TC1008DK","TC1008DK","Двері глухі АМ2 з ручкою 1000X400мм.",3890.2,"замовлення","6-8","Automation DB",1,"шт.",null,"G7"]
["TC1008DKMT","TC1008DKMT","REAR PAN.REPL./DBL.DOOR1000X400+400 7035",5082.1400000000003,"замовлення","6-8","Automation DB",1,"шт.",null,"G7"]
["TC1008K","TC1008K","Двері глухі АМ2  1000X800мм.             ",5549,"замовлення","6-8","Automation DB",1,"шт.",null,"G7"]
["TC1008KMT","TC1008KMT","REAR PAN.REPL./BLIND DOOR1000X800 7035",2754.35,"замовлення","6-8","Automation DB",1,"шт.",null,"G7"]
["TC1008SK","TC1008SK","Двері глухі АМ2  1000X1000мм.            ",3890.2,"замовлення","6-8","Automation DB",1,"шт.",null,"G7"]
["TC1010DK","TC1010DK","Двері глухі АМ2 з ручкою 1000X500мм.",4291.0200000000004,"замовлення","6-8","Automation DB",1,"шт.",null,"G7"]
["TC1010DKMT","TC1010DKMT","REAR PAN.REPL./DBL.DOOR1000X500+500 7035",5590.54,"замовлення","6-8","Automation DB",1,"шт.",null,"G7"]
["TC1010K","TC1010K","Двері глухі АМ2  1000X1000мм.            ",5949.83,"замовлення","6-8","Automation DB",1,"шт.",null,"G7"]
["TC1010KMT","TC1010KMT","REAR PAN.REPL./BLIND DOOR 1000X1000 7035",2859.44,"замовлення","6-8","Automation DB",1,"шт.",null,"G7"]
["TC1010SK","TC1010SK","Двері глухі АМ2 для двостулкової шафи 1000X500мм.",4291.0200000000004,"замовлення","6-8","Automation DB",1,"шт.",null,"G7"]
["TC1012DK","TC1012DK","Двері глухі АМ2 з ручкою 1000X600мм.",4918.1499999999996,"замовлення","6-8","Automation DB",1,"шт.",null,"G7"]
["TC1012DKMT","TC1012DKMT","REAR PAN.REPL./DBL.DOOR1000X600+600 7035",5156.2299999999996,"замовлення","6-8","Automation DB",1,"шт.",null,"G7"]
["TC1012SK","TC1012SK","Двері глухі АМ2 для двостулкової шафи 1000X600мм.",4918.1499999999996,"замовлення","6-8","Automation DB",1,"шт.",null,"G7"]
["TC1016DK","TC1016DK","Двері глухі АМ2 з ручкою 1000X800мм.",5435.23,"замовлення","6-8","Automation DB",1,"шт.",null,"G7"]
["TC1016DKMT","TC1016DKMT","REAR PAN.REPL./DBL.DOOR1000X800+800 7035",5951.69,"замовлення","6-8","Automation DB",1,"шт.",null,"G7"]
["TC1016SK","TC1016SK","Двері глухі АМ2 для двостулкової шафи 1000X800мм.",5435.23,"замовлення","6-8","Automation DB",1,"шт.",null,"G7"]
["TC1206K","TC1206K","Двері глухі АМ2  1200X600мм.             ",5376.02,"замовлення","6-8","Automation DB",1,"шт.",null,"G7"]
["TC1206KMT","TC1206KMT","REAR PAN.REPL/BLIND DOOR1200X600 7035",2744.74,"замовлення","6-8","Automation DB",1,"шт.",null,"G7"]
["TC1208DK","TC1208DK","Двері глухі АМ2 з ручкою 1200X400мм.",4346.82,"замовлення","6-8","Automation DB",1,"шт.",null,"G7"]
["TC1208DKMT","TC1208DKMT","REAR PAN.REPL/DBL.DOOR1200X400+400 7035",5762.9,"замовлення","6-8","Automation DB",1,"шт.",null,"G7"]
["TC1208K","TC1208K","Двері глухі АМ2  1200X800мм.             ",5834.51,"замовлення","6-8","Automation DB",1,"шт.",null,"G7"]
["TC1208KMT","TC1208KMT","REAR PAN.REPL./BLIND DOOR1200X800 7035",2805.19,"замовлення","6-8","Automation DB",1,"шт.",null,"G7"]
["TC1208SK","TC1208SK","Двері глухі АМ2 +OVERLAP.DB.DOOR1200X400 7035 ",4346.82,"замовлення","6-8","Automation DB",1,"шт.",null,"G7"]
["TC1210DK","TC1210DK","Двері глухі АМ2 з ручкою 1200X500мм.",4577.1499999999996,"замовлення","6-8","Automation DB",1,"шт.",null,"G7"]
["TC1210DKMT","TC1210DKMT","REAR PAN.REPL./DBL.DOOR1200X500+500 7035",5999.74,"замовлення","6-8","Automation DB",1,"шт.",null,"G7"]
["TC1210K","TC1210K","Двері глухі АМ2  1200X1000мм.            ",6291.14,"замовлення","6-8","Automation DB",1,"шт.",null,"G7"]
["TC1210KMT","TC1210KMT","REAR PAN.REPL./BLIND DOOR1200X1000",3037.07,"замовлення","6-8","Automation DB",1,"шт.",null,"G7"]
["TC1210SK","TC1210SK","Двері глухі АМ2 для двостулкової шафи 1200X500мм.",4577.1499999999996,"замовлення","6-8","Automation DB",1,"шт.",null,"G7"]
["TC1212DK","TC1212DK","Двері глухі АМ2 з ручкою 1200X600мм.",5148.4799999999996,"замовлення","6-8","Automation DB",1,"шт.",null,"G7"]
["TC1212DKMT","TC1212DKMT","REAR PAN.REPL./DBL.DOOR1200X600+600 7035",5098.26,"замовлення","6-8","Automation DB",1,"шт.",null,"G7"]
["TC1212SK","TC1212SK","Двері глухі АМ2 для двостулкової шафи 1200X600мм.",5148.4799999999996,"замовлення","6-8","Automation DB",1,"шт.",null,"G7"]
["TE1010K","TE1010K","Задня панель АМ2 1000X1000мм.            ",3203.23,"замовлення","6-8","Automation DB",1,"шт.",null,"G7"]
["TE1012K","TE1012K","Задня панель АМ2 1000X1200мм.            ",4895.83,"замовлення","6-8","Automation DB",1,"шт.",null,"G7"]
["TE1016K","TE1016K","Задня панель АМ2 1000X1600мм.            ",5148.4799999999996,"замовлення","6-8","Automation DB",1,"шт.",null,"G7"]
["TE1031","TE1031","Висувне гориз. секціонування 1000X300мм. (ШхГ)",2939.74,"замовлення","6-8","Automation DB",1,"шт.",null,"G7"]
["TE1041","TE1041","Висувне гориз. секціонування 1000X400мм. (ШхГ)",3185.26,"замовлення","6-8","Automation DB",1,"шт.",null,"G7"]
["TE1051","TE1051","Висувне гориз. секціонування 1000X500мм. (ШхГ)",3454.02,"замовлення","6-8","Automation DB",1,"шт.",null,"G7"]
["TE1060K","TE1060K","Задня панель АМ2 1000X600мм.             ",2512.2399999999998,"замовлення","6-8","Automation DB",1,"шт.",null,"G7"]
["TE1080K","TE1080K","Задня панель АМ2 1000X800мм.             ",2903.46,"замовлення","6-8","Automation DB",1,"шт.",null,"G7"]
["TE1210K","TE1210K","Задня панель АМ2 1200X1000мм.            ",3376.52,"замовлення","6-8","Automation DB",1,"шт.",null,"G7"]
["TE1212K","TE1212K","Задня панель АМ2 1200X1200мм.            ",5419.73,"замовлення","6-8","Automation DB",1,"шт.",null,"G7"]
["TE1260K","TE1260K","Задня панель АМ2 1200X600мм.             ",2745.67,"замовлення","6-8","Automation DB",1,"шт.",null,"G7"]
["TE1280K","TE1280K","Задня панель АМ2 1200X800мм.             ",3146.5,"замовлення","6-8","Automation DB",1,"шт.",null,"G7"]
["TE6031","TE6031","Висувне гориз. секціонування 600X300мм. (ШхГ) ",2610.52,"замовлення","6-8","Automation DB",1,"шт.",null,"G7"]
["TE6041","TE6041","Висувне гориз. секціонування 600X400мм. (ШхГ) ",2722.42,"замовлення","6-8","Automation DB",1,"шт.",null,"G7"]
["TE6051","TE6051","Висувне гориз. секціонування 600X500мм. (ШхГ) ",2837.12,"замовлення","6-8","Automation DB",1,"шт.",null,"G7"]
["TE8031","TE8031","Висувне гориз. секціонування 800X300мм. (ШхГ) ",2817.28,"замовлення","6-8","Automation DB",1,"шт.",null,"G7"]
["TE8041","TE8041","Висувне гориз. секціонування 800X400мм. (ШхГ) ",2955.23,"замовлення","6-8","Automation DB",1,"шт.",null,"G7"]
["TE8051","TE8051","Висувне гориз. секціонування 800X500мм. (ШхГ) ",3097.21,"замовлення","6-8","Automation DB",1,"шт.",null,"G7"]
["TF1010K","TF1010K","Внутрішні глухі двері 1000X1000мм.    ",6933.16,"замовлення","6-8","Automation DB",1,"шт.",null,"G7"]
["TF1060K","TF1060K","Внутрішні глухі двері 1000X600мм.     ",4884.67,"замовлення","6-8","Automation DB",1,"шт.",null,"G7"]
["TF1080K","TF1080K","Внутрішні глухі двері 1000X800мм.     ",5974.01,"замовлення","6-8","Automation DB",1,"шт.",null,"G7"]
["TF1210K","TF1210K","Внутрішні глухі двері 1200X1000мм.    ",7876.79,"замовлення","6-8","Automation DB",1,"шт.",null,"G7"]
["TF1260K","TF1260K","Внутрішні глухі двері 1200X600мм.     ",5549.93,"замовлення","6-8","Automation DB",1,"шт.",null,"G7"]
["TF1280K","TF1280K","Внутрішні глухі двері 1200X800мм.     ",6788.38,"замовлення","6-8","Automation DB",1,"шт.",null,"G7"]
["TK1000","TK1000","Рама фіксована для обладнання 19\" H=1000мм. АМ2  ",1413.29,"замовлення","6-8","Automation DB",1,"шт.",null,"G7"]
["TK1200","TK1200","Рама фіксована для обладнання 19\" H=1200мм. АМ2  ",1496.06,"замовлення","6-8","Automation DB",1,"шт.",null,"G7"]
["TM2003FV5K","TM2003FV5K","Шафа АМ2 з двома глухими дверима 1000X1000X300мм.   ",26404.560000000001,"замовлення","6-8","Automation DB",1,"шт.",null,"G7"]
["TM2004FV5K","TM2004FV5K","Шафа АМ2 з двома глухими дверима 1000X1000X400мм.   ",27793.98,"замовлення","6-8","Automation DB",1,"шт.",null,"G7"]
["TM2004K","TM2004K","Шафа АМ2 з глухими дверима 1000X1000X400мм.      ",25736.82,"замовлення","6-8","Automation DB",1,"шт.",null,"G7"]
["TM2024K","TM2024K","Шафа АМ2 з двома глухими дверима 1000X1200X400мм.",31341.94,"замовлення","6-8","Automation DB",1,"шт.",null,"G7"]
["TM2063K","TM2063K","Шафа АМ2 з глухими дверима 1000X600X300мм. ",18233.89,"замовлення","6-8","Automation DB",1,"шт.",null,"G7"]
["TM2064K","TM2064K","Шафа АМ2 з глухими дверима 1000X600X400мм. ",19196.75,"замовлення","6-8","Automation DB",1,"шт.",null,"G7"]
["TM2064VK","TM2064VK","Шафа АМ2 з скляними дверима 1000X600X400мм. ",24927.72,"замовлення","6-8","Automation DB",1,"шт.",null,"G7"]
["TM2074K","TM2074K","Шафа АМ2 з двома глухими дверима 1000X1600X400мм.",35342.480000000003,"замовлення","6-8","Automation DB",1,"шт.",null,"G7"]
["TM2083FV4K","TM2083FV4K","Шафа АМ2 з двома глухими дверима 1000X800X300мм.",23162.58,"замовлення","6-8","Automation DB",1,"шт.",null,"G7"]
["TM2083K","TM2083K","Шафа АМ2 з глухими дверима 1000X800X300мм. ",21448.6,"замовлення","6-8","Automation DB",1,"шт.",null,"G7"]
["TM2084FV4K","TM2084FV4K","Шафа АМ2 з двома глухими дверима 1000X800X400мм.",24706.07,"замовлення","6-8","Automation DB",1,"шт.",null,"G7"]
["TM2084K","TM2084K","Шафа АМ2 з глухими дверима 1000X800X400мм. ",22877.38,"замовлення","6-8","Automation DB",1,"шт.",null,"G7"]
["TM2084VK","TM2084VK","Шафа АМ2 з скляними дверима 1000X800X400мм. ",29708.86,"замовлення","6-8","Automation DB",1,"шт.",null,"G7"]
["TM2204FV5K","TM2204FV5K","Шафа АМ2 з двома глухими дверима 1200X1000X400мм.   ",30884.38,"замовлення","6-8","Automation DB",1,"шт.",null,"G7"]
["TM2204K","TM2204K","Шафа АМ2 з глухими дверима 1200X1000X400мм.",28596.26,"замовлення","6-8","Automation DB",1,"шт.",null,"G7"]
["TM2204VK","TM2204VK","Шафа АМ2 з скляними дверима 1200X1000X400мм.",36317.120000000003,"замовлення","6-8","Automation DB",1,"шт.",null,"G7"]
["TM2223K","TM2223K","Шафа АМ2 з двома глухими дверима 1200X1200X300мм.",33084.44,"замовлення","6-8","Automation DB",1,"шт.",null,"G7"]
["TM2224K","TM2224K","Шафа АМ2 з двома глухими дверима 1200X1200X400мм.",34826.33,"замовлення","6-8","Automation DB",1,"шт.",null,"G7"]
["TM2263K","TM2263K","Шафа АМ2 з глухими дверима 1200X600X300мм. ",20491,"замовлення","6-8","Automation DB",1,"шт.",null,"G7"]
["TM2264K","TM2264K","Шафа АМ2 з глухими дверима 1200X600X400мм. ",21570.73,"замовлення","6-8","Automation DB",1,"шт.",null,"G7"]
["TM2264VK","TM2264VK","Шафа АМ2 з скляними дверима 1200X600X400мм. ",28013.77,"замовлення","6-8","Automation DB",1,"шт.",null,"G7"]
["TM2283FV4K","TM2283FV4K","Шафа АМ2 з двома глухими дверима 1200X800X300мм.",25818.66,"замовлення","6-8","Automation DB",1,"шт.",null,"G7"]
["TM2284K","TM2284K","Шафа АМ2 з глухими дверима 1200X800X400мм. ",25165.49,"замовлення","6-8","Automation DB",1,"шт.",null,"G7"]
["TM2284VK","TM2284VK","Шафа АМ2 з скляними дверима 1200X800X400мм. ",32680.2,"замовлення","6-8","Automation DB",1,"шт.",null,"G7"]
["TP1030K","TP1030K","Водовідливний козирок АМ2 1000X300мм. (ШхГ)",4645.04,"замовлення","6-8","Automation DB",1,"шт.",null,"G7"]
["TP1040K","TP1040K","Водовідливний козирок АМ2 1000X400мм. (ШхГ) ",5060.4399999999996,"замовлення","6-8","Automation DB",1,"шт.",null,"G7"]
["TP1050K","TP1050K","Водовідливний козирок АМ2 1000X500мм. (ШхГ) ",5515.52,"замовлення","6-8","Automation DB",1,"шт.",null,"G7"]
["TP1230K","TP1230K","Водовідливний козирок АМ2 1200X300мм. (ШхГ) ",4933.96,"замовлення","6-8","Automation DB",1,"шт.",null,"G7"]
["TP1240K","TP1240K","Водовідливний козирок АМ2 1200X400мм. (ШхГ) ",5310.3,"замовлення","6-8","Automation DB",1,"шт.",null,"G7"]
["TP1250K","TP1250K","Водовідливний козирок АМ2 1200X500мм. (ШхГ) ",5717.33,"замовлення","6-8","Automation DB",1,"шт.",null,"G7"]
["TP6030K","TP6030K","Водовідливний козирок АМ2 600X300мм. (ШхГ)  ",3944.44,"замовлення","6-8","Automation DB",1,"шт.",null,"G7"]
["TP6040K","TP6040K","Водовідливний козирок АМ2 600X400мм. (ШхГ)  ",4268.3900000000003,"замовлення","6-8","Automation DB",1,"шт.",null,"G7"]
["TP6050K","TP6050K","Водовідливний козирок АМ2 600X500мм. (ШхГ)  ",4618.38,"замовлення","6-8","Automation DB",1,"шт.",null,"G7"]
["TP8030K","TP8030K","Водовідливний козирок АМ2 800X300мм. (ШхГ)  ",3867.88,"замовлення","6-8","Automation DB",1,"шт.",null,"G7"]
["TP8040K","TP8040K","Водовідливний козирок АМ2 800X400мм. (ШхГ)  ",4162.37,"замовлення","6-8","Automation DB",1,"шт.",null,"G7"]
["TP8050K","TP8050K","Водовідливний козирок АМ2 800X500мм. (ШхГ)  ",4483.22,"замовлення","6-8","Automation DB",1,"шт.",null,"G7"]
["TS0060","TS0060","Профіль для кабелю 2шт. Ш=600мм.               ",8181.83,"замовлення","6-8","Automation DB",1,"шт.",null,"G7"]
["TS0080","TS0080","Профіль для кабелю 2шт. Ш=800мм.               ",8783.5400000000009,"замовлення","6-8","Automation DB",1,"шт.",null,"G7"]
["TS0100","TS0100","Профіль для кабелю 2шт. Ш=1000мм.              ",9497.7800000000007,"замовлення","6-8","Automation DB",1,"шт.",null,"G7"]
["TS0120","TS0120","Профіль для кабелю 2шт. Ш=1200мм.              ",10155.6,"замовлення","6-8","Automation DB",1,"шт.",null,"G7"]
["TS1003","TS1003","Профіль монтажний глибини 2шт. Г=300мм. В=48",3254.08,"замовлення","6-8","Automation DB",1,"шт.",null,"G7"]
["TS1004","TS1004","Профіль монтажний глибини 2шт. Г=400мм. В=48",2931.98,"замовлення","6-8","Automation DB",1,"шт.",null,"G7"]
["TS1005","TS1005","Профіль монтажний глибини 2шт. Г=500мм. В=48",3652.42,"замовлення","6-8","Automation DB",1,"шт.",null,"G7"]
["TS2003","TS2003","Профіль монтажний глибини 2шт. Г=300мм. В=100",6431.57,"замовлення","6-8","Automation DB",1,"шт.",null,"G7"]
["TS2004","TS2004","Профіль монтажний глибини 2шт. Г=400мм. В=100",7229.51,"замовлення","6-8","Automation DB",1,"шт.",null,"G7"]
["TS2005","TS2005","Профіль монтажний глибини 2шт. Г=500мм. В=100",8128.51,"замовлення","6-8","Automation DB",1,"шт.",null,"G7"]
["TS4000","TS4000","Профіль для кабелю 2шт. Ш=600мм. IS2              ",2041.66,"замовлення","6-8","Automation DB",1,"шт.",null,"G7"]
["TS4001","TS4001","Профіль для кабелю 2шт. Ш=800мм. IS2              ",2193.25,"частково","1","Automation DB",1,"шт.",null,"G7"]
["TS4002","TS4002","Профіль для кабелю 2шт. Ш=1000мм. IS2             ",2369.9499999999998,"замовлення","6-8","Automation DB",1,"шт.",null,"G7"]
["TS4003","TS4003","Профіль для кабелю 2шт. Ш=1200мм. IS2            ",2536.42,"замовлення","6-8","Automation DB",1,"шт.",null,"G7"]
["TS4004","TS4004","Профіль для кабелю 2шт. Ш=1600MM, IS2         ",2711.26,"замовлення","6-8","Automation DB",1,"шт.",null,"G7"]
["TS4011","TS4011","Профіль алюміній 2 шт. EN50024 C30 H=2000мм. IS2",1244.3399999999999,"замовлення","6-8","Automation DB",1,"шт.",null,"G7"]
["TS4012","TS4012","Профіль алюміній 2 шт. EN50035 G32 H=2000мм. IS2      ",996.96,"замовлення","6-8","Automation DB",1,"шт.",null,"G7"]
["TS4013","TS4013","Профіль алюміній 2 шт. DIN EN50022 H=2000мм. IS2      ",823.98,"замовлення","6-8","Automation DB",1,"шт.",null,"G7"]
["TT1006K","TT1006K","Скляні двері АМ2 1000X600мм. (ВхШ)      ",8915.2900000000009,"замовлення","6-8","Automation DB",1,"шт.",null,"G7"]
["TT1008K","TT1008K","Скляні двері АМ2 1000X800мм. (ВхШ)      ",9560.7099999999991,"замовлення","6-8","Automation DB",1,"шт.",null,"G7"]
["TT1206K","TT1206K","Скляні двері АМ2 1200X600мм. (ВхШ)      ",9560.7099999999991,"замовлення","6-8","Automation DB",1,"шт.",null,"G7"]
["TT1208K","TT1208K","Скляні двері АМ2 1200X800мм. (ВхШ)      ",10089.879999999999,"замовлення","6-8","Automation DB",1,"шт.",null,"G7"]
["TT1210K","TT1210K","Скляні двері АМ2 1200X1000мм. (ВхШ)     ",10969.04,"замовлення","6-8","Automation DB",1,"шт.",null,"G7"]
["TU1000","TU1000","Посилені рейки для підйому шаф 2шт. Ш=1000мм. IS2",6192.88,"замовлення","6-8","Automation DB",1,"шт.",null,"G7"]
["TU1001","TU1001","Посилені рейки для підйому шаф 2шт. Ш=1000мм. IS2 змонтовані на шафі ",6903.08,"замовлення","6-8","Automation DB",1,"шт.",null,"G7"]
["VA7910","VA7910","Антиконденсаційний нагрівач 100W 160X82X42мм.",7239.12,"замовлення","6-8","Automation DB",1,"шт.",null,"G7"]
["VA7915","VA7915","Антиконденсаційний нагрівач 150W  210X82X42мм.",8020.63,"замовлення","6-8","Automation DB",1,"шт.",null,"G7"]
["VA7930","VA7930","Антиконденсаційний нагрівач 30W 115X42X42мм.",4736.5,"замовлення","6-8","Automation DB",1,"шт.",null,"G7"]
["VA7950","VA7950","Антиконденсаційний нагрівач 50W 160X42X42мм.",6309.12,"замовлення","6-8","Automation DB",1,"шт.",null,"G7"]
["VA7975","VA7975","Антиконденсаційний нагрівач 75W 210X42X42мм.",6756.46,"замовлення","6-8","Automation DB",1,"шт.",null,"G7"]
["VA8300","VA8300","Антиконденсаційний нагрівач 300W 175X82X95мм.",8805.86,"замовлення","6-8","Automation DB",1,"шт.",null,"G7"]
["VERN01","VERN01","OVERPRICE SP.PAINT W=600-800-1000 AM2-C2",6393.76,"замовлення","6-8","Automation DB",1,"шт.",null,"G7"]
["VERN02","VERN02","OVERPRICE SP.PAINT.W=1200-1600 AM2-C2",8232.67,"замовлення","6-8","Automation DB",1,"шт.",null,"G7"]
["VS4235K","VS4235K","WALL MOUNTED EXCHANGER-35W/K 7035",41345.629999999997,"замовлення","6-8","Automation DB",1,"шт.",null,"G7"]
["VS6285K","VS6285K","WALL MOUNTED EXCHANGER-85W/K 7035",55716.3,"замовлення","6-8","Automation DB",1,"шт.",null,"G7"]
["VZ1400K","VZ1400K","WALL-MOUNTED CONDITIONER 1300W 7035",102034.64,"замовлення","6-8","Automation DB",1,"шт.",null,"G7"]
["VZ1401K","VZ1401K","ROOF-MOUNTED CONDITIONER 1300W 7035",97229.95,"замовлення","6-8","Automation DB",1,"шт.",null,"G7"]
["VZ1550K","VZ1550K","WALL-MOUNTED CONDITIONER 605W 7035",60525.95,"замовлення","6-8","Automation DB",1,"шт.",null,"G7"]
["VZ1850K","VZ1850K","WALL-MOUNTED CONDITIONER 810W 7035",67547.14,"замовлення","6-8","Automation DB",1,"шт.",null,"G7"]
["VZ2000K","VZ2000K","WALL-MOUNTED CONDITIONER 1926W 7035",117126.37,"замовлення","6-8","Automation DB",1,"шт.",null,"G7"]
["VZ8501K","VZ8501K","ROOF-MOUNTED CONDITIONER 810W 7035",89932.24,"замовлення","6-8","Automation DB",1,"шт.",null,"G7"]
["ZN0006","ZN0006","Фланці цоколю з вентиляцією 2 шт. 100х600мм ВхШ",2139.94,"замовлення","6-8","Automation DB",1,"шт.",null,"G7"]
["ZN0008","ZN0008","Фланці цоколю з вентиляцією 2 шт. 100х800мм ВхШ",2624.15,"замовлення","6-8","Automation DB",1,"шт.",null,"G7"]
["ZN0010","ZN0010","Фланці цоколю з вентиляцією 2 шт. 100х1000мм ВхШ",3449.68,"замовлення","6-8","Automation DB",1,"шт.",null,"G7"]
["ZN1000","ZN1000","Фланці цоколю 2 шт. 100х1000мм ВхШ",2081.96,"замовлення","6-8","Automation DB",1,"шт.",null,"G7"]
["ZN1001","ZN1001","Опорні фланці для кабелів 2 шт. W=1000",1578.83,"замовлення","6-8","Automation DB",1,"шт.",null,"G7"]
["ZN1002","ZN1002","Фланці цоколю 2 шт. 200х1000мм ВхШ",2712.19,"замовлення","6-8","Automation DB",1,"шт.",null,"G7"]
["ZN1010","ZN1010","Кутові елементи цоколя 4 шт. H=100MM",1076.32,"замовлення","6-8","Automation DB",1,"шт.",null,"G7"]
["ZN1010M","ZN1010M","Кутові елементи цоколя 4 шт. змонтовані H=100MM",1866.52,"замовлення","6-8","Automation DB",1,"шт.",null,"G7"]
["ZN1020","ZN1020","Елементи проміжні цоколя 2 шт. H=100MM",890.32,"замовлення","6-8","Automation DB",1,"шт.",null,"G7"]
["ZN1020M","ZN1020M","Елементи проміжні цоколя 2 шт. змонтовані H=100MM",1474.67,"замовлення","6-8","Automation DB",1,"шт.",null,"G7"]
["ZN1040","ZN1040","Кришка цоколя з лого АББ 4 шт.",8892.0400000000009,"замовлення","6-8","Automation DB",1,"шт.",null,"G7"]
["ZN1041","ZN1041","Елементи кріплення цоколя до підлоги 4 шт.",1460.72,"замовлення","6-8","Automation DB",1,"шт.",null,"G7"]
["ZN1200","ZN1200","Фланці цоколю 2 шт. 100х1200мм ВхШ",2962.98,"замовлення","6-8","Automation DB",1,"шт.",null,"G7"]
["ZN3000","ZN3000","Фланці цоколю 2 шт. 100х300мм ВхШ",901.48,"замовлення","6-8","Automation DB",1,"шт.",null,"G7"]
["ZN3011","ZN3011","Фланці цоколя бічні АМ2 2 шт. 100х300мм ВхШ",1102.3599999999999,"замовлення","6-8","Automation DB",1,"шт.",null,"G7"]
["ZN4000","ZN4000","Фланці цоколю 2 шт. 100х400мм ВхШ",1381.36,"замовлення","6-8","Automation DB",1,"шт.",null,"G7"]
["ZN4001","ZN4001","Опорні фланці для кабелів 2 шт. W=400",966.89,"замовлення","6-8","Automation DB",1,"шт.",null,"G7"]
["ZN4002","ZN4002","Фланці цоколю 2 шт. 200х400мм ВхШ",1237.52,"замовлення","6-8","Automation DB",1,"шт.",null,"G7"]
["ZN4011","ZN4011","Фланці цоколя бічні АМ2 2 шт. 100х400мм ВхШ",1037.57,"замовлення","6-8","Automation DB",1,"шт.",null,"G7"]
["ZN5000","ZN5000","Фланці цоколю 2 шт. 100х500мм ВхШ",1052.1400000000001,"замовлення","6-8","Automation DB",1,"шт.",null,"G7"]
["ZN5001","ZN5001","Опорні фланці для кабелів 2 шт. W=500",1067.6400000000001,"замовлення","6-8","Automation DB",1,"шт.",null,"G7"]
["ZN5002","ZN5002","Фланці цоколю 2 шт. 200х500мм ВхШ",1370.2,"замовлення","6-8","Automation DB",1,"шт.",null,"G7"]
["ZN6000","ZN6000","Фланці цоколю 2 шт. 100х600мм ВхШ",982.39,"замовлення","6-8","Automation DB",1,"шт.",null,"G7"]
["ZN6001","ZN6001","Опорні фланці для кабелів 2 шт. W=600",1187.6199999999999,"замовлення","6-8","Automation DB",1,"шт.",null,"G7"]
["ZN6002","ZN6002","Фланці цоколю 2 шт. 200х600мм ВхШ",1502.26,"замовлення","6-8","Automation DB",1,"шт.",null,"G7"]
["ZN8000","ZN8000","Фланці цоколю 2 шт. 100х800мм ВхШ",1301.3800000000001,"замовлення","6-8","Automation DB",1,"шт.",null,"G7"]
["ZN8001","ZN8001","Опорні фланці для кабелів 2 шт. W=800",1353.16,"замовлення","6-8","Automation DB",1,"шт.",null,"G7"]
["ZN8002","ZN8002","Фланці цоколю 2 шт. 200х800мм ВхШ",1994.23,"замовлення","6-8","Automation DB",1,"шт.",null,"G7"]
["ZU1100","ZU1100","ENTIRE STRIP H=100 XSWITCHB.BAT.UM=M",6130.87,"замовлення","6-8","Automation DB",1,"шт.",null,"G7"]
["ZU1101","ZU1101","ENTIRE STRIPH=100XSWITC.BAT.UM=M MOUNTED",8158.58,"замовлення","6-8","Automation DB",1,"шт.",null,"G7"]
["ZU2100","ZU2100","ENTIRE STRIP H=200 XSWITCHB.BAT.UM=M",7966.38,"замовлення","6-8","Automation DB",1,"шт.",null,"G7"]
["ZU2101","ZU2101","ENTIRE STRIPH=200XSWITC.BAT.UM=M MOUNTED",9995.02,"замовлення","6-8","Automation DB",1,"шт.",null,"G7"]

{"sheet":"EP_LV_Акційне обладнання","index":1,"n_rows":894,"n_cols":9,"rows_kept":894,"cut":false,"hidden":false,"merged":[]}
[]
["—"]
["Акційна пропозиція"]
["Обладнання низької напруги"]
[]
["ТОВ «АББ Лтд», м. Київ, Україна, www.abb.ua"]
["Пропозиція дійсна з 1 липня по 31 грудня 2019 року. Уточнюйте фактичну кількість, доступну на складі, перед замовленням"]
[]
["Даний прайс-лист є індикативним і може змінюватися на розсуд компанії ТОВ «АББ Лтд» при підготовці комерційних пропозицій"]
["Поставка обладнання здійснюється на умовах ExW відповідно до правил ІНКОТЕРМС 2010 за адресою: 07402, Україна, Київська обл., Броварський р-н, с. Перемога, вул. Б. Хмельницького, 1"]
[]
[]
[]
[]
[]
["Код замовлення","Тип","Опис","Кількість,\nдоступна на складі","Ціна для кінцевого замовника, грн. з ПДВ","Товарна група","Кратність замовлення","Од. вимір. \nшт.","Примітки"]
["1SL2406A00",null,"IP40 кришка для настенного монтажа 6M RAL9016",5,85.248000000000005,"Consumer units",1,"шт.","см каталог: Пластиковые боксы и монтажные аксессуары"]
["1SL0864A00",null,"Коробка IP55 з високою глухою кр.",3,213.12000000000003,"Consumer units",1,"шт.","см каталог: Пластиковые боксы и монтажные аксессуары"]
["1SL1101A00",null,"Шафа Mistral65 непр. дв. 8M",9,213.12000000000003,"Consumer units",1,"шт.","пластиковые боксы Mistral"]
["1SL1103A00",null,"Шафа Mistral65 непр. дв. 18M",1,319.68,"Consumer units",1,"шт.","пластиковые боксы Mistral"]
["1SL1105A00",null,"Шафа Mistral65 непр.дв. 36M 18x2",3,745.92,"Consumer units",1,"шт.","пластиковые боксы Mistral"]
["1SL1107A00",null,"Шафа Mistral65 непр. дв. 48M",3,852.48000000000013,"Consumer units",1,"шт.","пластиковые боксы Mistral"]
["1SL1109A00",null,"Шафа Mistral65 непр. дв. 72M",4,1172.1600000000001,"Consumer units",1,"шт.","пластиковые боксы Mistral"]
["1SL1203A00",null,"Шафа Mistral65 проз. дв. 18M",3,319.68,"Consumer units",1,"шт.","пластиковые боксы Mistral"]
["1SL1206A00",null,"Шафа Mistral65 проз. дв. 36M 12x3",2,692.64,"Consumer units",1,"шт.","пластиковые боксы Mistral"]
["1SL1905A00",null,"Двері проз. 12M Mistral65",8,106.56000000000002,"Consumer units",1,"шт.","пластиковые боксы Mistral"]
["1SL1938A00",null,"Кабельний ввід Д32",10,42.624000000000002,"Consumer units",1,"шт.","пластиковые боксы Mistral"]
["1SL1942A00",null,"Адаптер для вводу кабелів",1,213.12000000000003,"Consumer units",1,"шт.","пластиковые боксы Mistral"]
["1SL1947A00",null,"Центр. глуха фальшпанель 18М Mistral65",2,95.903999999999996,"Consumer units",1,"шт.","пластиковые боксы Mistral"]
["1SL1948A00",null,"Глуха фальшпанель 18М Mistral65",17,95.903999999999996,"Consumer units",1,"шт.","пластиковые боксы Mistral"]
["1SL1949A00",null,"З'єднувач Д 28,5",3,213.12000000000003,"Consumer units",1,"шт.","пластиковые боксы Mistral"]
["1SLM004100A1102",null,"Шафа IP41 Mistral Вбуд. непр.дв.8M",4,138.52800000000002,"Consumer units",1,"шт.","пластиковые боксы Mistral"]
["1SLM004100A1103",null,"Шафа IP41 Mistral Вбуд. непр.дв.12M",3,213.12000000000003,"Consumer units",1,"шт.","пластиковые боксы Mistral"]
["1SLM004100A1104",null,"Шафа IP41 Mistral Вбуд. непр.дв.18M",1,372.96,"Consumer units",1,"шт.","пластиковые боксы Mistral"]
["1SLM004100A1106",null,"Шафа IP41 Mistral Вбуд. непр.дв.36M18х2",4,681.98400000000004,"Consumer units",1,"шт.","пластиковые боксы Mistral"]
["1SLM004100A1107",null,"Шафа IP41 Mistral Вбуд. непр.дв.36M12х3",1,681.98400000000004,"Consumer units",1,"шт.","пластиковые боксы Mistral"]
["1SLM004100A1108",null,"Шафа IP41 Mistral Вбуд. непр.дв.48M",4,959.04,"Consumer units",1,"шт.","пластиковые боксы Mistral"]
["1SLM004100A1109",null,"Шафа IP41 Mistral Вбуд. непр.дв.54M",2,1065.6000000000001,"Consumer units",1,"шт.","пластиковые боксы Mistral"]
["1SLM004100A1110",null,"Шафа IP41 Mistral Вбуд. непр.дв.72M",5,1491.84,"Consumer units",1,"шт.","пластиковые боксы Mistral"]
["1SLM004100A1202",null,"Шафа IP41 Mistral Вбуд. проз.дв.8M",150,138.52800000000002,"Consumer units",1,"шт.","пластиковые боксы Mistral"]
["1SLM004100A1203",null,"Шафа IP41 Mistral Вбуд. проз.дв.12M",60,213.12000000000003,"Consumer units",1,"шт.","пластиковые боксы Mistral"]
["1SLM004100A1204",null,"Шафа IP41 Mistral Вбуд. проз.дв.18M",7,234.43200000000002,"Consumer units",1,"шт.","пластиковые боксы Mistral"]
["1SLM004100A1205",null,"Шафа IP41 Mistral Вбуд. проз. двері 24M",43,426.24000000000007,"Consumer units",1,"шт.","пластиковые боксы Mistral"]
["1SLM004100A1206",null,"Шафа IP41 Mistral Вбуд. проз.дв.36M 2р",16,681.98400000000004,"Consumer units",1,"шт.","пластиковые боксы Mistral"]
["1SLM004100A1207",null,"Шафа IP41 Mistral Вбуд. проз.дв.36M 3р",24,681.98400000000004,"Consumer units",1,"шт.","пластиковые боксы Mistral"]
["1SLM004100A1209",null,"Шафа IP41 Mistral Вбуд. проз.дв.54M",1,1065.6000000000001,"Consumer units",1,"шт.","пластиковые боксы Mistral"]
["1SLM004100A1210",null,"Шафа IP41 Mistral Вбуд. проз.дв.72M",1,1491.84,"Consumer units",1,"шт.","пластиковые боксы Mistral"]
["1SLM004100A1300",null,"Шафа IP41 Mistral 850 Вбуд. непр.дв.4M",23,138.52800000000002,"Consumer units",1,"шт.","пластиковые боксы Mistral"]
["1SLM004100A1304",null,"Шафа IP41 Mistral 850 Вбуд. непр.дв.18M",4,426.24000000000007,"Consumer units",1,"шт.","пластиковые боксы Mistral"]
["1SLM004100A1310",null,"Шафа IP41 Mistral 850 Вбуд. непр.дв.72M",2,1491.84,"Consumer units",1,"шт.","пластиковые боксы Mistral"]
["1SLM004100A1404",null,"Шафа IP41 Mistral 850 Вбуд. проз.дв.18M",5,372.96,"Consumer units",1,"шт.","пластиковые боксы Mistral"]
["1SLM004100A1406",null,"Шафа IP41 Mistral850 Вбуд. проз.36M18х2",1,681.98400000000004,"Consumer units",1,"шт.","пластиковые боксы Mistral"]
["1SLM004100A1407",null,"Шафа IP41 Mistral850 Вбуд. проз.36M12х3",1,681.98400000000004,"Consumer units",1,"шт.","пластиковые боксы Mistral"]
["1SLM004100A1910",null,"Непр.дв.для шафи IP41 Mistral Вбуд. 36M",8,426.24000000000007,"Consumer units",1,"шт.","пластиковые боксы Mistral"]
["1SLM004100A1913",null,"Проз.дв. шафи IP41 Mistral Вбуд. 36 72M",2,426.24000000000007,"Consumer units",1,"шт.","пластиковые боксы Mistral"]
["1SLM004100A1914",null,"Непр.дв.для шафи IP41 Mistral Вбуд. 54M",4,426.24000000000007,"Consumer units",1,"шт.","пластиковые боксы Mistral"]
["1SLM004100A1921",null,"Секц. перегор.  IP41 Mistral вбуд.18М",92,42.624000000000002,"Consumer units",1,"шт.","пластиковые боксы Mistral"]
["1SLM004100A1923",null,"Вертик. зєднувач шаф тримач труб 18М",12,106.56000000000002,"Consumer units",1,"шт.","пластиковые боксы Mistral"]
["1SLM004100A1931",null,"Замок з ключем для IP41 Mistral вбуд.",279,213.12000000000003,"Consumer units",1,"шт.","пластиковые боксы Mistral"]
["1SLM004100A1945",null,"Центр.глуха панель IP41Mistral вбуд.12М",2,37.295999999999999,"Consumer units",1,"шт.","пластиковые боксы Mistral"]
["1SLM004100A1947",null,"Центр.глуха панель IP41Mistral вбуд.18М",22,37.295999999999999,"Consumer units",1,"шт.","пластиковые боксы Mistral"]
["1SLM004100A1948",null,"Глуха панель для IP41 Mistral вбуд. 18М",27,37.295999999999999,"Consumer units",1,"шт.","пластиковые боксы Mistral"]
["1SLM004100A1949",null,"Горизонтальний зєднувач шаф",21,42.624000000000002,"Consumer units",1,"шт.","пластиковые боксы Mistral"]
["1SPE007717F0320",null,"Шафа IP41 Mistral НаCт. проз.дв.8M",46,138.52800000000002,"Consumer units",1,"шт.","пластиковые боксы Mistral"]
["1SPE007717F0410",null,"Шафа IP41 Mistral НаCт. непр.дв.12M",5,138.52800000000002,"Consumer units",1,"шт.","пластиковые боксы Mistral"]
["1SPE007717F0420",null,"Шафа IP41 Mistral НаCт. проз.дв.12M",12,213.12000000000003,"Consumer units",1,"шт.","пластиковые боксы Mistral"]
["1SPE007717F0510",null,"Шафа IP41 Mistral НаCт. непр.дв.24M",1,372.96,"Consumer units",1,"шт.","пластиковые боксы Mistral"]
["1SPE007717F0520",null,"Шафа IP41 Mistral НаCт. проз.дв.24M",9,372.96,"Consumer units",1,"шт.","пластиковые боксы Mistral"]
["1SPE007717F0610",null,"Шафа IP41 Mistral НаCт.непр.дв.36M 12х3",6,532.80000000000007,"Consumer units",1,"шт.","пластиковые боксы Mistral"]
["1SPE007717F0620",null,"Шафа IP41 Mistral НаCт. пр.дв.36M 3ряд.",9,532.80000000000007,"Consumer units",1,"шт.","пластиковые боксы Mistral"]
["1SPE007717F0710",null,"Шафа IP41 Mistral НаCт. непр.дв.48M",5,852.48000000000013,"Consumer units",1,"шт.","пластиковые боксы Mistral"]
["1SPE007717F0810",null,"Шафа IP41 Mistral НаCт. непр.дв.18M",5,319.68,"Consumer units",1,"шт.","пластиковые боксы Mistral"]
["1SPE007717F0820",null,"Шафа IP41 Mistral Наст. проз.дв.18M",3,319.68,"Consumer units",1,"шт.","пластиковые боксы Mistral"]
["1SPE007717F0910",null,"Шафа IP41 Mistral НаCт. непр.дв. 36M18х2",3,532.80000000000007,"Consumer units",1,"шт.","пластиковые боксы Mistral"]
["1SPE007717F0920",null,"Шафа IP41 Mistral НаCт. проз.дв. 36M18х2",8,479.52,"Consumer units",1,"шт.","пластиковые боксы Mistral"]
["1SPE007717F1010",null,"Шафа IP41 Mistral НаCт. непр.дв.54M",3,873.79200000000003,"Consumer units",1,"шт.","пластиковые боксы Mistral"]
["1SPE007717F1020",null,"Шафа IP41 Mistral Наст. проз.дв.54M",6,873.79200000000003,"Consumer units",1,"шт.","пластиковые боксы Mistral"]
["1SPE007717F1110",null,"Шафа IP41 Mistral Наст. непр.дв.72M",4,1172.1600000000001,"Consumer units",1,"шт.","пластиковые боксы Mistral"]
["1SPE007717F1120",null,"Шафа IP41 Mistral НаCт. проз.дв.72M",8,1172.1600000000001,"Consumer units",1,"шт.","пластиковые боксы Mistral"]
["2CPX010503R9999",null,"TZ608 Комплект з'єднання шаф IP55",3,72.46080000000002,"Sub DB",1,"шт.","до шаф TwinLine"]
["2CPX010591R9999",null,"TZM104 Монтажна плата Ш1 В650 мм",2,102.29760000000002,"Sub DB",1,"шт.","до шаф TwinLine"]
["2CPX010603R9999",null,"TZM209 Монтажна плата Ш2 В1400 мм",1,321.81120000000004,"Sub DB",1,"шт.","до шаф TwinLine"]
["2CPX010625R9999",null,"TZP104 Рама внутрішня захисна Ш1 В650мм",2,106.56000000000002,"Sub DB",1,"шт.","до шаф TwinLine"]
["2CPX010632R9999",null,"TZP204 Рама внутрішня захисна Ш2 В650мм",1,181.15200000000002,"Sub DB",1,"шт.","до шаф TwinLine"]
["2CPX077600R9999",null,"UK510E Шафа розподільча",58,298.36799999999999,"Consumer units",1,"шт."]
["UK510BE",null,"UK510BE Шафа 12 мод. без двери",1,149.184,"Consumer units",1,"шт."]
["2CPX030835R9999",null,"BL510K Декор рамка з прозорими дверіма",2,106.56000000000002,"Consumer units",1,"шт.","аксессуары к UK500"]
["2CPX030849R9999",null,"AP510 Комплект для для настінного монтажу",11,85.248000000000005,"Consumer units",1,"шт.","аксессуары к UK500"]
["2CPX030870R9999",null,"UZ1 Замок з двома ключами UK500",207,78.854399999999998,"Consumer units",1,"шт.","аксессуары к UK500"]
["UZ90P4",null,"Комплект для монтажа в гипсокартон UK500",270,20.246400000000005,"Consumer units",1,"шт.","аксессуары к UK500"]
["2CPX036011R9999",null,"1/1A Wall Cabinet IP43",2,618.04800000000012,"Sub DB",1,"шт.","800 x 300 x 215 для установки модулей Combiline на профили EDF"]
["2CPX036031R9999",null,"1/3A Wall Cabinet IP43",1,660.67200000000003,"Sub DB",1,"шт.","1100 x 300 x 215 для установки модулей Combiline на профили EDF"]
["2CPX036211R9999",null,"1/1U Wall Cabinet IP31",2,1278.72,"Sub DB",1,"шт.","815 x 315 x 200 для установки модулей Combiline на профили EDF"]
["1/8H",null,"Шафа напольна IP43",4,1598.4000000000003,"Sub DB",1,"шт.","1850х300х225 для установки модулей Combiline на профили EDF"]
["3/8H",null,"Шафа напольна IP43",1,4795.2000000000007,"Sub DB",1,"шт.","1850x800x225 для установки модулей Combiline на профили EDF"]
["4/8H",null,"Шафа напольна IP43",1,6393.6000000000013,"Sub DB",1,"шт.","1850х1050х225 для установки модулей Combiline на профили EDF"]
["GSR3",null,"Цоколь до шафи H (Ш3, В50мм)",2,596.73599999999999,"Sub DB",1,"шт."]
["2CPX038152R9999",null,"U42D Шафа вбуд. з дверцятами під картину",1,2131.2000000000003,"Sub DB",1,"шт.","комплектный шкаф, 96 модулей, 684 x 560 x 120"]
["2CPX038459R9999",null,"ZB5 Шинотримач",30,26.586720000000007,"Sub DB",1,"шт."]
["2CPX041648R9999",null,"MBS128 Модуль з шинотримачами",9,441.79776000000015,"Sub DB",1,"шт.","Combiline N"]
["2CPX041737R9999",null,"MBS124 Модуль з шинотримачами",27,324.26208000000003,"Sub DB",1,"шт.","Combiline N"]
["2CPX041738R9999",null,"MBS224 Модуль з шинотримачами",4,377.54208,"Sub DB",1,"шт.","Combiline N"]
["2CPX041748R9999",null,"MBN274 Модуль N+PE без міді Ш2 до 440А",7,658.48752000000013,"Sub DB",1,"шт.","Combiline N"]
["2CPX041750R9999",null,"MBN374 Модуль N+PE без міді Ш3 до 440А",10,722.58336000000008,"Sub DB",1,"шт.","Combiline N"]
["2CPX044007R9999",null,"ZX152 Шинотримач",35,142.31088000000003,"Sub DB",1,"шт.","Combiline N"]
["2CPX044010R9999",null,"ZX146 Шинотримач 3пол.12x5-30x10 мм",30,80.186400000000006,"Sub DB",1,"шт.","Combiline N"]
["2CPX044011R9999",null,"ZX147 Шинотримач 1пол.12x5-30x10 мм",26,36.603360000000009,"Sub DB",1,"шт.","Combiline N"]
["2CPX067909R9999",null,"ZX522 Шинотримач 100/185 мм",4,201.07872,"Sub DB",1,"шт.","Combiline N"]
["2CCD844001R1590",null,"S804PV-M63 Вимикач роз'єднувач",5,3334.1558399999999,"Modular Equip Std",1,"шт."]
["2CDS251001R0505",null,"S201-B50 Автоматичний вимикач",934,43.902720000000009,"Modular Equip Std",1,"шт."]
["2CDS251001R0635",null,"S201-B63 Автоматичний вимикач",1169,33.086880000000008,"Modular Equip Std",1,"шт."]
["2CMA100163R1000",null,"B23111-100 Лічильник електричної енергії",12,2886.2308800000005,"Modular Equip Std",1,"шт."]
["2CMA100177R1000",null,"B24111-100 Лічильник електричної енергії",13,2664.2664,"Modular Equip Std",1,"шт."]
["2CMA100191R1000",null,"C13 110-100 Лічильник електричної енергії",23,1644.7536000000005,"Modular Equip Std",1,"шт."]
["2CMA170533R1000",null,"A44 111-100 Лічильник електричної енергії",3,4262.4000000000005,"Modular Equip Std",1,"шт."]
["2CMA180814R1000",null,"DBB 22001 лічильник (акт энергия, 80А, 3 x 100-500В, кл 2)",1,1065.6000000000001,"Modular Equip Std",1,"шт."]
["2CSM112000R0201",null,"E252-230 імп. реле з мех. блок",1,328.57776000000007,"Modular Equip Std",1,"шт.","импульное реле 2НО"]
["2CSM211000R0231",null,"E 258C10-230/24імпульсне реле з мех. бло",2,299.8065600000001,"Modular Equip Std",1,"шт.","импульсное реле 1НО (центральное)"]
["2CSM363610R1801",null,"E933/50_модульний тримач запобіжників",15,639.36,"Modular Equip Std",1,"шт."]
["2CSR245041R1164",null,"DS201L C16 AC30 Диф. автоматичний вимикач",1,639.36,"Modular Equip Std",1,"шт."]
["2CSR245041R1204",null,"DS201L C20 AC30 Диф. автоматичний вимикач",1,639.36,"Modular Equip Std",1,"шт."]
["2CSR252001R1504",null,"DS202 AC-C50/0,03 Диф. автоматичний вимикач",1,1278.72,"Modular Equip Std",1,"шт."]
["2CSR252040R1254",null,"DS202C C25 AC30 Диф. автоматичний вимикач",4,639.36,"Modular Equip Std",1,"шт."]
["2CSR254101R1255",null,"DS204A-B25/0.03 Диф. автоматичний вимикач",49,1065.6000000000001,"Modular Equip Std",1,"шт."]
["2CTB803853R6000",null,"OVR T2 4L 15 275 P Обмежувач перенапруги",63,639.36,"Modular Equip Std",1,"шт.","ограничители импульсных перенапряжений, 4 полюса, Imax =15 kA"]
["2CTB803854R0000",null,"OVR T2 70 N C Картридж до обмежувача",5,213.12000000000003,"Modular Equip Std",1,"шт.","ограничители импульсных перенапряжений, 4 полюса, Imax =15 kA"]
["2CTB803854R0900",null,"OVR T2 40 275 s C Картридж до обмежувача",7,213.12000000000003,"Modular Equip Std",1,"шт.","картриджи для ограничителей импульсных перенапряжени"]
["2CTB803854R1000",null,"OVR T2 40 275 C Картридж до обмежувача",20,213.12000000000003,"Modular Equip Std",1,"шт.","картриджи для ограничителей импульсных перенапряжени"]
["2CTB803871R2300",null,"OVR T2 40-275 P QS Обмежувач перенапруги",59,532.80000000000007,"Modular Equip Std",1,"шт.","ограничители импульсных перенапряжений, 1п, Imax =40 kA"]
["2CTB803873R5600",null,"OVR T2 4L 40-275 P QS Обмежувач перенапруги",17,1758.24,"Modular Equip Std",1,"шт.","ограничители импульсных перенапряжений, 4L, Imax =40 kA"]
["2CTB803952R1100",null,"OVR T2 1N 40 275 P Обмежувач перенапруги",13,426.24000000000007,"Modular Equip Std",1,"шт.","ограничители импульсных перенапряжений, 1+ N, Imax =40 kA"]
["2CTB803952R1200",null,"OVR T2 1N 15 275 Обмежувач перенапруги",9,319.68,"Modular Equip Std",1,"шт.","ограничители импульсных перенапряжений, 1+ N, Imax =15 kA"]
["2CTB803953R1200",null,"OVR T2 3N 15 275 P Обмежувач перенапруги",26,639.36,"Modular Equip Std",1,"шт.","ограничители импульсных перенапряжений, 3+ N, Imax =15 kA"]
["7TCA300100R0000",null,"Стяж 140х3.6 нейл 100шт SKT140-180-100",100,23.448528,"Install Materials",1,"шт."]
["7TCA300100R0002",null,"Стяж 300х3.6 нейл 100шт SKT300-180-100",14,58.683657600000004,"Install Materials",1,"шт."]
["7TCA300100R0003",null,"Стяж 370х3.6 нейл 100шт SKT370-180-100",120,64.476259200000015,"Install Materials",1,"шт."]
["7TCA300140R0000",null,"Стяж 140х3.6 чорн 100шт SKT140-180X-100",23,23.448528,"Install Materials",1,"шт."]
["7TCA300140R0001",null,"Стяж 200х3.6 чорн 100шт SKT200-180X-100",65,34.218547200000003,"Install Materials",1,"шт."]
["7TCA300140R0002",null,"Стяж 300х3.6 чорн 100шт SKT300-180X-100",13,58.683657600000004,"Install Materials",1,"шт."]
["7TCA300140R0003",null,"Стяж 370х3.6 чорн 100шт SKT370-180X-100",120,70.192137599999995,"Install Materials",1,"шт."]
["7TCA300180R0000",null,"Стяж 188х4.8 нейл 100шт SKT188-220-100",50,40.586572799999999,"Install Materials",1,"шт."]
["7TCA300180R0001",null,"Стяж 215х4.8 нейл 100шт SKT215-220-100",50,50.426323200000013,"Install Materials",1,"шт."]
["7TCA300180R0003",null,"Стяж 300х4.8 нейл 100шт SKT300-220-100",30,63.545990400000008,"Install Materials",1,"шт."]
["7TCA300180R0004",null,"Стяж 370х4.8 нейл 100шт SKT370-220-100",38,53.380166400000007,"Install Materials",1,"шт."]
["7TCA300220R0000",null,"Стяж 188х4.8 чорн 100шт SKT188-220X-100",50,40.586572799999999,"Install Materials",1,"шт."]
["7TCA300220R0001",null,"Стяж 215х4.8 чорн 100шт SKT215-220X-100",50,50.426323200000013,"Install Materials",1,"шт."]
["7TCA300220R0003",null,"Стяж 300х4.8 чорн 100шт SKT300-220X-100",80,63.545990400000008,"Install Materials",1,"шт."]
["7TCA300220R0004",null,"Стяж 370х4.8 чорн 100шт SKT370-220X-100",35,61.13880000000001,"Install Materials",1,"шт."]
["7TCA300260R0000",null,"Стяж 300х7.6 нейл 100шт SKT300-540-100",10,86.783529599999994,"Install Materials",1,"шт."]
["7TCA300260R0001",null,"Стяж 370х7.6 нейл 100шт SKT370-540-100",10,136.36589760000001,"Install Materials",1,"шт."]
["7TCA300260R0002",null,"Стяж 750х7.6 нейл 50шт SKT750-540-50",20,118.97850240000002,"Install Materials",1,"шт."]
["7TCA300300R0000",null,"Стяж 300х7.6 чорн 100шт SKT300-540X-100",10,104.4106848,"Install Materials",1,"шт."]
["7TCA300300R0001",null,"Стяж 370х7.6 чорн 100шт SKT370-540X-100",10,118.16331840000001,"Install Materials",1,"шт."]
["7TCA300300R0003",null,"Стяж 450х7.6 чорн 50шт SKT450-540X-50",15,100.0374624,"Install Materials",1,"шт."]
["7TCA300340R0000",null,"Стяж 776х9.0 нейл 50шт SKT776-780-50",10,218.08569600000001,"Install Materials",1,"шт."]
["7TCA300340R0001",null,"Стяж 912х9.0 нейл 50шт SKT912-780-50",10,244.3538016,"Install Materials",1,"шт."]
["7TCA300360R0000",null,"Стяж 776х9.0 чорн 50шт SKT776-780X-50",5,239.43392640000002,"Install Materials",1,"шт."]
["7TCA300360R0001",null,"Стяж 912х9.0 чорн 50шт SKT912-780X-50",5,528.34472640000001,"Install Materials",1,"шт."]
["GHS2701916R0001",null,"S2-H11 Блок додаткових контактів",28,167.83200000000002,"Modular Equip Std",1,"шт.","допустройства к S260/270/280"]
["GHS2701916R0003",null,"S270-HO2 Блок додаткових контактів",16,127.88798400000005,"Modular Equip Std",1,"шт.","допустройства к S260/270/280"]
["GHS2801901R0008",null,"S2-S/H Блок додаткових/сигнальних контак",29,167.83200000000002,"Modular Equip Std",1,"шт.","допустройства к S260/270/280"]
["GHS2801909R0002",null,"S2-A2 Паралельний розчеплювач",1,319.69598400000012,"Modular Equip Std",1,"шт.","допустройства к S260/270/280"]
["GHS2820164R0317",null,"S282-UC-K 3 Автоматичний вимикач",2,680.58273600000018,"Modular Equip Std",1,"шт."]
["M008160000",null,"00816 Розпод. коробка IP55, 100X100X50",37,59.530489920000022,"Consumer units",1,"шт."]
["M009000000",null,"00900 Монтажна плата металл 120X149 мм",9,63.931044960000015,"Consumer units",1,"шт."]
["M009120000",null,"00912 Кабельний сальник 32 мм",90,2.1866112000000002,"Consumer units",1,"шт.","аксессуары для соединительных коробок"]
["M009380000",null,"00938 Кабельний сальник PG42, 40-43 мм",14,49.726224000000002,"Consumer units",1,"шт.","аксессуары для соединительных коробок"]
["M009530000",null,"00953 Кабельний сальник M20",29,13.138848000000005,"Consumer units",1,"шт.","аксессуары для соединительных коробок"]
["M009540000",null,"00954 Кабельний сальник M25",16,22.777200000000001,"Consumer units",1,"шт.","аксессуары для соединительных коробок"]
["M009550000",null,"00955 Кабельний сальник M32",1,39.991968000000007,"Consumer units",1,"шт.","аксессуары для соединительных коробок"]
["M009570000",null,"00957 Кабельний сальник M50",21,208.30348800000004,"Consumer units",1,"шт.","аксессуары для соединительных коробок"]
["M009640000",null,"00964 Гайка до сальника M25",16,5.2747200000000012,"Consumer units",1,"шт.","аксессуары для соединительных коробок"]
["M009650000",null,"00965 Гайка до сальника M32",2,8.0559360000000027,"Consumer units",1,"шт.","аксессуары для соединительных коробок"]
["M009670000",null,"00967 Гайка до сальника M50",26,25.989984000000003,"Consumer units",1,"шт.","аксессуары для соединительных коробок"]
["M109000000",null,"10900 Люк у підлогу",36,843.95519999999999,"Consumer units",1,"шт.","аксессуары для напольного монтажа"]
["M109020000",null,"10902 Люк у підлогу",43,661.73760000000004,"Consumer units",1,"шт.","аксессуары для напольного монтажа"]
["M109030000",null,"10903 Люк у підлогу",15,767.23199999999997,"Consumer units",1,"шт.","аксессуары для напольного монтажа"]
["M109100000",null,"10910 Адаптер до 10900, 10901",204,30.929040000000004,"Consumer units",1,"шт.","аксессуары для напольного монтажа"]
["M109160000",null,"10916 Адаптер до 10902, 10903",102,72.839088000000004,"Consumer units",1,"шт.","аксессуары для напольного монтажа"]
["M109170000",null,"10917 Адаптер до 10900, 10901",204,72.839088000000004,"Consumer units",1,"шт.","аксессуары для напольного монтажа"]
["M109180000",null,"10918 Адаптер до 10902, 10903",102,41.574384000000002,"Consumer units",1,"шт.","аксессуары для напольного монтажа"]
["M109190000",null,"10919 Адаптер до 10902, 10903",100,41.574384000000002,"Consumer units",1,"шт.","аксессуары для напольного монтажа"]
["M109210000",null,"10921 Адаптер до 10902, 10903",60,137.14272000000003,"Consumer units",1,"шт.","аксессуары для напольного монтажа"]
["M127840000",null,"12784 Шафа EUROPA IP65 проз 140X220X140",14,291.85792992000006,"Consumer units",1,"шт.","см каталог: Пластиковые боксы и монтажные аксессуары"]
["M127880020",null,"12788 Шафа EUROPA IP65 проз 205X220X140",9,387.54950256000001,"Consumer units",1,"шт.","см каталог: Пластиковые боксы и монтажные аксессуары"]
["M128040000",null,"12804 Коробка IP65 R7035-140x220x140",2,246.45841488000008,"Consumer units",1,"шт.","см каталог: Пластиковые боксы и монтажные аксессуары"]
["M128080020",null,"12808 Коробка IP65 R7035-205x220x140",2,283.49414208000007,"Consumer units",1,"шт.","см каталог: Пластиковые боксы и монтажные аксессуары"]
["M128120020",null,"12812 Коробка IP65 R7035-275x220x140",2,331.10760096000013,"Consumer units",1,"шт.","см каталог: Пластиковые боксы и монтажные аксессуары"]
["M128480000",null,"12848 Монтажна плата метал",4,241.15588272000008,"Consumer units",1,"шт.","см каталог: Пластиковые боксы и монтажные аксессуары"]
["M128660000",null,"12866 Замок до EUROPA IP65",1,89.049741120000007,"Consumer units",1,"шт.","см каталог: Пластиковые боксы и монтажные аксессуары"]
["M131610000",null,"13161 Аварійний бокс IP55",5,205.23456000000002,"Consumer units",1,"шт.","см каталог: Пластиковые боксы и монтажные аксессуары"]
["M131800000",null,"13180 Аварійний бокс IP55",7,420.15734208000009,"Consumer units",1,"шт.","см каталог: Пластиковые боксы и монтажные аксессуары"]
["M132000000",null,"13200 Бокс глухий IP65 4M-136X540X140мм",6,344.17068480000006,"Consumer units",1,"шт.","см каталог: Пластиковые боксы и монтажные аксессуары"]
["ZK87P50",null,"Коннектор 16кв. мм. (50шт.)",12,3196.8000000000006,"Sub DB",1,"шт.","Combiline N"]
["ZW39P2",null,"Скоба регулююча глибини коротка",5,134.55331199999998,"Sub DB",1,"шт.","Combiline N"]
["2CPX062754R9999",null,"ZK144B Клеми Quick N 14x4+4х25мм2",19,89.382528000000022,"Consumer units",1,"шт.","комбіновані (безгвинтові+гвинтові) клеми"]
["2CPX062755R9999",null,"ZK175B Клеми Quick N 17x4+5х25мм2",67,109.47441600000003,"Consumer units",1,"шт.","комбіновані (безгвинтові+гвинтові) клеми"]
["2CPX062759R9999",null,"ZK113G Клеми Quick PE 11x4+3х25мм2",3,69.722208000000023,"Consumer units",1,"шт.","комбіновані (безгвинтові+гвинтові) клеми"]
["2CPX062760R9999",null,"ZK144G Клеми Quick PE 14x4+4х25мм2",33,89.382528000000022,"Consumer units",1,"шт.","комбіновані (безгвинтові+гвинтові) клеми"]
["2CPX062761R9999",null,"ZK175G Клеми Quick PE 17x4+5х25мм2",47,109.47441600000003,"Consumer units",1,"шт.","комбіновані (безгвинтові+гвинтові) клеми"]
[12839,null,"DIN рейка 35х7,5х1",1,79.346653920000037,"Consumer units",1,"шт.","см каталог: Пластиковые боксы и монтажные аксессуары"]
[12863,null,"Модульна заглушка RAL7035",29,7.9264656000000011,"Consumer units",1,"шт.","см каталог: Пластиковые боксы и монтажные аксессуары"]
["1SL0236A00",null,"Двері непрозорі SIZE 6",1,970.44191999999998,"Sub DB",1,"шт.","аксесуари до шаф Gemini"]
["1SL0241A00",null,"Двері прозорі SIZE 1",2,234.91152000000002,"Sub DB",1,"шт.","аксесуари до шаф Gemini"]
["1SL0243A00",null,"Двері прозорі SIZE 3",1,392.46048000000002,"Sub DB",1,"шт.","аксесуари до шаф Gemini"]
["1SL0245A00",null,"Двері прозорі SIZE 5",1,637.17552000000012,"Sub DB",1,"шт.","аксесуари до шаф Gemini"]
["1SL0252A00",null,"Внутрішні двері SIZE 2",3,475.79040000000009,"Sub DB",1,"шт.","аксесуари до шаф Gemini"]
["1SL0253A00",null,"Внутрішні двері,SIZE 3",1,153.39312000000001,"Sub DB",1,"шт.","аксесуари до шаф Gemini"]
["1SL0256A00",null,"Внутрішні двері,SIZE 6",2,410.14944000000014,"Sub DB",1,"шт.","аксесуари до шаф Gemini"]
["1SL0259A00",null,"Монтажна пластина SIZE 1",1,56.370240000000003,"Sub DB",1,"шт.","аксесуари до шаф Gemini"]
["1SL0260A00",null,"Монтажна пластина",3,329.48352000000011,"Sub DB",1,"шт.","аксесуари до шаф Gemini"]
["1SL0272A00",null,"Монтажная плата пластиковая SIZE 6",1,486.39312000000012,"Sub DB",1,"шт.","аксесуари до шаф Gemini"]
["1SL0283A00",null,"Стійка SIZE 1",1,60.099840000000015,"Sub DB",1,"шт.","аксесуари до шаф Gemini"]
["1SL0285A00",null,"Стійка UPRIGHTS-SIZE 3-4",3,223.61616000000001,"Sub DB",1,"шт.","аксесуари до шаф Gemini"]
["1SL0286A00",null,"Стійка UPRIGHTS-SIZE 5",2,97.502400000000009,"Sub DB",1,"шт.","аксесуари до шаф Gemini"]
["1SL0287A00",null,"Стойки вертикальные SIZE 6",1,154.88496000000001,"Sub DB",1,"шт.","аксесуари до шаф Gemini"]
["1SL0290A00",null,"DIN,рейка SIZE 1",8,16.623360000000005,"Sub DB",1,"шт.","аксесуари до шаф Gemini"]
["1SL0292A00",null,"DIN,рейка SIZE 4-5",1,21.631679999999999,"Sub DB",1,"шт.","аксесуари до шаф Gemini"]
["1SL0293A00",null,"DIN-рейка SIZE 6, 36 мод.",4,32.021279999999997,"Sub DB",1,"шт.","аксесуари до шаф Gemini"]
["1SL0296A00",null,"Монтажная плата высотой 150 мм. SIZE 1",3,24.082559999999997,"Sub DB",1,"шт.","аксесуари до шаф Gemini"]
["1SL0297A00",null,"Монтажная плата высотой 150 мм. SIZE 2/3",3,44.648640000000007,"Sub DB",1,"шт.","аксесуари до шаф Gemini"]
["1SL0298A00",null,"Монтажная плата высотой 150 мм. SIZE 4/5",5,54.025920000000006,"Sub DB",1,"шт.","аксесуари до шаф Gemini"]
["1SL0299A00",null,"Монтажная плата высотой 150 мм. SIZE 6",3,87.112800000000007,"Sub DB",1,"шт.","аксесуари до шаф Gemini"]
["1SL0302A00",null,"Монтажная плата высотой 300 мм. SIZE 2/3",3,101.97792000000001,"Sub DB",1,"шт.","аксесуари до шаф Gemini"]
["1SL0303A00",null,"Монтажная плата высотой 300 мм. SIZE 4/5",2,112.26096000000001,"Sub DB",1,"шт.","аксесуари до шаф Gemini"]
["1SL0304A00",null,"Монтажная плата высотой 300 мм. SIZE 6",2,137.94192000000001,"Sub DB",1,"шт.","аксесуари до шаф Gemini"]
["1SL0307A00",null,"Панель + DIN рейка H150-SIZE 1",1,68.518079999999998,"Sub DB",1,"шт.","аксесуари до шаф Gemini"]
["1SL0309A00",null,"Панель + DIN рейка H150-SIZE 4-5",2,84.502080000000007,"Sub DB",1,"шт.","аксесуари до шаф Gemini"]
["1SL0314A00",null,"Панель + DIN рейка H225-SIZE 4-5",7,71.448480000000004,"Sub DB",1,"шт.","аксесуари до шаф Gemini"]
["1SL0315A00",null,"Панель + DIN рейка H225-SIZE 6",4,106.56000000000002,"Sub DB",1,"шт.","аксесуари до шаф Gemini"]
["1SL0318A00",null,"Фальшпанель глухая H75-SIZE 1",4,16.889760000000003,"Sub DB",1,"шт.","аксесуари до шаф Gemini"]
["1SL0319A00",null,"Фальшпанель глухая H75-SIZE 2-3",4,19.7136,"Sub DB",1,"шт.","аксесуари до шаф Gemini"]
["1SL0320A00",null,"Фальшпанель глухая H75-SIZE 4-5",4,21.791520000000002,"Sub DB",1,"шт.","аксесуари до шаф Gemini"]
["1SL0321A00",null,"Фальшпанель глухая H75-SIZE 6",8,28.664639999999999,"Sub DB",1,"шт.","аксесуари до шаф Gemini"]
["1SL0324A00",null,"Фальшпанель глуха H150-SIZE 1",4,31.381920000000004,"Sub DB",1,"шт.","аксесуари до шаф Gemini"]
["1SL0325A00",null,"Фальшпанель глуха H150-SIZE 2-3",3,60.685920000000003,"Sub DB",1,"шт.","аксесуари до шаф Gemini"]
["1SL0326A00",null,"Фальшпанель глуха H150-SIZE 4-5",3,55.251359999999998,"Sub DB",1,"шт.","аксесуари до шаф Gemini"]
["1SL0327A00",null,"Фальшпанель глухая H150-SIZE 6",1,85.141440000000017,"Sub DB",1,"шт.","аксесуари до шаф Gemini"]
["1SL0330A00",null,"Фальшпанель глухая H300-SIZE 1",1,57.968640000000015,"Sub DB",1,"шт.","аксесуари до шаф Gemini"]
["1SL0331A00",null,"Фальшпанель глухая H300-SIZE 2-3",2,106.61328000000005,"Sub DB",1,"шт.","аксесуари до шаф Gemini"]
["1SL0333A00",null,"Фальшпанель глухая H300-SIZE 6",1,98.301600000000008,"Sub DB",1,"шт.","аксесуари до шаф Gemini"]
[6596,6596,"Компенсатор",20,378.11,"DEBJE_01 / Inserts",1,"шт."]
[6597,6597,"Блок керування унів.світлорег. DIN",3,1045.56,"DEBJE_02 / Electronic devices",1,"шт."]
[8117,8117,"Механізм телефон.розетки RJ12 6-пол.",18,156.41,"ESNIE_01 / Inserts",1,"шт."]
[8118,8118,"Механізм комп.розетки RJ45 8-пол. 5e",23,231.47,"ESNIE_01 / Inserts",1,"шт."]
[8142,8142,"Механізм 2-кл. (кнопка+прох.вимикач)",6,240.95,"ESNIE_01 / Inserts",1,"шт."]
[8350,8350,"Лампа підсв.унів.орієнт. 0.4мА",4,22.87,"DEBJE_01 / Inserts",1,"шт."]
["0231-101","0231-101","Механізм прохідний TV+R",1,480.08,"DEBJE_01 / Inserts",1,"шт."]
["0232-101","0232-101","Механізм кінцевий TV+R+SAT",3,790.89,"DEBJE_01 / Inserts",1,"шт."]
["0248/05-101","0248/05-101","Механізм стерео розетки чорний",1,234.88,"DEBJE_01 / Inserts",1,"шт."]
["1098 UF-101","1098 UF-101","Механізм терморег.таймер датчик",7,2903.4,"DEBJE_02 / Electronic devices",1,"шт."]
["1702-214","1702-214","Коробка зовн. 2 поста Reflex білий",4,48.31,"DEBJE_03 / Busch-Duro/Reflex/Spring",1,"шт."]
["1702-83","1702-83","Коробка зовн. 2 поста Future срібл",2,118.77,"DEBJE_04 / Future",1,"шт."]
["1721-284","1721-284","Рамка 1 пост Axcent білий",68,81.569999999999993,"DEBJE_12 / Axcent",1,"шт."]
["1721-291-500","1721-291-500","Рамка 1 пост Axcent сірий ентре",6,140.21,"DEBJE_12 / Axcent",1,"шт."]
["1721-296-500","1721-296-500","Рамка 1 пост Axcent білий шале",45,98.8,"DEBJE_12 / Axcent",1,"шт."]
["1721-299-500","1721-299-500","Рамка 1 пост Axcent бежевий мейсон",7,138.22999999999999,"DEBJE_12 / Axcent",1,"шт."]
["1721-831-500","1721-831-500","Pамка 1 пост ДИНАСТИЯ антрацит",53,118.44,"DEBJE_17 / Dynasty",1,"шт."]
["1721-833-500","1721-833-500","Pамка 1 пост ДИНАСТИЯ латунь пол/ч.розп.",7,533.64,"DEBJE_17 / Dynasty",1,"шт."]
["1721-835-500","1721-835-500","Pамка 1 пост ДИНАСТИЯ латунь полир/антр.",41,594.01,"DEBJE_17 / Dynasty",1,"шт."]
["1721-845-500","1721-845-500","Pамка 1 пост ДИНАСТИЯ латунь ант./антрац",52,594.59,"DEBJE_17 / Dynasty",1,"шт."]
["1722-184","1722-184","Рамка 2 поста Future білий",9,58.43,"DEBJE_04 / Future",1,"шт."]
["1722-284","1722-284","Рамка 2 поста Axcent білий",8,109.29,"DEBJE_12 / Axcent",1,"шт."]
["1722-291-500","1722-291-500","Рамка 2 поста Axcent сірий ентре",4,364.49,"DEBJE_12 / Axcent",1,"шт."]
["1722-296-500","1722-296-500","Рамка 2 поста Axcent білий шале",14,201.55,"DEBJE_12 / Axcent",1,"шт."]
["1722-299-500","1722-299-500","Рамка 2 поста Axcent бежевий мейсон",8,364.71,"DEBJE_12 / Axcent",1,"шт."]
["1722-831-500","1722-831-500","Pамка 2 поста ДИНАСТИЯ антрацит",32,249.12,"DEBJE_17 / Dynasty",1,"шт."]
["1722-833-500","1722-833-500","Pамка 2 поста ДИНАСТИЯ латунь пол/ч.розп",3,1327.88,"DEBJE_17 / Dynasty",1,"шт."]
["1722-835-500","1722-835-500","Pамка 2 поста ДИНАСТИЯ латунь полир/антр",13,928.97,"DEBJE_17 / Dynasty",1,"шт."]
["1723-182","1723-182","Рамка 3 постa Future сл.кістка",88,18.850000000000001,"DEBJE_04 / Future",1,"шт."]
["1723-184","1723-184","Рамка 3 поста Future білий",4,95.05,"DEBJE_04 / Future",1,"шт."]
["1723-281","1723-281","Рамка 3 поста Axcent чорний",5,352.4,"DEBJE_12 / Axcent",1,"шт."]
["1723-284","1723-284","Рамка 3 поста Axcent білий",4,275.68,"DEBJE_12 / Axcent",1,"шт."]
["1723-299-500","1723-299-500","Рамка 3 поста Axcent бежевий мейсон",4,626.91,"DEBJE_12 / Axcent",1,"шт."]
["1723-775","1723-775","Рамка 3 поста Impuls чорний оксамит",1,292.52999999999997,"DEBJE_07 / Impuls",1,"шт."]
["1723-831-500","1723-831-500","Pамка 3 поста ДИНАСТИЯ антрацит",33,490.08,"DEBJE_17 / Dynasty",1,"шт."]
["1723-833-500","1723-833-500","Pамка 3 поста ДИНАСТИЯ латунь пол/ч.розп",5,2091.81,"DEBJE_17 / Dynasty",1,"шт."]
["1723-835-500","1723-835-500","Pамка 3 поста ДИНАСТИЯ латунь полир/антр",19,1548.43,"DEBJE_17 / Dynasty",1,"шт."]
["1723-845-500","1723-845-500","Pамка 3 поста ДИНАСТИЯ латунь ант./антр.",12,1548.43,"DEBJE_17 / Dynasty",1,"шт."]
["1723-848-500","1723-848-500","Pамка 3 поста ДИНАСТИЯ латунь ант./сл.к.",10,1785.29,"DEBJE_17 / Dynasty",1,"шт."]
["1724-182","1724-182","Рамка 4 постa Future сл.кістка",11,45.75,"DEBJE_04 / Future",1,"шт."]
["1724-299-500","1724-299-500","Рамка 4 поста Axcent бежевий мейсон",4,851.92,"DEBJE_12 / Axcent",1,"шт."]
["1724-831-500","1724-831-500","Pамка 4 поста ДИНАСТИЯ антрацит",15,665.84,"DEBJE_17 / Dynasty",1,"шт."]
["1724-833-500","1724-833-500","Pамка 4 поста ДИНАСТИЯ латунь пол/ч.розп",3,3188.27,"DEBJE_17 / Dynasty",1,"шт."]
["1724-845-500","1724-845-500","Pамка 4 поста ДИНАСТИЯ латунь ант./антр.",8,2823.59,"DEBJE_17 / Dynasty",1,"шт."]
["1725-182","1725-182","Рамка 5 постов Future сл.кістка",2,137.4,"DEBJE_04 / Future",1,"шт."]
["1725-284","1725-284","Рамка 5 постов Axcent білий",3,496.09,"DEBJE_12 / Axcent",1,"шт."]
["1725-295-500","1725-295-500","Рамка 5 постів Axcent чорний шато",3,1131.8499999999999,"DEBJE_12 / Axcent",1,"шт."]
["1725-296-500","1725-296-500","Рамка 5 постів Axcent білий шале",1,576.39,"DEBJE_11 / Basic 55",1,"шт."]
["1725-299-500","1725-299-500","Рамка 5 постів Axcent бежевий мейсон",5,1137.08,"DEBJE_12 / Axcent",1,"шт."]
["1725-831-500","1725-831-500","Pамка 5 постів ДИНАСТИЯ антрацит",9,888.67,"DEBJE_17 / Dynasty",1,"шт."]
["1725-833-500","1725-833-500","Pамка 5постів ДИНАСТИЯ латунь пол/ч.розп",2,4645.21,"DEBJE_17 / Dynasty",1,"шт."]
["1725-835-500","1725-835-500","Pамка 5 постів ДИНАСТИЯ латунь пол/антр.",8,4371.96,"DEBJE_17 / Dynasty",1,"шт."]
["1725-838-500","1725-838-500","Pамка 5 постів ДИНАСТИЯ латунь пол/сл.к",5,4154.12,"DEBJE_17 / Dynasty",1,"шт."]
["1725-843-500","1725-843-500","Pамка 5постів ДИНАСТИЯ латунь ант/ч.розп",1,4645.21,"DEBJE_17 / Dynasty",1,"шт."]
["1725-845-500","1725-845-500","Pамка 5 постів ДИНАСТИЯ латунь ант./антр",5,5171.21,"DEBJE_17 / Dynasty",1,"шт."]
["1725-846-500","1725-846-500","Pамка 5постів ДИНАСТИЯ латунь ант/б.розп",4,4645.21,"DEBJE_17 / Dynasty",1,"шт."]
["1725-848-500","1725-848-500","Pамка 5 постів ДИНАСТИЯ латунь ант./сл.к",3,4372.03,"DEBJE_17 / Dynasty",1,"шт."]
["1742-79","1742-79","Заглушка Impuls шамп.металік",10,248.76,"DEBJE_07 / Impuls",1,"шт."]
["1742-840-500","1742-840-500","Заглушка ДИНАСТИЯ латунь антична",6,409.07,"DEBJE_17 / Dynasty",1,"шт."]
["1743-01-214-500","1743-01-214-500","Розетка TV Reflex білий",59,66.790000000000006,"DEBJE_03 / Busch-Duro/Reflex/Spring",1,"шт."]
["1743-03-212","1743-03-212","Центр.плата TV BD сл.кістка",9,54.11,"DEBJE_03 / Busch-Duro/Reflex/Spring",1,"шт."]
["1743-03-74","1743-03-74","Центр.плата TV+R+SAT Impuls білий",11,97.15,"DEBJE_07 / Impuls",1,"шт."]
["1743-03-783","1743-03-783","Центр.плата TV+R+SAT Impuls срібл.мет.",2,68.08,"DEBJE_07 / Impuls",1,"шт."]
["1743-03-79","1743-03-79","Центр.плата TV+R+SAT Impuls шамп.мет",6,247.03,"DEBJE_07 / Impuls",1,"шт."]
["1743-74","1743-74","Центр.плата TV+R Impuls білий",7,202.8,"DEBJE_07 / Impuls",1,"шт."]
["1743-775","1743-775","Центр.плата TV+R Impuls чорний оксамит",19,134.25,"DEBJE_07 / Impuls",1,"шт."]
["1743-783","1743-783","Центр.плата TV+R Impuls срібл.металік",4,214.07,"DEBJE_07 / Impuls",1,"шт."]
["1743-79","1743-79","Центр.плата TV+R Impuls шамп.металік",1,231.76,"DEBJE_07 / Impuls",1,"шт."]
["1743-83","1743-83","Центр.плата TV+R+SAT Future срібл.",12,196.77,"DEBJE_04 / Future",1,"шт."]
["1743-840-500","1743-840-500","Ц.плата TV+R+(SAT) ДИНАСТИЯ латунь ант.",20,290.72000000000003,"DEBJE_17 / Dynasty",1,"шт."]
["1743-95-507","1743-95-507","Ц.плата TV+R+(SAT) Basic55 чорний шато",6,53.32,"DEBJE_11 / Basic 55",1,"шт."]
["1743-96-507","1743-96-507","Ц.плата TV+R+(SAT) Basic55 білий шале",7,60.23,"DEBJE_11 / Basic 55",1,"шт."]
["1766-83","1766-83","Центр.плата акуст.0248 Future сріблястий",4,147.99,"DEBJE_04 / Future",1,"шт."]
["1766-840-500","1766-840-500","Ц.плата акуст.0248 ДИНАСТИЯ латунь ант.",6,290.72000000000003,"DEBJE_17 / Dynasty",1,"шт."]
["1766-885","1766-885","Ц.плата акуст.0248 Future чорний оксамит",2,147.99,"DEBJE_04 / Future",1,"шт."]
["1785-774","1785-774","Клавіша подвійна Impuls білий оксамит",9,322.32,"DEBJE_07 / Impuls",1,"шт."]
["1785-896-500","1785-896-500","Клавіша подвійна Axcent білий шале",5,157.99,"DEBJE_12 / Axcent",1,"шт."]
["1786-774","1786-774","Клавіша одинарна Impuls білий оксамит",14,390.27,"DEBJE_07 / Impuls",1,"шт."]
["1786-896-500","1786-896-500","Клавіша одинарна Axcent білий шале",39,78.23,"DEBJE_12 / Axcent",1,"шт."]
["1795-212","1795-212","Ц.плата терморег.1095/1096U BD сл.к.",4,45.61,"DEBJE_02 / Electronic devices",1,"шт."]
["1795-84","1795-84","Ц.плата терморег.1095/1096U F/S білий",10,183.12,"DEBJE_02 / Electronic devices",1,"шт."]
["1795-93-507","1795-93-507","Ц.пл.терморег.1095/1096U Basic55 шампань",4,144.27000000000001,"DEBJE_02 / Electronic devices",1,"шт."]
["1803-02-214","1803-02-214","Центр.платах2 ТФ/К нахил. Reflex білий",62,18.59,"DEBJE_03 / Busch-Duro/Reflex/Spring",1,"шт."]
["1803-02-79","1803-02-79","Центр.платах2 ТФ/К нахил. Impuls шамп.м.",30,41.8,"DEBJE_07 / Impuls",1,"шт."]
["1803-02-81","1803-02-81","Центр.платах2 ТФ/К нахил.Future антрацит",3,212.29,"DEBJE_04 / Future",1,"шт."]
["1803-02-83","1803-02-83","Центр.платах2 ТФ/К нахил. Future срібл.",6,107.36,"DEBJE_04 / Future",1,"шт."]
["1803-02-840-500","1803-02-840-500","Ц.плх2 ТФ/К нахил.ДИНАСТИЯ латунь ант.",9,363.6,"DEBJE_17 / Dynasty",1,"шт."]
["1803-02-896-500","1803-02-896-500","Центр.пл.х2 ТФ/К накл. Axcent білий шале",10,127.69,"DEBJE_12 / Axcent",1,"шт."]
["1803-775","1803-775","Центр.плата ТФ/К нахил.Impuls ч.оксамит",4,197.71,"DEBJE_07 / Impuls",1,"шт."]
["1803-783","1803-783","Центр.плата ТФ/К нахил. Impuls срібл.м.",9,244.56,"DEBJE_07 / Impuls",1,"шт."]
["1803-79","1803-79","Центр.плата ТФ/К нахил. Impuls шамп.мет.",5,256.61,"DEBJE_07 / Impuls",1,"шт."]
["1803-896-500","1803-896-500","Центр.плата ТФ/К накл. Axcent білий шале",4,127.69,"DEBJE_12 / Axcent",1,"шт."]
["20 EUC-783","20 EUC-783","Розетка заземл. Impuls срібл.мет.",10,304.45,"DEBJE_07 / Impuls",1,"шт."]
["20 EUC-896-500","20 EUC-896-500","Розетка заземл. Axcent білий шале",19,147.56,"DEBJE_12 / Axcent",1,"шт."]
["20 EUK-212","20 EUK-212","Розетка заземл.кр. BD сл.к.",16,166.68,"DEBJE_03 / Busch-Duro/Reflex/Spring",1,"шт."]
["20 EUK-72","20 EUK-72","Розетка заземл.кр. Impuls сл.к.",7,409.27,"DEBJE_07 / Impuls",1,"шт."]
["20 EUK-74","20 EUK-74","Розетка заземл.кр. Impuls білий",3,358.68,"DEBJE_07 / Impuls",1,"шт."]
["20 EUK-774","20 EUK-774","Розетка заземл.кр. Impuls білий оксамит",17,393.91,"DEBJE_07 / Impuls",1,"шт."]
["20 EUK-775","20 EUK-775","Розетка заземл.кр. Impuls чорний оксамит",2,108.59,"DEBJE_07 / Impuls",1,"шт."]
["20 EUK-783","20 EUK-783","Розетка заземл.кр. Impuls срібл.",1,112,"DEBJE_07 / Impuls",1,"шт."]
["20 EUK-79","20 EUK-79","Розетка заземл.кр. Impuls шамп.мет.",10,432.68,"DEBJE_07 / Impuls",1,"шт."]
["20 EUK-840-500","20 EUK-840-500","Розетка заз.кр. ДИНАСТИЯ латунь антична",7,400.2,"DEBJE_17 / Dynasty",1,"шт."]
["2000/2 US-101","2000/2 US-101","Механізм 1-кл.2-пол.вимикача 16А",3,122.8,"DEBJE_01 / Inserts",1,"шт."]
["20-02 EUJ-212","20-02 EUJ-212","Розетках2 заземл. BD сл.к.",2,145.09,"DEBJE_03 / Busch-Duro/Reflex/Spring",1,"шт."]
["20-02 EUJKS-214","20-02 EUJKS-214","Розетках2 заземл.шт. Reflex білий",35,69.92,"DEBJE_03 / Busch-Duro/Reflex/Spring",1,"шт."]
["2006/1 UCGL-93-507","2006/1 UCGL-93-507","Вимикач 1-кл.підсв. Basic 55 шампань",93,67.400000000000006,"DEBJE_11 / Basic 55",1,"шт."]
["2006/5 UCGL-93-507","2006/5 UCGL-93-507","Вимикач 2-кл.підсв. Basic 55 шампань",7,92.01,"DEBJE_11 / Basic 55",1,"шт."]
["2006/6 UCK-94-507","2006/6 UCK-94-507","Вимикач 1-кл.прох.підсв. Basic55 білий",8,203.73,"DEBJE_11 / Basic 55",1,"шт."]
["2044-1-0087","2044-1-0087","Центр.плата для розеток 20 EUC-92-507",266,9.4499999999999993,"DEBJE_16 / Outdated",1,"шт."]
["2067/11 U","2067/11 U","Модуль Busch-iceLight тепл.білий",16,306.2,"DEBJE_02 / Electronic devices",1,"шт."]
["2067/14 U","2067/14 U","Модуль Busch-iceLight холодн.біл. нічний",2,440.04,"DEBJE_02 / Electronic devices",1,"шт."]
["2101-34","2101-34","Рамка 1 пост Allwetter 44 білий",4,194.07,"DEBJE_09 / Allwetter 44, Ocean",1,"шт."]
["2102-34","2102-34","Рамка 2 поста Allwetter 44 білий",6,218.71,"DEBJE_09 / Allwetter 44, Ocean",1,"шт."]
["2103-32","2103-32","Рамка 3 поста Allwetter 44 сл.кістка",14,439.01,"DEBJE_09 / Allwetter 44, Ocean",1,"шт."]
["2103-34","2103-34","Рамка 3 поста Allwetter 44 білий",8,452.48,"DEBJE_09 / Allwetter 44, Ocean",1,"шт."]
["2105-32","2105-32","Клавіша подвійна Allwetter44 сл.кістка",10,28.73,"DEBJE_09 / Allwetter 44, Ocean",1,"шт."]
["2105-34","2105-34","Клавіша подвійна Allwetter44 білий",1,149.01,"DEBJE_09 / Allwetter 44, Ocean",1,"шт."]
["2106-34","2106-34","Клавіша одинарна Allwetter44 білий",3,102.56,"DEBJE_09 / Allwetter 44, Ocean",1,"шт."]
["2115-212","2115-212","Центр.плата пов.світлорег. BD сл.кістка",7,195.6,"DEBJE_02 / Electronic devices",1,"шт."]
["2118 GK-32","2118 GK-32","Пром.плата BD/R-AW44 сл.кістка",8,226.47,"DEBJE_09 / Allwetter 44, Ocean",1,"шт."]
["2251 UCGL-93-507","2251 UCGL-93-507","Світлорег.повор.400Вт Basic 55 шампань",14,264.29000000000002,"DEBJE_11 / Basic 55",1,"шт."]
["23 EUCKS-845-507","23 EUCKS-845-507","Роз-ка заз.шт.винт.ДИНАСТИЯ лат.ант/антр",2,380.21,"DEBJE_17 / Dynasty",1,"шт."]
["2300 EAP-09-503","2300 EAP-09-503","Розетка заземл. Busch-Duro AP сл.кістка",4,114.48,"DEBJE_03 / Busch-Duro/Reflex/Spring",1,"шт."]
["2300 EUC-93-507","2300 EUC-93-507","Розетка заз.гвинт.Basic 55 шампань",10,43.81,"DEBJE_11 / Basic 55",1,"шт."]
["2300 UC-212-500","2300 UC-212-500","Розетка без заземл. BD сл.кістка",15,74.81,"DEBJE_03 / Busch-Duro/Reflex/Spring",1,"шт."]
["2300 UC-214-500","2300 UC-214-500","Розетка без заземл. Reflex білий",7,67.23,"DEBJE_03 / Busch-Duro/Reflex/Spring",1,"шт."]
["2509-214","2509-214","Клавіша червона лінза Reflex білий",31,20.79,"DEBJE_03 / Busch-Duro/Reflex/Spring",1,"шт."]
["2514-97-507","2514-97-507","Рамка 4-поста Basic55 червоний фойер",6,79.09,"DEBJE_11 / Basic 55",1,"шт."]
["2527-212","2527-212","Центр.плата вивода кабелю BD сл.кістка",6,55.32,"DEBJE_03 / Busch-Duro/Reflex/Spring",1,"шт."]
["2527-214","2527-214","Центр.плата вивода кабелю Reflex білий",25,51.12,"DEBJE_03 / Busch-Duro/Reflex/Spring",1,"шт."]
["2531-214","2531-214","Центр.плата TV+R Reflex білий",2,68.19,"DEBJE_03 / Busch-Duro/Reflex/Spring",1,"шт."]
["2538-93-507","2538-93-507","Заглушка Basic 55 шампань",5,158.99,"DEBJE_11 / Basic 55",1,"шт."]
["2539-93-507","2539-93-507","Центр.плата 0248 Basic 55 шампань",10,39.64,"DEBJE_11 / Basic 55",1,"шт."]
["2561-02-214","2561-02-214","Центр.платах2 ТФ/К прям. Reflex білий",22,37.869999999999997,"DEBJE_03 / Busch-Duro/Reflex/Spring",1,"шт."]
["2601/5 AP","2601/5 AP","Вимикач 2-кл. Busch-Duro AP",1,350.43,"DEBJE_03 / Busch-Duro/Reflex/Spring",1,"шт."]
["2601/6 AP/11-503","2601/6 AP/11-503","Вимикач 1-кл.прох. Busch-Duro AP",13,187.17,"DEBJE_03 / Busch-Duro/Reflex/Spring",1,"шт."]
["2CMA166752R1000","2CMA166752R1000","Вилка 63A 3P+E IP44 6г",1,411.72,"CZEPJ_15/ Plugs & sockets",1,"шт."]
["2CMA166862R1000","2CMA166862R1000","Розетка кабельна 63A 3P+N+E IP44 6г",9,332.32,"CZEPJ_15/ Plugs & sockets",1,"шт."]
["2CMA193058R1000","2CMA193058R1000","316C6 Розетка",1,43.55,"CZEPJ_15/ Plugs & sockets",1,"шт."]
["2CMA193082R1000","2CMA193082R1000","332C6 Розетка",27,55.97,"CZEPJ_15/ Plugs & sockets",1,"шт."]
["2CMA193091R1000","2CMA193091R1000","432C6 Розетка",10,42.07,"CZEPJ_15/ Plugs & sockets",1,"шт."]
["2CMA193235R1000","2CMA193235R1000","416RAU6Розетка панель кут16A 3P+N+E IP44",1,82.95,"CZEPJ_15/ Plugs & sockets",1,"шт."]
["2CMA193314R1000","2CMA193314R1000","Вилка пов. 32A 2P+E IP44 6г",25,65.569999999999993,"CZEPJ_15/ Plugs & sockets",1,"шт."]
["2CMA193322R1000","2CMA193322R1000","332BS6 вилка для монтажа на поверхность",3,96.81,"CZEPJ_15/ Plugs & sockets",1,"шт."]
["2CMA193521R1000","2CMA193521R1000","216-C6 Розетка кабельна 16A 2P+E IP44 6г",22,32.47,"CZEPJ_15/ Plugs & sockets",1,"шт."]
["3288 AZ","3288 AZ","Розетка Schuko IP54 до панелей блакитний",8,134.88999999999999,"ESNIE_01 / Inserts",1,"шт."]
["3294M-A00123 01","3294M-A00123 01","Центр.плата світлорег Neo біл/білий лід",24,35.520000000000003,"CZEPJ_02 / Electronic devices",1,"шт."]
["3294M-A00123 41","3294M-A00123 41","Центр.плата світлорег Neo біл/синій лід",8,28.43,"CZEPJ_02 / Electronic devices",1,"шт."]
["3294M-A00123 42","3294M-A00123 42","Центр.плата світлорег Neo біл/зелен-лід",10,28.55,"CZEPJ_02 / Electronic devices",1,"шт."]
["3294M-A00123 43","3294M-A00123 43","Ц.плата світлорег Neo біл/помаранч-лід",9,28.51,"CZEPJ_02 / Electronic devices",1,"шт."]
["3294M-A00123 44","3294M-A00123 44","Центр.плата пов.світлорегNeo біл/сір-лід",43,29.05,"CZEPJ_02 / Electronic devices",1,"шт."]
["3299A-A22100 B","3299A-A22100 B","Датчик руху реле 120 Tango білий",67,421.61,"CZEPJ_02 / Electronic devices",1,"шт."]
["3299G-A22180 B1","3299G-A22180 B1","Датчик руху реле 180 Swing білий",4,939.95,"CZEPJ_02 / Electronic devices",1,"шт."]
["3557-A07440","3557-A07440","Механізм 1-кл.перехр. вимикача Swing",12,64.53,"CZEPJ_10 / Swing",1,"шт."]
["3557-A88440","3557-A88440","Механізм 2-кл.кноп.вимикача жалюзі Swing",17,131,"CZEPJ_10 / Swing",1,"шт."]
["3557G-A00651 C1","3557G-A00651 C1","Клавіша одинарна Swing кремовий",910,4.1500000000000004,"CZEPJ_20/Outdated",1,"шт."]
["3557G-A00651 D1","3557G-A00651 D1","Клавіша одинарна Swing бежевий",796,4.6100000000000003,"CZEPJ_20/Outdated",1,"шт."]
["3557G-A00651 S1","3557G-A00651 S1","Клавіша одинарна Swing сірий",357,2.81,"CZEPJ_20/Outdated",1,"шт."]
["3557G-A00652 C1","3557G-A00652 C1","Клавіша подвійна Swing кремовий",1002,4.33,"CZEPJ_20/Outdated",1,"шт."]
["3557G-A00652 D1","3557G-A00652 D1","Клавіша подвійна Swing бежевий",622,4.8,"CZEPJ_20/Outdated",1,"шт."]
["3557G-A00653 B1","3557G-A00653 B1","Клавіша одинарна з підсв. Swing білий",10,5.29,"CZEPJ_10 / Swing",1,"шт."]
["3557G-A00653 C1","3557G-A00653 C1","Клавіша одинарна з підсв. Swing крем",10,5.03,"CZEPJ_20/Outdated",1,"шт."]
["3557G-A00653 D1","3557G-A00653 D1","Клавіша одинарна з підсв. Swing беж",19,5.88,"CZEPJ_20/Outdated",1,"шт."]
["3557G-A00654 B1","3557G-A00654 B1","Клавіша подвійна Swing з підсв. білий",130,10.36,"CZEPJ_10 / Swing",1,"шт."]
["3557G-A00654 C1","3557G-A00654 C1","Клавіша подвійна Swing з підсв. крем",2,9.49,"CZEPJ_20/Outdated",1,"шт."]
["3557G-A00680 B1","3557G-A00680 B1","Клавіша одинарна звонок Swing білий",12,3.23,"CZEPJ_10 / Swing",1,"шт."]
["3558-A01440","3558-A01440","Механізм 1-кл. вимикача гвинт",1163,13.61,"CZEPJ_01 / Inserts",1,"шт."]
["3559-A02445","3559-A02445","Механізм 1-кл. 2-полюсного вимикача",6,22.07,"CZEPJ_01 / Inserts",1,"шт."]
["3559-A92445","3559-A92445","Механізм карточного вимикача",123,45.39,"CZEPJ_01 / Inserts",1,"шт."]
["3901J-A00010 08","3901J-A00010 08","Рамка 1 пост Swing титан",781,10.45,"CZEPJ_10 / Swing",1,"шт."]
["3901J-A00010 33","3901J-A00010 33","Рамка 1 пост Swing шампань металік",654,11.41,"CZEPJ_10 / Swing",1,"шт."]
["3901J-A00010 C1","3901J-A00010 C1","Рамка 1 пост Swing кремовий",2426,2.87,"CZEPJ_10 / Swing",1,"шт."]
["3901J-A00010 D1","3901J-A00010 D1","Рамка 1 пост Swing бежевий",1578,3.37,"CZEPJ_10 / Swing",1,"шт."]
["3901J-A00020 08","3901J-A00020 08","Рамка 2 поста Swing титан",677,18.93,"CZEPJ_10 / Swing",1,"шт."]
["3901J-A00020 33","3901J-A00020 33","Рамка 2 поста Swing шампань металік",606,19.39,"CZEPJ_10 / Swing",1,"шт."]
["3901J-A00020 C1","3901J-A00020 C1","Рамка 2 поста Swing кремовий",1427,4.55,"CZEPJ_10 / Swing",1,"шт."]
["3901J-A00020 D1","3901J-A00020 D1","Рамка 2 поста Swing бежевий",913,5.1100000000000003,"CZEPJ_10 / Swing",1,"шт."]
["3901J-A00030 33","3901J-A00030 33","Рамка 3 поста Swing шампань металік",801,23.85,"CZEPJ_10 / Swing",1,"шт."]
["3901J-A00030 C1","3901J-A00030 C1","Рамка 3 поста Swing кремовий",1038,5.65,"CZEPJ_10 / Swing",1,"шт."]
["3901J-A00030 D1","3901J-A00030 D1","Рамка 3 поста Swing бежевий",712,5.96,"CZEPJ_20/Outdated",1,"шт."]
["3901J-A00040 08","3901J-A00040 08","Рамка 4 поста Swing титан",558,24.61,"CZEPJ_10 / Swing",1,"шт."]
["3901J-A00040 C1","3901J-A00040 C1","Рамка 4 поста Swing кремовий",802,6.75,"CZEPJ_10 / Swing",1,"шт."]
["3901J-A00040 D1","3901J-A00040 D1","Рамка 4 поста Swing бежевий",503,6.91,"CZEPJ_20/Outdated",1,"шт."]
["3901J-A00050 08","3901J-A00050 08","Рамка 5 постов Swing титан",182,27.08,"CZEPJ_10 / Swing",1,"шт."]
["3901J-A00050 C1","3901J-A00050 C1","Рамка 5 постов Swing кремовий",169,10.45,"CZEPJ_10 / Swing",1,"шт."]
["3901J-A00050 D1","3901J-A00050 D1","Рамка 5 постов Swing бежевий",168,11.91,"CZEPJ_20/Outdated",1,"шт."]
["3901J-A00941 B1","3901J-A00941 B1","Рамка д/роз.Swing заз/крышка бел.",375,8.2899999999999991,"CZEPJ_20/Outdated",1,"шт."]
["3901M-A00140 35","3901M-A00140 35","Рамка 4 поста Neo теракота",3,163.96,"CZEPJ_07 / Neo",1,"шт."]
["3901M-A00150 36","3901M-A00150 36","Рамка 5 постів Neo сталь",4,234.59,"CZEPJ_07 / Neo",1,"шт."]
["3916-22221","3916-22221","Неон.лампа контр.підсвічування",44,20.61,"CZEPJ_01 / Inserts",1,"шт."]
["5013G-A00213 C2","5013G-A00213 C2","Центр.плата ТФ Swing сл.кістка",202,4.25,"CZEPJ_10 / Swing",1,"шт."]
["5014G-A01018 C1","5014G-A01018 C1","Центр.плата подвійна ТФ/К Swing кремовий",295,11.48,"CZEPJ_20/Outdated",1,"шт."]
["5014G-A01018 D1","5014G-A01018 D1","Центр.плата подвійна ТФ/К Swing бежевий",350,10.24,"CZEPJ_20/Outdated",1,"шт."]
["5512J-C03459 C1","5512J-C03459 C1","Розетка подвійна заз. Swing кремовий",388,37.64,"CZEPJ_20/Outdated",1,"шт."]
["5512J-C03459 D1","5512J-C03459 D1","Розетка подвійна заз. Swing бежевий",675,41.79,"CZEPJ_20/Outdated",1,"шт."]
["5518E-A01459 08","5518E-A01459 08","Розетка без заземл. засл. Time титан",84,42.2,"CZEPJ_20/Outdated",1,"шт."]
["5518E-A01459 33","5518E-A01459 33","Розетка без заземл. засл. Time шамп.мет.",85,41.23,"CZEPJ_20/Outdated",1,"шт."]
["5518G-A03449 C1","5518G-A03449 C1","Розетка з заземленням Swing кремовий",860,15.93,"CZEPJ_20/Outdated",1,"шт."]
["5518G-A03449 D1","5518G-A03449 D1","Розетка з заземленням Swing бежевий",1350,16.89,"CZEPJ_10 / Swing",1,"шт."]
["5522H-C03457 16","5522H-C03457 16","Розетка подвійн.заз.Levit сірий/білий",1,189.17,"CZEPJ_14/Levit",1,"шт."]
["6349-811-101-500","6349-811-101-500","Нижня планка, декоративна, Busch-priOn",3,141.66999999999999,"DEBJE_10 / EIB devices",1,"шт."]
["6402 U-500","6402 U-500","Механізм 2-кан.універсальн.реле",1,930.4,"DEBJE_02 / Electronic devices",1,"шт."]
["6430-82-102","6430-82-102","Центр.плата жалюзі F/S сл.кістка",2,184.79,"DEBJE_02 / Electronic devices",1,"шт."]
["6513 U-102","6513 U-102","Механізм повор.світлорег. 420Вт",4,1885.05,"DEBJE_02 / Electronic devices",1,"шт."]
["6517 U-101","6517 U-101","Механізм повор.світлорег. 60-400Вт",1,496.27,"DEBJE_02 / Electronic devices",1,"шт."]
["6519 U","6519 U","Механізм повор.світлорег. 550Вт",1,835.44,"DEBJE_02 / Electronic devices",1,"шт."]
["6520 U-500","6520 U-500","Механізм повор.світлорег. 1000Вт",1,2973.28,"DEBJE_02 / Electronic devices",1,"шт."]
["6523-102-500","6523-102-500","LED-світлорегулятор на DIN-рейку",1,3538.91,"DEBJE_02 / Electronic devices",1,"шт."]
["6540-74","6540-74","Центр.плата пов.світлорег.Impuls білий",6,467.95,"DEBJE_02 / Electronic devices",1,"шт."]
["6540-775","6540-775","Центр.плата пов.світлорег. Impuls ч.окс.",1,178.57,"DEBJE_02 / Electronic devices",1,"шт."]
["6540-82-101","6540-82-101","Центр.плата пов.світлорег. F/S сл.к.",5,248.31,"DEBJE_02 / Electronic devices",1,"шт."]
["6540-840-102-500","6540-840-102-500","Ц.пл.пов.світлорег. ДИНАСТИЯ латунь ант.",2,521.04,"DEBJE_17 / Dynasty",1,"шт."]
["6543-79-101","6543-79-101","Ц.плата кл.світлорег.Impuls шамп.мет.",4,169.99,"DEBJE_02 / Electronic devices",1,"шт."]
["6591 U-101","6591 U-101","Механізм повор.унів.світлорег.",2,2733.15,"DEBJE_02 / Electronic devices",1,"шт."]
["6800-79-104M","6800-79-104M","Датчик руху мульт.Impuls шамп.мет.",2,770.75,"DEBJE_02 / Electronic devices",1,"шт."]
["6804 U-101-500","6804 U-101-500","Механізм датчика руху 420Вт",13,348.15,"DEBJE_02 / Electronic devices",1,"шт."]
["6812 U-101-500","6812 U-101-500","Мех.датчик руху унів.реле",6,410.95,"DEBJE_02 / Electronic devices",1,"шт."]
["6815-82","6815-82","Сенсор комф.вимикач F/S сл.к.",4,303.32,"DEBJE_02 / Electronic devices",1,"шт."]
["6815-84","6815-84","Сенсор комф.вимикач F/S білий",1,497.19,"DEBJE_02 / Electronic devices",1,"шт."]
["8144.1","8144.1","Мех-м вимикача жалюзі з фіксацією",5,279.73,"ESNIE_01 / Inserts",1,"шт."]
["8223 U","8223 U","Динамік цифрове радіо прихов. 2Вт",1,726.29,"DEBJE_14 / AudioWorld, Infoline, Radio",1,"шт."]
["8252-84","8252-84","Центр.плата прийм.радіо F/S біл.",2,182.09,"DEBJE_14 / AudioWorld, Infoline, Radio",1,"шт."]
["8253-84","8253-84","Центр.плата динамік радіо F/S білий",5,249.15,"DEBJE_14 / AudioWorld, Infoline, Radio",1,"шт."]
["8380-10","8380-10","Блок LED підсв. 0.5мА білий",6,46.31,"DEBJE_01 / Inserts",1,"шт."]
["8390-17","8390-17","Світлодіод 0.5мА синій",3,203.76,"DEBJE_01 / Inserts",1,"шт."]
["8500 AI","8500 AI","Заглушка Sky сталь",6,224.31,"ESNIE_05 / Sky, Sky Moon",1,"шт."]
["8501.3 AI","8501.3 AI","Клавіша лінза Sky сталь",7,180.63,"ESNIE_05 / Sky, Sky Moon",1,"шт."]
["8501.3 CB","8501.3 CB","Клавіша лінза Sky біле скло",3,192.35,"ESNIE_05 / Sky, Sky Moon",1,"шт."]
["8501.3 PL","8501.3 PL","Клавіша лінза Sky сріблястий",1,99.43,"ESNIE_05 / Sky, Sky Moon",1,"шт."]
["8504 BL","8504 BL","Клавіша символ Дзвоник Sky білий",9,55.35,"ESNIE_05 / Sky, Sky Moon",1,"шт."]
["8504 NS","8504 NS","Клавіша символ Дзвоник Sky чорн.оксамит",9,86.39,"ESNIE_05 / Sky, Sky Moon",1,"шт."]
["8504 PL","8504 PL","Клавіша символ Дзвоник Sky сріблястий",10,79.67,"ESNIE_05 / Sky, Sky Moon",1,"шт."]
["8507 AI","8507 AI","Центр.плата каб.вивід Sky сталь",7,188.57,"ESNIE_05 / Sky, Sky Moon",1,"шт."]
["8507 BL","8507 BL","Центр.плата каб.вивід Sky білий",1,72.39,"ESNIE_05 / Sky, Sky Moon",1,"шт."]
["8507 NS","8507 NS","Центр.плата каб.вивід Sky чорний оксамит",3,94.35,"ESNIE_05 / Sky, Sky Moon",1,"шт."]
["8507 PL","8507 PL","Центр.плата каб.вивід Sky сріблястий",10,86.39,"ESNIE_05 / Sky, Sky Moon",1,"шт."]
["8514 BL","8514 BL","Клавіша карт.вимикача Sky білий",9,209.8,"ESNIE_05 / Sky, Sky Moon",1,"шт."]
["8517 PL","8517 PL","Ц.плата один.комунік. Sky сріблястий",10,82.19,"ESNIE_05 / Sky, Sky Moon",1,"шт."]
["8544 AI","8544 AI","Клавіша подвійна жалюзі Sky сталь",7,284.43,"ESNIE_05 / Sky, Sky Moon",1,"шт."]
["8544 CB","8544 CB","Клавіша подвійна жалюзі Sky біле скло",2,311.17,"ESNIE_05 / Sky, Sky Moon",1,"шт."]
["8550.1 NS","8550.1 NS","Центр.плата TV/R+SAT Sky чорний оксамит",40,103.16,"ESNIE_05 / Sky, Sky Moon",1,"шт."]
["8560.1 BL","8560.1 BL","Ц.плата кл.світлорег. Sky білий",3,115.96,"ESNIE_05 / Sky, Sky Moon",1,"шт."]
["8573.1 BL","8573.1 BL","Рамка 3 поста базова Sky білий",8,153.88999999999999,"ESNIE_05 / Sky, Sky Moon",1,"шт."]
["8574.1 BL","8574.1 BL","Рамка 4 поста базова Sky білий",1,201.89,"ESNIE_05 / Sky, Sky Moon",1,"шт."]
["8588.9 AI","8588.9 AI","Ц.пл. розетка заз.плоск.Schuko Sky сталь",15,185.55,"ESNIE_05 / Sky, Sky Moon",1,"шт."]
["8588.9 CB","8588.9 CB","Ц.пл. роз-ка заз.плоск.Schuko Sky б.скло",8,191.27,"ESNIE_05 / Sky, Sky Moon",1,"шт."]
["8601.3 CR","8601.3 CR","Клавіша одинарна лінза Skymoon хром",6,285.32,"ESNIE_05 / Sky, Sky Moon",1,"шт."]
["8607 CR","8607 CR","Центр.плата каб.вивід Skymoon хром",2,226.55,"ESNIE_05 / Sky, Sky Moon",1,"шт."]
["8650 CR","8650 CR","Центр.плата TV-R/TV/R-SAT Skymoon хром",3,279.8,"ESNIE_05 / Sky, Sky Moon",1,"шт."]
["N2004.2","N2004.2","Шильдик з символом ВЕНТІЛЯТОР",11,25.93,"ESNIE_06 / ZENIT",1,"шт."]
["N2004.3","N2004.3","Шильдик з символом WC",3,8.57,"ESNIE_06 / ZENIT",1,"шт."]
["N2071.8","N2071.8","Вставка для використання монтажн.лапок",3,4.51,"ESNIE_06 / ZENIT",1,"шт."]
["N2101.5 PL","N2101.5 PL","Вимик.1-кл.контр.підсв.Zenit срібл  1мод",3,195.87,"ESNIE_06 / ZENIT",1,"шт."]
["N2101.9 AN","N2101.9 AN","Клавіша символ Zenit антрацит/1мод.",7,55.21,"ESNIE_06 / ZENIT",1,"шт."]
["N2102.5 AN","N2102.5 AN","Вимик1-кл.прох.підсв.Zenit антрац  1мод.",1,205.45,"ESNIE_06 / ZENIT",1,"шт."]
["N2104 AN","N2104 AN","Кнопка 1-кл. ДЗВІНОК Zenit антрац 1мод",7,31.23,"ESNIE_06 / ZENIT",1,"шт."]
["N2104 BL","N2104 BL","Кнопка 1-кл. ДЗВІНОК Zenit білий 1мод",5,68.010000000000005,"ESNIE_06 / ZENIT",1,"шт."]
["N2104 PL","N2104 PL","Кнопка 1-кл. ДЗВІНОК Zenit срібл 1мод",15,79.03,"ESNIE_06 / ZENIT",1,"шт."]
["N2107 PL","N2107 PL","Вивід кабельний Zenit сріблястий 1 мод",6,71.010000000000005,"ESNIE_06 / ZENIT",1,"шт."]
["N2117.6 AN","N2117.6 AN","Розетка ТФ 6-пол. RJ12 Zenit антрац 1мод",51,43.95,"ESNIE_06 / ZENIT",1,"шт."]
["N2133 BL","N2133 BL","Розетка італ.стандарт Zenit білий/1мод",18,47.48,"ESNIE_06 / ZENIT",1,"шт."]
["N2135 CV","N2135 CV","Розетка без заземлення Zenit шамп  1мод.",36,114.88,"ESNIE_06 / ZENIT",1,"шт."]
["N2135 PL","N2135 PL","Розетка без заземлення Zenit срібл 1мод",65,42.2,"ESNIE_06 / ZENIT",1,"шт."]
["N2150.7 AN","N2150.7 AN","Розетка TV проста Zenit антр/1мод.",1,156.81,"ESNIE_06 / ZENIT",1,"шт."]
["N2150.7 CV","N2150.7 CV","Розетка TV проста Zenit шамп/ 1мод.",9,177.61,"ESNIE_06 / ZENIT",1,"шт."]
["N2150.7 PL","N2150.7 PL","Розетка TV проста Zenit срібл/1мод.",2,177.6,"ESNIE_06 / ZENIT",1,"шт."]
["N2171.1 BL","N2171.1 BL","Рамка 1 пост базова Zenit біл 1мод",8,20.41,"ESNIE_06 / ZENIT",1,"шт."]
["N2180 RJ","N2180 RJ","СвітлосигналізаторLED Zenit червон 1мод",4,308.41000000000003,"ESNIE_06 / ZENIT",1,"шт."]
["N2201.5 BL","N2201.5 BL","Вимикач 1-клав.контр.підсв. Zenit білий",7,162.19,"ESNIE_06 / ZENIT",1,"шт."]
["N2204 AN","N2204 AN","Кнопка 1-клавішна ДЗВІНОК Zenit антрацит",1,93.29,"ESNIE_06 / ZENIT",1,"шт."]
["N2204 PL","N2204 PL","Кнопка 1-клавішна ДЗВІНОК Zenit срібл",7,111.19,"ESNIE_06 / ZENIT",1,"шт."]
["N2204.6 AN","N2204.6 AN","Кнопка 1-клавішна 1НЗ Zenit антрацит",4,95.11,"ESNIE_06 / ZENIT",1,"шт."]
["N2217.6 BL","N2217.6 BL","Розетка ТФ 6-пол. RJ12 Zenit білий",4,111.43,"ESNIE_06 / ZENIT",1,"шт."]
["N2217.6 CV","N2217.6 CV","Розетка ТФ 6-пол. RJ12 Zenit шампань",17,49.84,"ESNIE_06 / ZENIT",1,"шт."]
["N2229 AN","N2229 AN","\"Центр.плата радіо динамік 2\"\"Zenit ант\"",2,43.31,"ESNIE_08 / Audio Systems",1,"шт."]
["N2239 CV","N2239 CV","Розетка унів.13-15A/127-220В Zenit шамп.",4,179.07,"ESNIE_06 / ZENIT",1,"шт."]
["N2240.5 BL","N2240.5 BL","Центр.плата терморег. 8140.5 Zenit білий",5,121.89,"ESNIE_06 / ZENIT",1,"шт."]
["N2240.5 PL","N2240.5 PL","Центр.плата терморег.8140.5 Zenit срібл",5,168.6,"ESNIE_06 / ZENIT",1,"шт."]
["N2241 CV","N2241 CV","Датчик руху Zenit шампань",2,1346.67,"ESNIE_06 / ZENIT",1,"шт."]
["N2251.3 AN","N2251.3 AN","Розетка TV-R-SAT одиночна Zenit антрац",8,271.17,"ESNIE_06 / ZENIT",1,"шт."]
["N2251.3 BL","N2251.3 BL","Розетка TV-R-SAT одиночна Zenit білий",3,229.61,"ESNIE_06 / ZENIT",1,"шт."]
["N2251.3 CV","N2251.3 CV","Розетка TV-R-SAT одиночна Zenit шампань",7,115.25,"ESNIE_06 / ZENIT",1,"шт."]
["N2251.7 AN","N2251.7 AN","Розетка TV-R-SAT кінцева Zenit антрац",16,281.69,"ESNIE_06 / ZENIT",1,"шт."]
["N2251.7 BL","N2251.7 BL","Розетка TV-R-SAT кінцева Zenit білий",12,212.55,"ESNIE_06 / ZENIT",1,"шт."]
["N2251.7 CV","N2251.7 CV","Розетка TV-R-SAT кінцева Zenit шампань",10,103.75,"ESNIE_06 / ZENIT",1,"шт."]
["N2260.2 PL","N2260.2 PL","Світлорег.повор. 60-500 Вт Zenit срібл.",8,1816.03,"ESNIE_06 / ZENIT",1,"шт."]
["N2288 RJ","N2288 RJ","Розетка SCHUKO заз. Zenit червона",1,120.65,"ESNIE_06 / ZENIT",1,"шт."]
["N2471 AN","N2471 AN","Рамка італ.ст. 1 модуль Zenit антрацит",42,99.44,"ESNIE_06 / ZENIT",1,"шт."]
["N2471 CV","N2471 CV","Рамка італ.ст. 1 модуль Zenit шампань",19,38.520000000000003,"ESNIE_06 / ZENIT",1,"шт."]
["N2472 PL","N2472 PL","Рамка італ.ст. 2 модулі Zenit срібл",16,34.15,"ESNIE_06 / ZENIT",1,"шт."]
["N2473 OX","N2473 OX","Рамка італ.ст. 3 модулі Zenit сталь",9,731.73,"ESNIE_12 /  ZENIT natural frames",1,"шт."]
["N2777 CV","N2777 CV","Рамка італ.ст. 7 модулів Zenit шампань",10,181.41,"ESNIE_06 / ZENIT",1,"шт."]
["N3272 BL","N3272 BL","Рамка 2 поста кр. IP55 Zenit білий",37,305.89,"ESNIE_06 / ZENIT",1,"шт."]
["N3272 GR","N3272 GR","Рамка 2 поста кр. IP55 Zenit сірий",2,284.72000000000003,"ESNIE_06 / ZENIT",1,"шт."]
["N3373 GR","N3373 GR","Рамка 3 модулі кр. IP55 Zenit сірий",4,228.85,"ESNIE_06 / ZENIT",1,"шт."]
["T1000","T1000","Адаптер пустий для механізмів Zenit",149,68,"ESNIE_06 / ZENIT",1,"шт."]
["T1018.2 BL","T1018.2 BL","Адаптер 2 отвори для комун.роз'ємів",11,125.11,"ESNIE_06 / ZENIT",1,"шт."]
["T1088 BL","T1088 BL","Адаптер з двома розетками SCHUKO",3,215.33,"ESNIE_06 / ZENIT",1,"шт."]
["T1373 BL","T1373 BL","Рамка 3 колонки по 2x2/4x1 модуля",41,229.73,"ESNIE_06 / ZENIT",1,"шт."]
["1722-295-500","1722-295-500","Рамка 2 поста Axcent чорний шато",3,321.27,"DEBJE_12 / Axcent",1,"шт."]
["1724-284","1724-284","Рамка 4 поста Axcent білий",2,363.15,"DEBJE_12 / Axcent",1,"шт."]
["1743-896-500","1743-896-500","Центр.плата TV+R(SAT) Axcent білий шале",10,85.73,"DEBJE_12 / Axcent",1,"шт."]
["3553-05929 B","3553-05929 B","Вимикач 2-кл. IP44 Praktik білий",8,120.35,"CZEPJ_06 / Praktik, Garant IP44/IP66",1,"шт."]
["5518-3029 S","5518-3029 S","Розетка подвійна заз. IP44 Praktik сірий",3,183.11,"CZEPJ_06 / Praktik, Garant IP44/IP66",1,"шт."]
["1SBH143001R8862","NL62E","NL62E, 220VDC Контактор",1,582.41999999999996,"ControlGear Equip",1,"шт."]
["1SBL417501R7200","AF75-22-00","AF75-22-00 20-60V DC Контактор",30,3583.98,"ControlGear Equip",1,"шт."]
["1SBL419001R8600","AE75-30-00","AE75-30-00 110VDC Контактор",5,895.98,"ControlGear Equip",1,"шт."]
["1SBL143061R6201","TAL9-30-01","TAL9-30-01 77-143V DC Контактор",22,283.14999999999998,"ControlGear Equip",1,"шт."]
["1SBL143061R6210","TAL9-30-10","TAL9-30-10 77-143V DC Контактор",2,283.14999999999998,"ControlGear Equip",1,"шт."]
["1SBL143561R6200","TAL9-22-00","TAL9-22-00 77-143V DC Контактор",36,283.14999999999998,"ControlGear Equip",1,"шт."]
["1SBL323061R6201","TAL40-30-01","TAL40-30-01 77-143V DC Контактор",32,916.85,"ControlGear Equip",1,"шт."]
["GJL1313061R6012","TBC7-30-01-77-143","TBC7-30-01-77-143 мініконтактор",296,202.25,"ControlGear Equip",1,"шт."]
["GJH1213061R6222","TKC6-22Z-77-143DC","TKC6-22Z-77-143DC вспоміжний контактор",6,202.25,"ControlGear Equip",1,"шт."]
["1SFL459061R6211","TAE110-30-11","TAE110-30-11 77-143VDC контактор",1,2256.1799999999998,"ControlGear Equip",1,"шт."]
["1SFL497001R6911","AF185-30-11","AF185-30-11 48-130V, контактор",5,5361.48,"ControlGear Equip",1,"шт."]
["1SFL511001R8411","A210-30-11","A210-30-11 110V 50Hz контактор",3,4427.1400000000003,"ControlGear Equip",1,"шт."]
["1SAM151000R1007","MS225-2","MS225-2,5A",50,268.8,"ControlGear Equip",1,"шт."]
["1SAM151000R1011","MS225-12","MS225-12,5A",8,350,"ControlGear Equip",1,"шт."]
["1SAZ211201R1038","TA25DU6.5","TA25DU6.5 Реле перенавантаження",6,362.88,"ControlGear Equip",1,"шт."]
["1SVR630110R3300","CT-AHS.22","CT-AHS.22 Реле часу з затримкою вимикання",1,446.21,"Electronic Products",1,"шт."]
["1SVR630180R0300","CT-APS.21","CT-APS.21 Реле часу з затримкою вимикання",55,763.39,"Electronic Products",1,"шт."]
["1SVR430120R0100","CT-ARS.11","CT-ARS.11 Реле часу з затримкою вимикання",20,542.29999999999995,"Electronic Products",1,"шт."]
["1SVR630120R3300","CT-ARS.21","CT-ARS.21 Реле часу з затримкою вимикання",19,889.06,"Electronic Products",1,"шт."]
["1SVR450331R0000","CM-LWN","CM-LWN Реле контролю навантаження",5,1595.33,"Electronic Products",1,"шт."]
["1SVR450331R0100","CM-LWN","CM-LWN Реле контролю навантаження",40,1755.26,"Electronic Products",1,"шт."]
["1SAM101937R0012","PS3-2-0","PS3-2-0",13,40.32,"ControlGear Equip",1,"шт."]
["1SAM401907R1003","AA4-230","AA4-230 парал розчеплювач для MS4хх",4,71.91,"ControlGear Equip",1,"шт."]
["1SBV011343R1211","LS60M43B11","LS60M43B11 Кінцевий вимикач",1,383.85,"ControlGear Equip",1,"шт."]
["1SFA611102R2101","MP3-21R","MP3-21R, Кнопка",1,28.44,"ControlGear Equip",1,"шт."]
["1SFA611213R1108","M3SS4-11C","M3SS4-11C перемикач",12,145.77000000000001,"ControlGear Equip",1,"шт."]
["1SFA611213R2102","M3SS4-21G","M3SS4-21G перемикач",519,169.92,"ControlGear Equip",1,"шт."]
["1SFA611610R2002","MCB-20B","MCB-20B,блок додаткових контактів",3,36.85,"ControlGear Equip",1,"шт."]
["1SFA611621R1073","MLBL-07Y","MLBL-07Y ламповий блок",5,74.180000000000007,"ControlGear Equip",1,"шт."]
["1SFA611621R1075","MLBL-07W","MLBL-07W ламповий блок",1,102.61,"ControlGear Equip",1,"шт."]
["1SFA611621R1095","LAMP","LAMP BLOCK#MLBL-09W",5,73.28,"ControlGear Equip",1,"шт."]
["1SFA616950R1013","KTR1-1013","KTR1-1013 трансформатор",1,318.77,"ControlGear Equip",1,"шт."]
["4950512-1","мигаючий","мигаючий світлодіод червоний 24В",9,76.48,"ControlGear Equip",1,"шт."]
["4950512-3","мигаючий","мигаючий світлодіод жовтий, 24В",10,90.75,"ControlGear Equip",1,"шт."]
["1SFA616920R8005","KA1-8005","KA1-8005 Кришка Френеля",3,11.45,"ControlGear Equip",1,"шт."]
["1SFA616921R2222","KA2-2222","KA2-2222 світлодіод 230В зелений",5,189.05,"ControlGear Equip",1,"шт."]
["1SFA619100R1073","CP1-10Y-11","CP1-10Y-11 кнопка 'Компакт' з возвратом",39,23.18,"ControlGear Equip",1,"шт."]
["1SFA619102R1076","кнопка","кнопка CP3-10B-11",20,30.58,"ControlGear Equip",1,"шт."]
["1SFA619102R3041","CP3-30R-01","CP3-30R-01 Кнопка",18,23.27,"ControlGear Equip",1,"шт."]
["1SFA619202R1011","C2SS3-10R-10","C2SS3-10R-10 перемикач 'Компакт' дву",5,52.18,"ControlGear Equip",1,"шт."]
["1SFA619210R3076","C3SS1-30B-11","C3SS1-30B-11 перемикач",7,53.88,"ControlGear Equip",1,"шт."]
["1SFA619402R1001","CL-100R","CL-100R Сигнальний індикатор, без лампи",47,34.25,"ControlGear Equip",1,"шт."]
["1SFA616070R4011","KL70-401R","KL70-401R Cигнальн. маячок б/лампи нак.,",4,252.23,"ControlGear Equip",1,"шт."]
["1SFA616070R4012","KL70-401GCигнальн.","KL70-401GCигнальн. маячок б/лампи нак.,",8,201.24,"ControlGear Equip",1,"шт."]
["1SFA616070R4013","KL70-401Y","KL70-401Y Cигнальн. маячок б/лампи нак.,",14,265.82,"ControlGear Equip",1,"шт."]
["1SFA616075R1001","KT70-1001","KT70-1001 з'єднувальний перехідник",18,332.56,"ControlGear Equip",1,"шт."]
["1SFA616077R1011","KA70-1011","KA70-1011 Цоколь с трубкой, д/сигн. башт",5,165.12,"ControlGear Equip",1,"шт."]
["1SFA616077R1034","KA70-1034тримач","KA70-1034тримач д/сигн. башти",6,107.88,"ControlGear Equip",1,"шт."]
["1SFA616922R1148","KA3-1148","KA3-1148 Лампа накалювання",4,20.65,"ControlGear Equip",1,"шт."]
["1SFA611920R8130","MA1-8130","MA1-8130 Заглушка",1,10.9,"ControlGear Equip",1,"шт."]
["1SFA611930R1003","MA6-1003","MA6-1003 Шильдик",5,32,"ControlGear Equip",1,"шт."]
["1SFA616401R4030","KB1-4030","KB1-4030,Зумер",11,230.63,"ControlGear Equip",1,"шт."]
["1SAZ431201R1001","TF140DU-90","TF140DU-90 Реле перенавантаження",2,1676.1,"ControlGear Equip",1,"шт."]
["1SBH136004R2240","NFZ40ES-22","NFZ40ES-22 Контактор",22,325.60000000000002,"ControlGear Equip",1,"шт."]
["1SBH137004R1222","NF22ES-12","NF22ES-12 Контактор",191,313.55,"ControlGear Equip",1,"шт."]
["1SBH137004R1231","NF31ES-12","NF31ES-12 Контактор",260,340.9,"ControlGear Equip",1,"шт."]
["1SBH137004R1240","NF40ES-12","NF40ES-12 Контактор",64,311.14999999999998,"ControlGear Equip",1,"шт."]
["1SBL177004R1210","AF16-30-10S-12","AF16-30-10S-12 Контактор",143,312.55,"ControlGear Equip",1,"шт."]
["1SBL183260R5100","TAL16-40-00RT","TAL16-40-00RT 17-32V DC Контактор",2,698.5,"ControlGear Equip",1,"шт."]
["1SBL183260R6200","TAL16-40-00RT","TAL16-40-00RT 77-143V DC Контактор",4,447.85,"ControlGear Equip",1,"шт."]
["1SBL183560R6200","TAL16-22-00RT","TAL16-22-00RT 77-143V DC Контактор",38,755.8,"ControlGear Equip",1,"шт."]
["1SBL243061R6210","TAL26-30-10","TAL26-30-10 77-143V DC Контактор",74,689.15,"ControlGear Equip",1,"шт."]
["1SBN010130R1011","CAL4-11S","CAL4-11S Блок додаткових контактів",292,173.75,"ControlGear Equip",1,"шт."]
["1SBN011421R1008","CCL","CCL 5-11 Блок додатк контактів",7,19.8,"ControlGear Equip",1,"шт."]
["1SBN050100R1002","RC","RC 5-1/250 Обмежувач імпульс перенапруги",2,67.8,"ControlGear Equip",1,"шт."]
["1SBN083406R1000","BEA65-4","BEA65-4 З'єднувач",10,166.2,"ControlGear Equip",1,"шт."]
["1SBN083911R1000","BER96-4","BER96-4 Набор з'єднувачів",2,429,"ControlGear Equip",1,"шт."]
["1SBN110108T1000","BX4","BX4 Захисна кришка",33,7.75,"ControlGear Equip",1,"шт."]
["1SBN110109W1000","BX4-CA","BX4-CA  Захисна кришка",39,3.05,"ControlGear Equip",1,"шт."]
["1SBN110120W1000","BB4","BB4 З'єднувальні клипси",45,3.4,"ControlGear Equip",1,"шт."]
["1SFA611201R3103","M2SS2-31Y","M2SS2-31Y перемикач",6,284.39999999999998,"ControlGear Equip",1,"шт."]
["1SFA611283R3001","M3SSK1-301","M3SSK1-301 перемикач",7,719.95,"ControlGear Equip",1,"шт."]
["1SFA611610R1020","MCB-02","MCB-02 контактний блок",5,85.15,"ControlGear Equip",1,"шт."]
["1SFA611620R1008","MLB-8","MLB-8 ламповий блок",4,61.7,"ControlGear Equip",1,"шт."]
["1SFA616921R2231","KA2-2231","KA2-2231 світлодіод 230В червоний",13,182.8,"ControlGear Equip",1,"шт."]
["1SFA619200R1076","C2SS1-10B-11","C2SS1-10B-11 перемикач 'Компакт' дву",2,127.4,"ControlGear Equip",1,"шт."]
["1SFA619403R5024","CL2-502L","CL2-502L 24V a.c./d.c.Сигнальний індикат",2,72.3,"ControlGear Equip",1,"шт."]
["1SFA619403R5131","CL2-513R","CL2-513R 110-130V a.c.Сигнальний індикат",10,68.150000000000006,"ControlGear Equip",1,"шт."]
["1SFA619403R5132","CL2-513G","CL2-513G 110-130V a.c.Сигнальний індикат",20,68.150000000000006,"ControlGear Equip",1,"шт."]
["1SFA619403R5151","CL2-515R","CL2-515R 110-130V d.c.Сигнальний індикат",7,75.7,"ControlGear Equip",1,"шт."]
["1SFA619403R5152","CL2-515G","CL2-515G 110-130V d.c.Сигнальний індикат",5,66.95,"ControlGear Equip",1,"шт."]
["1SFL431024R8011","UA95-30-11RA","UA95-30-11RA 220-230V50Hz контактор",1,1574.1,"ControlGear Equip",1,"шт."]
["1SFL467002R1211","AF146-30-11B-12#48-130V","AF146-30-11B-12#48-130V Контактор",86,2696.2,"ControlGear Equip",1,"шт."]
["1SFL477001R6911","AF145-30-11","AF145-30-11 48-130V контактор",388,2662.45,"ControlGear Equip",1,"шт."]
["1SFN034700R1000","VM300H","VM300H механічне блокування",3,867.8,"ControlGear Equip",1,"шт."]
["1SFN035701R1000","VM750V","VM750V механічне блокування",1,272.2,"ControlGear Equip",1,"шт."]
["1SFN075707R1000","LW460","LW460 Блок розширення контактів",5,403.4,"ControlGear Equip",1,"шт."]
["1SFN075710R1000","LX460","LX460 Блок розширення контактів",2,636,"ControlGear Equip",1,"шт."]
["1SFN076107R1000","LW750","LW750 Блок розширення контактів",13,483.95,"ControlGear Equip",1,"шт."]
["1SFN076110R1000","LX750","LX750 перемичка",2,422.5,"ControlGear Equip",1,"шт."]
["1SFN084206R1000","BEA140/XT2","BEA140/XT2  З'єднувач",66,294.8,"ControlGear Equip",1,"шт."]
["1SFN084706R1003","BEA","BEA 185/T3 з'єднувальна шина, вертикал.",248,458.05,"ControlGear Equip",1,"шт."]
["1SFN084814R2000","BEP205-40","BEP205-40 з'єднувальний комплект",3,2303.0500000000002,"ControlGear Equip",1,"шт."]
["1SFN085701R1000","BEM460-30,","BEM460-30, з'єднувальна шина",2,2169.1999999999998,"ControlGear Equip",1,"шт."]
["1SFN085704R1000","BES460-30,","BES460-30, з'єднувальний комплект",10,1058.45,"ControlGear Equip",1,"шт."]
["1SFN086104R1000","BES","BES 750-30, з'єднувальний комплект",10,1394.2,"ControlGear Equip",1,"шт."]
["1SFN124203R1000","LT140-30L","LT140-30L Клемна кришка",30,129.65,"ControlGear Equip",1,"шт."]
["1SFN124701R1000","LT185-AC","LT185-AC захисний кожух",99,186.2,"ControlGear Equip",1,"шт."]
["1SFN124803R2000","LT205-40L","LT205-40L захисний кожух",3,404.6,"ControlGear Equip",1,"шт."]
["1SFN126101R1000","LT750-AC","LT750-AC захисний кожух",2,124.8,"ControlGear Equip",1,"шт."]
["1SVR011754R2100","CC-E","CC-E TC/I Конвертер аналог сигналів",2,2599.25,"Electronic Products",1,"шт."]
["1SVR405600R4000","CR-P012DC1","CR-P012DC1 Цокольні інтерфейсні реле",5,28.9,"Electronic Products",1,"шт."]
["1SVR405600R8000","CR-P110DC1","CR-P110DC1 Цокольні інтерфейсні реле",208,21.95,"Electronic Products",1,"шт."]
["1SVR405601R4000","CR-P012DC2","CR-P012DC2 Цокольні інтерфейсні реле",8,63.65,"Electronic Products",1,"шт."]
["1SVR405611R8000","CR-M110DC2","CR-M110DC2 Цокольні інтерфейсні реле",10,25.15,"Electronic Products",1,"шт."]
["1SVR405611R9000","CR-M220DC2","CR-M220DC2 Цокольні інтерфейсні реле",4,33.1,"Electronic Products",1,"шт."]
["1SVR405611R9100","CR-M220DC2L","CR-M220DC2L Цокольні інтерфейсні реле",15,42,"Electronic Products",1,"шт."]
["1SVR405612R9100","CR-M220DC3L","CR-M220DC3L Цокольні інтерфейсні реле",7,78.8,"Electronic Products",1,"шт."]
["1SVR405613R6100","CR-M048DC4L","CR-M048DC4L Цокольні інтерфейсні реле",150,45.25,"Electronic Products",1,"шт."]
["1SVR405613R8100","CR-M110DC4L","CR-M110DC4L Цокольні інтерфейсні реле",1,118.6,"Electronic Products",1,"шт."]
["1SVR405613R9100","CR-M220DC4L","CR-M220DC4L Цокольні інтерфейсні реле",7,130.15,"Electronic Products",1,"шт."]
["1SVR405618R9100","CR-M220DC4LG","CR-M220DC4LG Цокольні інтерфейсні реле",5,45.4,"Electronic Products",1,"шт."]
["1SVR405622R1000","CR-U024DC3","CR-U024DC3 Цокольні інтерфейсні реле",9,128.94999999999999,"Electronic Products",1,"шт."]
["1SVR405651R1100","CR-M2LS","CR-M2LS Цоколь для реле",49,77.900000000000006,"Electronic Products",1,"шт."]
["1SVR405651R2100","CR-M3LS","CR-M3LS Цоколь для реле",8,83.8,"Electronic Products",1,"шт."]
["1SVR405651R3200","CR-M4LC","CR-M4LC Цоколь для реле",27,109.9,"Electronic Products",1,"шт."]
["1SVR405655R1100","CR-P/M92CV","CR-P/M92CV Функційний модуль",6,23.75,"Electronic Products",1,"шт."]
["1SVR405655R4000","CR-P/M62D","CR-P/M62D Функційний модуль",186,23.3,"Electronic Products",1,"шт."]
["1SVR405656R0000","CR-P/M72","CR-P/M72 Функційний модуль",8,17.5,"Electronic Products",1,"шт."]
["1SVR405660R0000","CR-U3S","CR-U3S Цоколь для реле",20,63.5,"Electronic Products",1,"шт."]
["1SVR405667R0000","CR-UT","CR-UT Функційний модуль",8,640.25,"Electronic Products",1,"шт."]
["1SVR405669R0000","CR-UH","CR-UH Утримувач",10,20.95,"Electronic Products",1,"шт."]
["1SVR427071R0000","CP-A","CP-A RU Модуль підкл. резервного живл.",2,604.75,"Electronic Products",1,"шт."]
["1SVR440721R0200","CL-LMR.CX18DC2","CL-LMR.CX18DC2 Логічне реле",4,1083.0999999999999,"Electronic Products",1,"шт."]
["1SVR450081R0000","CM-KRN","CM-KRN Реле для захисту контактів",1,621.70000000000005,"Electronic Products",1,"шт."]
["1SVR730120R3300","CT-ARS.21S","CT-ARS.21S Реле часу з затримкою вимика",5,579.54999999999995,"Electronic Products",1,"шт."]
["FPTN410463R6003","RV-R1/250","RV-R1/250 Обмежувач імпульс перенапруги",1,1325.8,"ControlGear Equip",1,"шт."]
["GHE3211302R1004","ESB","ESB 20-11 12V/50Hz Модульний контатор",5,129.65,"ControlGear Equip",1,"шт."]
["GHE3221101R0006","EN20-20","EN20-20 230V 50Hz Модульний контатор",10,527.9,"ControlGear Equip",1,"шт."]
["GJH1213001R5221","KC6-22Z-2.4","KC6-22Z-2.4 17-32VDC вспоміж. контактор",2,62.75,"ControlGear Equip",1,"шт."]
["GJL1201330R0002","CAF6-11E","CAF6-11E додаткові контакти",6,24,"ControlGear Equip",1,"шт."]
["GJL1201904R0001","BN6","BN6 шток",47,40.299999999999997,"ControlGear Equip",1,"шт."]
["GJL1211001R8105","B6-30-10-400AC","B6-30-10-400AC мініконтактор",5,102.05,"ControlGear Equip",1,"шт."]
["1SAM201907R1102","S1-M2-25","S1-M2-25 клема",4,108.95,"ControlGear Equip",1,"шт."]
["1SDA066154R1","RHD A1-A2 STAND. DIRECT                 ","Аксесуари до корп. авт. вимикачів серії FormulA",10,366.84,"MCCBs FormulA + acc.",1,"шт."]
["1SDA066155R1","RHD A3 F/P STAND. DIRECT                ","Аксесуари до корп. авт. вимикачів серії FormulA",10,597.89,"MCCBs FormulA + acc.",1,"шт."]
["1SDA066164R1","RHE_S A1-A2 500MM ROD R.D.ADJ.ROT.HAN   ","Аксесуари до корп. авт. вимикачів серії FormulA",9,262.36,"MCCBs FormulA + acc.",1,"шт."]
["1SDA068952R1","RHE_S A3 500MM ROD R.D.ADJ.ROT.HAN      ","Аксесуари до корп. авт. вимикачів серії FormulA",10,306.08,"MCCBs FormulA + acc.",1,"шт."]
["1SDA066225R1","KIT ES A1 3pcs                          ","Аксесуари до корп. авт. вимикачів серії FormulA",2,327.77,"MCCBs FormulA + acc.",1,"шт."]
["1SDA052619R1","T1B 160 TMF32-630 1p F FC Cu (1x70mm2)  ","Корпусний авт-ний вимикач серії Tmax Т до 800А",9,380.23,"MCCBs Tmax,XT ≤800A+",1,"шт."]
["1SDA050870R1","T1B 160 TMD16-630 3p F FC Cu (1x70mm2)  ","Корпусний авт-ний вимикач серії Tmax Т до 800А",1,593.44000000000005,"MCCBs Tmax,XT ≤800A+",1,"шт."]
["1SDA050950R1","T2N 160 TMD16-500 3p F F                ","Корпусний авт-ний вимикач серії Tmax Т до 800А",1,2168.21,"MCCBs Tmax,XT ≤800A+",1,"шт."]
["1SDA050951R1","T2N 160 TMD20-500 3p F F                ","Корпусний авт-ний вимикач серії Tmax Т до 800А",13,890.33,"MCCBs Tmax,XT ≤800A+",1,"шт."]
["1SDA051126R1","T2N 160 PR221DS-LS In=100A 3p F F       ","Корпусний авт-ний вимикач серії Tmax Т до 800А",87,1642.12,"MCCBs Tmax,XT ≤800A+",1,"шт."]
["1SDA067857R1","XT2H 160 Ekip LS/I In=10A 3p F F        ","Корпусний авт-ний вимикач серії Tmax ХТ до 250А",1,2722.43,"MCCBs Tmax,XT ≤800A+",1,"шт."]
["1SDA051243R1","T3N 250 TMD 100-1000 3p F F              ","Корпусний авт-ний вимикач серії Tmax Т до 800А",170,2708.59,"MCCBs Tmax,XT ≤800A+",1,"шт."]
["1SDA053998R1","T4N 250 PR221DS-LS/I In=160 3p F F      ","Корпусний авт-ний вимикач серії Tmax Т до 800А",4,2379.71,"MCCBs Tmax,XT ≤800A+",1,"шт."]
["1SDA054006R1","T4N 250 PR222DS/P-LSIG In=100 3p F F    ","Корпусний авт-ний вимикач серії Tmax Т до 800А",2,3780.89,"MCCBs Tmax,XT ≤800A+",1,"шт."]
["1SDA054522R1","T4N 250 PR222MP In=100 3p F F           ","Корпусний авт-ний вимикач серії Tmax Т до 800А",11,2375.3200000000002,"MCCBs Tmax,XT ≤800A+",1,"шт."]
["1SDA054525R1","T4S 250 PR222MP In=100 3p F F           ","Корпусний авт-ний вимикач серії Tmax Т до 800А",1,3635.28,"MCCBs Tmax,XT ≤800A+",1,"шт."]
["1SDA054051R1","T4H 250 PR222DS/P-LSI In=100 3p F F     ","Корпусний авт-ний вимикач серії Tmax Т до 800А",1,3220.19,"MCCBs Tmax,XT ≤800A+",1,"шт."]
["1SDA066582R1","RHS R XT1-XT3 F/P EMER. DX LATERAL      ","Аксесуари до корп. авт. вимикачів серії Tmax XT",1,157.49,"MCCBs Tmax,XT ≤800A+",1,"шт."]
["1SDA051494R1","KIT ES T3 3pcs                          ","Аксесуари до корп. авт. вимикачів серії Tmax T",2,282.33,"MCCBs Tmax,XT ≤800A+",1,"шт."]
["1SDA051492R1","KIT ES T3 6pcs                          ","Аксесуари до корп. авт. вимикачів серії Tmax T",8,517.91,"MCCBs Tmax,XT ≤800A+",1,"шт."]
["1SDA051370R1","AUX-C T1-T2-T3 1Q 1SY                   ","Аксесуари до корп. авт. вимикачів серії Tmax T",169,407.55,"MCCBs Tmax,XT ≤800A+",1,"шт."]
["1SDA051336R1","SOR T1-T2-T3 220...240Vac-220...250Vdc  ","Аксесуари до корп. авт. вимикачів серії Tmax T",6,290.44,"MCCBs Tmax,XT ≤800A+",1,"шт."]
["1SDA055010R1","KIT F A3-T5 6pcs                        ","Аксесуари до корп. авт. вимикачів серії Tmax T",4,264.70999999999998,"MCCBs Tmax,XT ≤800A+",1,"шт."]
["1SDA054948R1","MIR-P tipo A (T4-T4)                    ","Аксесуари до корп. авт. вимикачів серії Tmax T",2,158.81,"MCCBs Tmax,XT ≤800A+",1,"шт."]
["1SDA054919R1","AUP-R T4-T5-T6 CON.WITHDRAW.SIG.        ","Аксесуари до корп. авт. вимикачів серії Tmax T",2,64.89,"MCCBs Tmax,XT ≤800A+",1,"шт."]
["1SDA054933R1","RHE T4-T5 W STAND. RETURNED             ","Аксесуари до корп. авт. вимикачів серії Tmax T",16,351.63,"MCCBs Tmax,XT ≤800A+",1,"шт."]
["1SDA054891R1","UVR-C T4-T5-T6 220...250 Vac/dc         ","Аксесуари до корп. авт. вимикачів серії Tmax T",9,296.95999999999998,"MCCBs Tmax,XT ≤800A+",1,"шт."]
["1SDA066324R1","SOR-C XT1..XT4 F/P 110-127Vac-110-125Vdc","Аксесуари до корп. авт. вимикачів серії Tmax T",8,233.64,"MCCBs Tmax,XT ≤800A+",1,"шт."]
["1SDA063122R1","KIT HR T7-T7M-X1 6pcs                   ","Аксесуари до корп. авт. вимикачів серії Tmax T",9,1663.27,"MCCBs Tmax,XT ≤800A+",1,"шт."]
["1SDA062103R1","AUX T7 1Q + 1SY 24Vd.c.                 ","Аксесуари до корп. авт. вимикачів серії Tmax T",1,145.15,"MCCBs Tmax,XT ≤800A+",1,"шт."]
["1SDA062109R1","AUX-RTC T7M-X1 250Va.c./d.c.CONS.CLOSING","Аксесуари до корп. авт. вимикачів серії Tmax T",3,543.51,"MCCBs Tmax,XT ≤800A+",1,"шт."]
["1SDA063091R1","HTC T7-T7M-X1 F 3p TERM.COVERS HIGH 2pcs","Аксесуари до корп. авт. вимикачів серії Tmax T",3,210.67,"MCCBs Tmax,XT ≤800A+",1,"шт."]
["1SDA063093R1","LTC T7-T7M-X1 F 3p TERM.COVERS LOW 2pcs ","Аксесуари до корп. авт. вимикачів серії Tmax T",10,129.63,"MCCBs Tmax,XT ≤800A+",1,"шт."]
["1SDA062107R1","AUX-SC T7M-X1 250Vac/dc SPRINGS CHARGED ","Аксесуари до корп. авт. вимикачів серії Tmax T",2,208.91,"MCCBs Tmax,XT ≤800A+",1,"шт."]
["1SDA062131R1","PLATE MECH.INTER. T7-T7M-X1 WITH. FP    ","Аксесуари до корп. авт. вимикачів серії Tmax T",17,1306.3900000000001,"MCCBs Tmax,XT ≤800A+",1,"шт."]
["1SDA062122R1","RHE T7 F/W NORM. RETURNED               ","Аксесуари до корп. авт. вимикачів серії Tmax T",3,978.07,"MCCBs Tmax,XT ≤800A+",1,"шт."]
["1SDA013956R1","KIT FC CuAl 3x185mm2 T6 800-S6 800 6pcs ","Аксесуари до корп. авт. вимикачів серії Tmax T",10,2537.25,"MCCBs Tmax,XT ≤800A+",1,"шт."]
["1SDA023384R1","KIT FC CuAl 3x185mm2 T6 800-S6 800 3pcs ","Аксесуари до корп. авт. вимикачів серії Tmax T",1,1384.37,"MCCBs Tmax,XT ≤800A+",1,"шт."]
["1SDA051429R1","PB200 T1-2-3 3p KIT PART,DIV.PHASE HIGH ","Аксесуари до корп. авт. вимикачів серії Tmax T",80,131.87,"MCCBs Tmax,XT ≤800A+",1,"шт."]
["1SDA054768R1","T5 630 W FP 3p EF                       ","Аксесуари до корп. авт. вимикачів серії Tmax T",2,3920.19,"MCCBs Tmax,XT ≤800A+",1,"шт."]
["1SDA054841R1","KIT MP T4 W 3p                          ","Аксесуари до корп. авт. вимикачів серії Tmax T",5,749.27,"MCCBs Tmax,XT ≤800A+",1,"шт."]
["1SDA055173R1","ADP 5pin SOR/UVR RC T4-T5-T6 P/W        ","Аксесуари до корп. авт. вимикачів серії Tmax T",5,119.76,"MCCBs Tmax,XT ≤800A+",1,"шт."]
["1SDA062127R1","KIT CABLE MECH.INTER.HR/VR T7-T7M-X1>2CB","Аксесуари до корп. авт. вимикачів серії Tmax T",1,1344.96,"MCCBs Tmax,XT ≤800A+",1,"шт."]
["1SDA054918R1","AUP-I T4-T5-T6 CON.INSERTED SIGN        ","Аксесуари до корп. авт. вимикачів серії Tmax T",3,197.8,"MCCBs Tmax,XT ≤800A+",1,"шт."]
["1SDA054839R1","KIT MP T4 P 3p                          ","Аксесуари до корп. авт. вимикачів серії Tmax T",3,773.68,"MCCBs Tmax,XT ≤800A+",1,"шт."]
["1SDA054849R1","KIT MP T5 630 W 3p                      ","Аксесуари до корп. авт. вимикачів серії Tmax T",2,1504.87,"MCCBs Tmax,XT ≤800A+",1,"шт."]
["1SDA062038R1","T7D 1250 3p F F M                       ","Корпусний авт-ний вимикач серії Tmax Т понад 800А",2,5762.47,"MCCBs Tmax > 800A",1,"шт."]
["1SDA063011R1","T7S 1600 PR232/P LSI In=1600A 3p F F M  ","Корпусний авт-ний вимикач серії Tmax Т понад 800А",3,35129.870000000003,"MCCBs Tmax > 800A",1,"шт."]
["1SDA055716R1","E1N 800 PR122/P-LSI In=800A 3p W MP     ","Повітряний автоматичний вимикач серії Emax до 6300А",4,20730.310000000001,"ACBs Emax",1,"шт."]
["1SDA059678R1","E1 W FP 3p F-F new                      ","Аксесуари до повітр. авт. вимикачів серії Emax",4,6059.71,"ACBs Emax acc.",1,"шт."]
["1SDA059667R1","E2 W FP 3p HR-HR new                    ","Аксесуари до повітр. авт. вимикачів серії Emax",4,18322.830000000002,"ACBs Emax acc.",1,"шт."]
["1SDA059670R1","E4 W FP 3p HR-HR new                    ","Аксесуари до повітр. авт. вимикачів серії Emax",9,16685.25,"ACBs Emax acc.",1,"шт."]
["1SDA058260R1","ELECTR. I1/4 INDICAT. TRIP PR12x E1-6-T8","Аксесуари до повітр. авт. вимикачів серії Emax",17,248.51,"ACBs Emax acc.",1,"шт."]
["1SDA038361R1","5 AUX.CONTACTS ISOL-CONN. IND.E1/6      ","Аксесуари до повітр. авт. вимикачів серії Emax",4,2241.4299999999998,"ACBs Emax acc.",1,"шт."]
["1SDA038360R1","10 AUX.CONTACTS ISOL.-CONN.IND.3p E1/2  ","Аксесуари до повітр. авт. вимикачів серії Emax",2,1969.75,"ACBs Emax acc.",1,"шт."]
["1SDA038327R1","10 OPEN/CLOSED AUX.CONTACTS  E1/6       ","Аксесуари до повітр. авт. вимикачів серії Emax",10,1544.71,"ACBs Emax acc.",1,"шт."]
["1SDA058266R1","10 OPEN/CLOSED AUX.CONT(5NO+5NC+2PR) E1/6","Аксесуари до повітр. авт. вимикачів серії Emax",11,953.69,"ACBs Emax acc.",1,"шт."]
["1SDA038343R1","PUSHBOTTONS PROTECTION  E1/6-T8         ","Аксесуари до повітр. авт. вимикачів серії Emax",2,260.27,"ACBs Emax acc.",1,"шт."]
["1SDA058255R1","PR120/K SIGN. MODULE 4 IND.OUTPUT  E1-6 ","Аксесуари до повітр. авт. вимикачів серії Emax",10,1135.95,"ACBs Emax acc.",1,"шт."]
["1SDA058252R1","PR120/V MEASURING MODULE INT.LOW. E1-6  ","Аксесуари до повітр. авт. вимикачів серії Emax",9,7437.4,"ACBs Emax acc.",1,"шт."]
["1SDA058254R1","PR120/D-M COMMUNICATION MODULE  E1-6    ","Аксесуари до повітр. авт. вимикачів серії Emax",10,2581.41,"ACBs Emax acc.",1,"шт."]
["1SDA038366R1","ACCESSORY FOR INTERLOCK  E1/2           ","Аксесуари до повітр. авт. вимикачів серії Emax",4,934.55,"ACBs Emax acc.",1,"шт."]
["1SDA038367R1","ACCESSORY FOR INTERLOCK  E3             ","Аксесуари до повітр. авт. вимикачів серії Emax",12,652.71,"ACBs Emax acc.",1,"шт."]
["1SDA038329R1","INTERLOCK CABLES 2CB.S HORIZ.  -A- E1/6 ","Аксесуари до повітр. авт. вимикачів серії Emax",2,600.96,"ACBs Emax acc.",1,"шт."]
["1SDA038331R1","INTERLOCK CABLES 3CB.S HORIZ.  -C-  E1/6","Аксесуари до повітр. авт. вимикачів серії Emax",8,1798.11,"ACBs Emax acc.",1,"шт."]
["1SDA038365R1","ACCESSORY INTERLOCK W FP -C  E1/6       ","Аксесуари до повітр. авт. вимикачів серії Emax",29,1873.67,"ACBs Emax acc.",1,"шт."]
["1SDA038302R1","SHUNT CLOSING RELEASE 220/240V   E1/6-T8","Аксесуари до повітр. авт. вимикачів серії Emax",5,1827.13,"ACBs Emax acc.",1,"шт."]
["1SDA038292R1","SHUNT OPEN.RELEASE 220/240V    E1/6-T8  ","Аксесуари до повітр. авт. вимикачів серії Emax",5,1867.84,"ACBs Emax acc.",1,"шт."]
["1SDA038324R1","GEARED MOTOR DEVICE 220/250V     E1/6-T8","Аксесуари до повітр. авт. вимикачів серії Emax",11,10562.82,"ACBs Emax acc.",1,"шт."]
["1SCA104834R1001","OT16F6","Вимикач-роз'єднувач серії OT до 800А",1,595.11,"OT,CO,ATS ≤800A+acc.",1,"шт."]
["1SCA104886R1001","OT25F4N2","Вимикач-роз'єднувач серії OT до 800А",3,283.01,"OT,CO,ATS ≤800A+acc.",1,"шт."]
["1SCA104900R1001","OT25FT4N2","Вимикач-роз'єднувач серії OT до 800А",7,356.17,"OT,CO,ATS ≤800A+acc.",1,"шт."]
["1SCA105328R1001","OHYS3RH","Аксесуари до вимикачів",9,84.08,"OT,CO,ATS ≤800A+acc.",1,"шт."]
["1SCA117038R1001","OMZC04","Аксесуари до вимикачів",1,500.41,"OT,CO,ATS ≤800A+acc.",1,"шт."]
["1SCA022871R9860","OTS1600G1S/4","Аксесуари до вимикачів",2,231.75,"OT,CO,ATS ≤800A+acc.",1,"шт."]
["1SCA100431R1001","OTZ1600E","Аксесуари до вимикачів",1,1607.91,"OT,CO,ATS ≤800A+acc.",1,"шт."]
["1SCA022119R7610","OZXB2","Аксесуари до вимикачів",9,681.84,"OT,CO,ATS ≤800A+acc.",1,"шт."]
["1SCA022301R5350","YAST1","Аксесуари до вимикачів",1,186.25,"OT,CO,ATS ≤800A+acc.",1,"шт."]
["1SCA022325R7100","OXP12X166","Аксесуари до вимикачів",29,44.59,"OT,CO,ATS ≤800A+acc.",1,"шт."]
["1SCA022353R6910","OTS63T1","Аксесуари до вимикачів",8,26.84,"OT,CO,ATS ≤800A+acc.",1,"шт."]
["1SCA022555R5020","ONFB72","Аксесуари до вимикачів",6,52.32,"OT,CO,ATS ≤800A+acc.",1,"шт."]
["1SCA022708R3170","OHZX11","Аксесуари до вимикачів",5,30.73,"OT,CO,ATS ≤800A+acc.",1,"шт."]
["1SCA022714R8810","OEA28","Аксесуари до вимикачів",1,358.4,"OT,CO,ATS ≤800A+acc.",1,"шт."]
["1SCA022723R2940","OXP12X535-45","Аксесуари до вимикачів",8,297.47000000000003,"OT,CO,ATS ≤800A+acc.",1,"шт."]
["1SCA022807R5100","OTZ800E","Аксесуари до вимикачів",1,1065.44,"OT,CO,ATS ≤800A+acc.",1,"шт."]
["1SCA022865R4800","OWP6D40","Аксесуари до вимикачів",3,485.04,"OT,CO,ATS ≤800A+acc.",1,"шт."]
["1SCA022871R9780","OTS1600G1L/4","Аксесуари до вимикачів",3,581.42999999999995,"OT,CO,ATS ≤800A+acc.",1,"шт."]
["1SCA105099R1001","OTPS125FP","Аксесуари до вимикачів",4,270.67,"OT,CO,ATS ≤800A+acc.",1,"шт."]
["1SCA105291R1001","OHYS1AH1","Аксесуари до вимикачів",3,69.709999999999994,"OT,CO,ATS ≤800A+acc.",1,"шт."]
["1SCA105458R1001","OTPS80FD","Аксесуари до вимикачів",18,43.32,"OT,CO,ATS ≤800A+acc.",1,"шт."]
["1SCA109088R1001","OHBS1/1","Аксесуари до вимикачів",1,41.39,"OT,CO,ATS ≤800A+acc.",1,"шт."]
["1SCA109092R1001","OHBS11","Аксесуари до вимикачів",4,39.35,"OT,CO,ATS ≤800A+acc.",1,"шт."]
["1SCA109093R1001","OHBS11/1","Аксесуари до вимикачів",6,120.12,"OT,CO,ATS ≤800A+acc.",1,"шт."]
["1SCA109095R1001","OHRS1","Аксесуари до вимикачів",12,71,"OT,CO,ATS ≤800A+acc.",1,"шт."]
["1SCA109096R1001","OHRS1/1","Аксесуари до вимикачів",10,26.47,"OT,CO,ATS ≤800A+acc.",1,"шт."]
["1SCA109416R1001","OXP6X500","Аксесуари до вимикачів",7,105.68,"OT,CO,ATS ≤800A+acc.",1,"шт."]
["1SCA022661R3610","OHZX10","Аксесуари до вимикачів",1,61.38,"OT,CO,ATS ≤800A+acc.",1,"шт."]
["1SCA111932R1001","OX6X200","Аксесуари до вимикачів",9,53.71,"OT,CO,ATS ≤800A+acc.",1,"шт."]
["1SCA022869R9900","OT250ES30","Вимикач-роз'єднувач серії OT до 800А",3,2853.09,"OT,CO,ATS ≤800A+acc.",1,"шт."]
["1SCA101017R1001","OTM160E3C8D230C","Перемикач наван-ня з АВР серії OTM_С_D до 800А",3,25505.03,"OT,CO,ATS ≤800A+acc.",1,"шт."]
["1SCA105322R1001","OHYS2PJ","Аксесуари до вимикачів",2,93.21,"OT,CO,ATS ≤800A+acc.",1,"шт."]
["2CMA142407R1000","BW240DP","Вимикач-роз'єднувач у боксі",46,158.88999999999999,"CAM, OS, Encl. swt.",1,"шт."]
["2CMA144580R1000","KSE363TPN","Вимикач-роз'єднувач у боксі",4,943.45,"CAM, OS, Encl. swt.",1,"шт."]
["1SCA022401R3430","OTP25BA3M","Вимикач-роз'єднувач у боксі",19,883.07,"CAM, OS, Encl. swt.",1,"шт."]
["1SCA022570R6680","OMA01PB","Пакетний (кулачковий) перемикач",2,85.96,"CAM, OS, Encl. swt.",1,"шт."]
["1SCA022570R6840","OMA03PB","Пакетний (кулачковий) перемикач",3,108.15,"CAM, OS, Encl. swt.",1,"шт."]
["1SCA022531R3950","OMA1PB","Пакетний (кулачковий) перемикач",38,82.35,"CAM, OS, Encl. swt.",1,"шт."]
["1SCA022531R4170","OMA3PB","Пакетний (кулачковий) перемикач",2,123.59,"CAM, OS, Encl. swt.",1,"шт."]
["1SCA022531R6540","OMSEA10PB","Пакетний (кулачковий) перемикач",2,99.51,"CAM, OS, Encl. swt.",1,"шт."]
["1SCA022533R0880","OMSO21PB","Пакетний (кулачковий) перемикач",9,53.35,"CAM, OS, Encl. swt.",1,"шт."]
["1SCA022545R3110","OMSO31PB","Пакетний (кулачковий) перемикач",1,89.12,"CAM, OS, Encl. swt.",1,"шт."]
["1SCA022533R1420","OMSO32PB","Пакетний (кулачковий) перемикач",13,152.44999999999999,"CAM, OS, Encl. swt.",1,"шт."]
["1SCA022533R1690","OMSO34PB","Пакетний (кулачковий) перемикач",2,269.58999999999997,"CAM, OS, Encl. swt.",1,"шт."]
["1SCA022533R1850","OMSO42PB","Пакетний (кулачковий) перемикач",2,181.8,"CAM, OS, Encl. swt.",1,"шт."]
["1SCA022533R2580","OMST31PB","Пакетний (кулачковий) перемикач",3,114.91,"CAM, OS, Encl. swt.",1,"шт."]
["1SCA022533R4280","OMST34PB","Пакетний (кулачковий) перемикач",6,159.04,"CAM, OS, Encl. swt.",1,"шт."]
["1SCA022532R6000","OMU2PB","Пакетний (кулачковий) перемикач",3,142.99,"CAM, OS, Encl. swt.",1,"шт."]
["1SCA022532R6420","OMU3KB","Пакетний (кулачковий) перемикач",8,151.22999999999999,"CAM, OS, Encl. swt.",1,"шт."]
["1SCA022532R6180","OMU3PB","Пакетний (кулачковий) перемикач",27,164.17,"CAM, OS, Encl. swt.",1,"шт."]
["1SCA022532R6690","OMURR3PB","Пакетний (кулачковий) перемикач",1,173.04,"CAM, OS, Encl. swt.",1,"шт."]
["1SCA022533R5170","OMV30PB","Пакетний (кулачковий) перемикач",8,170.04,"CAM, OS, Encl. swt.",1,"шт."]
["1SCA022533R5330","OMVN30PB","Пакетний (кулачковий) перемикач",2,157.61000000000001,"CAM, OS, Encl. swt.",1,"шт."]
["1SCA113967R1001","OMWS2PBR","Пакетний (кулачковий) перемикач",2,113.31,"CAM, OS, Encl. swt.",1,"шт."]
["1SCA022533R0610","OMWS3PB","Пакетний (кулачковий) перемикач",11,146.88999999999999,"CAM, OS, Encl. swt.",1,"шт."]
["1SCA022533R0700","OMWS4PB","Пакетний (кулачковий) перемикач",19,206.76,"CAM, OS, Encl. swt.",1,"шт."]
["1SCA022572R5630","ONA01M","Пакетний (кулачковий) перемикач",5,46.27,"CAM, OS, Encl. swt.",1,"шт."]
["1SCA022570R7570","ONA04PB","Пакетний (кулачковий) перемикач",39,134.01,"CAM, OS, Encl. swt.",1,"шт."]
["1SCA022570R7650","ONA05PB","Пакетний (кулачковий) перемикач",10,159.38999999999999,"CAM, OS, Encl. swt.",1,"шт."]
["1SCA022570R7730","ONA06PB","Пакетний (кулачковий) перемикач",29,170.49,"CAM, OS, Encl. swt.",1,"шт."]
["1SCA022531R6030","ONA1M","Пакетний (кулачковий) перемикач",7,75.19,"CAM, OS, Encl. swt.",1,"шт."]
["1SCA022531R5060","ONA2PB","Пакетний (кулачковий) перемикач",7,116.81,"CAM, OS, Encl. swt.",1,"шт."]
["1SCA022531R5650","ONA3KB","Пакетний (кулачковий) перемикач",1,207.47,"CAM, OS, Encl. swt.",1,"шт."]
["1SCA022549R9360","ONAU31M","Пакетний (кулачковий) перемикач",6,167.05,"CAM, OS, Encl. swt.",1,"шт."]
["1SCA022532R9610","ONSO21PB","Пакетний (кулачковий) перемикач",5,69.83,"CAM, OS, Encl. swt.",1,"шт."]
["1SCA022533R2820","ONST32PB","Пакетний (кулачковий) перемикач",8,191.91,"CAM, OS, Encl. swt.",1,"шт."]
["1SCA022533R3390","ONST42PB","Пакетний (кулачковий) перемикач",8,205.95,"CAM, OS, Encl. swt.",1,"шт."]
["1SCA022761R6760","ONST61PB","Пакетний (кулачковий) перемикач",7,267.91000000000003,"CAM, OS, Encl. swt.",1,"шт."]
["1SCA022791R0360","ONUC3PB","Пакетний (кулачковий) перемикач",20,246.23,"CAM, OS, Encl. swt.",1,"шт."]
["1SCA022549R9280","ONV3M","Пакетний (кулачковий) перемикач",19,182.88,"CAM, OS, Encl. swt.",1,"шт."]
["1SCA022558R4800","ONVN3M","Пакетний (кулачковий) перемикач",14,182.88,"CAM, OS, Encl. swt.",1,"шт."]
["1SCA022532R9440","ONWS3PB","Пакетний (кулачковий) перемикач",4,168.17,"CAM, OS, Encl. swt.",1,"шт."]
["1SCA022531R4920","ONA1PB","Пакетний (кулачковий) перемикач",6,87.31,"CAM, OS, Encl. swt.",1,"шт."]
["1SCA022532R5960","OMU1PB","Пакетний (кулачковий) перемикач",2,270.29000000000002,"CAM, OS, Encl. swt.",1,"шт."]
["1SCA022532R6260","OMU4PB","Пакетний (кулачковий) перемикач",1,451.4,"CAM, OS, Encl. swt.",1,"шт."]
["1SCA022532R6850","OMWS2PB","Пакетний (кулачковий) перемикач",6,123.92,"CAM, OS, Encl. swt.",1,"шт."]
["1SCA022558R4470","OMVN3PB","Пакетний (кулачковий) перемикач",2,158.63,"CAM, OS, Encl. swt.",1,"шт."]
["1SCA022572R5710","ONA02M","Пакетний (кулачковий) перемикач",4,160.08000000000001,"CAM, OS, Encl. swt.",1,"шт."]
["1SCA022627R0740","OFAF000H20","Запобіжник",3,89.41,"Fusegear",1,"шт."]
["1SCA022627R5620","OFAF2H200","Запобіжник",1,213.56,"Fusegear",1,"шт."]
["1SEP407793R0002","XLP1 Cable shroud","XLP1 Cable shroud",12,113.41,"Fusegear",1,"шт."]
["1SEP102140R0121","XLBM00-3P","160A 3pole, incl. 3x M8 bolts",5,970.87,"Fusegear",1,"шт."]
["1SEP102174R0002","XLBM800A-3P","800A 3 pole, incl. 4x3 M12 bolts",4,4406.8,"Fusegear",1,"шт."]
["1SEP102174R0001","XLBM1250A-3P","1250A 3 pole, incl. 4x3 M12 bolts",3,4298.87,"Fusegear",1,"шт."]
["1SEP304457R0001","123 Double V-clamp kit for CDC","123 Double V-clamp kit for CDC",59,417.87,"Fusegear",1,"шт."]
["1SEP407742R0001","Micro auxiliary switch","Micro auxiliary switch",7,217.69,"Fusegear",1,"шт."]
["1SEP407742R0002","Auxiliary switch NC","Auxiliary switch NC",5,192.73,"Fusegear",1,"шт."]
["2CGX0 53030502","AB 1200-70","Комплект для тильного приєднання до шини",22,351.6,"Kabeldon IP-system",1,"шт."]
["2CGX0 53030500","AB 800-53","Комплект для тильного приєднання до шини",26,308.92,"Kabeldon IP-system",1,"шт."]
["2CGX0 63030262","AD 350","З'єднувач неізольований",4,245.92,"Kabeldon IP-system",1,"шт."]
["2CGX0 63030258","ADB 3M","З'єднувач ізольований для 3хAD 300 на 3 фази",1,233.16,"Kabeldon IP-system",1,"шт."]
["2CGX0 63030240","ADR M10","Комплект для фронтального приєднання до шини",6,207.31,"Kabeldon IP-system",1,"шт."]
["2CGX0 63050093","AS-T3","Комплект для монтажу SACE T3 250А",1,2472.9299999999998,"Kabeldon IP-system",1,"шт."]
["2CGX0 53310725","C 20-BP","Опорна плита",1,86.71,"Kabeldon IP-system",1,"шт."]
["2CGX0 63300608","CDCM 040","Шафа для зовнішньої установки",1,9318.44,"Kabeldon IP-system",1,"шт."]
["2CGX0 63300428","CDCP 420","Шафа для зовнішньої установки",5,6560.51,"Kabeldon IP-system",1,"шт."]
["2CGX0 53050226","FHD 00","Комплект 1ф тримачів запобіжників (3 шт.) для SLD 00",3,392.25,"Kabeldon IP-system",1,"шт."]
["2CGX0 53050225","FHD 000","Комплект 1ф тримачів запобіжників (3 шт.) для SLD 000",3,477.6,"Kabeldon IP-system",1,"шт."]
["2CGX0 63300550","GOLV-S 73","Основа для установки на підготовлену підлогу",1,1428.55,"Kabeldon IP-system",1,"шт."]
["2CGX0 63300442","GOLV-S 98","Основа для установки на підготовлену підлогу",1,2466.0500000000002,"Kabeldon IP-system",1,"шт."]
["2CGX0 63190401","JDDA 2","Пристрій для заземлення лінії",1,3968.68,"Kabeldon IP-system",1,"шт."]
["2CGX0 43311123","KBS 20","Пристрій для заземлення шин",1,2196.0700000000002,"Kabeldon IP-system",1,"шт."]
["2CGX0 53190332","KSMP-S 48","Плата монтажна сталева",1,911.87,"Kabeldon IP-system",1,"шт."]
["2CGX0 53190333","KSMP-S 98","Плата монтажна сталева",1,1327.83,"Kabeldon IP-system",1,"шт."]
["2CGX0 63090018","KSSM-S 1200","Міст шинний",2,3371.03,"Kabeldon IP-system",1,"шт."]
["2CGX0 63090017","KSSM-S 630","Міст шинний",3,1686.87,"Kabeldon IP-system",1,"шт."]
["2CGX0 63050105","LBOC 1600","Вимикач-роз'єднувач секційний",1,11481.52,"Kabeldon IP-system",1,"шт."]
["2CGX0 63050104","LBOC 800","Вимикач-роз'єднувач секційний",2,7464.15,"Kabeldon IP-system",1,"шт."]
["2CGX0 53310647","MPT-S 48","Плата монтажна дерев'яна",1,364.47,"Kabeldon IP-system",1,"шт."]
["2CGX0 63190370","NK 3","Ключ від замку трикутного",3,196.47,"Kabeldon IP-system",1,"шт."]
["2CGX0 63190369","NK 30","Ключ від замку трикутного та SE",27,230.35,"Kabeldon IP-system",1,"шт."]
["2CGX0 63050117","SLD-FHD 00","Запобіжник-вимикач-роз'єднувач",1,1542.59,"Kabeldon IP-system",1,"шт."]
["2CGX0 63050116","SLD-FHD 000","Запобіжник-вимикач-роз'єднувач",2,1599.48,"Kabeldon IP-system",1,"шт."]
["2CGX0 63300551","SDC 073","Шафа для зовнішньої установки",1,11336.59,"Kabeldon IP-system",1,"шт."]
["2CGX0 63300437","SDC 098","Шафа для зовнішньої установки",1,10962.64,"Kabeldon IP-system",1,"шт."]
["2CGX0 43310598","SDC-LSE","Замок SE",2,189.01,"Kabeldon IP-system",1,"шт."]
["2CGX0 63300443","SDCM 048","Шафа для зовнішньої установки",2,11777.63,"Kabeldon IP-system",1,"шт."]
["2CGX0 63300444","SDCM 098","Шафа для зовнішньої установки",1,19907.12,"Kabeldon IP-system",1,"шт."]
["2CGX0 53320106","KSST 316/23","Опора торцева",2,359.16,"Kabeldon IP-system",1,"шт."]
["2CGX0 63030233","ADC 25","З'єднувач неізольований",6,131.38,"Kabeldon IP-system",1,"шт."]
["2CGX0 53320203","MSB 316/100","Опора проміжна",4,468.57,"Kabeldon IP-system",1,"шт."]
["2CGX0 63030263","ADO 240","З'єднувач неізольований",15,279.60000000000002,"Kabeldon IP-system",1,"шт."]
["2CGX0 63090014","VHB 68","Ключ монтажний ізольований",3,1529.01,"Kabeldon IP-system",1,"шт."]
["2CGX0 53320105","KSST 316/100","Опора торцева",6,1223.5999999999999,"Kabeldon IP-system",1,"шт."]
["2CGX0 63030195","AD 300","З'єднувач ізольований",30,277.38,"Kabeldon IP-system",1,"шт."]
["2CGX0 63050106","SLD 000","Запобіжник-вимикач-роз'єднувач",9,2842.82,"Kabeldon IP-system",1,"шт."]
["2CGX0 63050108","SLD 1","Запобіжник-вимикач-роз'єднувач",10,5483.65,"Kabeldon IP-system",1,"шт."]
["2CGX0 43320164","KSNS 10149","Шина неізольована",1,741.76,"Kabeldon IP-system",1,"шт."]
["2CGX0 43320192","KSNS 420","Шина неізольована",9,119.22,"Kabeldon IP-system",1,"шт."]
["2CGX0 43320260","KSFS 420","Шина ізольована",15,159.76,"Kabeldon IP-system",1,"шт."]
["2CGX0 53320104","KSST 316","Опора торцева",6,423.34,"Kabeldon IP-system",1,"шт."]
["2CGX0 53320201","MSB 316","Опора проміжна",4,768.58,"Kabeldon IP-system",1,"шт."]
["2CGX0 53320202","MSB 316/23","Опора проміжна",10,460.89,"Kabeldon IP-system",1,"шт."]
["2CGX0 43320169","KSNS 1098","Шина неізольована",1,786.3,"Kabeldon IP-system",1,"шт."]
["2CGX0 43320364","KSFS 660 A","Шина ізольована",6,264.3,"Kabeldon IP-system",1,"шт."]
["2CGX0 43320366","KSFS 698 A","Шина ізольована",3,1073.1300000000001,"Kabeldon IP-system",1,"шт."]
["2CGX0 63090023","PHD 2 SDC","Ручка для паралельної комутації",3,1458.2,"Kabeldon IP-system",1,"шт."]
["2CGX0 53320186","KSST 36","Опора торцева",28,157.85,"Kabeldon IP-system",1,"шт."]
["2CGX0 43320343","KSNS 1098 KSIK","Шина неізольована",1,529.02,"Kabeldon IP-system",1,"шт."]
["2CGX0 43320261","KSFS 440","Шина ізольована",3,255.78,"Kabeldon IP-system",1,"шт."]
["2CGX0 43320367","KSFS 643 A","Шина ізольована",6,187.93,"Kabeldon IP-system",1,"шт."]
["2CGX0 43320152","KSFS 1683","Шина ізольована",3,512.73,"Kabeldon IP-system",1,"шт."]
["2CGX0 43320193","KSNS 440","Шина неізольована",10,206.05,"Kabeldon IP-system",1,"шт."]
["2CGX0 43320258","KSFS 448","Шина ізольована",9,270.69,"Kabeldon IP-system",1,"шт."]
["2CGX0 43320155","KSFS 16181","Шина ізольована",3,1746.18,"Kabeldon IP-system",1,"шт."]
["2CGX0 43320156","KSFS 1098","Шина ізольована",6,1869.09,"Kabeldon IP-system",1,"шт."]

{"sheet":"Розрахунок","index":2,"n_rows":209,"n_cols":14,"rows_kept":209,"cut":false,"hidden":false,"merged":[[208,11,208,12]]}
[]
[null,null,null,null,null,null,null,null,null,null,null,null,"Знижка:"]
[]
[]
[]
[]
[]
["№","Код замовлення","Тип","Опис","Товарна група","MPG","К-ть","Кратність замовлення","Од. виміру","Ціна за од. \nз ПДВ","Ціна всього з ПДВ",null,"Ціна зі знижкою за од. з ПДВ","Ціна зі знижкою всього з ПДВ"]
[1,null,{"$f":"IFERROR(VLOOKUP($B9,'EP_LV_Price-list'!$A:$J,2,FALSE),\" - \")","v":" - "},{"$f":"IFERROR(VLOOKUP($B9,'EP_LV_Price-list'!$A:$J,3,FALSE),\" - \")","v":" - "},{"$f":"IFERROR(VLOOKUP($B9,'EP_LV_Price-list'!$A:$J,7,FALSE),\" - \")","v":" - "},{"$f":"IFERROR(VLOOKUP($B9,'EP_LV_Price-list'!$A:$K,11,FALSE),\" - \")","v":" - "},null,{"$f":"IFERROR(VLOOKUP($B9,'EP_LV_Price-list'!$A:$J,8,FALSE),\" - \")","v":" - "},{"$f":"IFERROR(VLOOKUP($B9,'EP_LV_Price-list'!$A:$J,9,FALSE),\" - \")","v":" - "},{"$f":"IFERROR(VLOOKUP($B9,'EP_LV_Price-list'!$A:$J,4,FALSE),\" - \")","v":" - "},{"$f":"IFERROR(J9*G9,\" - \")","v":" - "},null,{"$f":"IFERROR(ROUND(J9*(1-$N$2),2),\" - \")","v":" - "},{"$f":"IFERROR(M9*G9,\" - \")","v":" - "}]
[2,null,{"$f":"IFERROR(VLOOKUP($B10,'EP_LV_Price-list'!$A:$J,2,FALSE),\" - \")","v":" - "},{"$f":"IFERROR(VLOOKUP($B10,'EP_LV_Price-list'!$A:$J,3,FALSE),\" - \")","v":" - "},{"$f":"IFERROR(VLOOKUP($B10,'EP_LV_Price-list'!$A:$J,7,FALSE),\" - \")","v":" - "},{"$f":"IFERROR(VLOOKUP($B10,'EP_LV_Price-list'!$A:$K,11,FALSE),\" - \")","v":" - "},null,{"$f":"IFERROR(VLOOKUP($B10,'EP_LV_Price-list'!$A:$J,8,FALSE),\" - \")","v":" - "},{"$f":"IFERROR(VLOOKUP($B10,'EP_LV_Price-list'!$A:$J,9,FALSE),\" - \")","v":" - "},{"$f":"IFERROR(VLOOKUP($B10,'EP_LV_Price-list'!$A:$J,4,FALSE),\" - \")","v":" - "},{"$f":"IFERROR(J10*G10,\" - \")","v":" - "},null," - ",{"$f":"IFERROR(M10*G10,\" - \")","v":" - "}]
[3,null,{"$f":"IFERROR(VLOOKUP($B11,'EP_LV_Price-list'!$A:$J,2,FALSE),\" - \")","v":" - "},{"$f":"IFERROR(VLOOKUP($B11,'EP_LV_Price-list'!$A:$J,3,FALSE),\" - \")","v":" - "},{"$f":"IFERROR(VLOOKUP($B11,'EP_LV_Price-list'!$A:$J,7,FALSE),\" - \")","v":" - "},{"$f":"IFERROR(VLOOKUP($B11,'EP_LV_Price-list'!$A:$K,11,FALSE),\" - \")","v":" - "},null,{"$f":"IFERROR(VLOOKUP($B11,'EP_LV_Price-list'!$A:$J,8,FALSE),\" - \")","v":" - "},{"$f":"IFERROR(VLOOKUP($B11,'EP_LV_Price-list'!$A:$J,9,FALSE),\" - \")","v":" - "},{"$f":"IFERROR(VLOOKUP($B11,'EP_LV_Price-list'!$A:$J,4,FALSE),\" - \")","v":" - "}," - ",null," - "," - "]
[4,null,{"$f":"IFERROR(VLOOKUP($B12,'EP_LV_Price-list'!$A:$J,2,FALSE),\" - \")","v":" - "},{"$f":"IFERROR(VLOOKUP($B12,'EP_LV_Price-list'!$A:$J,3,FALSE),\" - \")","v":" - "},{"$f":"IFERROR(VLOOKUP($B12,'EP_LV_Price-list'!$A:$J,7,FALSE),\" - \")","v":" - "},{"$f":"IFERROR(VLOOKUP($B12,'EP_LV_Price-list'!$A:$K,11,FALSE),\" - \")","v":" - "},null,{"$f":"IFERROR(VLOOKUP($B12,'EP_LV_Price-list'!$A:$J,8,FALSE),\" - \")","v":" - "},{"$f":"IFERROR(VLOOKUP($B12,'EP_LV_Price-list'!$A:$J,9,FALSE),\" - \")","v":" - "},{"$f":"IFERROR(VLOOKUP($B12,'EP_LV_Price-list'!$A:$J,4,FALSE),\" - \")","v":" - "}," - ",null," - "," - "]
[5,null,{"$f":"IFERROR(VLOOKUP($B13,'EP_LV_Price-list'!$A:$J,2,FALSE),\" - \")","v":" - "},{"$f":"IFERROR(VLOOKUP($B13,'EP_LV_Price-list'!$A:$J,3,FALSE),\" - \")","v":" - "},{"$f":"IFERROR(VLOOKUP($B13,'EP_LV_Price-list'!$A:$J,7,FALSE),\" - \")","v":" - "},{"$f":"IFERROR(VLOOKUP($B13,'EP_LV_Price-list'!$A:$K,11,FALSE),\" - \")","v":" - "},null,{"$f":"IFERROR(VLOOKUP($B13,'EP_LV_Price-list'!$A:$J,8,FALSE),\" - \")","v":" - "},{"$f":"IFERROR(VLOOKUP($B13,'EP_LV_Price-list'!$A:$J,9,FALSE),\" - \")","v":" - "},{"$f":"IFERROR(VLOOKUP($B13,'EP_LV_Price-list'!$A:$J,4,FALSE),\" - \")","v":" - "}," - ",null," - "," - "]
[6,null,{"$f":"IFERROR(VLOOKUP($B14,'EP_LV_Price-list'!$A:$J,2,FALSE),\" - \")","v":" - "},{"$f":"IFERROR(VLOOKUP($B14,'EP_LV_Price-list'!$A:$J,3,FALSE),\" - \")","v":" - "},{"$f":"IFERROR(VLOOKUP($B14,'EP_LV_Price-list'!$A:$J,7,FALSE),\" - \")","v":" - "},{"$f":"IFERROR(VLOOKUP($B14,'EP_LV_Price-list'!$A:$K,11,FALSE),\" - \")","v":" - "},null,{"$f":"IFERROR(VLOOKUP($B14,'EP_LV_Price-list'!$A:$J,8,FALSE),\" - \")","v":" - "},{"$f":"IFERROR(VLOOKUP($B14,'EP_LV_Price-list'!$A:$J,9,FALSE),\" - \")","v":" - "},{"$f":"IFERROR(VLOOKUP($B14,'EP_LV_Price-list'!$A:$J,4,FALSE),\" - \")","v":" - "}," - ",null," - "," - "]
[7,null,{"$f":"IFERROR(VLOOKUP($B15,'EP_LV_Price-list'!$A:$J,2,FALSE),\" - \")","v":" - "},{"$f":"IFERROR(VLOOKUP($B15,'EP_LV_Price-list'!$A:$J,3,FALSE),\" - \")","v":" - "},{"$f":"IFERROR(VLOOKUP($B15,'EP_LV_Price-list'!$A:$J,7,FALSE),\" - \")","v":" - "},{"$f":"IFERROR(VLOOKUP($B15,'EP_LV_Price-list'!$A:$K,11,FALSE),\" - \")","v":" - "},null,{"$f":"IFERROR(VLOOKUP($B15,'EP_LV_Price-list'!$A:$J,8,FALSE),\" - \")","v":" - "},{"$f":"IFERROR(VLOOKUP($B15,'EP_LV_Price-list'!$A:$J,9,FALSE),\" - \")","v":" - "},{"$f":"IFERROR(VLOOKUP($B15,'EP_LV_Price-list'!$A:$J,4,FALSE),\" - \")","v":" - "}," - ",null," - "," - "]
[8,null,{"$f":"IFERROR(VLOOKUP($B16,'EP_LV_Price-list'!$A:$J,2,FALSE),\" - \")","v":" - "},{"$f":"IFERROR(VLOOKUP($B16,'EP_LV_Price-list'!$A:$J,3,FALSE),\" - \")","v":" - "},{"$f":"IFERROR(VLOOKUP($B16,'EP_LV_Price-list'!$A:$J,7,FALSE),\" - \")","v":" - "},{"$f":"IFERROR(VLOOKUP($B16,'EP_LV_Price-list'!$A:$K,11,FALSE),\" - \")","v":" - "},null,{"$f":"IFERROR(VLOOKUP($B16,'EP_LV_Price-list'!$A:$J,8,FALSE),\" - \")","v":" - "},{"$f":"IFERROR(VLOOKUP($B16,'EP_LV_Price-list'!$A:$J,9,FALSE),\" - \")","v":" - "},{"$f":"IFERROR(VLOOKUP($B16,'EP_LV_Price-list'!$A:$J,4,FALSE),\" - \")","v":" - "}," - ",null," - "," - "]
[9,null,{"$f":"IFERROR(VLOOKUP($B17,'EP_LV_Price-list'!$A:$J,2,FALSE),\" - \")","v":" - "},{"$f":"IFERROR(VLOOKUP($B17,'EP_LV_Price-list'!$A:$J,3,FALSE),\" - \")","v":" - "},{"$f":"IFERROR(VLOOKUP($B17,'EP_LV_Price-list'!$A:$J,7,FALSE),\" - \")","v":" - "},{"$f":"IFERROR(VLOOKUP($B17,'EP_LV_Price-list'!$A:$K,11,FALSE),\" - \")","v":" - "},null,{"$f":"IFERROR(VLOOKUP($B17,'EP_LV_Price-list'!$A:$J,8,FALSE),\" - \")","v":" - "},{"$f":"IFERROR(VLOOKUP($B17,'EP_LV_Price-list'!$A:$J,9,FALSE),\" - \")","v":" - "},{"$f":"IFERROR(VLOOKUP($B17,'EP_LV_Price-list'!$A:$J,4,FALSE),\" - \")","v":" - "}," - ",null," - "," - "]
[10,null,{"$f":"IFERROR(VLOOKUP($B18,'EP_LV_Price-list'!$A:$J,2,FALSE),\" - \")","v":" - "},{"$f":"IFERROR(VLOOKUP($B18,'EP_LV_Price-list'!$A:$J,3,FALSE),\" - \")","v":" - "},{"$f":"IFERROR(VLOOKUP($B18,'EP_LV_Price-list'!$A:$J,7,FALSE),\" - \")","v":" - "},{"$f":"IFERROR(VLOOKUP($B18,'EP_LV_Price-list'!$A:$K,11,FALSE),\" - \")","v":" - "},null,{"$f":"IFERROR(VLOOKUP($B18,'EP_LV_Price-list'!$A:$J,8,FALSE),\" - \")","v":" - "},{"$f":"IFERROR(VLOOKUP($B18,'EP_LV_Price-list'!$A:$J,9,FALSE),\" - \")","v":" - "},{"$f":"IFERROR(VLOOKUP($B18,'EP_LV_Price-list'!$A:$J,4,FALSE),\" - \")","v":" - "}," - ",null," - "," - "]
[11,null,{"$f":"IFERROR(VLOOKUP($B19,'EP_LV_Price-list'!$A:$J,2,FALSE),\" - \")","v":" - "},{"$f":"IFERROR(VLOOKUP($B19,'EP_LV_Price-list'!$A:$J,3,FALSE),\" - \")","v":" - "},{"$f":"IFERROR(VLOOKUP($B19,'EP_LV_Price-list'!$A:$J,7,FALSE),\" - \")","v":" - "},{"$f":"IFERROR(VLOOKUP($B19,'EP_LV_Price-list'!$A:$K,11,FALSE),\" - \")","v":" - "},null,{"$f":"IFERROR(VLOOKUP($B19,'EP_LV_Price-list'!$A:$J,8,FALSE),\" - \")","v":" - "},{"$f":"IFERROR(VLOOKUP($B19,'EP_LV_Price-list'!$A:$J,9,FALSE),\" - \")","v":" - "},{"$f":"IFERROR(VLOOKUP($B19,'EP_LV_Price-list'!$A:$J,4,FALSE),\" - \")","v":" - "}," - ",null," - "," - "]
[12,null,{"$f":"IFERROR(VLOOKUP($B20,'EP_LV_Price-list'!$A:$J,2,FALSE),\" - \")","v":" - "},{"$f":"IFERROR(VLOOKUP($B20,'EP_LV_Price-list'!$A:$J,3,FALSE),\" - \")","v":" - "},{"$f":"IFERROR(VLOOKUP($B20,'EP_LV_Price-list'!$A:$J,7,FALSE),\" - \")","v":" - "},{"$f":"IFERROR(VLOOKUP($B20,'EP_LV_Price-list'!$A:$K,11,FALSE),\" - \")","v":" - "},null,{"$f":"IFERROR(VLOOKUP($B20,'EP_LV_Price-list'!$A:$J,8,FALSE),\" - \")","v":" - "},{"$f":"IFERROR(VLOOKUP($B20,'EP_LV_Price-list'!$A:$J,9,FALSE),\" - \")","v":" - "},{"$f":"IFERROR(VLOOKUP($B20,'EP_LV_Price-list'!$A:$J,4,FALSE),\" - \")","v":" - "}," - ",null," - "," - "]
[13,null,{"$f":"IFERROR(VLOOKUP($B21,'EP_LV_Price-list'!$A:$J,2,FALSE),\" - \")","v":" - "},{"$f":"IFERROR(VLOOKUP($B21,'EP_LV_Price-list'!$A:$J,3,FALSE),\" - \")","v":" - "},{"$f":"IFERROR(VLOOKUP($B21,'EP_LV_Price-list'!$A:$J,7,FALSE),\" - \")","v":" - "},{"$f":"IFERROR(VLOOKUP($B21,'EP_LV_Price-list'!$A:$K,11,FALSE),\" - \")","v":" - "},null,{"$f":"IFERROR(VLOOKUP($B21,'EP_LV_Price-list'!$A:$J,8,FALSE),\" - \")","v":" - "},{"$f":"IFERROR(VLOOKUP($B21,'EP_LV_Price-list'!$A:$J,9,FALSE),\" - \")","v":" - "},{"$f":"IFERROR(VLOOKUP($B21,'EP_LV_Price-list'!$A:$J,4,FALSE),\" - \")","v":" - "}," - ",null," - "," - "]
[14,null,{"$f":"IFERROR(VLOOKUP($B22,'EP_LV_Price-list'!$A:$J,2,FALSE),\" - \")","v":" - "},{"$f":"IFERROR(VLOOKUP($B22,'EP_LV_Price-list'!$A:$J,3,FALSE),\" - \")","v":" - "},{"$f":"IFERROR(VLOOKUP($B22,'EP_LV_Price-list'!$A:$J,7,FALSE),\" - \")","v":" - "},{"$f":"IFERROR(VLOOKUP($B22,'EP_LV_Price-list'!$A:$K,11,FALSE),\" - \")","v":" - "},null,{"$f":"IFERROR(VLOOKUP($B22,'EP_LV_Price-list'!$A:$J,8,FALSE),\" - \")","v":" - "},{"$f":"IFERROR(VLOOKUP($B22,'EP_LV_Price-list'!$A:$J,9,FALSE),\" - \")","v":" - "},{"$f":"IFERROR(VLOOKUP($B22,'EP_LV_Price-list'!$A:$J,4,FALSE),\" - \")","v":" - "}," - ",null," - "," - "]
[15,null,{"$f":"IFERROR(VLOOKUP($B23,'EP_LV_Price-list'!$A:$J,2,FALSE),\" - \")","v":" - "},{"$f":"IFERROR(VLOOKUP($B23,'EP_LV_Price-list'!$A:$J,3,FALSE),\" - \")","v":" - "},{"$f":"IFERROR(VLOOKUP($B23,'EP_LV_Price-list'!$A:$J,7,FALSE),\" - \")","v":" - "},{"$f":"IFERROR(VLOOKUP($B23,'EP_LV_Price-list'!$A:$K,11,FALSE),\" - \")","v":" - "},null,{"$f":"IFERROR(VLOOKUP($B23,'EP_LV_Price-list'!$A:$J,8,FALSE),\" - \")","v":" - "},{"$f":"IFERROR(VLOOKUP($B23,'EP_LV_Price-list'!$A:$J,9,FALSE),\" - \")","v":" - "},{"$f":"IFERROR(VLOOKUP($B23,'EP_LV_Price-list'!$A:$J,4,FALSE),\" - \")","v":" - "}," - ",null," - "," - "]
[16,null,{"$f":"IFERROR(VLOOKUP($B24,'EP_LV_Price-list'!$A:$J,2,FALSE),\" - \")","v":" - "},{"$f":"IFERROR(VLOOKUP($B24,'EP_LV_Price-list'!$A:$J,3,FALSE),\" - \")","v":" - "},{"$f":"IFERROR(VLOOKUP($B24,'EP_LV_Price-list'!$A:$J,7,FALSE),\" - \")","v":" - "},{"$f":"IFERROR(VLOOKUP($B24,'EP_LV_Price-list'!$A:$K,11,FALSE),\" - \")","v":" - "},null,{"$f":"IFERROR(VLOOKUP($B24,'EP_LV_Price-list'!$A:$J,8,FALSE),\" - \")","v":" - "},{"$f":"IFERROR(VLOOKUP($B24,'EP_LV_Price-list'!$A:$J,9,FALSE),\" - \")","v":" - "},{"$f":"IFERROR(VLOOKUP($B24,'EP_LV_Price-list'!$A:$J,4,FALSE),\" - \")","v":" - "}," - ",null," - "," - "]
[17,null,{"$f":"IFERROR(VLOOKUP($B25,'EP_LV_Price-list'!$A:$J,2,FALSE),\" - \")","v":" - "},{"$f":"IFERROR(VLOOKUP($B25,'EP_LV_Price-list'!$A:$J,3,FALSE),\" - \")","v":" - "},{"$f":"IFERROR(VLOOKUP($B25,'EP_LV_Price-list'!$A:$J,7,FALSE),\" - \")","v":" - "},{"$f":"IFERROR(VLOOKUP($B25,'EP_LV_Price-list'!$A:$K,11,FALSE),\" - \")","v":" - "},null,{"$f":"IFERROR(VLOOKUP($B25,'EP_LV_Price-list'!$A:$J,8,FALSE),\" - \")","v":" - "},{"$f":"IFERROR(VLOOKUP($B25,'EP_LV_Price-list'!$A:$J,9,FALSE),\" - \")","v":" - "},{"$f":"IFERROR(VLOOKUP($B25,'EP_LV_Price-list'!$A:$J,4,FALSE),\" - \")","v":" - "}," - ",null," - "," - "]
[18,null,{"$f":"IFERROR(VLOOKUP($B26,'EP_LV_Price-list'!$A:$J,2,FALSE),\" - \")","v":" - "},{"$f":"IFERROR(VLOOKUP($B26,'EP_LV_Price-list'!$A:$J,3,FALSE),\" - \")","v":" - "},{"$f":"IFERROR(VLOOKUP($B26,'EP_LV_Price-list'!$A:$J,7,FALSE),\" - \")","v":" - "},{"$f":"IFERROR(VLOOKUP($B26,'EP_LV_Price-list'!$A:$K,11,FALSE),\" - \")","v":" - "},null,{"$f":"IFERROR(VLOOKUP($B26,'EP_LV_Price-list'!$A:$J,8,FALSE),\" - \")","v":" - "},{"$f":"IFERROR(VLOOKUP($B26,'EP_LV_Price-list'!$A:$J,9,FALSE),\" - \")","v":" - "},{"$f":"IFERROR(VLOOKUP($B26,'EP_LV_Price-list'!$A:$J,4,FALSE),\" - \")","v":" - "}," - ",null," - "," - "]
[19,null,{"$f":"IFERROR(VLOOKUP($B27,'EP_LV_Price-list'!$A:$J,2,FALSE),\" - \")","v":" - "},{"$f":"IFERROR(VLOOKUP($B27,'EP_LV_Price-list'!$A:$J,3,FALSE),\" - \")","v":" - "},{"$f":"IFERROR(VLOOKUP($B27,'EP_LV_Price-list'!$A:$J,7,FALSE),\" - \")","v":" - "},{"$f":"IFERROR(VLOOKUP($B27,'EP_LV_Price-list'!$A:$K,11,FALSE),\" - \")","v":" - "},null,{"$f":"IFERROR(VLOOKUP($B27,'EP_LV_Price-list'!$A:$J,8,FALSE),\" - \")","v":" - "},{"$f":"IFERROR(VLOOKUP($B27,'EP_LV_Price-list'!$A:$J,9,FALSE),\" - \")","v":" - "},{"$f":"IFERROR(VLOOKUP($B27,'EP_LV_Price-list'!$A:$J,4,FALSE),\" - \")","v":" - "}," - ",null," - "," - "]
[20,null,{"$f":"IFERROR(VLOOKUP($B28,'EP_LV_Price-list'!$A:$J,2,FALSE),\" - \")","v":" - "},{"$f":"IFERROR(VLOOKUP($B28,'EP_LV_Price-list'!$A:$J,3,FALSE),\" - \")","v":" - "},{"$f":"IFERROR(VLOOKUP($B28,'EP_LV_Price-list'!$A:$J,7,FALSE),\" - \")","v":" - "},{"$f":"IFERROR(VLOOKUP($B28,'EP_LV_Price-list'!$A:$K,11,FALSE),\" - \")","v":" - "},null,{"$f":"IFERROR(VLOOKUP($B28,'EP_LV_Price-list'!$A:$J,8,FALSE),\" - \")","v":" - "},{"$f":"IFERROR(VLOOKUP($B28,'EP_LV_Price-list'!$A:$J,9,FALSE),\" - \")","v":" - "},{"$f":"IFERROR(VLOOKUP($B28,'EP_LV_Price-list'!$A:$J,4,FALSE),\" - \")","v":" - "}," - ",null," - "," - "]
[21,null,{"$f":"IFERROR(VLOOKUP($B29,'EP_LV_Price-list'!$A:$J,2,FALSE),\" - \")","v":" - "},{"$f":"IFERROR(VLOOKUP($B29,'EP_LV_Price-list'!$A:$J,3,FALSE),\" - \")","v":" - "},{"$f":"IFERROR(VLOOKUP($B29,'EP_LV_Price-list'!$A:$J,7,FALSE),\" - \")","v":" - "},{"$f":"IFERROR(VLOOKUP($B29,'EP_LV_Price-list'!$A:$K,11,FALSE),\" - \")","v":" - "},null,{"$f":"IFERROR(VLOOKUP($B29,'EP_LV_Price-list'!$A:$J,8,FALSE),\" - \")","v":" - "},{"$f":"IFERROR(VLOOKUP($B29,'EP_LV_Price-list'!$A:$J,9,FALSE),\" - \")","v":" - "},{"$f":"IFERROR(VLOOKUP($B29,'EP_LV_Price-list'!$A:$J,4,FALSE),\" - \")","v":" - "}," - ",null," - "," - "]
[22,null,{"$f":"IFERROR(VLOOKUP($B30,'EP_LV_Price-list'!$A:$J,2,FALSE),\" - \")","v":" - "},{"$f":"IFERROR(VLOOKUP($B30,'EP_LV_Price-list'!$A:$J,3,FALSE),\" - \")","v":" - "},{"$f":"IFERROR(VLOOKUP($B30,'EP_LV_Price-list'!$A:$J,7,FALSE),\" - \")","v":" - "},{"$f":"IFERROR(VLOOKUP($B30,'EP_LV_Price-list'!$A:$K,11,FALSE),\" - \")","v":" - "},null,{"$f":"IFERROR(VLOOKUP($B30,'EP_LV_Price-list'!$A:$J,8,FALSE),\" - \")","v":" - "},{"$f":"IFERROR(VLOOKUP($B30,'EP_LV_Price-list'!$A:$J,9,FALSE),\" - \")","v":" - "},{"$f":"IFERROR(VLOOKUP($B30,'EP_LV_Price-list'!$A:$J,4,FALSE),\" - \")","v":" - "}," - ",null," - "," - "]
[23,null,{"$f":"IFERROR(VLOOKUP($B31,'EP_LV_Price-list'!$A:$J,2,FALSE),\" - \")","v":" - "},{"$f":"IFERROR(VLOOKUP($B31,'EP_LV_Price-list'!$A:$J,3,FALSE),\" - \")","v":" - "},{"$f":"IFERROR(VLOOKUP($B31,'EP_LV_Price-list'!$A:$J,7,FALSE),\" - \")","v":" - "},{"$f":"IFERROR(VLOOKUP($B31,'EP_LV_Price-list'!$A:$K,11,FALSE),\" - \")","v":" - "},null,{"$f":"IFERROR(VLOOKUP($B31,'EP_LV_Price-list'!$A:$J,8,FALSE),\" - \")","v":" - "},{"$f":"IFERROR(VLOOKUP($B31,'EP_LV_Price-list'!$A:$J,9,FALSE),\" - \")","v":" - "},{"$f":"IFERROR(VLOOKUP($B31,'EP_LV_Price-list'!$A:$J,4,FALSE),\" - \")","v":" - "}," - ",null," - "," - "]
[24,null,{"$f":"IFERROR(VLOOKUP($B32,'EP_LV_Price-list'!$A:$J,2,FALSE),\" - \")","v":" - "},{"$f":"IFERROR(VLOOKUP($B32,'EP_LV_Price-list'!$A:$J,3,FALSE),\" - \")","v":" - "},{"$f":"IFERROR(VLOOKUP($B32,'EP_LV_Price-list'!$A:$J,7,FALSE),\" - \")","v":" - "},{"$f":"IFERROR(VLOOKUP($B32,'EP_LV_Price-list'!$A:$K,11,FALSE),\" - \")","v":" - "},null,{"$f":"IFERROR(VLOOKUP($B32,'EP_LV_Price-list'!$A:$J,8,FALSE),\" - \")","v":" - "},{"$f":"IFERROR(VLOOKUP($B32,'EP_LV_Price-list'!$A:$J,9,FALSE),\" - \")","v":" - "},{"$f":"IFERROR(VLOOKUP($B32,'EP_LV_Price-list'!$A:$J,4,FALSE),\" - \")","v":" - "}," - ",null," - "," - "]
[25,null,{"$f":"IFERROR(VLOOKUP($B33,'EP_LV_Price-list'!$A:$J,2,FALSE),\" - \")","v":" - "},{"$f":"IFERROR(VLOOKUP($B33,'EP_LV_Price-list'!$A:$J,3,FALSE),\" - \")","v":" - "},{"$f":"IFERROR(VLOOKUP($B33,'EP_LV_Price-list'!$A:$J,7,FALSE),\" - \")","v":" - "},{"$f":"IFERROR(VLOOKUP($B33,'EP_LV_Price-list'!$A:$K,11,FALSE),\" - \")","v":" - "},null,{"$f":"IFERROR(VLOOKUP($B33,'EP_LV_Price-list'!$A:$J,8,FALSE),\" - \")","v":" - "},{"$f":"IFERROR(VLOOKUP($B33,'EP_LV_Price-list'!$A:$J,9,FALSE),\" - \")","v":" - "},{"$f":"IFERROR(VLOOKUP($B33,'EP_LV_Price-list'!$A:$J,4,FALSE),\" - \")","v":" - "}," - ",null," - "," - "]
[26,null,{"$f":"IFERROR(VLOOKUP($B34,'EP_LV_Price-list'!$A:$J,2,FALSE),\" - \")","v":" - "},{"$f":"IFERROR(VLOOKUP($B34,'EP_LV_Price-list'!$A:$J,3,FALSE),\" - \")","v":" - "},{"$f":"IFERROR(VLOOKUP($B34,'EP_LV_Price-list'!$A:$J,7,FALSE),\" - \")","v":" - "},{"$f":"IFERROR(VLOOKUP($B34,'EP_LV_Price-list'!$A:$K,11,FALSE),\" - \")","v":" - "},null,{"$f":"IFERROR(VLOOKUP($B34,'EP_LV_Price-list'!$A:$J,8,FALSE),\" - \")","v":" - "},{"$f":"IFERROR(VLOOKUP($B34,'EP_LV_Price-list'!$A:$J,9,FALSE),\" - \")","v":" - "},{"$f":"IFERROR(VLOOKUP($B34,'EP_LV_Price-list'!$A:$J,4,FALSE),\" - \")","v":" - "}," - ",null," - "," - "]
[27,null,{"$f":"IFERROR(VLOOKUP($B35,'EP_LV_Price-list'!$A:$J,2,FALSE),\" - \")","v":" - "},{"$f":"IFERROR(VLOOKUP($B35,'EP_LV_Price-list'!$A:$J,3,FALSE),\" - \")","v":" - "},{"$f":"IFERROR(VLOOKUP($B35,'EP_LV_Price-list'!$A:$J,7,FALSE),\" - \")","v":" - "},{"$f":"IFERROR(VLOOKUP($B35,'EP_LV_Price-list'!$A:$K,11,FALSE),\" - \")","v":" - "},null,{"$f":"IFERROR(VLOOKUP($B35,'EP_LV_Price-list'!$A:$J,8,FALSE),\" - \")","v":" - "},{"$f":"IFERROR(VLOOKUP($B35,'EP_LV_Price-list'!$A:$J,9,FALSE),\" - \")","v":" - "},{"$f":"IFERROR(VLOOKUP($B35,'EP_LV_Price-list'!$A:$J,4,FALSE),\" - \")","v":" - "}," - ",null," - "," - "]
[28,null,{"$f":"IFERROR(VLOOKUP($B36,'EP_LV_Price-list'!$A:$J,2,FALSE),\" - \")","v":" - "},{"$f":"IFERROR(VLOOKUP($B36,'EP_LV_Price-list'!$A:$J,3,FALSE),\" - \")","v":" - "},{"$f":"IFERROR(VLOOKUP($B36,'EP_LV_Price-list'!$A:$J,7,FALSE),\" - \")","v":" - "},{"$f":"IFERROR(VLOOKUP($B36,'EP_LV_Price-list'!$A:$K,11,FALSE),\" - \")","v":" - "},null,{"$f":"IFERROR(VLOOKUP($B36,'EP_LV_Price-list'!$A:$J,8,FALSE),\" - \")","v":" - "},{"$f":"IFERROR(VLOOKUP($B36,'EP_LV_Price-list'!$A:$J,9,FALSE),\" - \")","v":" - "},{"$f":"IFERROR(VLOOKUP($B36,'EP_LV_Price-list'!$A:$J,4,FALSE),\" - \")","v":" - "}," - ",null," - "," - "]
[29,null,{"$f":"IFERROR(VLOOKUP($B37,'EP_LV_Price-list'!$A:$J,2,FALSE),\" - \")","v":" - "},{"$f":"IFERROR(VLOOKUP($B37,'EP_LV_Price-list'!$A:$J,3,FALSE),\" - \")","v":" - "},{"$f":"IFERROR(VLOOKUP($B37,'EP_LV_Price-list'!$A:$J,7,FALSE),\" - \")","v":" - "},{"$f":"IFERROR(VLOOKUP($B37,'EP_LV_Price-list'!$A:$K,11,FALSE),\" - \")","v":" - "},null,{"$f":"IFERROR(VLOOKUP($B37,'EP_LV_Price-list'!$A:$J,8,FALSE),\" - \")","v":" - "},{"$f":"IFERROR(VLOOKUP($B37,'EP_LV_Price-list'!$A:$J,9,FALSE),\" - \")","v":" - "},{"$f":"IFERROR(VLOOKUP($B37,'EP_LV_Price-list'!$A:$J,4,FALSE),\" - \")","v":" - "}," - ",null," - "," - "]
[30,null,{"$f":"IFERROR(VLOOKUP($B38,'EP_LV_Price-list'!$A:$J,2,FALSE),\" - \")","v":" - "},{"$f":"IFERROR(VLOOKUP($B38,'EP_LV_Price-list'!$A:$J,3,FALSE),\" - \")","v":" - "},{"$f":"IFERROR(VLOOKUP($B38,'EP_LV_Price-list'!$A:$J,7,FALSE),\" - \")","v":" - "},{"$f":"IFERROR(VLOOKUP($B38,'EP_LV_Price-list'!$A:$K,11,FALSE),\" - \")","v":" - "},null,{"$f":"IFERROR(VLOOKUP($B38,'EP_LV_Price-list'!$A:$J,8,FALSE),\" - \")","v":" - "},{"$f":"IFERROR(VLOOKUP($B38,'EP_LV_Price-list'!$A:$J,9,FALSE),\" - \")","v":" - "},{"$f":"IFERROR(VLOOKUP($B38,'EP_LV_Price-list'!$A:$J,4,FALSE),\" - \")","v":" - "}," - ",null," - "," - "]
[31,null,{"$f":"IFERROR(VLOOKUP($B39,'EP_LV_Price-list'!$A:$J,2,FALSE),\" - \")","v":" - "},{"$f":"IFERROR(VLOOKUP($B39,'EP_LV_Price-list'!$A:$J,3,FALSE),\" - \")","v":" - "},{"$f":"IFERROR(VLOOKUP($B39,'EP_LV_Price-list'!$A:$J,7,FALSE),\" - \")","v":" - "},{"$f":"IFERROR(VLOOKUP($B39,'EP_LV_Price-list'!$A:$K,11,FALSE),\" - \")","v":" - "},null,{"$f":"IFERROR(VLOOKUP($B39,'EP_LV_Price-list'!$A:$J,8,FALSE),\" - \")","v":" - "},{"$f":"IFERROR(VLOOKUP($B39,'EP_LV_Price-list'!$A:$J,9,FALSE),\" - \")","v":" - "},{"$f":"IFERROR(VLOOKUP($B39,'EP_LV_Price-list'!$A:$J,4,FALSE),\" - \")","v":" - "}," - ",null," - "," - "]
[32,null,{"$f":"IFERROR(VLOOKUP($B40,'EP_LV_Price-list'!$A:$J,2,FALSE),\" - \")","v":" - "},{"$f":"IFERROR(VLOOKUP($B40,'EP_LV_Price-list'!$A:$J,3,FALSE),\" - \")","v":" - "},{"$f":"IFERROR(VLOOKUP($B40,'EP_LV_Price-list'!$A:$J,7,FALSE),\" - \")","v":" - "},{"$f":"IFERROR(VLOOKUP($B40,'EP_LV_Price-list'!$A:$K,11,FALSE),\" - \")","v":" - "},null,{"$f":"IFERROR(VLOOKUP($B40,'EP_LV_Price-list'!$A:$J,8,FALSE),\" - \")","v":" - "},{"$f":"IFERROR(VLOOKUP($B40,'EP_LV_Price-list'!$A:$J,9,FALSE),\" - \")","v":" - "},{"$f":"IFERROR(VLOOKUP($B40,'EP_LV_Price-list'!$A:$J,4,FALSE),\" - \")","v":" - "}," - ",null," - "," - "]
[33,null,{"$f":"IFERROR(VLOOKUP($B41,'EP_LV_Price-list'!$A:$J,2,FALSE),\" - \")","v":" - "},{"$f":"IFERROR(VLOOKUP($B41,'EP_LV_Price-list'!$A:$J,3,FALSE),\" - \")","v":" - "},{"$f":"IFERROR(VLOOKUP($B41,'EP_LV_Price-list'!$A:$J,7,FALSE),\" - \")","v":" - "},{"$f":"IFERROR(VLOOKUP($B41,'EP_LV_Price-list'!$A:$K,11,FALSE),\" - \")","v":" - "},null,{"$f":"IFERROR(VLOOKUP($B41,'EP_LV_Price-list'!$A:$J,8,FALSE),\" - \")","v":" - "},{"$f":"IFERROR(VLOOKUP($B41,'EP_LV_Price-list'!$A:$J,9,FALSE),\" - \")","v":" - "},{"$f":"IFERROR(VLOOKUP($B41,'EP_LV_Price-list'!$A:$J,4,FALSE),\" - \")","v":" - "}," - ",null," - "," - "]
[34,null,{"$f":"IFERROR(VLOOKUP($B42,'EP_LV_Price-list'!$A:$J,2,FALSE),\" - \")","v":" - "},{"$f":"IFERROR(VLOOKUP($B42,'EP_LV_Price-list'!$A:$J,3,FALSE),\" - \")","v":" - "},{"$f":"IFERROR(VLOOKUP($B42,'EP_LV_Price-list'!$A:$J,7,FALSE),\" - \")","v":" - "},{"$f":"IFERROR(VLOOKUP($B42,'EP_LV_Price-list'!$A:$K,11,FALSE),\" - \")","v":" - "},null,{"$f":"IFERROR(VLOOKUP($B42,'EP_LV_Price-list'!$A:$J,8,FALSE),\" - \")","v":" - "},{"$f":"IFERROR(VLOOKUP($B42,'EP_LV_Price-list'!$A:$J,9,FALSE),\" - \")","v":" - "},{"$f":"IFERROR(VLOOKUP($B42,'EP_LV_Price-list'!$A:$J,4,FALSE),\" - \")","v":" - "}," - ",null," - "," - "]
[35,null,{"$f":"IFERROR(VLOOKUP($B43,'EP_LV_Price-list'!$A:$J,2,FALSE),\" - \")","v":" - "},{"$f":"IFERROR(VLOOKUP($B43,'EP_LV_Price-list'!$A:$J,3,FALSE),\" - \")","v":" - "},{"$f":"IFERROR(VLOOKUP($B43,'EP_LV_Price-list'!$A:$J,7,FALSE),\" - \")","v":" - "},{"$f":"IFERROR(VLOOKUP($B43,'EP_LV_Price-list'!$A:$K,11,FALSE),\" - \")","v":" - "},null,{"$f":"IFERROR(VLOOKUP($B43,'EP_LV_Price-list'!$A:$J,8,FALSE),\" - \")","v":" - "},{"$f":"IFERROR(VLOOKUP($B43,'EP_LV_Price-list'!$A:$J,9,FALSE),\" - \")","v":" - "},{"$f":"IFERROR(VLOOKUP($B43,'EP_LV_Price-list'!$A:$J,4,FALSE),\" - \")","v":" - "}," - ",null," - "," - "]
[36,null,{"$f":"IFERROR(VLOOKUP($B44,'EP_LV_Price-list'!$A:$J,2,FALSE),\" - \")","v":" - "},{"$f":"IFERROR(VLOOKUP($B44,'EP_LV_Price-list'!$A:$J,3,FALSE),\" - \")","v":" - "},{"$f":"IFERROR(VLOOKUP($B44,'EP_LV_Price-list'!$A:$J,7,FALSE),\" - \")","v":" - "},{"$f":"IFERROR(VLOOKUP($B44,'EP_LV_Price-list'!$A:$K,11,FALSE),\" - \")","v":" - "},null,{"$f":"IFERROR(VLOOKUP($B44,'EP_LV_Price-list'!$A:$J,8,FALSE),\" - \")","v":" - "},{"$f":"IFERROR(VLOOKUP($B44,'EP_LV_Price-list'!$A:$J,9,FALSE),\" - \")","v":" - "},{"$f":"IFERROR(VLOOKUP($B44,'EP_LV_Price-list'!$A:$J,4,FALSE),\" - \")","v":" - "}," - ",null," - "," - "]
[37,null,{"$f":"IFERROR(VLOOKUP($B45,'EP_LV_Price-list'!$A:$J,2,FALSE),\" - \")","v":" - "},{"$f":"IFERROR(VLOOKUP($B45,'EP_LV_Price-list'!$A:$J,3,FALSE),\" - \")","v":" - "},{"$f":"IFERROR(VLOOKUP($B45,'EP_LV_Price-list'!$A:$J,7,FALSE),\" - \")","v":" - "},{"$f":"IFERROR(VLOOKUP($B45,'EP_LV_Price-list'!$A:$K,11,FALSE),\" - \")","v":" - "},null,{"$f":"IFERROR(VLOOKUP($B45,'EP_LV_Price-list'!$A:$J,8,FALSE),\" - \")","v":" - "},{"$f":"IFERROR(VLOOKUP($B45,'EP_LV_Price-list'!$A:$J,9,FALSE),\" - \")","v":" - "},{"$f":"IFERROR(VLOOKUP($B45,'EP_LV_Price-list'!$A:$J,4,FALSE),\" - \")","v":" - "}," - ",null," - "," - "]
[38,null,{"$f":"IFERROR(VLOOKUP($B46,'EP_LV_Price-list'!$A:$J,2,FALSE),\" - \")","v":" - "},{"$f":"IFERROR(VLOOKUP($B46,'EP_LV_Price-list'!$A:$J,3,FALSE),\" - \")","v":" - "},{"$f":"IFERROR(VLOOKUP($B46,'EP_LV_Price-list'!$A:$J,7,FALSE),\" - \")","v":" - "},{"$f":"IFERROR(VLOOKUP($B46,'EP_LV_Price-list'!$A:$K,11,FALSE),\" - \")","v":" - "},null,{"$f":"IFERROR(VLOOKUP($B46,'EP_LV_Price-list'!$A:$J,8,FALSE),\" - \")","v":" - "},{"$f":"IFERROR(VLOOKUP($B46,'EP_LV_Price-list'!$A:$J,9,FALSE),\" - \")","v":" - "},{"$f":"IFERROR(VLOOKUP($B46,'EP_LV_Price-list'!$A:$J,4,FALSE),\" - \")","v":" - "}," - ",null," - "," - "]
[39,null,{"$f":"IFERROR(VLOOKUP($B47,'EP_LV_Price-list'!$A:$J,2,FALSE),\" - \")","v":" - "},{"$f":"IFERROR(VLOOKUP($B47,'EP_LV_Price-list'!$A:$J,3,FALSE),\" - \")","v":" - "},{"$f":"IFERROR(VLOOKUP($B47,'EP_LV_Price-list'!$A:$J,7,FALSE),\" - \")","v":" - "},{"$f":"IFERROR(VLOOKUP($B47,'EP_LV_Price-list'!$A:$K,11,FALSE),\" - \")","v":" - "},null,{"$f":"IFERROR(VLOOKUP($B47,'EP_LV_Price-list'!$A:$J,8,FALSE),\" - \")","v":" - "},{"$f":"IFERROR(VLOOKUP($B47,'EP_LV_Price-list'!$A:$J,9,FALSE),\" - \")","v":" - "},{"$f":"IFERROR(VLOOKUP($B47,'EP_LV_Price-list'!$A:$J,4,FALSE),\" - \")","v":" - "}," - ",null," - "," - "]
[40,null,{"$f":"IFERROR(VLOOKUP($B48,'EP_LV_Price-list'!$A:$J,2,FALSE),\" - \")","v":" - "},{"$f":"IFERROR(VLOOKUP($B48,'EP_LV_Price-list'!$A:$J,3,FALSE),\" - \")","v":" - "},{"$f":"IFERROR(VLOOKUP($B48,'EP_LV_Price-list'!$A:$J,7,FALSE),\" - \")","v":" - "},{"$f":"IFERROR(VLOOKUP($B48,'EP_LV_Price-list'!$A:$K,11,FALSE),\" - \")","v":" - "},null,{"$f":"IFERROR(VLOOKUP($B48,'EP_LV_Price-list'!$A:$J,8,FALSE),\" - \")","v":" - "},{"$f":"IFERROR(VLOOKUP($B48,'EP_LV_Price-list'!$A:$J,9,FALSE),\" - \")","v":" - "},{"$f":"IFERROR(VLOOKUP($B48,'EP_LV_Price-list'!$A:$J,4,FALSE),\" - \")","v":" - "}," - ",null," - "," - "]
[41,null,{"$f":"IFERROR(VLOOKUP($B49,'EP_LV_Price-list'!$A:$J,2,FALSE),\" - \")","v":" - "},{"$f":"IFERROR(VLOOKUP($B49,'EP_LV_Price-list'!$A:$J,3,FALSE),\" - \")","v":" - "},{"$f":"IFERROR(VLOOKUP($B49,'EP_LV_Price-list'!$A:$J,7,FALSE),\" - \")","v":" - "},{"$f":"IFERROR(VLOOKUP($B49,'EP_LV_Price-list'!$A:$K,11,FALSE),\" - \")","v":" - "},null,{"$f":"IFERROR(VLOOKUP($B49,'EP_LV_Price-list'!$A:$J,8,FALSE),\" - \")","v":" - "},{"$f":"IFERROR(VLOOKUP($B49,'EP_LV_Price-list'!$A:$J,9,FALSE),\" - \")","v":" - "},{"$f":"IFERROR(VLOOKUP($B49,'EP_LV_Price-list'!$A:$J,4,FALSE),\" - \")","v":" - "},{"$f":"IFERROR(J49*G49,\" - \")","v":" - "},null,{"$f":"IFERROR(ROUND(J49*(1-$N$2),2),\" - \")","v":" - "},{"$f":"IFERROR(M49*G49,\" - \")","v":" - "}]
[42,null,{"$f":"IFERROR(VLOOKUP($B50,'EP_LV_Price-list'!$A:$J,2,FALSE),\" - \")","v":" - "},{"$f":"IFERROR(VLOOKUP($B50,'EP_LV_Price-list'!$A:$J,3,FALSE),\" - \")","v":" - "},{"$f":"IFERROR(VLOOKUP($B50,'EP_LV_Price-list'!$A:$J,7,FALSE),\" - \")","v":" - "},{"$f":"IFERROR(VLOOKUP($B50,'EP_LV_Price-list'!$A:$K,11,FALSE),\" - \")","v":" - "},null,{"$f":"IFERROR(VLOOKUP($B50,'EP_LV_Price-list'!$A:$J,8,FALSE),\" - \")","v":" - "},{"$f":"IFERROR(VLOOKUP($B50,'EP_LV_Price-list'!$A:$J,9,FALSE),\" - \")","v":" - "},{"$f":"IFERROR(VLOOKUP($B50,'EP_LV_Price-list'!$A:$J,4,FALSE),\" - \")","v":" - "},{"$f":"IFERROR(J50*G50,\" - \")","v":" - "},null," - ",{"$f":"IFERROR(M50*G50,\" - \")","v":" - "}]
[43,null,{"$f":"IFERROR(VLOOKUP($B51,'EP_LV_Price-list'!$A:$J,2,FALSE),\" - \")","v":" - "},{"$f":"IFERROR(VLOOKUP($B51,'EP_LV_Price-list'!$A:$J,3,FALSE),\" - \")","v":" - "},{"$f":"IFERROR(VLOOKUP($B51,'EP_LV_Price-list'!$A:$J,7,FALSE),\" - \")","v":" - "},{"$f":"IFERROR(VLOOKUP($B51,'EP_LV_Price-list'!$A:$K,11,FALSE),\" - \")","v":" - "},null,{"$f":"IFERROR(VLOOKUP($B51,'EP_LV_Price-list'!$A:$J,8,FALSE),\" - \")","v":" - "},{"$f":"IFERROR(VLOOKUP($B51,'EP_LV_Price-list'!$A:$J,9,FALSE),\" - \")","v":" - "},{"$f":"IFERROR(VLOOKUP($B51,'EP_LV_Price-list'!$A:$J,4,FALSE),\" - \")","v":" - "}," - ",null," - "," - "]
[44,null,{"$f":"IFERROR(VLOOKUP($B52,'EP_LV_Price-list'!$A:$J,2,FALSE),\" - \")","v":" - "},{"$f":"IFERROR(VLOOKUP($B52,'EP_LV_Price-list'!$A:$J,3,FALSE),\" - \")","v":" - "},{"$f":"IFERROR(VLOOKUP($B52,'EP_LV_Price-list'!$A:$J,7,FALSE),\" - \")","v":" - "},{"$f":"IFERROR(VLOOKUP($B52,'EP_LV_Price-list'!$A:$K,11,FALSE),\" - \")","v":" - "},null,{"$f":"IFERROR(VLOOKUP($B52,'EP_LV_Price-list'!$A:$J,8,FALSE),\" - \")","v":" - "},{"$f":"IFERROR(VLOOKUP($B52,'EP_LV_Price-list'!$A:$J,9,FALSE),\" - \")","v":" - "},{"$f":"IFERROR(VLOOKUP($B52,'EP_LV_Price-list'!$A:$J,4,FALSE),\" - \")","v":" - "}," - ",null," - "," - "]
[45,null,{"$f":"IFERROR(VLOOKUP($B53,'EP_LV_Price-list'!$A:$J,2,FALSE),\" - \")","v":" - "},{"$f":"IFERROR(VLOOKUP($B53,'EP_LV_Price-list'!$A:$J,3,FALSE),\" - \")","v":" - "},{"$f":"IFERROR(VLOOKUP($B53,'EP_LV_Price-list'!$A:$J,7,FALSE),\" - \")","v":" - "},{"$f":"IFERROR(VLOOKUP($B53,'EP_LV_Price-list'!$A:$K,11,FALSE),\" - \")","v":" - "},null,{"$f":"IFERROR(VLOOKUP($B53,'EP_LV_Price-list'!$A:$J,8,FALSE),\" - \")","v":" - "},{"$f":"IFERROR(VLOOKUP($B53,'EP_LV_Price-list'!$A:$J,9,FALSE),\" - \")","v":" - "},{"$f":"IFERROR(VLOOKUP($B53,'EP_LV_Price-list'!$A:$J,4,FALSE),\" - \")","v":" - "}," - ",null," - "," - "]
[46,null,{"$f":"IFERROR(VLOOKUP($B54,'EP_LV_Price-list'!$A:$J,2,FALSE),\" - \")","v":" - "},{"$f":"IFERROR(VLOOKUP($B54,'EP_LV_Price-list'!$A:$J,3,FALSE),\" - \")","v":" - "},{"$f":"IFERROR(VLOOKUP($B54,'EP_LV_Price-list'!$A:$J,7,FALSE),\" - \")","v":" - "},{"$f":"IFERROR(VLOOKUP($B54,'EP_LV_Price-list'!$A:$K,11,FALSE),\" - \")","v":" - "},null,{"$f":"IFERROR(VLOOKUP($B54,'EP_LV_Price-list'!$A:$J,8,FALSE),\" - \")","v":" - "},{"$f":"IFERROR(VLOOKUP($B54,'EP_LV_Price-list'!$A:$J,9,FALSE),\" - \")","v":" - "},{"$f":"IFERROR(VLOOKUP($B54,'EP_LV_Price-list'!$A:$J,4,FALSE),\" - \")","v":" - "}," - ",null," - "," - "]
[47,null,{"$f":"IFERROR(VLOOKUP($B55,'EP_LV_Price-list'!$A:$J,2,FALSE),\" - \")","v":" - "},{"$f":"IFERROR(VLOOKUP($B55,'EP_LV_Price-list'!$A:$J,3,FALSE),\" - \")","v":" - "},{"$f":"IFERROR(VLOOKUP($B55,'EP_LV_Price-list'!$A:$J,7,FALSE),\" - \")","v":" - "},{"$f":"IFERROR(VLOOKUP($B55,'EP_LV_Price-list'!$A:$K,11,FALSE),\" - \")","v":" - "},null,{"$f":"IFERROR(VLOOKUP($B55,'EP_LV_Price-list'!$A:$J,8,FALSE),\" - \")","v":" - "},{"$f":"IFERROR(VLOOKUP($B55,'EP_LV_Price-list'!$A:$J,9,FALSE),\" - \")","v":" - "},{"$f":"IFERROR(VLOOKUP($B55,'EP_LV_Price-list'!$A:$J,4,FALSE),\" - \")","v":" - "}," - ",null," - "," - "]
[48,null,{"$f":"IFERROR(VLOOKUP($B56,'EP_LV_Price-list'!$A:$J,2,FALSE),\" - \")","v":" - "},{"$f":"IFERROR(VLOOKUP($B56,'EP_LV_Price-list'!$A:$J,3,FALSE),\" - \")","v":" - "},{"$f":"IFERROR(VLOOKUP($B56,'EP_LV_Price-list'!$A:$J,7,FALSE),\" - \")","v":" - "},{"$f":"IFERROR(VLOOKUP($B56,'EP_LV_Price-list'!$A:$K,11,FALSE),\" - \")","v":" - "},null,{"$f":"IFERROR(VLOOKUP($B56,'EP_LV_Price-list'!$A:$J,8,FALSE),\" - \")","v":" - "},{"$f":"IFERROR(VLOOKUP($B56,'EP_LV_Price-list'!$A:$J,9,FALSE),\" - \")","v":" - "},{"$f":"IFERROR(VLOOKUP($B56,'EP_LV_Price-list'!$A:$J,4,FALSE),\" - \")","v":" - "}," - ",null," - "," - "]
[49,null,{"$f":"IFERROR(VLOOKUP($B57,'EP_LV_Price-list'!$A:$J,2,FALSE),\" - \")","v":" - "},{"$f":"IFERROR(VLOOKUP($B57,'EP_LV_Price-list'!$A:$J,3,FALSE),\" - \")","v":" - "},{"$f":"IFERROR(VLOOKUP($B57,'EP_LV_Price-list'!$A:$J,7,FALSE),\" - \")","v":" - "},{"$f":"IFERROR(VLOOKUP($B57,'EP_LV_Price-list'!$A:$K,11,FALSE),\" - \")","v":" - "},null,{"$f":"IFERROR(VLOOKUP($B57,'EP_LV_Price-list'!$A:$J,8,FALSE),\" - \")","v":" - "},{"$f":"IFERROR(VLOOKUP($B57,'EP_LV_Price-list'!$A:$J,9,FALSE),\" - \")","v":" - "},{"$f":"IFERROR(VLOOKUP($B57,'EP_LV_Price-list'!$A:$J,4,FALSE),\" - \")","v":" - "}," - ",null," - "," - "]
[50,null,{"$f":"IFERROR(VLOOKUP($B58,'EP_LV_Price-list'!$A:$J,2,FALSE),\" - \")","v":" - "},{"$f":"IFERROR(VLOOKUP($B58,'EP_LV_Price-list'!$A:$J,3,FALSE),\" - \")","v":" - "},{"$f":"IFERROR(VLOOKUP($B58,'EP_LV_Price-list'!$A:$J,7,FALSE),\" - \")","v":" - "},{"$f":"IFERROR(VLOOKUP($B58,'EP_LV_Price-list'!$A:$K,11,FALSE),\" - \")","v":" - "},null,{"$f":"IFERROR(VLOOKUP($B58,'EP_LV_Price-list'!$A:$J,8,FALSE),\" - \")","v":" - "},{"$f":"IFERROR(VLOOKUP($B58,'EP_LV_Price-list'!$A:$J,9,FALSE),\" - \")","v":" - "},{"$f":"IFERROR(VLOOKUP($B58,'EP_LV_Price-list'!$A:$J,4,FALSE),\" - \")","v":" - "}," - ",null," - "," - "]
[51,null,{"$f":"IFERROR(VLOOKUP($B59,'EP_LV_Price-list'!$A:$J,2,FALSE),\" - \")","v":" - "},{"$f":"IFERROR(VLOOKUP($B59,'EP_LV_Price-list'!$A:$J,3,FALSE),\" - \")","v":" - "},{"$f":"IFERROR(VLOOKUP($B59,'EP_LV_Price-list'!$A:$J,7,FALSE),\" - \")","v":" - "},{"$f":"IFERROR(VLOOKUP($B59,'EP_LV_Price-list'!$A:$K,11,FALSE),\" - \")","v":" - "},null,{"$f":"IFERROR(VLOOKUP($B59,'EP_LV_Price-list'!$A:$J,8,FALSE),\" - \")","v":" - "},{"$f":"IFERROR(VLOOKUP($B59,'EP_LV_Price-list'!$A:$J,9,FALSE),\" - \")","v":" - "},{"$f":"IFERROR(VLOOKUP($B59,'EP_LV_Price-list'!$A:$J,4,FALSE),\" - \")","v":" - "}," - ",null," - "," - "]
[52,null,{"$f":"IFERROR(VLOOKUP($B60,'EP_LV_Price-list'!$A:$J,2,FALSE),\" - \")","v":" - "},{"$f":"IFERROR(VLOOKUP($B60,'EP_LV_Price-list'!$A:$J,3,FALSE),\" - \")","v":" - "},{"$f":"IFERROR(VLOOKUP($B60,'EP_LV_Price-list'!$A:$J,7,FALSE),\" - \")","v":" - "},{"$f":"IFERROR(VLOOKUP($B60,'EP_LV_Price-list'!$A:$K,11,FALSE),\" - \")","v":" - "},null,{"$f":"IFERROR(VLOOKUP($B60,'EP_LV_Price-list'!$A:$J,8,FALSE),\" - \")","v":" - "},{"$f":"IFERROR(VLOOKUP($B60,'EP_LV_Price-list'!$A:$J,9,FALSE),\" - \")","v":" - "},{"$f":"IFERROR(VLOOKUP($B60,'EP_LV_Price-list'!$A:$J,4,FALSE),\" - \")","v":" - "}," - ",null," - "," - "]
[53,null,{"$f":"IFERROR(VLOOKUP($B61,'EP_LV_Price-list'!$A:$J,2,FALSE),\" - \")","v":" - "},{"$f":"IFERROR(VLOOKUP($B61,'EP_LV_Price-list'!$A:$J,3,FALSE),\" - \")","v":" - "},{"$f":"IFERROR(VLOOKUP($B61,'EP_LV_Price-list'!$A:$J,7,FALSE),\" - \")","v":" - "},{"$f":"IFERROR(VLOOKUP($B61,'EP_LV_Price-list'!$A:$K,11,FALSE),\" - \")","v":" - "},null,{"$f":"IFERROR(VLOOKUP($B61,'EP_LV_Price-list'!$A:$J,8,FALSE),\" - \")","v":" - "},{"$f":"IFERROR(VLOOKUP($B61,'EP_LV_Price-list'!$A:$J,9,FALSE),\" - \")","v":" - "},{"$f":"IFERROR(VLOOKUP($B61,'EP_LV_Price-list'!$A:$J,4,FALSE),\" - \")","v":" - "}," - ",null," - "," - "]
[54,null,{"$f":"IFERROR(VLOOKUP($B62,'EP_LV_Price-list'!$A:$J,2,FALSE),\" - \")","v":" - "},{"$f":"IFERROR(VLOOKUP($B62,'EP_LV_Price-list'!$A:$J,3,FALSE),\" - \")","v":" - "},{"$f":"IFERROR(VLOOKUP($B62,'EP_LV_Price-list'!$A:$J,7,FALSE),\" - \")","v":" - "},{"$f":"IFERROR(VLOOKUP($B62,'EP_LV_Price-list'!$A:$K,11,FALSE),\" - \")","v":" - "},null,{"$f":"IFERROR(VLOOKUP($B62,'EP_LV_Price-list'!$A:$J,8,FALSE),\" - \")","v":" - "},{"$f":"IFERROR(VLOOKUP($B62,'EP_LV_Price-list'!$A:$J,9,FALSE),\" - \")","v":" - "},{"$f":"IFERROR(VLOOKUP($B62,'EP_LV_Price-list'!$A:$J,4,FALSE),\" - \")","v":" - "}," - ",null," - "," - "]
[55,null,{"$f":"IFERROR(VLOOKUP($B63,'EP_LV_Price-list'!$A:$J,2,FALSE),\" - \")","v":" - "},{"$f":"IFERROR(VLOOKUP($B63,'EP_LV_Price-list'!$A:$J,3,FALSE),\" - \")","v":" - "},{"$f":"IFERROR(VLOOKUP($B63,'EP_LV_Price-list'!$A:$J,7,FALSE),\" - \")","v":" - "},{"$f":"IFERROR(VLOOKUP($B63,'EP_LV_Price-list'!$A:$K,11,FALSE),\" - \")","v":" - "},null,{"$f":"IFERROR(VLOOKUP($B63,'EP_LV_Price-list'!$A:$J,8,FALSE),\" - \")","v":" - "},{"$f":"IFERROR(VLOOKUP($B63,'EP_LV_Price-list'!$A:$J,9,FALSE),\" - \")","v":" - "},{"$f":"IFERROR(VLOOKUP($B63,'EP_LV_Price-list'!$A:$J,4,FALSE),\" - \")","v":" - "}," - ",null," - "," - "]
[56,null,{"$f":"IFERROR(VLOOKUP($B64,'EP_LV_Price-list'!$A:$J,2,FALSE),\" - \")","v":" - "},{"$f":"IFERROR(VLOOKUP($B64,'EP_LV_Price-list'!$A:$J,3,FALSE),\" - \")","v":" - "},{"$f":"IFERROR(VLOOKUP($B64,'EP_LV_Price-list'!$A:$J,7,FALSE),\" - \")","v":" - "},{"$f":"IFERROR(VLOOKUP($B64,'EP_LV_Price-list'!$A:$K,11,FALSE),\" - \")","v":" - "},null,{"$f":"IFERROR(VLOOKUP($B64,'EP_LV_Price-list'!$A:$J,8,FALSE),\" - \")","v":" - "},{"$f":"IFERROR(VLOOKUP($B64,'EP_LV_Price-list'!$A:$J,9,FALSE),\" - \")","v":" - "},{"$f":"IFERROR(VLOOKUP($B64,'EP_LV_Price-list'!$A:$J,4,FALSE),\" - \")","v":" - "}," - ",null," - "," - "]
[57,null,{"$f":"IFERROR(VLOOKUP($B65,'EP_LV_Price-list'!$A:$J,2,FALSE),\" - \")","v":" - "},{"$f":"IFERROR(VLOOKUP($B65,'EP_LV_Price-list'!$A:$J,3,FALSE),\" - \")","v":" - "},{"$f":"IFERROR(VLOOKUP($B65,'EP_LV_Price-list'!$A:$J,7,FALSE),\" - \")","v":" - "},{"$f":"IFERROR(VLOOKUP($B65,'EP_LV_Price-list'!$A:$K,11,FALSE),\" - \")","v":" - "},null,{"$f":"IFERROR(VLOOKUP($B65,'EP_LV_Price-list'!$A:$J,8,FALSE),\" - \")","v":" - "},{"$f":"IFERROR(VLOOKUP($B65,'EP_LV_Price-list'!$A:$J,9,FALSE),\" - \")","v":" - "},{"$f":"IFERROR(VLOOKUP($B65,'EP_LV_Price-list'!$A:$J,4,FALSE),\" - \")","v":" - "}," - ",null," - "," - "]
[58,null,{"$f":"IFERROR(VLOOKUP($B66,'EP_LV_Price-list'!$A:$J,2,FALSE),\" - \")","v":" - "},{"$f":"IFERROR(VLOOKUP($B66,'EP_LV_Price-list'!$A:$J,3,FALSE),\" - \")","v":" - "},{"$f":"IFERROR(VLOOKUP($B66,'EP_LV_Price-list'!$A:$J,7,FALSE),\" - \")","v":" - "},{"$f":"IFERROR(VLOOKUP($B66,'EP_LV_Price-list'!$A:$K,11,FALSE),\" - \")","v":" - "},null,{"$f":"IFERROR(VLOOKUP($B66,'EP_LV_Price-list'!$A:$J,8,FALSE),\" - \")","v":" - "},{"$f":"IFERROR(VLOOKUP($B66,'EP_LV_Price-list'!$A:$J,9,FALSE),\" - \")","v":" - "},{"$f":"IFERROR(VLOOKUP($B66,'EP_LV_Price-list'!$A:$J,4,FALSE),\" - \")","v":" - "}," - ",null," - "," - "]
[59,null,{"$f":"IFERROR(VLOOKUP($B67,'EP_LV_Price-list'!$A:$J,2,FALSE),\" - \")","v":" - "},{"$f":"IFERROR(VLOOKUP($B67,'EP_LV_Price-list'!$A:$J,3,FALSE),\" - \")","v":" - "},{"$f":"IFERROR(VLOOKUP($B67,'EP_LV_Price-list'!$A:$J,7,FALSE),\" - \")","v":" - "},{"$f":"IFERROR(VLOOKUP($B67,'EP_LV_Price-list'!$A:$K,11,FALSE),\" - \")","v":" - "},null,{"$f":"IFERROR(VLOOKUP($B67,'EP_LV_Price-list'!$A:$J,8,FALSE),\" - \")","v":" - "},{"$f":"IFERROR(VLOOKUP($B67,'EP_LV_Price-list'!$A:$J,9,FALSE),\" - \")","v":" - "},{"$f":"IFERROR(VLOOKUP($B67,'EP_LV_Price-list'!$A:$J,4,FALSE),\" - \")","v":" - "}," - ",null," - "," - "]
[60,null,{"$f":"IFERROR(VLOOKUP($B68,'EP_LV_Price-list'!$A:$J,2,FALSE),\" - \")","v":" - "},{"$f":"IFERROR(VLOOKUP($B68,'EP_LV_Price-list'!$A:$J,3,FALSE),\" - \")","v":" - "},{"$f":"IFERROR(VLOOKUP($B68,'EP_LV_Price-list'!$A:$J,7,FALSE),\" - \")","v":" - "},{"$f":"IFERROR(VLOOKUP($B68,'EP_LV_Price-list'!$A:$K,11,FALSE),\" - \")","v":" - "},null,{"$f":"IFERROR(VLOOKUP($B68,'EP_LV_Price-list'!$A:$J,8,FALSE),\" - \")","v":" - "},{"$f":"IFERROR(VLOOKUP($B68,'EP_LV_Price-list'!$A:$J,9,FALSE),\" - \")","v":" - "},{"$f":"IFERROR(VLOOKUP($B68,'EP_LV_Price-list'!$A:$J,4,FALSE),\" - \")","v":" - "}," - ",null," - "," - "]
[61,null,{"$f":"IFERROR(VLOOKUP($B69,'EP_LV_Price-list'!$A:$J,2,FALSE),\" - \")","v":" - "},{"$f":"IFERROR(VLOOKUP($B69,'EP_LV_Price-list'!$A:$J,3,FALSE),\" - \")","v":" - "},{"$f":"IFERROR(VLOOKUP($B69,'EP_LV_Price-list'!$A:$J,7,FALSE),\" - \")","v":" - "},{"$f":"IFERROR(VLOOKUP($B69,'EP_LV_Price-list'!$A:$K,11,FALSE),\" - \")","v":" - "},null,{"$f":"IFERROR(VLOOKUP($B69,'EP_LV_Price-list'!$A:$J,8,FALSE),\" - \")","v":" - "},{"$f":"IFERROR(VLOOKUP($B69,'EP_LV_Price-list'!$A:$J,9,FALSE),\" - \")","v":" - "},{"$f":"IFERROR(VLOOKUP($B69,'EP_LV_Price-list'!$A:$J,4,FALSE),\" - \")","v":" - "}," - ",null," - "," - "]
[62,null,{"$f":"IFERROR(VLOOKUP($B70,'EP_LV_Price-list'!$A:$J,2,FALSE),\" - \")","v":" - "},{"$f":"IFERROR(VLOOKUP($B70,'EP_LV_Price-list'!$A:$J,3,FALSE),\" - \")","v":" - "},{"$f":"IFERROR(VLOOKUP($B70,'EP_LV_Price-list'!$A:$J,7,FALSE),\" - \")","v":" - "},{"$f":"IFERROR(VLOOKUP($B70,'EP_LV_Price-list'!$A:$K,11,FALSE),\" - \")","v":" - "},null,{"$f":"IFERROR(VLOOKUP($B70,'EP_LV_Price-list'!$A:$J,8,FALSE),\" - \")","v":" - "},{"$f":"IFERROR(VLOOKUP($B70,'EP_LV_Price-list'!$A:$J,9,FALSE),\" - \")","v":" - "},{"$f":"IFERROR(VLOOKUP($B70,'EP_LV_Price-list'!$A:$J,4,FALSE),\" - \")","v":" - "}," - ",null," - "," - "]
[63,null,{"$f":"IFERROR(VLOOKUP($B71,'EP_LV_Price-list'!$A:$J,2,FALSE),\" - \")","v":" - "},{"$f":"IFERROR(VLOOKUP($B71,'EP_LV_Price-list'!$A:$J,3,FALSE),\" - \")","v":" - "},{"$f":"IFERROR(VLOOKUP($B71,'EP_LV_Price-list'!$A:$J,7,FALSE),\" - \")","v":" - "},{"$f":"IFERROR(VLOOKUP($B71,'EP_LV_Price-list'!$A:$K,11,FALSE),\" - \")","v":" - "},null,{"$f":"IFERROR(VLOOKUP($B71,'EP_LV_Price-list'!$A:$J,8,FALSE),\" - \")","v":" - "},{"$f":"IFERROR(VLOOKUP($B71,'EP_LV_Price-list'!$A:$J,9,FALSE),\" - \")","v":" - "},{"$f":"IFERROR(VLOOKUP($B71,'EP_LV_Price-list'!$A:$J,4,FALSE),\" - \")","v":" - "}," - ",null," - "," - "]
[64,null,{"$f":"IFERROR(VLOOKUP($B72,'EP_LV_Price-list'!$A:$J,2,FALSE),\" - \")","v":" - "},{"$f":"IFERROR(VLOOKUP($B72,'EP_LV_Price-list'!$A:$J,3,FALSE),\" - \")","v":" - "},{"$f":"IFERROR(VLOOKUP($B72,'EP_LV_Price-list'!$A:$J,7,FALSE),\" - \")","v":" - "},{"$f":"IFERROR(VLOOKUP($B72,'EP_LV_Price-list'!$A:$K,11,FALSE),\" - \")","v":" - "},null,{"$f":"IFERROR(VLOOKUP($B72,'EP_LV_Price-list'!$A:$J,8,FALSE),\" - \")","v":" - "},{"$f":"IFERROR(VLOOKUP($B72,'EP_LV_Price-list'!$A:$J,9,FALSE),\" - \")","v":" - "},{"$f":"IFERROR(VLOOKUP($B72,'EP_LV_Price-list'!$A:$J,4,FALSE),\" - \")","v":" - "}," - ",null," - "," - "]
[65,null,{"$f":"IFERROR(VLOOKUP($B73,'EP_LV_Price-list'!$A:$J,2,FALSE),\" - \")","v":" - "},{"$f":"IFERROR(VLOOKUP($B73,'EP_LV_Price-list'!$A:$J,3,FALSE),\" - \")","v":" - "},{"$f":"IFERROR(VLOOKUP($B73,'EP_LV_Price-list'!$A:$J,7,FALSE),\" - \")","v":" - "},{"$f":"IFERROR(VLOOKUP($B73,'EP_LV_Price-list'!$A:$K,11,FALSE),\" - \")","v":" - "},null,{"$f":"IFERROR(VLOOKUP($B73,'EP_LV_Price-list'!$A:$J,8,FALSE),\" - \")","v":" - "},{"$f":"IFERROR(VLOOKUP($B73,'EP_LV_Price-list'!$A:$J,9,FALSE),\" - \")","v":" - "},{"$f":"IFERROR(VLOOKUP($B73,'EP_LV_Price-list'!$A:$J,4,FALSE),\" - \")","v":" - "}," - ",null," - "," - "]
[66,null,{"$f":"IFERROR(VLOOKUP($B74,'EP_LV_Price-list'!$A:$J,2,FALSE),\" - \")","v":" - "},{"$f":"IFERROR(VLOOKUP($B74,'EP_LV_Price-list'!$A:$J,3,FALSE),\" - \")","v":" - "},{"$f":"IFERROR(VLOOKUP($B74,'EP_LV_Price-list'!$A:$J,7,FALSE),\" - \")","v":" - "},{"$f":"IFERROR(VLOOKUP($B74,'EP_LV_Price-list'!$A:$K,11,FALSE),\" - \")","v":" - "},null,{"$f":"IFERROR(VLOOKUP($B74,'EP_LV_Price-list'!$A:$J,8,FALSE),\" - \")","v":" - "},{"$f":"IFERROR(VLOOKUP($B74,'EP_LV_Price-list'!$A:$J,9,FALSE),\" - \")","v":" - "},{"$f":"IFERROR(VLOOKUP($B74,'EP_LV_Price-list'!$A:$J,4,FALSE),\" - \")","v":" - "}," - ",null," - "," - "]
[67,null,{"$f":"IFERROR(VLOOKUP($B75,'EP_LV_Price-list'!$A:$J,2,FALSE),\" - \")","v":" - "},{"$f":"IFERROR(VLOOKUP($B75,'EP_LV_Price-list'!$A:$J,3,FALSE),\" - \")","v":" - "},{"$f":"IFERROR(VLOOKUP($B75,'EP_LV_Price-list'!$A:$J,7,FALSE),\" - \")","v":" - "},{"$f":"IFERROR(VLOOKUP($B75,'EP_LV_Price-list'!$A:$K,11,FALSE),\" - \")","v":" - "},null,{"$f":"IFERROR(VLOOKUP($B75,'EP_LV_Price-list'!$A:$J,8,FALSE),\" - \")","v":" - "},{"$f":"IFERROR(VLOOKUP($B75,'EP_LV_Price-list'!$A:$J,9,FALSE),\" - \")","v":" - "},{"$f":"IFERROR(VLOOKUP($B75,'EP_LV_Price-list'!$A:$J,4,FALSE),\" - \")","v":" - "}," - ",null," - "," - "]
[68,null,{"$f":"IFERROR(VLOOKUP($B76,'EP_LV_Price-list'!$A:$J,2,FALSE),\" - \")","v":" - "},{"$f":"IFERROR(VLOOKUP($B76,'EP_LV_Price-list'!$A:$J,3,FALSE),\" - \")","v":" - "},{"$f":"IFERROR(VLOOKUP($B76,'EP_LV_Price-list'!$A:$J,7,FALSE),\" - \")","v":" - "},{"$f":"IFERROR(VLOOKUP($B76,'EP_LV_Price-list'!$A:$K,11,FALSE),\" - \")","v":" - "},null,{"$f":"IFERROR(VLOOKUP($B76,'EP_LV_Price-list'!$A:$J,8,FALSE),\" - \")","v":" - "},{"$f":"IFERROR(VLOOKUP($B76,'EP_LV_Price-list'!$A:$J,9,FALSE),\" - \")","v":" - "},{"$f":"IFERROR(VLOOKUP($B76,'EP_LV_Price-list'!$A:$J,4,FALSE),\" - \")","v":" - "}," - ",null," - "," - "]
[69,null,{"$f":"IFERROR(VLOOKUP($B77,'EP_LV_Price-list'!$A:$J,2,FALSE),\" - \")","v":" - "},{"$f":"IFERROR(VLOOKUP($B77,'EP_LV_Price-list'!$A:$J,3,FALSE),\" - \")","v":" - "},{"$f":"IFERROR(VLOOKUP($B77,'EP_LV_Price-list'!$A:$J,7,FALSE),\" - \")","v":" - "},{"$f":"IFERROR(VLOOKUP($B77,'EP_LV_Price-list'!$A:$K,11,FALSE),\" - \")","v":" - "},null,{"$f":"IFERROR(VLOOKUP($B77,'EP_LV_Price-list'!$A:$J,8,FALSE),\" - \")","v":" - "},{"$f":"IFERROR(VLOOKUP($B77,'EP_LV_Price-list'!$A:$J,9,FALSE),\" - \")","v":" - "},{"$f":"IFERROR(VLOOKUP($B77,'EP_LV_Price-list'!$A:$J,4,FALSE),\" - \")","v":" - "}," - ",null," - "," - "]
[70,null,{"$f":"IFERROR(VLOOKUP($B78,'EP_LV_Price-list'!$A:$J,2,FALSE),\" - \")","v":" - "},{"$f":"IFERROR(VLOOKUP($B78,'EP_LV_Price-list'!$A:$J,3,FALSE),\" - \")","v":" - "},{"$f":"IFERROR(VLOOKUP($B78,'EP_LV_Price-list'!$A:$J,7,FALSE),\" - \")","v":" - "},{"$f":"IFERROR(VLOOKUP($B78,'EP_LV_Price-list'!$A:$K,11,FALSE),\" - \")","v":" - "},null,{"$f":"IFERROR(VLOOKUP($B78,'EP_LV_Price-list'!$A:$J,8,FALSE),\" - \")","v":" - "},{"$f":"IFERROR(VLOOKUP($B78,'EP_LV_Price-list'!$A:$J,9,FALSE),\" - \")","v":" - "},{"$f":"IFERROR(VLOOKUP($B78,'EP_LV_Price-list'!$A:$J,4,FALSE),\" - \")","v":" - "}," - ",null," - "," - "]
[71,null,{"$f":"IFERROR(VLOOKUP($B79,'EP_LV_Price-list'!$A:$J,2,FALSE),\" - \")","v":" - "},{"$f":"IFERROR(VLOOKUP($B79,'EP_LV_Price-list'!$A:$J,3,FALSE),\" - \")","v":" - "},{"$f":"IFERROR(VLOOKUP($B79,'EP_LV_Price-list'!$A:$J,7,FALSE),\" - \")","v":" - "},{"$f":"IFERROR(VLOOKUP($B79,'EP_LV_Price-list'!$A:$K,11,FALSE),\" - \")","v":" - "},null,{"$f":"IFERROR(VLOOKUP($B79,'EP_LV_Price-list'!$A:$J,8,FALSE),\" - \")","v":" - "},{"$f":"IFERROR(VLOOKUP($B79,'EP_LV_Price-list'!$A:$J,9,FALSE),\" - \")","v":" - "},{"$f":"IFERROR(VLOOKUP($B79,'EP_LV_Price-list'!$A:$J,4,FALSE),\" - \")","v":" - "}," - ",null," - "," - "]
[72,null,{"$f":"IFERROR(VLOOKUP($B80,'EP_LV_Price-list'!$A:$J,2,FALSE),\" - \")","v":" - "},{"$f":"IFERROR(VLOOKUP($B80,'EP_LV_Price-list'!$A:$J,3,FALSE),\" - \")","v":" - "},{"$f":"IFERROR(VLOOKUP($B80,'EP_LV_Price-list'!$A:$J,7,FALSE),\" - \")","v":" - "},{"$f":"IFERROR(VLOOKUP($B80,'EP_LV_Price-list'!$A:$K,11,FALSE),\" - \")","v":" - "},null,{"$f":"IFERROR(VLOOKUP($B80,'EP_LV_Price-list'!$A:$J,8,FALSE),\" - \")","v":" - "},{"$f":"IFERROR(VLOOKUP($B80,'EP_LV_Price-list'!$A:$J,9,FALSE),\" - \")","v":" - "},{"$f":"IFERROR(VLOOKUP($B80,'EP_LV_Price-list'!$A:$J,4,FALSE),\" - \")","v":" - "}," - ",null," - "," - "]
[73,null,{"$f":"IFERROR(VLOOKUP($B81,'EP_LV_Price-list'!$A:$J,2,FALSE),\" - \")","v":" - "},{"$f":"IFERROR(VLOOKUP($B81,'EP_LV_Price-list'!$A:$J,3,FALSE),\" - \")","v":" - "},{"$f":"IFERROR(VLOOKUP($B81,'EP_LV_Price-list'!$A:$J,7,FALSE),\" - \")","v":" - "},{"$f":"IFERROR(VLOOKUP($B81,'EP_LV_Price-list'!$A:$K,11,FALSE),\" - \")","v":" - "},null,{"$f":"IFERROR(VLOOKUP($B81,'EP_LV_Price-list'!$A:$J,8,FALSE),\" - \")","v":" - "},{"$f":"IFERROR(VLOOKUP($B81,'EP_LV_Price-list'!$A:$J,9,FALSE),\" - \")","v":" - "},{"$f":"IFERROR(VLOOKUP($B81,'EP_LV_Price-list'!$A:$J,4,FALSE),\" - \")","v":" - "}," - ",null," - "," - "]
[74,null,{"$f":"IFERROR(VLOOKUP($B82,'EP_LV_Price-list'!$A:$J,2,FALSE),\" - \")","v":" - "},{"$f":"IFERROR(VLOOKUP($B82,'EP_LV_Price-list'!$A:$J,3,FALSE),\" - \")","v":" - "},{"$f":"IFERROR(VLOOKUP($B82,'EP_LV_Price-list'!$A:$J,7,FALSE),\" - \")","v":" - "},{"$f":"IFERROR(VLOOKUP($B82,'EP_LV_Price-list'!$A:$K,11,FALSE),\" - \")","v":" - "},null,{"$f":"IFERROR(VLOOKUP($B82,'EP_LV_Price-list'!$A:$J,8,FALSE),\" - \")","v":" - "},{"$f":"IFERROR(VLOOKUP($B82,'EP_LV_Price-list'!$A:$J,9,FALSE),\" - \")","v":" - "},{"$f":"IFERROR(VLOOKUP($B82,'EP_LV_Price-list'!$A:$J,4,FALSE),\" - \")","v":" - "}," - ",null," - "," - "]
[75,null,{"$f":"IFERROR(VLOOKUP($B83,'EP_LV_Price-list'!$A:$J,2,FALSE),\" - \")","v":" - "},{"$f":"IFERROR(VLOOKUP($B83,'EP_LV_Price-list'!$A:$J,3,FALSE),\" - \")","v":" - "},{"$f":"IFERROR(VLOOKUP($B83,'EP_LV_Price-list'!$A:$J,7,FALSE),\" - \")","v":" - "},{"$f":"IFERROR(VLOOKUP($B83,'EP_LV_Price-list'!$A:$K,11,FALSE),\" - \")","v":" - "},null,{"$f":"IFERROR(VLOOKUP($B83,'EP_LV_Price-list'!$A:$J,8,FALSE),\" - \")","v":" - "},{"$f":"IFERROR(VLOOKUP($B83,'EP_LV_Price-list'!$A:$J,9,FALSE),\" - \")","v":" - "},{"$f":"IFERROR(VLOOKUP($B83,'EP_LV_Price-list'!$A:$J,4,FALSE),\" - \")","v":" - "}," - ",null," - "," - "]
[76,null,{"$f":"IFERROR(VLOOKUP($B84,'EP_LV_Price-list'!$A:$J,2,FALSE),\" - \")","v":" - "},{"$f":"IFERROR(VLOOKUP($B84,'EP_LV_Price-list'!$A:$J,3,FALSE),\" - \")","v":" - "},{"$f":"IFERROR(VLOOKUP($B84,'EP_LV_Price-list'!$A:$J,7,FALSE),\" - \")","v":" - "},{"$f":"IFERROR(VLOOKUP($B84,'EP_LV_Price-list'!$A:$K,11,FALSE),\" - \")","v":" - "},null,{"$f":"IFERROR(VLOOKUP($B84,'EP_LV_Price-list'!$A:$J,8,FALSE),\" - \")","v":" - "},{"$f":"IFERROR(VLOOKUP($B84,'EP_LV_Price-list'!$A:$J,9,FALSE),\" - \")","v":" - "},{"$f":"IFERROR(VLOOKUP($B84,'EP_LV_Price-list'!$A:$J,4,FALSE),\" - \")","v":" - "}," - ",null," - "," - "]
[77,null,{"$f":"IFERROR(VLOOKUP($B85,'EP_LV_Price-list'!$A:$J,2,FALSE),\" - \")","v":" - "},{"$f":"IFERROR(VLOOKUP($B85,'EP_LV_Price-list'!$A:$J,3,FALSE),\" - \")","v":" - "},{"$f":"IFERROR(VLOOKUP($B85,'EP_LV_Price-list'!$A:$J,7,FALSE),\" - \")","v":" - "},{"$f":"IFERROR(VLOOKUP($B85,'EP_LV_Price-list'!$A:$K,11,FALSE),\" - \")","v":" - "},null,{"$f":"IFERROR(VLOOKUP($B85,'EP_LV_Price-list'!$A:$J,8,FALSE),\" - \")","v":" - "},{"$f":"IFERROR(VLOOKUP($B85,'EP_LV_Price-list'!$A:$J,9,FALSE),\" - \")","v":" - "},{"$f":"IFERROR(VLOOKUP($B85,'EP_LV_Price-list'!$A:$J,4,FALSE),\" - \")","v":" - "}," - ",null," - "," - "]
[78,null,{"$f":"IFERROR(VLOOKUP($B86,'EP_LV_Price-list'!$A:$J,2,FALSE),\" - \")","v":" - "},{"$f":"IFERROR(VLOOKUP($B86,'EP_LV_Price-list'!$A:$J,3,FALSE),\" - \")","v":" - "},{"$f":"IFERROR(VLOOKUP($B86,'EP_LV_Price-list'!$A:$J,7,FALSE),\" - \")","v":" - "},{"$f":"IFERROR(VLOOKUP($B86,'EP_LV_Price-list'!$A:$K,11,FALSE),\" - \")","v":" - "},null,{"$f":"IFERROR(VLOOKUP($B86,'EP_LV_Price-list'!$A:$J,8,FALSE),\" - \")","v":" - "},{"$f":"IFERROR(VLOOKUP($B86,'EP_LV_Price-list'!$A:$J,9,FALSE),\" - \")","v":" - "},{"$f":"IFERROR(VLOOKUP($B86,'EP_LV_Price-list'!$A:$J,4,FALSE),\" - \")","v":" - "}," - ",null," - "," - "]
[79,null,{"$f":"IFERROR(VLOOKUP($B87,'EP_LV_Price-list'!$A:$J,2,FALSE),\" - \")","v":" - "},{"$f":"IFERROR(VLOOKUP($B87,'EP_LV_Price-list'!$A:$J,3,FALSE),\" - \")","v":" - "},{"$f":"IFERROR(VLOOKUP($B87,'EP_LV_Price-list'!$A:$J,7,FALSE),\" - \")","v":" - "},{"$f":"IFERROR(VLOOKUP($B87,'EP_LV_Price-list'!$A:$K,11,FALSE),\" - \")","v":" - "},null,{"$f":"IFERROR(VLOOKUP($B87,'EP_LV_Price-list'!$A:$J,8,FALSE),\" - \")","v":" - "},{"$f":"IFERROR(VLOOKUP($B87,'EP_LV_Price-list'!$A:$J,9,FALSE),\" - \")","v":" - "},{"$f":"IFERROR(VLOOKUP($B87,'EP_LV_Price-list'!$A:$J,4,FALSE),\" - \")","v":" - "}," - ",null," - "," - "]
[80,null,{"$f":"IFERROR(VLOOKUP($B88,'EP_LV_Price-list'!$A:$J,2,FALSE),\" - \")","v":" - "},{"$f":"IFERROR(VLOOKUP($B88,'EP_LV_Price-list'!$A:$J,3,FALSE),\" - \")","v":" - "},{"$f":"IFERROR(VLOOKUP($B88,'EP_LV_Price-list'!$A:$J,7,FALSE),\" - \")","v":" - "},{"$f":"IFERROR(VLOOKUP($B88,'EP_LV_Price-list'!$A:$K,11,FALSE),\" - \")","v":" - "},null,{"$f":"IFERROR(VLOOKUP($B88,'EP_LV_Price-list'!$A:$J,8,FALSE),\" - \")","v":" - "},{"$f":"IFERROR(VLOOKUP($B88,'EP_LV_Price-list'!$A:$J,9,FALSE),\" - \")","v":" - "},{"$f":"IFERROR(VLOOKUP($B88,'EP_LV_Price-list'!$A:$J,4,FALSE),\" - \")","v":" - "}," - ",null," - "," - "]
[81,null,{"$f":"IFERROR(VLOOKUP($B89,'EP_LV_Price-list'!$A:$J,2,FALSE),\" - \")","v":" - "},{"$f":"IFERROR(VLOOKUP($B89,'EP_LV_Price-list'!$A:$J,3,FALSE),\" - \")","v":" - "},{"$f":"IFERROR(VLOOKUP($B89,'EP_LV_Price-list'!$A:$J,7,FALSE),\" - \")","v":" - "},{"$f":"IFERROR(VLOOKUP($B89,'EP_LV_Price-list'!$A:$K,11,FALSE),\" - \")","v":" - "},null,{"$f":"IFERROR(VLOOKUP($B89,'EP_LV_Price-list'!$A:$J,8,FALSE),\" - \")","v":" - "},{"$f":"IFERROR(VLOOKUP($B89,'EP_LV_Price-list'!$A:$J,9,FALSE),\" - \")","v":" - "},{"$f":"IFERROR(VLOOKUP($B89,'EP_LV_Price-list'!$A:$J,4,FALSE),\" - \")","v":" - "},{"$f":"IFERROR(J89*G89,\" - \")","v":" - "},null," - ",{"$f":"IFERROR(M89*G89,\" - \")","v":" - "}]
[82,null,{"$f":"IFERROR(VLOOKUP($B90,'EP_LV_Price-list'!$A:$J,2,FALSE),\" - \")","v":" - "},{"$f":"IFERROR(VLOOKUP($B90,'EP_LV_Price-list'!$A:$J,3,FALSE),\" - \")","v":" - "},{"$f":"IFERROR(VLOOKUP($B90,'EP_LV_Price-list'!$A:$J,7,FALSE),\" - \")","v":" - "},{"$f":"IFERROR(VLOOKUP($B90,'EP_LV_Price-list'!$A:$K,11,FALSE),\" - \")","v":" - "},null,{"$f":"IFERROR(VLOOKUP($B90,'EP_LV_Price-list'!$A:$J,8,FALSE),\" - \")","v":" - "},{"$f":"IFERROR(VLOOKUP($B90,'EP_LV_Price-list'!$A:$J,9,FALSE),\" - \")","v":" - "},{"$f":"IFERROR(VLOOKUP($B90,'EP_LV_Price-list'!$A:$J,4,FALSE),\" - \")","v":" - "},{"$f":"IFERROR(J90*G90,\" - \")","v":" - "},null," - ",{"$f":"IFERROR(M90*G90,\" - \")","v":" - "}]
[83,null,{"$f":"IFERROR(VLOOKUP($B91,'EP_LV_Price-list'!$A:$J,2,FALSE),\" - \")","v":" - "},{"$f":"IFERROR(VLOOKUP($B91,'EP_LV_Price-list'!$A:$J,3,FALSE),\" - \")","v":" - "},{"$f":"IFERROR(VLOOKUP($B91,'EP_LV_Price-list'!$A:$J,7,FALSE),\" - \")","v":" - "},{"$f":"IFERROR(VLOOKUP($B91,'EP_LV_Price-list'!$A:$K,11,FALSE),\" - \")","v":" - "},null,{"$f":"IFERROR(VLOOKUP($B91,'EP_LV_Price-list'!$A:$J,8,FALSE),\" - \")","v":" - "},{"$f":"IFERROR(VLOOKUP($B91,'EP_LV_Price-list'!$A:$J,9,FALSE),\" - \")","v":" - "},{"$f":"IFERROR(VLOOKUP($B91,'EP_LV_Price-list'!$A:$J,4,FALSE),\" - \")","v":" - "}," - ",null," - "," - "]
[84,null,{"$f":"IFERROR(VLOOKUP($B92,'EP_LV_Price-list'!$A:$J,2,FALSE),\" - \")","v":" - "},{"$f":"IFERROR(VLOOKUP($B92,'EP_LV_Price-list'!$A:$J,3,FALSE),\" - \")","v":" - "},{"$f":"IFERROR(VLOOKUP($B92,'EP_LV_Price-list'!$A:$J,7,FALSE),\" - \")","v":" - "},{"$f":"IFERROR(VLOOKUP($B92,'EP_LV_Price-list'!$A:$K,11,FALSE),\" - \")","v":" - "},null,{"$f":"IFERROR(VLOOKUP($B92,'EP_LV_Price-list'!$A:$J,8,FALSE),\" - \")","v":" - "},{"$f":"IFERROR(VLOOKUP($B92,'EP_LV_Price-list'!$A:$J,9,FALSE),\" - \")","v":" - "},{"$f":"IFERROR(VLOOKUP($B92,'EP_LV_Price-list'!$A:$J,4,FALSE),\" - \")","v":" - "}," - ",null," - "," - "]
[85,null,{"$f":"IFERROR(VLOOKUP($B93,'EP_LV_Price-list'!$A:$J,2,FALSE),\" - \")","v":" - "},{"$f":"IFERROR(VLOOKUP($B93,'EP_LV_Price-list'!$A:$J,3,FALSE),\" - \")","v":" - "},{"$f":"IFERROR(VLOOKUP($B93,'EP_LV_Price-list'!$A:$J,7,FALSE),\" - \")","v":" - "},{"$f":"IFERROR(VLOOKUP($B93,'EP_LV_Price-list'!$A:$K,11,FALSE),\" - \")","v":" - "},null,{"$f":"IFERROR(VLOOKUP($B93,'EP_LV_Price-list'!$A:$J,8,FALSE),\" - \")","v":" - "},{"$f":"IFERROR(VLOOKUP($B93,'EP_LV_Price-list'!$A:$J,9,FALSE),\" - \")","v":" - "},{"$f":"IFERROR(VLOOKUP($B93,'EP_LV_Price-list'!$A:$J,4,FALSE),\" - \")","v":" - "}," - ",null," - "," - "]
[86,null,{"$f":"IFERROR(VLOOKUP($B94,'EP_LV_Price-list'!$A:$J,2,FALSE),\" - \")","v":" - "},{"$f":"IFERROR(VLOOKUP($B94,'EP_LV_Price-list'!$A:$J,3,FALSE),\" - \")","v":" - "},{"$f":"IFERROR(VLOOKUP($B94,'EP_LV_Price-list'!$A:$J,7,FALSE),\" - \")","v":" - "},{"$f":"IFERROR(VLOOKUP($B94,'EP_LV_Price-list'!$A:$K,11,FALSE),\" - \")","v":" - "},null,{"$f":"IFERROR(VLOOKUP($B94,'EP_LV_Price-list'!$A:$J,8,FALSE),\" - \")","v":" - "},{"$f":"IFERROR(VLOOKUP($B94,'EP_LV_Price-list'!$A:$J,9,FALSE),\" - \")","v":" - "},{"$f":"IFERROR(VLOOKUP($B94,'EP_LV_Price-list'!$A:$J,4,FALSE),\" - \")","v":" - "}," - ",null," - "," - "]
[87,null,{"$f":"IFERROR(VLOOKUP($B95,'EP_LV_Price-list'!$A:$J,2,FALSE),\" - \")","v":" - "},{"$f":"IFERROR(VLOOKUP($B95,'EP_LV_Price-list'!$A:$J,3,FALSE),\" - \")","v":" - "},{"$f":"IFERROR(VLOOKUP($B95,'EP_LV_Price-list'!$A:$J,7,FALSE),\" - \")","v":" - "},{"$f":"IFERROR(VLOOKUP($B95,'EP_LV_Price-list'!$A:$K,11,FALSE),\" - \")","v":" - "},null,{"$f":"IFERROR(VLOOKUP($B95,'EP_LV_Price-list'!$A:$J,8,FALSE),\" - \")","v":" - "},{"$f":"IFERROR(VLOOKUP($B95,'EP_LV_Price-list'!$A:$J,9,FALSE),\" - \")","v":" - "},{"$f":"IFERROR(VLOOKUP($B95,'EP_LV_Price-list'!$A:$J,4,FALSE),\" - \")","v":" - "}," - ",null," - "," - "]
[88,null,{"$f":"IFERROR(VLOOKUP($B96,'EP_LV_Price-list'!$A:$J,2,FALSE),\" - \")","v":" - "},{"$f":"IFERROR(VLOOKUP($B96,'EP_LV_Price-list'!$A:$J,3,FALSE),\" - \")","v":" - "},{"$f":"IFERROR(VLOOKUP($B96,'EP_LV_Price-list'!$A:$J,7,FALSE),\" - \")","v":" - "},{"$f":"IFERROR(VLOOKUP($B96,'EP_LV_Price-list'!$A:$K,11,FALSE),\" - \")","v":" - "},null,{"$f":"IFERROR(VLOOKUP($B96,'EP_LV_Price-list'!$A:$J,8,FALSE),\" - \")","v":" - "},{"$f":"IFERROR(VLOOKUP($B96,'EP_LV_Price-list'!$A:$J,9,FALSE),\" - \")","v":" - "},{"$f":"IFERROR(VLOOKUP($B96,'EP_LV_Price-list'!$A:$J,4,FALSE),\" - \")","v":" - "}," - ",null," - "," - "]
[89,null,{"$f":"IFERROR(VLOOKUP($B97,'EP_LV_Price-list'!$A:$J,2,FALSE),\" - \")","v":" - "},{"$f":"IFERROR(VLOOKUP($B97,'EP_LV_Price-list'!$A:$J,3,FALSE),\" - \")","v":" - "},{"$f":"IFERROR(VLOOKUP($B97,'EP_LV_Price-list'!$A:$J,7,FALSE),\" - \")","v":" - "},{"$f":"IFERROR(VLOOKUP($B97,'EP_LV_Price-list'!$A:$K,11,FALSE),\" - \")","v":" - "},null,{"$f":"IFERROR(VLOOKUP($B97,'EP_LV_Price-list'!$A:$J,8,FALSE),\" - \")","v":" - "},{"$f":"IFERROR(VLOOKUP($B97,'EP_LV_Price-list'!$A:$J,9,FALSE),\" - \")","v":" - "},{"$f":"IFERROR(VLOOKUP($B97,'EP_LV_Price-list'!$A:$J,4,FALSE),\" - \")","v":" - "}," - ",null," - "," - "]
[90,null,{"$f":"IFERROR(VLOOKUP($B98,'EP_LV_Price-list'!$A:$J,2,FALSE),\" - \")","v":" - "},{"$f":"IFERROR(VLOOKUP($B98,'EP_LV_Price-list'!$A:$J,3,FALSE),\" - \")","v":" - "},{"$f":"IFERROR(VLOOKUP($B98,'EP_LV_Price-list'!$A:$J,7,FALSE),\" - \")","v":" - "},{"$f":"IFERROR(VLOOKUP($B98,'EP_LV_Price-list'!$A:$K,11,FALSE),\" - \")","v":" - "},null,{"$f":"IFERROR(VLOOKUP($B98,'EP_LV_Price-list'!$A:$J,8,FALSE),\" - \")","v":" - "},{"$f":"IFERROR(VLOOKUP($B98,'EP_LV_Price-list'!$A:$J,9,FALSE),\" - \")","v":" - "},{"$f":"IFERROR(VLOOKUP($B98,'EP_LV_Price-list'!$A:$J,4,FALSE),\" - \")","v":" - "}," - ",null," - "," - "]
[91,null,{"$f":"IFERROR(VLOOKUP($B99,'EP_LV_Price-list'!$A:$J,2,FALSE),\" - \")","v":" - "},{"$f":"IFERROR(VLOOKUP($B99,'EP_LV_Price-list'!$A:$J,3,FALSE),\" - \")","v":" - "},{"$f":"IFERROR(VLOOKUP($B99,'EP_LV_Price-list'!$A:$J,7,FALSE),\" - \")","v":" - "},{"$f":"IFERROR(VLOOKUP($B99,'EP_LV_Price-list'!$A:$K,11,FALSE),\" - \")","v":" - "},null,{"$f":"IFERROR(VLOOKUP($B99,'EP_LV_Price-list'!$A:$J,8,FALSE),\" - \")","v":" - "},{"$f":"IFERROR(VLOOKUP($B99,'EP_LV_Price-list'!$A:$J,9,FALSE),\" - \")","v":" - "},{"$f":"IFERROR(VLOOKUP($B99,'EP_LV_Price-list'!$A:$J,4,FALSE),\" - \")","v":" - "}," - ",null," - "," - "]
[92,null,{"$f":"IFERROR(VLOOKUP($B100,'EP_LV_Price-list'!$A:$J,2,FALSE),\" - \")","v":" - "},{"$f":"IFERROR(VLOOKUP($B100,'EP_LV_Price-list'!$A:$J,3,FALSE),\" - \")","v":" - "},{"$f":"IFERROR(VLOOKUP($B100,'EP_LV_Price-list'!$A:$J,7,FALSE),\" - \")","v":" - "},{"$f":"IFERROR(VLOOKUP($B100,'EP_LV_Price-list'!$A:$K,11,FALSE),\" - \")","v":" - "},null,{"$f":"IFERROR(VLOOKUP($B100,'EP_LV_Price-list'!$A:$J,8,FALSE),\" - \")","v":" - "},{"$f":"IFERROR(VLOOKUP($B100,'EP_LV_Price-list'!$A:$J,9,FALSE),\" - \")","v":" - "},{"$f":"IFERROR(VLOOKUP($B100,'EP_LV_Price-list'!$A:$J,4,FALSE),\" - \")","v":" - "}," - ",null," - "," - "]
[93,null,{"$f":"IFERROR(VLOOKUP($B101,'EP_LV_Price-list'!$A:$J,2,FALSE),\" - \")","v":" - "},{"$f":"IFERROR(VLOOKUP($B101,'EP_LV_Price-list'!$A:$J,3,FALSE),\" - \")","v":" - "},{"$f":"IFERROR(VLOOKUP($B101,'EP_LV_Price-list'!$A:$J,7,FALSE),\" - \")","v":" - "},{"$f":"IFERROR(VLOOKUP($B101,'EP_LV_Price-list'!$A:$K,11,FALSE),\" - \")","v":" - "},null,{"$f":"IFERROR(VLOOKUP($B101,'EP_LV_Price-list'!$A:$J,8,FALSE),\" - \")","v":" - "},{"$f":"IFERROR(VLOOKUP($B101,'EP_LV_Price-list'!$A:$J,9,FALSE),\" - \")","v":" - "},{"$f":"IFERROR(VLOOKUP($B101,'EP_LV_Price-list'!$A:$J,4,FALSE),\" - \")","v":" - "}," - ",null," - "," - "]
[94,null,{"$f":"IFERROR(VLOOKUP($B102,'EP_LV_Price-list'!$A:$J,2,FALSE),\" - \")","v":" - "},{"$f":"IFERROR(VLOOKUP($B102,'EP_LV_Price-list'!$A:$J,3,FALSE),\" - \")","v":" - "},{"$f":"IFERROR(VLOOKUP($B102,'EP_LV_Price-list'!$A:$J,7,FALSE),\" - \")","v":" - "},{"$f":"IFERROR(VLOOKUP($B102,'EP_LV_Price-list'!$A:$K,11,FALSE),\" - \")","v":" - "},null,{"$f":"IFERROR(VLOOKUP($B102,'EP_LV_Price-list'!$A:$J,8,FALSE),\" - \")","v":" - "},{"$f":"IFERROR(VLOOKUP($B102,'EP_LV_Price-list'!$A:$J,9,FALSE),\" - \")","v":" - "},{"$f":"IFERROR(VLOOKUP($B102,'EP_LV_Price-list'!$A:$J,4,FALSE),\" - \")","v":" - "}," - ",null," - "," - "]
[95,null,{"$f":"IFERROR(VLOOKUP($B103,'EP_LV_Price-list'!$A:$J,2,FALSE),\" - \")","v":" - "},{"$f":"IFERROR(VLOOKUP($B103,'EP_LV_Price-list'!$A:$J,3,FALSE),\" - \")","v":" - "},{"$f":"IFERROR(VLOOKUP($B103,'EP_LV_Price-list'!$A:$J,7,FALSE),\" - \")","v":" - "},{"$f":"IFERROR(VLOOKUP($B103,'EP_LV_Price-list'!$A:$K,11,FALSE),\" - \")","v":" - "},null,{"$f":"IFERROR(VLOOKUP($B103,'EP_LV_Price-list'!$A:$J,8,FALSE),\" - \")","v":" - "},{"$f":"IFERROR(VLOOKUP($B103,'EP_LV_Price-list'!$A:$J,9,FALSE),\" - \")","v":" - "},{"$f":"IFERROR(VLOOKUP($B103,'EP_LV_Price-list'!$A:$J,4,FALSE),\" - \")","v":" - "}," - ",null," - "," - "]
[96,null,{"$f":"IFERROR(VLOOKUP($B104,'EP_LV_Price-list'!$A:$J,2,FALSE),\" - \")","v":" - "},{"$f":"IFERROR(VLOOKUP($B104,'EP_LV_Price-list'!$A:$J,3,FALSE),\" - \")","v":" - "},{"$f":"IFERROR(VLOOKUP($B104,'EP_LV_Price-list'!$A:$J,7,FALSE),\" - \")","v":" - "},{"$f":"IFERROR(VLOOKUP($B104,'EP_LV_Price-list'!$A:$K,11,FALSE),\" - \")","v":" - "},null,{"$f":"IFERROR(VLOOKUP($B104,'EP_LV_Price-list'!$A:$J,8,FALSE),\" - \")","v":" - "},{"$f":"IFERROR(VLOOKUP($B104,'EP_LV_Price-list'!$A:$J,9,FALSE),\" - \")","v":" - "},{"$f":"IFERROR(VLOOKUP($B104,'EP_LV_Price-list'!$A:$J,4,FALSE),\" - \")","v":" - "}," - ",null," - "," - "]
[97,null,{"$f":"IFERROR(VLOOKUP($B105,'EP_LV_Price-list'!$A:$J,2,FALSE),\" - \")","v":" - "},{"$f":"IFERROR(VLOOKUP($B105,'EP_LV_Price-list'!$A:$J,3,FALSE),\" - \")","v":" - "},{"$f":"IFERROR(VLOOKUP($B105,'EP_LV_Price-list'!$A:$J,7,FALSE),\" - \")","v":" - "},{"$f":"IFERROR(VLOOKUP($B105,'EP_LV_Price-list'!$A:$K,11,FALSE),\" - \")","v":" - "},null,{"$f":"IFERROR(VLOOKUP($B105,'EP_LV_Price-list'!$A:$J,8,FALSE),\" - \")","v":" - "},{"$f":"IFERROR(VLOOKUP($B105,'EP_LV_Price-list'!$A:$J,9,FALSE),\" - \")","v":" - "},{"$f":"IFERROR(VLOOKUP($B105,'EP_LV_Price-list'!$A:$J,4,FALSE),\" - \")","v":" - "}," - ",null," - "," - "]
[98,null,{"$f":"IFERROR(VLOOKUP($B106,'EP_LV_Price-list'!$A:$J,2,FALSE),\" - \")","v":" - "},{"$f":"IFERROR(VLOOKUP($B106,'EP_LV_Price-list'!$A:$J,3,FALSE),\" - \")","v":" - "},{"$f":"IFERROR(VLOOKUP($B106,'EP_LV_Price-list'!$A:$J,7,FALSE),\" - \")","v":" - "},{"$f":"IFERROR(VLOOKUP($B106,'EP_LV_Price-list'!$A:$K,11,FALSE),\" - \")","v":" - "},null,{"$f":"IFERROR(VLOOKUP($B106,'EP_LV_Price-list'!$A:$J,8,FALSE),\" - \")","v":" - "},{"$f":"IFERROR(VLOOKUP($B106,'EP_LV_Price-list'!$A:$J,9,FALSE),\" - \")","v":" - "},{"$f":"IFERROR(VLOOKUP($B106,'EP_LV_Price-list'!$A:$J,4,FALSE),\" - \")","v":" - "}," - ",null," - "," - "]
[99,null,{"$f":"IFERROR(VLOOKUP($B107,'EP_LV_Price-list'!$A:$J,2,FALSE),\" - \")","v":" - "},{"$f":"IFERROR(VLOOKUP($B107,'EP_LV_Price-list'!$A:$J,3,FALSE),\" - \")","v":" - "},{"$f":"IFERROR(VLOOKUP($B107,'EP_LV_Price-list'!$A:$J,7,FALSE),\" - \")","v":" - "},{"$f":"IFERROR(VLOOKUP($B107,'EP_LV_Price-list'!$A:$K,11,FALSE),\" - \")","v":" - "},null,{"$f":"IFERROR(VLOOKUP($B107,'EP_LV_Price-list'!$A:$J,8,FALSE),\" - \")","v":" - "},{"$f":"IFERROR(VLOOKUP($B107,'EP_LV_Price-list'!$A:$J,9,FALSE),\" - \")","v":" - "},{"$f":"IFERROR(VLOOKUP($B107,'EP_LV_Price-list'!$A:$J,4,FALSE),\" - \")","v":" - "}," - ",null," - "," - "]
[100,null,{"$f":"IFERROR(VLOOKUP($B108,'EP_LV_Price-list'!$A:$J,2,FALSE),\" - \")","v":" - "},{"$f":"IFERROR(VLOOKUP($B108,'EP_LV_Price-list'!$A:$J,3,FALSE),\" - \")","v":" - "},{"$f":"IFERROR(VLOOKUP($B108,'EP_LV_Price-list'!$A:$J,7,FALSE),\" - \")","v":" - "},{"$f":"IFERROR(VLOOKUP($B108,'EP_LV_Price-list'!$A:$K,11,FALSE),\" - \")","v":" - "},null,{"$f":"IFERROR(VLOOKUP($B108,'EP_LV_Price-list'!$A:$J,8,FALSE),\" - \")","v":" - "},{"$f":"IFERROR(VLOOKUP($B108,'EP_LV_Price-list'!$A:$J,9,FALSE),\" - \")","v":" - "},{"$f":"IFERROR(VLOOKUP($B108,'EP_LV_Price-list'!$A:$J,4,FALSE),\" - \")","v":" - "}," - ",null," - "," - "]
[101,null,{"$f":"IFERROR(VLOOKUP($B109,'EP_LV_Price-list'!$A:$J,2,FALSE),\" - \")","v":" - "},{"$f":"IFERROR(VLOOKUP($B109,'EP_LV_Price-list'!$A:$J,3,FALSE),\" - \")","v":" - "},{"$f":"IFERROR(VLOOKUP($B109,'EP_LV_Price-list'!$A:$J,7,FALSE),\" - \")","v":" - "},{"$f":"IFERROR(VLOOKUP($B109,'EP_LV_Price-list'!$A:$K,11,FALSE),\" - \")","v":" - "},null,{"$f":"IFERROR(VLOOKUP($B109,'EP_LV_Price-list'!$A:$J,8,FALSE),\" - \")","v":" - "},{"$f":"IFERROR(VLOOKUP($B109,'EP_LV_Price-list'!$A:$J,9,FALSE),\" - \")","v":" - "},{"$f":"IFERROR(VLOOKUP($B109,'EP_LV_Price-list'!$A:$J,4,FALSE),\" - \")","v":" - "}," - ",null," - "," - "]
[102,null,{"$f":"IFERROR(VLOOKUP($B110,'EP_LV_Price-list'!$A:$J,2,FALSE),\" - \")","v":" - "},{"$f":"IFERROR(VLOOKUP($B110,'EP_LV_Price-list'!$A:$J,3,FALSE),\" - \")","v":" - "},{"$f":"IFERROR(VLOOKUP($B110,'EP_LV_Price-list'!$A:$J,7,FALSE),\" - \")","v":" - "},{"$f":"IFERROR(VLOOKUP($B110,'EP_LV_Price-list'!$A:$K,11,FALSE),\" - \")","v":" - "},null,{"$f":"IFERROR(VLOOKUP($B110,'EP_LV_Price-list'!$A:$J,8,FALSE),\" - \")","v":" - "},{"$f":"IFERROR(VLOOKUP($B110,'EP_LV_Price-list'!$A:$J,9,FALSE),\" - \")","v":" - "},{"$f":"IFERROR(VLOOKUP($B110,'EP_LV_Price-list'!$A:$J,4,FALSE),\" - \")","v":" - "}," - ",null," - "," - "]
[103,null,{"$f":"IFERROR(VLOOKUP($B111,'EP_LV_Price-list'!$A:$J,2,FALSE),\" - \")","v":" - "},{"$f":"IFERROR(VLOOKUP($B111,'EP_LV_Price-list'!$A:$J,3,FALSE),\" - \")","v":" - "},{"$f":"IFERROR(VLOOKUP($B111,'EP_LV_Price-list'!$A:$J,7,FALSE),\" - \")","v":" - "},{"$f":"IFERROR(VLOOKUP($B111,'EP_LV_Price-list'!$A:$K,11,FALSE),\" - \")","v":" - "},null,{"$f":"IFERROR(VLOOKUP($B111,'EP_LV_Price-list'!$A:$J,8,FALSE),\" - \")","v":" - "},{"$f":"IFERROR(VLOOKUP($B111,'EP_LV_Price-list'!$A:$J,9,FALSE),\" - \")","v":" - "},{"$f":"IFERROR(VLOOKUP($B111,'EP_LV_Price-list'!$A:$J,4,FALSE),\" - \")","v":" - "}," - ",null," - "," - "]
[104,null,{"$f":"IFERROR(VLOOKUP($B112,'EP_LV_Price-list'!$A:$J,2,FALSE),\" - \")","v":" - "},{"$f":"IFERROR(VLOOKUP($B112,'EP_LV_Price-list'!$A:$J,3,FALSE),\" - \")","v":" - "},{"$f":"IFERROR(VLOOKUP($B112,'EP_LV_Price-list'!$A:$J,7,FALSE),\" - \")","v":" - "},{"$f":"IFERROR(VLOOKUP($B112,'EP_LV_Price-list'!$A:$K,11,FALSE),\" - \")","v":" - "},null,{"$f":"IFERROR(VLOOKUP($B112,'EP_LV_Price-list'!$A:$J,8,FALSE),\" - \")","v":" - "},{"$f":"IFERROR(VLOOKUP($B112,'EP_LV_Price-list'!$A:$J,9,FALSE),\" - \")","v":" - "},{"$f":"IFERROR(VLOOKUP($B112,'EP_LV_Price-list'!$A:$J,4,FALSE),\" - \")","v":" - "}," - ",null," - "," - "]
[105,null,{"$f":"IFERROR(VLOOKUP($B113,'EP_LV_Price-list'!$A:$J,2,FALSE),\" - \")","v":" - "},{"$f":"IFERROR(VLOOKUP($B113,'EP_LV_Price-list'!$A:$J,3,FALSE),\" - \")","v":" - "},{"$f":"IFERROR(VLOOKUP($B113,'EP_LV_Price-list'!$A:$J,7,FALSE),\" - \")","v":" - "},{"$f":"IFERROR(VLOOKUP($B113,'EP_LV_Price-list'!$A:$K,11,FALSE),\" - \")","v":" - "},null,{"$f":"IFERROR(VLOOKUP($B113,'EP_LV_Price-list'!$A:$J,8,FALSE),\" - \")","v":" - "},{"$f":"IFERROR(VLOOKUP($B113,'EP_LV_Price-list'!$A:$J,9,FALSE),\" - \")","v":" - "},{"$f":"IFERROR(VLOOKUP($B113,'EP_LV_Price-list'!$A:$J,4,FALSE),\" - \")","v":" - "}," - ",null,{"$f":"IFERROR(ROUND(J113*(1-$N$2),2),\" - \")","v":" - "}," - "]
[106,null,{"$f":"IFERROR(VLOOKUP($B114,'EP_LV_Price-list'!$A:$J,2,FALSE),\" - \")","v":" - "},{"$f":"IFERROR(VLOOKUP($B114,'EP_LV_Price-list'!$A:$J,3,FALSE),\" - \")","v":" - "},{"$f":"IFERROR(VLOOKUP($B114,'EP_LV_Price-list'!$A:$J,7,FALSE),\" - \")","v":" - "},{"$f":"IFERROR(VLOOKUP($B114,'EP_LV_Price-list'!$A:$K,11,FALSE),\" - \")","v":" - "},null,{"$f":"IFERROR(VLOOKUP($B114,'EP_LV_Price-list'!$A:$J,8,FALSE),\" - \")","v":" - "},{"$f":"IFERROR(VLOOKUP($B114,'EP_LV_Price-list'!$A:$J,9,FALSE),\" - \")","v":" - "},{"$f":"IFERROR(VLOOKUP($B114,'EP_LV_Price-list'!$A:$J,4,FALSE),\" - \")","v":" - "}," - ",null," - "," - "]
[107,null,{"$f":"IFERROR(VLOOKUP($B115,'EP_LV_Price-list'!$A:$J,2,FALSE),\" - \")","v":" - "},{"$f":"IFERROR(VLOOKUP($B115,'EP_LV_Price-list'!$A:$J,3,FALSE),\" - \")","v":" - "},{"$f":"IFERROR(VLOOKUP($B115,'EP_LV_Price-list'!$A:$J,7,FALSE),\" - \")","v":" - "},{"$f":"IFERROR(VLOOKUP($B115,'EP_LV_Price-list'!$A:$K,11,FALSE),\" - \")","v":" - "},null,{"$f":"IFERROR(VLOOKUP($B115,'EP_LV_Price-list'!$A:$J,8,FALSE),\" - \")","v":" - "},{"$f":"IFERROR(VLOOKUP($B115,'EP_LV_Price-list'!$A:$J,9,FALSE),\" - \")","v":" - "},{"$f":"IFERROR(VLOOKUP($B115,'EP_LV_Price-list'!$A:$J,4,FALSE),\" - \")","v":" - "}," - ",null," - "," - "]
[108,null,{"$f":"IFERROR(VLOOKUP($B116,'EP_LV_Price-list'!$A:$J,2,FALSE),\" - \")","v":" - "},{"$f":"IFERROR(VLOOKUP($B116,'EP_LV_Price-list'!$A:$J,3,FALSE),\" - \")","v":" - "},{"$f":"IFERROR(VLOOKUP($B116,'EP_LV_Price-list'!$A:$J,7,FALSE),\" - \")","v":" - "},{"$f":"IFERROR(VLOOKUP($B116,'EP_LV_Price-list'!$A:$K,11,FALSE),\" - \")","v":" - "},null,{"$f":"IFERROR(VLOOKUP($B116,'EP_LV_Price-list'!$A:$J,8,FALSE),\" - \")","v":" - "},{"$f":"IFERROR(VLOOKUP($B116,'EP_LV_Price-list'!$A:$J,9,FALSE),\" - \")","v":" - "},{"$f":"IFERROR(VLOOKUP($B116,'EP_LV_Price-list'!$A:$J,4,FALSE),\" - \")","v":" - "}," - ",null," - "," - "]
[109,null,{"$f":"IFERROR(VLOOKUP($B117,'EP_LV_Price-list'!$A:$J,2,FALSE),\" - \")","v":" - "},{"$f":"IFERROR(VLOOKUP($B117,'EP_LV_Price-list'!$A:$J,3,FALSE),\" - \")","v":" - "},{"$f":"IFERROR(VLOOKUP($B117,'EP_LV_Price-list'!$A:$J,7,FALSE),\" - \")","v":" - "},{"$f":"IFERROR(VLOOKUP($B117,'EP_LV_Price-list'!$A:$K,11,FALSE),\" - \")","v":" - "},null,{"$f":"IFERROR(VLOOKUP($B117,'EP_LV_Price-list'!$A:$J,8,FALSE),\" - \")","v":" - "},{"$f":"IFERROR(VLOOKUP($B117,'EP_LV_Price-list'!$A:$J,9,FALSE),\" - \")","v":" - "},{"$f":"IFERROR(VLOOKUP($B117,'EP_LV_Price-list'!$A:$J,4,FALSE),\" - \")","v":" - "}," - ",null," - "," - "]
[110,null,{"$f":"IFERROR(VLOOKUP($B118,'EP_LV_Price-list'!$A:$J,2,FALSE),\" - \")","v":" - "},{"$f":"IFERROR(VLOOKUP($B118,'EP_LV_Price-list'!$A:$J,3,FALSE),\" - \")","v":" - "},{"$f":"IFERROR(VLOOKUP($B118,'EP_LV_Price-list'!$A:$J,7,FALSE),\" - \")","v":" - "},{"$f":"IFERROR(VLOOKUP($B118,'EP_LV_Price-list'!$A:$K,11,FALSE),\" - \")","v":" - "},null,{"$f":"IFERROR(VLOOKUP($B118,'EP_LV_Price-list'!$A:$J,8,FALSE),\" - \")","v":" - "},{"$f":"IFERROR(VLOOKUP($B118,'EP_LV_Price-list'!$A:$J,9,FALSE),\" - \")","v":" - "},{"$f":"IFERROR(VLOOKUP($B118,'EP_LV_Price-list'!$A:$J,4,FALSE),\" - \")","v":" - "}," - ",null," - "," - "]
[111,null,{"$f":"IFERROR(VLOOKUP($B119,'EP_LV_Price-list'!$A:$J,2,FALSE),\" - \")","v":" - "},{"$f":"IFERROR(VLOOKUP($B119,'EP_LV_Price-list'!$A:$J,3,FALSE),\" - \")","v":" - "},{"$f":"IFERROR(VLOOKUP($B119,'EP_LV_Price-list'!$A:$J,7,FALSE),\" - \")","v":" - "},{"$f":"IFERROR(VLOOKUP($B119,'EP_LV_Price-list'!$A:$K,11,FALSE),\" - \")","v":" - "},null,{"$f":"IFERROR(VLOOKUP($B119,'EP_LV_Price-list'!$A:$J,8,FALSE),\" - \")","v":" - "},{"$f":"IFERROR(VLOOKUP($B119,'EP_LV_Price-list'!$A:$J,9,FALSE),\" - \")","v":" - "},{"$f":"IFERROR(VLOOKUP($B119,'EP_LV_Price-list'!$A:$J,4,FALSE),\" - \")","v":" - "}," - ",null," - "," - "]
[112,null,{"$f":"IFERROR(VLOOKUP($B120,'EP_LV_Price-list'!$A:$J,2,FALSE),\" - \")","v":" - "},{"$f":"IFERROR(VLOOKUP($B120,'EP_LV_Price-list'!$A:$J,3,FALSE),\" - \")","v":" - "},{"$f":"IFERROR(VLOOKUP($B120,'EP_LV_Price-list'!$A:$J,7,FALSE),\" - \")","v":" - "},{"$f":"IFERROR(VLOOKUP($B120,'EP_LV_Price-list'!$A:$K,11,FALSE),\" - \")","v":" - "},null,{"$f":"IFERROR(VLOOKUP($B120,'EP_LV_Price-list'!$A:$J,8,FALSE),\" - \")","v":" - "},{"$f":"IFERROR(VLOOKUP($B120,'EP_LV_Price-list'!$A:$J,9,FALSE),\" - \")","v":" - "},{"$f":"IFERROR(VLOOKUP($B120,'EP_LV_Price-list'!$A:$J,4,FALSE),\" - \")","v":" - "}," - ",null," - "," - "]
[113,null,{"$f":"IFERROR(VLOOKUP($B121,'EP_LV_Price-list'!$A:$J,2,FALSE),\" - \")","v":" - "},{"$f":"IFERROR(VLOOKUP($B121,'EP_LV_Price-list'!$A:$J,3,FALSE),\" - \")","v":" - "},{"$f":"IFERROR(VLOOKUP($B121,'EP_LV_Price-list'!$A:$J,7,FALSE),\" - \")","v":" - "},{"$f":"IFERROR(VLOOKUP($B121,'EP_LV_Price-list'!$A:$K,11,FALSE),\" - \")","v":" - "},null,{"$f":"IFERROR(VLOOKUP($B121,'EP_LV_Price-list'!$A:$J,8,FALSE),\" - \")","v":" - "},{"$f":"IFERROR(VLOOKUP($B121,'EP_LV_Price-list'!$A:$J,9,FALSE),\" - \")","v":" - "},{"$f":"IFERROR(VLOOKUP($B121,'EP_LV_Price-list'!$A:$J,4,FALSE),\" - \")","v":" - "}," - ",null," - "," - "]
[114,null,{"$f":"IFERROR(VLOOKUP($B122,'EP_LV_Price-list'!$A:$J,2,FALSE),\" - \")","v":" - "},{"$f":"IFERROR(VLOOKUP($B122,'EP_LV_Price-list'!$A:$J,3,FALSE),\" - \")","v":" - "},{"$f":"IFERROR(VLOOKUP($B122,'EP_LV_Price-list'!$A:$J,7,FALSE),\" - \")","v":" - "},{"$f":"IFERROR(VLOOKUP($B122,'EP_LV_Price-list'!$A:$K,11,FALSE),\" - \")","v":" - "},null,{"$f":"IFERROR(VLOOKUP($B122,'EP_LV_Price-list'!$A:$J,8,FALSE),\" - \")","v":" - "},{"$f":"IFERROR(VLOOKUP($B122,'EP_LV_Price-list'!$A:$J,9,FALSE),\" - \")","v":" - "},{"$f":"IFERROR(VLOOKUP($B122,'EP_LV_Price-list'!$A:$J,4,FALSE),\" - \")","v":" - "}," - ",null," - "," - "]
[115,null,{"$f":"IFERROR(VLOOKUP($B123,'EP_LV_Price-list'!$A:$J,2,FALSE),\" - \")","v":" - "},{"$f":"IFERROR(VLOOKUP($B123,'EP_LV_Price-list'!$A:$J,3,FALSE),\" - \")","v":" - "},{"$f":"IFERROR(VLOOKUP($B123,'EP_LV_Price-list'!$A:$J,7,FALSE),\" - \")","v":" - "},{"$f":"IFERROR(VLOOKUP($B123,'EP_LV_Price-list'!$A:$K,11,FALSE),\" - \")","v":" - "},null,{"$f":"IFERROR(VLOOKUP($B123,'EP_LV_Price-list'!$A:$J,8,FALSE),\" - \")","v":" - "},{"$f":"IFERROR(VLOOKUP($B123,'EP_LV_Price-list'!$A:$J,9,FALSE),\" - \")","v":" - "},{"$f":"IFERROR(VLOOKUP($B123,'EP_LV_Price-list'!$A:$J,4,FALSE),\" - \")","v":" - "}," - ",null," - "," - "]
[116,null,{"$f":"IFERROR(VLOOKUP($B124,'EP_LV_Price-list'!$A:$J,2,FALSE),\" - \")","v":" - "},{"$f":"IFERROR(VLOOKUP($B124,'EP_LV_Price-list'!$A:$J,3,FALSE),\" - \")","v":" - "},{"$f":"IFERROR(VLOOKUP($B124,'EP_LV_Price-list'!$A:$J,7,FALSE),\" - \")","v":" - "},{"$f":"IFERROR(VLOOKUP($B124,'EP_LV_Price-list'!$A:$K,11,FALSE),\" - \")","v":" - "},null,{"$f":"IFERROR(VLOOKUP($B124,'EP_LV_Price-list'!$A:$J,8,FALSE),\" - \")","v":" - "},{"$f":"IFERROR(VLOOKUP($B124,'EP_LV_Price-list'!$A:$J,9,FALSE),\" - \")","v":" - "},{"$f":"IFERROR(VLOOKUP($B124,'EP_LV_Price-list'!$A:$J,4,FALSE),\" - \")","v":" - "}," - ",null," - "," - "]
[117,null,{"$f":"IFERROR(VLOOKUP($B125,'EP_LV_Price-list'!$A:$J,2,FALSE),\" - \")","v":" - "},{"$f":"IFERROR(VLOOKUP($B125,'EP_LV_Price-list'!$A:$J,3,FALSE),\" - \")","v":" - "},{"$f":"IFERROR(VLOOKUP($B125,'EP_LV_Price-list'!$A:$J,7,FALSE),\" - \")","v":" - "},{"$f":"IFERROR(VLOOKUP($B125,'EP_LV_Price-list'!$A:$K,11,FALSE),\" - \")","v":" - "},null,{"$f":"IFERROR(VLOOKUP($B125,'EP_LV_Price-list'!$A:$J,8,FALSE),\" - \")","v":" - "},{"$f":"IFERROR(VLOOKUP($B125,'EP_LV_Price-list'!$A:$J,9,FALSE),\" - \")","v":" - "},{"$f":"IFERROR(VLOOKUP($B125,'EP_LV_Price-list'!$A:$J,4,FALSE),\" - \")","v":" - "}," - ",null," - "," - "]
[118,null,{"$f":"IFERROR(VLOOKUP($B126,'EP_LV_Price-list'!$A:$J,2,FALSE),\" - \")","v":" - "},{"$f":"IFERROR(VLOOKUP($B126,'EP_LV_Price-list'!$A:$J,3,FALSE),\" - \")","v":" - "},{"$f":"IFERROR(VLOOKUP($B126,'EP_LV_Price-list'!$A:$J,7,FALSE),\" - \")","v":" - "},{"$f":"IFERROR(VLOOKUP($B126,'EP_LV_Price-list'!$A:$K,11,FALSE),\" - \")","v":" - "},null,{"$f":"IFERROR(VLOOKUP($B126,'EP_LV_Price-list'!$A:$J,8,FALSE),\" - \")","v":" - "},{"$f":"IFERROR(VLOOKUP($B126,'EP_LV_Price-list'!$A:$J,9,FALSE),\" - \")","v":" - "},{"$f":"IFERROR(VLOOKUP($B126,'EP_LV_Price-list'!$A:$J,4,FALSE),\" - \")","v":" - "}," - ",null," - "," - "]
[119,null,{"$f":"IFERROR(VLOOKUP($B127,'EP_LV_Price-list'!$A:$J,2,FALSE),\" - \")","v":" - "},{"$f":"IFERROR(VLOOKUP($B127,'EP_LV_Price-list'!$A:$J,3,FALSE),\" - \")","v":" - "},{"$f":"IFERROR(VLOOKUP($B127,'EP_LV_Price-list'!$A:$J,7,FALSE),\" - \")","v":" - "},{"$f":"IFERROR(VLOOKUP($B127,'EP_LV_Price-list'!$A:$K,11,FALSE),\" - \")","v":" - "},null,{"$f":"IFERROR(VLOOKUP($B127,'EP_LV_Price-list'!$A:$J,8,FALSE),\" - \")","v":" - "},{"$f":"IFERROR(VLOOKUP($B127,'EP_LV_Price-list'!$A:$J,9,FALSE),\" - \")","v":" - "},{"$f":"IFERROR(VLOOKUP($B127,'EP_LV_Price-list'!$A:$J,4,FALSE),\" - \")","v":" - "}," - ",null," - "," - "]
[120,null,{"$f":"IFERROR(VLOOKUP($B128,'EP_LV_Price-list'!$A:$J,2,FALSE),\" - \")","v":" - "},{"$f":"IFERROR(VLOOKUP($B128,'EP_LV_Price-list'!$A:$J,3,FALSE),\" - \")","v":" - "},{"$f":"IFERROR(VLOOKUP($B128,'EP_LV_Price-list'!$A:$J,7,FALSE),\" - \")","v":" - "},{"$f":"IFERROR(VLOOKUP($B128,'EP_LV_Price-list'!$A:$K,11,FALSE),\" - \")","v":" - "},null,{"$f":"IFERROR(VLOOKUP($B128,'EP_LV_Price-list'!$A:$J,8,FALSE),\" - \")","v":" - "},{"$f":"IFERROR(VLOOKUP($B128,'EP_LV_Price-list'!$A:$J,9,FALSE),\" - \")","v":" - "},{"$f":"IFERROR(VLOOKUP($B128,'EP_LV_Price-list'!$A:$J,4,FALSE),\" - \")","v":" - "}," - ",null," - "," - "]
[121,null,{"$f":"IFERROR(VLOOKUP($B129,'EP_LV_Price-list'!$A:$J,2,FALSE),\" - \")","v":" - "},{"$f":"IFERROR(VLOOKUP($B129,'EP_LV_Price-list'!$A:$J,3,FALSE),\" - \")","v":" - "},{"$f":"IFERROR(VLOOKUP($B129,'EP_LV_Price-list'!$A:$J,7,FALSE),\" - \")","v":" - "},{"$f":"IFERROR(VLOOKUP($B129,'EP_LV_Price-list'!$A:$K,11,FALSE),\" - \")","v":" - "},null,{"$f":"IFERROR(VLOOKUP($B129,'EP_LV_Price-list'!$A:$J,8,FALSE),\" - \")","v":" - "},{"$f":"IFERROR(VLOOKUP($B129,'EP_LV_Price-list'!$A:$J,9,FALSE),\" - \")","v":" - "},{"$f":"IFERROR(VLOOKUP($B129,'EP_LV_Price-list'!$A:$J,4,FALSE),\" - \")","v":" - "},{"$f":"IFERROR(J129*G129,\" - \")","v":" - "},null,{"$f":"IFERROR(ROUND(J129*(1-$N$2),2),\" - \")","v":" - "},{"$f":"IFERROR(M129*G129,\" - \")","v":" - "}]
[122,null,{"$f":"IFERROR(VLOOKUP($B130,'EP_LV_Price-list'!$A:$J,2,FALSE),\" - \")","v":" - "},{"$f":"IFERROR(VLOOKUP($B130,'EP_LV_Price-list'!$A:$J,3,FALSE),\" - \")","v":" - "},{"$f":"IFERROR(VLOOKUP($B130,'EP_LV_Price-list'!$A:$J,7,FALSE),\" - \")","v":" - "},{"$f":"IFERROR(VLOOKUP($B130,'EP_LV_Price-list'!$A:$K,11,FALSE),\" - \")","v":" - "},null,{"$f":"IFERROR(VLOOKUP($B130,'EP_LV_Price-list'!$A:$J,8,FALSE),\" - \")","v":" - "},{"$f":"IFERROR(VLOOKUP($B130,'EP_LV_Price-list'!$A:$J,9,FALSE),\" - \")","v":" - "},{"$f":"IFERROR(VLOOKUP($B130,'EP_LV_Price-list'!$A:$J,4,FALSE),\" - \")","v":" - "},{"$f":"IFERROR(J130*G130,\" - \")","v":" - "},null," - ",{"$f":"IFERROR(M130*G130,\" - \")","v":" - "}]
[123,null,{"$f":"IFERROR(VLOOKUP($B131,'EP_LV_Price-list'!$A:$J,2,FALSE),\" - \")","v":" - "},{"$f":"IFERROR(VLOOKUP($B131,'EP_LV_Price-list'!$A:$J,3,FALSE),\" - \")","v":" - "},{"$f":"IFERROR(VLOOKUP($B131,'EP_LV_Price-list'!$A:$J,7,FALSE),\" - \")","v":" - "},{"$f":"IFERROR(VLOOKUP($B131,'EP_LV_Price-list'!$A:$K,11,FALSE),\" - \")","v":" - "},null,{"$f":"IFERROR(VLOOKUP($B131,'EP_LV_Price-list'!$A:$J,8,FALSE),\" - \")","v":" - "},{"$f":"IFERROR(VLOOKUP($B131,'EP_LV_Price-list'!$A:$J,9,FALSE),\" - \")","v":" - "},{"$f":"IFERROR(VLOOKUP($B131,'EP_LV_Price-list'!$A:$J,4,FALSE),\" - \")","v":" - "}," - ",null," - "," - "]
[124,null,{"$f":"IFERROR(VLOOKUP($B132,'EP_LV_Price-list'!$A:$J,2,FALSE),\" - \")","v":" - "},{"$f":"IFERROR(VLOOKUP($B132,'EP_LV_Price-list'!$A:$J,3,FALSE),\" - \")","v":" - "},{"$f":"IFERROR(VLOOKUP($B132,'EP_LV_Price-list'!$A:$J,7,FALSE),\" - \")","v":" - "},{"$f":"IFERROR(VLOOKUP($B132,'EP_LV_Price-list'!$A:$K,11,FALSE),\" - \")","v":" - "},null,{"$f":"IFERROR(VLOOKUP($B132,'EP_LV_Price-list'!$A:$J,8,FALSE),\" - \")","v":" - "},{"$f":"IFERROR(VLOOKUP($B132,'EP_LV_Price-list'!$A:$J,9,FALSE),\" - \")","v":" - "},{"$f":"IFERROR(VLOOKUP($B132,'EP_LV_Price-list'!$A:$J,4,FALSE),\" - \")","v":" - "}," - ",null," - "," - "]
[125,null,{"$f":"IFERROR(VLOOKUP($B133,'EP_LV_Price-list'!$A:$J,2,FALSE),\" - \")","v":" - "},{"$f":"IFERROR(VLOOKUP($B133,'EP_LV_Price-list'!$A:$J,3,FALSE),\" - \")","v":" - "},{"$f":"IFERROR(VLOOKUP($B133,'EP_LV_Price-list'!$A:$J,7,FALSE),\" - \")","v":" - "},{"$f":"IFERROR(VLOOKUP($B133,'EP_LV_Price-list'!$A:$K,11,FALSE),\" - \")","v":" - "},null,{"$f":"IFERROR(VLOOKUP($B133,'EP_LV_Price-list'!$A:$J,8,FALSE),\" - \")","v":" - "},{"$f":"IFERROR(VLOOKUP($B133,'EP_LV_Price-list'!$A:$J,9,FALSE),\" - \")","v":" - "},{"$f":"IFERROR(VLOOKUP($B133,'EP_LV_Price-list'!$A:$J,4,FALSE),\" - \")","v":" - "}," - ",null," - "," - "]
[126,null,{"$f":"IFERROR(VLOOKUP($B134,'EP_LV_Price-list'!$A:$J,2,FALSE),\" - \")","v":" - "},{"$f":"IFERROR(VLOOKUP($B134,'EP_LV_Price-list'!$A:$J,3,FALSE),\" - \")","v":" - "},{"$f":"IFERROR(VLOOKUP($B134,'EP_LV_Price-list'!$A:$J,7,FALSE),\" - \")","v":" - "},{"$f":"IFERROR(VLOOKUP($B134,'EP_LV_Price-list'!$A:$K,11,FALSE),\" - \")","v":" - "},null,{"$f":"IFERROR(VLOOKUP($B134,'EP_LV_Price-list'!$A:$J,8,FALSE),\" - \")","v":" - "},{"$f":"IFERROR(VLOOKUP($B134,'EP_LV_Price-list'!$A:$J,9,FALSE),\" - \")","v":" - "},{"$f":"IFERROR(VLOOKUP($B134,'EP_LV_Price-list'!$A:$J,4,FALSE),\" - \")","v":" - "}," - ",null," - "," - "]
[127,null,{"$f":"IFERROR(VLOOKUP($B135,'EP_LV_Price-list'!$A:$J,2,FALSE),\" - \")","v":" - "},{"$f":"IFERROR(VLOOKUP($B135,'EP_LV_Price-list'!$A:$J,3,FALSE),\" - \")","v":" - "},{"$f":"IFERROR(VLOOKUP($B135,'EP_LV_Price-list'!$A:$J,7,FALSE),\" - \")","v":" - "},{"$f":"IFERROR(VLOOKUP($B135,'EP_LV_Price-list'!$A:$K,11,FALSE),\" - \")","v":" - "},null,{"$f":"IFERROR(VLOOKUP($B135,'EP_LV_Price-list'!$A:$J,8,FALSE),\" - \")","v":" - "},{"$f":"IFERROR(VLOOKUP($B135,'EP_LV_Price-list'!$A:$J,9,FALSE),\" - \")","v":" - "},{"$f":"IFERROR(VLOOKUP($B135,'EP_LV_Price-list'!$A:$J,4,FALSE),\" - \")","v":" - "}," - ",null," - "," - "]
[128,null,{"$f":"IFERROR(VLOOKUP($B136,'EP_LV_Price-list'!$A:$J,2,FALSE),\" - \")","v":" - "},{"$f":"IFERROR(VLOOKUP($B136,'EP_LV_Price-list'!$A:$J,3,FALSE),\" - \")","v":" - "},{"$f":"IFERROR(VLOOKUP($B136,'EP_LV_Price-list'!$A:$J,7,FALSE),\" - \")","v":" - "},{"$f":"IFERROR(VLOOKUP($B136,'EP_LV_Price-list'!$A:$K,11,FALSE),\" - \")","v":" - "},null,{"$f":"IFERROR(VLOOKUP($B136,'EP_LV_Price-list'!$A:$J,8,FALSE),\" - \")","v":" - "},{"$f":"IFERROR(VLOOKUP($B136,'EP_LV_Price-list'!$A:$J,9,FALSE),\" - \")","v":" - "},{"$f":"IFERROR(VLOOKUP($B136,'EP_LV_Price-list'!$A:$J,4,FALSE),\" - \")","v":" - "}," - ",null," - "," - "]
[129,null,{"$f":"IFERROR(VLOOKUP($B137,'EP_LV_Price-list'!$A:$J,2,FALSE),\" - \")","v":" - "},{"$f":"IFERROR(VLOOKUP($B137,'EP_LV_Price-list'!$A:$J,3,FALSE),\" - \")","v":" - "},{"$f":"IFERROR(VLOOKUP($B137,'EP_LV_Price-list'!$A:$J,7,FALSE),\" - \")","v":" - "},{"$f":"IFERROR(VLOOKUP($B137,'EP_LV_Price-list'!$A:$K,11,FALSE),\" - \")","v":" - "},null,{"$f":"IFERROR(VLOOKUP($B137,'EP_LV_Price-list'!$A:$J,8,FALSE),\" - \")","v":" - "},{"$f":"IFERROR(VLOOKUP($B137,'EP_LV_Price-list'!$A:$J,9,FALSE),\" - \")","v":" - "},{"$f":"IFERROR(VLOOKUP($B137,'EP_LV_Price-list'!$A:$J,4,FALSE),\" - \")","v":" - "}," - ",null," - "," - "]
[130,null,{"$f":"IFERROR(VLOOKUP($B138,'EP_LV_Price-list'!$A:$J,2,FALSE),\" - \")","v":" - "},{"$f":"IFERROR(VLOOKUP($B138,'EP_LV_Price-list'!$A:$J,3,FALSE),\" - \")","v":" - "},{"$f":"IFERROR(VLOOKUP($B138,'EP_LV_Price-list'!$A:$J,7,FALSE),\" - \")","v":" - "},{"$f":"IFERROR(VLOOKUP($B138,'EP_LV_Price-list'!$A:$K,11,FALSE),\" - \")","v":" - "},null,{"$f":"IFERROR(VLOOKUP($B138,'EP_LV_Price-list'!$A:$J,8,FALSE),\" - \")","v":" - "},{"$f":"IFERROR(VLOOKUP($B138,'EP_LV_Price-list'!$A:$J,9,FALSE),\" - \")","v":" - "},{"$f":"IFERROR(VLOOKUP($B138,'EP_LV_Price-list'!$A:$J,4,FALSE),\" - \")","v":" - "}," - ",null," - "," - "]
[131,null,{"$f":"IFERROR(VLOOKUP($B139,'EP_LV_Price-list'!$A:$J,2,FALSE),\" - \")","v":" - "},{"$f":"IFERROR(VLOOKUP($B139,'EP_LV_Price-list'!$A:$J,3,FALSE),\" - \")","v":" - "},{"$f":"IFERROR(VLOOKUP($B139,'EP_LV_Price-list'!$A:$J,7,FALSE),\" - \")","v":" - "},{"$f":"IFERROR(VLOOKUP($B139,'EP_LV_Price-list'!$A:$K,11,FALSE),\" - \")","v":" - "},null,{"$f":"IFERROR(VLOOKUP($B139,'EP_LV_Price-list'!$A:$J,8,FALSE),\" - \")","v":" - "},{"$f":"IFERROR(VLOOKUP($B139,'EP_LV_Price-list'!$A:$J,9,FALSE),\" - \")","v":" - "},{"$f":"IFERROR(VLOOKUP($B139,'EP_LV_Price-list'!$A:$J,4,FALSE),\" - \")","v":" - "}," - ",null," - "," - "]
[132,null,{"$f":"IFERROR(VLOOKUP($B140,'EP_LV_Price-list'!$A:$J,2,FALSE),\" - \")","v":" - "},{"$f":"IFERROR(VLOOKUP($B140,'EP_LV_Price-list'!$A:$J,3,FALSE),\" - \")","v":" - "},{"$f":"IFERROR(VLOOKUP($B140,'EP_LV_Price-list'!$A:$J,7,FALSE),\" - \")","v":" - "},{"$f":"IFERROR(VLOOKUP($B140,'EP_LV_Price-list'!$A:$K,11,FALSE),\" - \")","v":" - "},null,{"$f":"IFERROR(VLOOKUP($B140,'EP_LV_Price-list'!$A:$J,8,FALSE),\" - \")","v":" - "},{"$f":"IFERROR(VLOOKUP($B140,'EP_LV_Price-list'!$A:$J,9,FALSE),\" - \")","v":" - "},{"$f":"IFERROR(VLOOKUP($B140,'EP_LV_Price-list'!$A:$J,4,FALSE),\" - \")","v":" - "}," - ",null," - "," - "]
[133,null,{"$f":"IFERROR(VLOOKUP($B141,'EP_LV_Price-list'!$A:$J,2,FALSE),\" - \")","v":" - "},{"$f":"IFERROR(VLOOKUP($B141,'EP_LV_Price-list'!$A:$J,3,FALSE),\" - \")","v":" - "},{"$f":"IFERROR(VLOOKUP($B141,'EP_LV_Price-list'!$A:$J,7,FALSE),\" - \")","v":" - "},{"$f":"IFERROR(VLOOKUP($B141,'EP_LV_Price-list'!$A:$K,11,FALSE),\" - \")","v":" - "},null,{"$f":"IFERROR(VLOOKUP($B141,'EP_LV_Price-list'!$A:$J,8,FALSE),\" - \")","v":" - "},{"$f":"IFERROR(VLOOKUP($B141,'EP_LV_Price-list'!$A:$J,9,FALSE),\" - \")","v":" - "},{"$f":"IFERROR(VLOOKUP($B141,'EP_LV_Price-list'!$A:$J,4,FALSE),\" - \")","v":" - "}," - ",null," - "," - "]
[134,null,{"$f":"IFERROR(VLOOKUP($B142,'EP_LV_Price-list'!$A:$J,2,FALSE),\" - \")","v":" - "},{"$f":"IFERROR(VLOOKUP($B142,'EP_LV_Price-list'!$A:$J,3,FALSE),\" - \")","v":" - "},{"$f":"IFERROR(VLOOKUP($B142,'EP_LV_Price-list'!$A:$J,7,FALSE),\" - \")","v":" - "},{"$f":"IFERROR(VLOOKUP($B142,'EP_LV_Price-list'!$A:$K,11,FALSE),\" - \")","v":" - "},null,{"$f":"IFERROR(VLOOKUP($B142,'EP_LV_Price-list'!$A:$J,8,FALSE),\" - \")","v":" - "},{"$f":"IFERROR(VLOOKUP($B142,'EP_LV_Price-list'!$A:$J,9,FALSE),\" - \")","v":" - "},{"$f":"IFERROR(VLOOKUP($B142,'EP_LV_Price-list'!$A:$J,4,FALSE),\" - \")","v":" - "}," - ",null," - "," - "]
[135,null,{"$f":"IFERROR(VLOOKUP($B143,'EP_LV_Price-list'!$A:$J,2,FALSE),\" - \")","v":" - "},{"$f":"IFERROR(VLOOKUP($B143,'EP_LV_Price-list'!$A:$J,3,FALSE),\" - \")","v":" - "},{"$f":"IFERROR(VLOOKUP($B143,'EP_LV_Price-list'!$A:$J,7,FALSE),\" - \")","v":" - "},{"$f":"IFERROR(VLOOKUP($B143,'EP_LV_Price-list'!$A:$K,11,FALSE),\" - \")","v":" - "},null,{"$f":"IFERROR(VLOOKUP($B143,'EP_LV_Price-list'!$A:$J,8,FALSE),\" - \")","v":" - "},{"$f":"IFERROR(VLOOKUP($B143,'EP_LV_Price-list'!$A:$J,9,FALSE),\" - \")","v":" - "},{"$f":"IFERROR(VLOOKUP($B143,'EP_LV_Price-list'!$A:$J,4,FALSE),\" - \")","v":" - "}," - ",null," - "," - "]
[136,null,{"$f":"IFERROR(VLOOKUP($B144,'EP_LV_Price-list'!$A:$J,2,FALSE),\" - \")","v":" - "},{"$f":"IFERROR(VLOOKUP($B144,'EP_LV_Price-list'!$A:$J,3,FALSE),\" - \")","v":" - "},{"$f":"IFERROR(VLOOKUP($B144,'EP_LV_Price-list'!$A:$J,7,FALSE),\" - \")","v":" - "},{"$f":"IFERROR(VLOOKUP($B144,'EP_LV_Price-list'!$A:$K,11,FALSE),\" - \")","v":" - "},null,{"$f":"IFERROR(VLOOKUP($B144,'EP_LV_Price-list'!$A:$J,8,FALSE),\" - \")","v":" - "},{"$f":"IFERROR(VLOOKUP($B144,'EP_LV_Price-list'!$A:$J,9,FALSE),\" - \")","v":" - "},{"$f":"IFERROR(VLOOKUP($B144,'EP_LV_Price-list'!$A:$J,4,FALSE),\" - \")","v":" - "}," - ",null," - "," - "]
[137,null,{"$f":"IFERROR(VLOOKUP($B145,'EP_LV_Price-list'!$A:$J,2,FALSE),\" - \")","v":" - "},{"$f":"IFERROR(VLOOKUP($B145,'EP_LV_Price-list'!$A:$J,3,FALSE),\" - \")","v":" - "},{"$f":"IFERROR(VLOOKUP($B145,'EP_LV_Price-list'!$A:$J,7,FALSE),\" - \")","v":" - "},{"$f":"IFERROR(VLOOKUP($B145,'EP_LV_Price-list'!$A:$K,11,FALSE),\" - \")","v":" - "},null,{"$f":"IFERROR(VLOOKUP($B145,'EP_LV_Price-list'!$A:$J,8,FALSE),\" - \")","v":" - "},{"$f":"IFERROR(VLOOKUP($B145,'EP_LV_Price-list'!$A:$J,9,FALSE),\" - \")","v":" - "},{"$f":"IFERROR(VLOOKUP($B145,'EP_LV_Price-list'!$A:$J,4,FALSE),\" - \")","v":" - "}," - ",null," - "," - "]
[138,null,{"$f":"IFERROR(VLOOKUP($B146,'EP_LV_Price-list'!$A:$J,2,FALSE),\" - \")","v":" - "},{"$f":"IFERROR(VLOOKUP($B146,'EP_LV_Price-list'!$A:$J,3,FALSE),\" - \")","v":" - "},{"$f":"IFERROR(VLOOKUP($B146,'EP_LV_Price-list'!$A:$J,7,FALSE),\" - \")","v":" - "},{"$f":"IFERROR(VLOOKUP($B146,'EP_LV_Price-list'!$A:$K,11,FALSE),\" - \")","v":" - "},null,{"$f":"IFERROR(VLOOKUP($B146,'EP_LV_Price-list'!$A:$J,8,FALSE),\" - \")","v":" - "},{"$f":"IFERROR(VLOOKUP($B146,'EP_LV_Price-list'!$A:$J,9,FALSE),\" - \")","v":" - "},{"$f":"IFERROR(VLOOKUP($B146,'EP_LV_Price-list'!$A:$J,4,FALSE),\" - \")","v":" - "}," - ",null," - "," - "]
[139,null,{"$f":"IFERROR(VLOOKUP($B147,'EP_LV_Price-list'!$A:$J,2,FALSE),\" - \")","v":" - "},{"$f":"IFERROR(VLOOKUP($B147,'EP_LV_Price-list'!$A:$J,3,FALSE),\" - \")","v":" - "},{"$f":"IFERROR(VLOOKUP($B147,'EP_LV_Price-list'!$A:$J,7,FALSE),\" - \")","v":" - "},{"$f":"IFERROR(VLOOKUP($B147,'EP_LV_Price-list'!$A:$K,11,FALSE),\" - \")","v":" - "},null,{"$f":"IFERROR(VLOOKUP($B147,'EP_LV_Price-list'!$A:$J,8,FALSE),\" - \")","v":" - "},{"$f":"IFERROR(VLOOKUP($B147,'EP_LV_Price-list'!$A:$J,9,FALSE),\" - \")","v":" - "},{"$f":"IFERROR(VLOOKUP($B147,'EP_LV_Price-list'!$A:$J,4,FALSE),\" - \")","v":" - "}," - ",null," - "," - "]
[140,null,{"$f":"IFERROR(VLOOKUP($B148,'EP_LV_Price-list'!$A:$J,2,FALSE),\" - \")","v":" - "},{"$f":"IFERROR(VLOOKUP($B148,'EP_LV_Price-list'!$A:$J,3,FALSE),\" - \")","v":" - "},{"$f":"IFERROR(VLOOKUP($B148,'EP_LV_Price-list'!$A:$J,7,FALSE),\" - \")","v":" - "},{"$f":"IFERROR(VLOOKUP($B148,'EP_LV_Price-list'!$A:$K,11,FALSE),\" - \")","v":" - "},null,{"$f":"IFERROR(VLOOKUP($B148,'EP_LV_Price-list'!$A:$J,8,FALSE),\" - \")","v":" - "},{"$f":"IFERROR(VLOOKUP($B148,'EP_LV_Price-list'!$A:$J,9,FALSE),\" - \")","v":" - "},{"$f":"IFERROR(VLOOKUP($B148,'EP_LV_Price-list'!$A:$J,4,FALSE),\" - \")","v":" - "}," - ",null," - "," - "]
[141,null,{"$f":"IFERROR(VLOOKUP($B149,'EP_LV_Price-list'!$A:$J,2,FALSE),\" - \")","v":" - "},{"$f":"IFERROR(VLOOKUP($B149,'EP_LV_Price-list'!$A:$J,3,FALSE),\" - \")","v":" - "},{"$f":"IFERROR(VLOOKUP($B149,'EP_LV_Price-list'!$A:$J,7,FALSE),\" - \")","v":" - "},{"$f":"IFERROR(VLOOKUP($B149,'EP_LV_Price-list'!$A:$K,11,FALSE),\" - \")","v":" - "},null,{"$f":"IFERROR(VLOOKUP($B149,'EP_LV_Price-list'!$A:$J,8,FALSE),\" - \")","v":" - "},{"$f":"IFERROR(VLOOKUP($B149,'EP_LV_Price-list'!$A:$J,9,FALSE),\" - \")","v":" - "},{"$f":"IFERROR(VLOOKUP($B149,'EP_LV_Price-list'!$A:$J,4,FALSE),\" - \")","v":" - "}," - ",null," - "," - "]
[142,null,{"$f":"IFERROR(VLOOKUP($B150,'EP_LV_Price-list'!$A:$J,2,FALSE),\" - \")","v":" - "},{"$f":"IFERROR(VLOOKUP($B150,'EP_LV_Price-list'!$A:$J,3,FALSE),\" - \")","v":" - "},{"$f":"IFERROR(VLOOKUP($B150,'EP_LV_Price-list'!$A:$J,7,FALSE),\" - \")","v":" - "},{"$f":"IFERROR(VLOOKUP($B150,'EP_LV_Price-list'!$A:$K,11,FALSE),\" - \")","v":" - "},null,{"$f":"IFERROR(VLOOKUP($B150,'EP_LV_Price-list'!$A:$J,8,FALSE),\" - \")","v":" - "},{"$f":"IFERROR(VLOOKUP($B150,'EP_LV_Price-list'!$A:$J,9,FALSE),\" - \")","v":" - "},{"$f":"IFERROR(VLOOKUP($B150,'EP_LV_Price-list'!$A:$J,4,FALSE),\" - \")","v":" - "}," - ",null," - "," - "]
[143,null,{"$f":"IFERROR(VLOOKUP($B151,'EP_LV_Price-list'!$A:$J,2,FALSE),\" - \")","v":" - "},{"$f":"IFERROR(VLOOKUP($B151,'EP_LV_Price-list'!$A:$J,3,FALSE),\" - \")","v":" - "},{"$f":"IFERROR(VLOOKUP($B151,'EP_LV_Price-list'!$A:$J,7,FALSE),\" - \")","v":" - "},{"$f":"IFERROR(VLOOKUP($B151,'EP_LV_Price-list'!$A:$K,11,FALSE),\" - \")","v":" - "},null,{"$f":"IFERROR(VLOOKUP($B151,'EP_LV_Price-list'!$A:$J,8,FALSE),\" - \")","v":" - "},{"$f":"IFERROR(VLOOKUP($B151,'EP_LV_Price-list'!$A:$J,9,FALSE),\" - \")","v":" - "},{"$f":"IFERROR(VLOOKUP($B151,'EP_LV_Price-list'!$A:$J,4,FALSE),\" - \")","v":" - "}," - ",null," - "," - "]
[144,null,{"$f":"IFERROR(VLOOKUP($B152,'EP_LV_Price-list'!$A:$J,2,FALSE),\" - \")","v":" - "},{"$f":"IFERROR(VLOOKUP($B152,'EP_LV_Price-list'!$A:$J,3,FALSE),\" - \")","v":" - "},{"$f":"IFERROR(VLOOKUP($B152,'EP_LV_Price-list'!$A:$J,7,FALSE),\" - \")","v":" - "},{"$f":"IFERROR(VLOOKUP($B152,'EP_LV_Price-list'!$A:$K,11,FALSE),\" - \")","v":" - "},null,{"$f":"IFERROR(VLOOKUP($B152,'EP_LV_Price-list'!$A:$J,8,FALSE),\" - \")","v":" - "},{"$f":"IFERROR(VLOOKUP($B152,'EP_LV_Price-list'!$A:$J,9,FALSE),\" - \")","v":" - "},{"$f":"IFERROR(VLOOKUP($B152,'EP_LV_Price-list'!$A:$J,4,FALSE),\" - \")","v":" - "}," - ",null," - "," - "]
[145,null,{"$f":"IFERROR(VLOOKUP($B153,'EP_LV_Price-list'!$A:$J,2,FALSE),\" - \")","v":" - "},{"$f":"IFERROR(VLOOKUP($B153,'EP_LV_Price-list'!$A:$J,3,FALSE),\" - \")","v":" - "},{"$f":"IFERROR(VLOOKUP($B153,'EP_LV_Price-list'!$A:$J,7,FALSE),\" - \")","v":" - "},{"$f":"IFERROR(VLOOKUP($B153,'EP_LV_Price-list'!$A:$K,11,FALSE),\" - \")","v":" - "},null,{"$f":"IFERROR(VLOOKUP($B153,'EP_LV_Price-list'!$A:$J,8,FALSE),\" - \")","v":" - "},{"$f":"IFERROR(VLOOKUP($B153,'EP_LV_Price-list'!$A:$J,9,FALSE),\" - \")","v":" - "},{"$f":"IFERROR(VLOOKUP($B153,'EP_LV_Price-list'!$A:$J,4,FALSE),\" - \")","v":" - "}," - ",null," - "," - "]
[146,null,{"$f":"IFERROR(VLOOKUP($B154,'EP_LV_Price-list'!$A:$J,2,FALSE),\" - \")","v":" - "},{"$f":"IFERROR(VLOOKUP($B154,'EP_LV_Price-list'!$A:$J,3,FALSE),\" - \")","v":" - "},{"$f":"IFERROR(VLOOKUP($B154,'EP_LV_Price-list'!$A:$J,7,FALSE),\" - \")","v":" - "},{"$f":"IFERROR(VLOOKUP($B154,'EP_LV_Price-list'!$A:$K,11,FALSE),\" - \")","v":" - "},null,{"$f":"IFERROR(VLOOKUP($B154,'EP_LV_Price-list'!$A:$J,8,FALSE),\" - \")","v":" - "},{"$f":"IFERROR(VLOOKUP($B154,'EP_LV_Price-list'!$A:$J,9,FALSE),\" - \")","v":" - "},{"$f":"IFERROR(VLOOKUP($B154,'EP_LV_Price-list'!$A:$J,4,FALSE),\" - \")","v":" - "}," - ",null," - "," - "]
[147,null,{"$f":"IFERROR(VLOOKUP($B155,'EP_LV_Price-list'!$A:$J,2,FALSE),\" - \")","v":" - "},{"$f":"IFERROR(VLOOKUP($B155,'EP_LV_Price-list'!$A:$J,3,FALSE),\" - \")","v":" - "},{"$f":"IFERROR(VLOOKUP($B155,'EP_LV_Price-list'!$A:$J,7,FALSE),\" - \")","v":" - "},{"$f":"IFERROR(VLOOKUP($B155,'EP_LV_Price-list'!$A:$K,11,FALSE),\" - \")","v":" - "},null,{"$f":"IFERROR(VLOOKUP($B155,'EP_LV_Price-list'!$A:$J,8,FALSE),\" - \")","v":" - "},{"$f":"IFERROR(VLOOKUP($B155,'EP_LV_Price-list'!$A:$J,9,FALSE),\" - \")","v":" - "},{"$f":"IFERROR(VLOOKUP($B155,'EP_LV_Price-list'!$A:$J,4,FALSE),\" - \")","v":" - "}," - ",null," - "," - "]
[148,null,{"$f":"IFERROR(VLOOKUP($B156,'EP_LV_Price-list'!$A:$J,2,FALSE),\" - \")","v":" - "},{"$f":"IFERROR(VLOOKUP($B156,'EP_LV_Price-list'!$A:$J,3,FALSE),\" - \")","v":" - "},{"$f":"IFERROR(VLOOKUP($B156,'EP_LV_Price-list'!$A:$J,7,FALSE),\" - \")","v":" - "},{"$f":"IFERROR(VLOOKUP($B156,'EP_LV_Price-list'!$A:$K,11,FALSE),\" - \")","v":" - "},null,{"$f":"IFERROR(VLOOKUP($B156,'EP_LV_Price-list'!$A:$J,8,FALSE),\" - \")","v":" - "},{"$f":"IFERROR(VLOOKUP($B156,'EP_LV_Price-list'!$A:$J,9,FALSE),\" - \")","v":" - "},{"$f":"IFERROR(VLOOKUP($B156,'EP_LV_Price-list'!$A:$J,4,FALSE),\" - \")","v":" - "}," - ",null," - "," - "]
[149,null,{"$f":"IFERROR(VLOOKUP($B157,'EP_LV_Price-list'!$A:$J,2,FALSE),\" - \")","v":" - "},{"$f":"IFERROR(VLOOKUP($B157,'EP_LV_Price-list'!$A:$J,3,FALSE),\" - \")","v":" - "},{"$f":"IFERROR(VLOOKUP($B157,'EP_LV_Price-list'!$A:$J,7,FALSE),\" - \")","v":" - "},{"$f":"IFERROR(VLOOKUP($B157,'EP_LV_Price-list'!$A:$K,11,FALSE),\" - \")","v":" - "},null,{"$f":"IFERROR(VLOOKUP($B157,'EP_LV_Price-list'!$A:$J,8,FALSE),\" - \")","v":" - "},{"$f":"IFERROR(VLOOKUP($B157,'EP_LV_Price-list'!$A:$J,9,FALSE),\" - \")","v":" - "},{"$f":"IFERROR(VLOOKUP($B157,'EP_LV_Price-list'!$A:$J,4,FALSE),\" - \")","v":" - "}," - ",null," - "," - "]
[150,null,{"$f":"IFERROR(VLOOKUP($B158,'EP_LV_Price-list'!$A:$J,2,FALSE),\" - \")","v":" - "},{"$f":"IFERROR(VLOOKUP($B158,'EP_LV_Price-list'!$A:$J,3,FALSE),\" - \")","v":" - "},{"$f":"IFERROR(VLOOKUP($B158,'EP_LV_Price-list'!$A:$J,7,FALSE),\" - \")","v":" - "},{"$f":"IFERROR(VLOOKUP($B158,'EP_LV_Price-list'!$A:$K,11,FALSE),\" - \")","v":" - "},null,{"$f":"IFERROR(VLOOKUP($B158,'EP_LV_Price-list'!$A:$J,8,FALSE),\" - \")","v":" - "},{"$f":"IFERROR(VLOOKUP($B158,'EP_LV_Price-list'!$A:$J,9,FALSE),\" - \")","v":" - "},{"$f":"IFERROR(VLOOKUP($B158,'EP_LV_Price-list'!$A:$J,4,FALSE),\" - \")","v":" - "}," - ",null," - "," - "]
[151,null,{"$f":"IFERROR(VLOOKUP($B159,'EP_LV_Price-list'!$A:$J,2,FALSE),\" - \")","v":" - "},{"$f":"IFERROR(VLOOKUP($B159,'EP_LV_Price-list'!$A:$J,3,FALSE),\" - \")","v":" - "},{"$f":"IFERROR(VLOOKUP($B159,'EP_LV_Price-list'!$A:$J,7,FALSE),\" - \")","v":" - "},{"$f":"IFERROR(VLOOKUP($B159,'EP_LV_Price-list'!$A:$K,11,FALSE),\" - \")","v":" - "},null,{"$f":"IFERROR(VLOOKUP($B159,'EP_LV_Price-list'!$A:$J,8,FALSE),\" - \")","v":" - "},{"$f":"IFERROR(VLOOKUP($B159,'EP_LV_Price-list'!$A:$J,9,FALSE),\" - \")","v":" - "},{"$f":"IFERROR(VLOOKUP($B159,'EP_LV_Price-list'!$A:$J,4,FALSE),\" - \")","v":" - "}," - ",null," - "," - "]
[152,null,{"$f":"IFERROR(VLOOKUP($B160,'EP_LV_Price-list'!$A:$J,2,FALSE),\" - \")","v":" - "},{"$f":"IFERROR(VLOOKUP($B160,'EP_LV_Price-list'!$A:$J,3,FALSE),\" - \")","v":" - "},{"$f":"IFERROR(VLOOKUP($B160,'EP_LV_Price-list'!$A:$J,7,FALSE),\" - \")","v":" - "},{"$f":"IFERROR(VLOOKUP($B160,'EP_LV_Price-list'!$A:$K,11,FALSE),\" - \")","v":" - "},null,{"$f":"IFERROR(VLOOKUP($B160,'EP_LV_Price-list'!$A:$J,8,FALSE),\" - \")","v":" - "},{"$f":"IFERROR(VLOOKUP($B160,'EP_LV_Price-list'!$A:$J,9,FALSE),\" - \")","v":" - "},{"$f":"IFERROR(VLOOKUP($B160,'EP_LV_Price-list'!$A:$J,4,FALSE),\" - \")","v":" - "}," - ",null," - "," - "]
[153,null,{"$f":"IFERROR(VLOOKUP($B161,'EP_LV_Price-list'!$A:$J,2,FALSE),\" - \")","v":" - "},{"$f":"IFERROR(VLOOKUP($B161,'EP_LV_Price-list'!$A:$J,3,FALSE),\" - \")","v":" - "},{"$f":"IFERROR(VLOOKUP($B161,'EP_LV_Price-list'!$A:$J,7,FALSE),\" - \")","v":" - "},{"$f":"IFERROR(VLOOKUP($B161,'EP_LV_Price-list'!$A:$K,11,FALSE),\" - \")","v":" - "},null,{"$f":"IFERROR(VLOOKUP($B161,'EP_LV_Price-list'!$A:$J,8,FALSE),\" - \")","v":" - "},{"$f":"IFERROR(VLOOKUP($B161,'EP_LV_Price-list'!$A:$J,9,FALSE),\" - \")","v":" - "},{"$f":"IFERROR(VLOOKUP($B161,'EP_LV_Price-list'!$A:$J,4,FALSE),\" - \")","v":" - "}," - ",null," - "," - "]
[154,null,{"$f":"IFERROR(VLOOKUP($B162,'EP_LV_Price-list'!$A:$J,2,FALSE),\" - \")","v":" - "},{"$f":"IFERROR(VLOOKUP($B162,'EP_LV_Price-list'!$A:$J,3,FALSE),\" - \")","v":" - "},{"$f":"IFERROR(VLOOKUP($B162,'EP_LV_Price-list'!$A:$J,7,FALSE),\" - \")","v":" - "},{"$f":"IFERROR(VLOOKUP($B162,'EP_LV_Price-list'!$A:$K,11,FALSE),\" - \")","v":" - "},null,{"$f":"IFERROR(VLOOKUP($B162,'EP_LV_Price-list'!$A:$J,8,FALSE),\" - \")","v":" - "},{"$f":"IFERROR(VLOOKUP($B162,'EP_LV_Price-list'!$A:$J,9,FALSE),\" - \")","v":" - "},{"$f":"IFERROR(VLOOKUP($B162,'EP_LV_Price-list'!$A:$J,4,FALSE),\" - \")","v":" - "}," - ",null," - "," - "]
[155,null,{"$f":"IFERROR(VLOOKUP($B163,'EP_LV_Price-list'!$A:$J,2,FALSE),\" - \")","v":" - "},{"$f":"IFERROR(VLOOKUP($B163,'EP_LV_Price-list'!$A:$J,3,FALSE),\" - \")","v":" - "},{"$f":"IFERROR(VLOOKUP($B163,'EP_LV_Price-list'!$A:$J,7,FALSE),\" - \")","v":" - "},{"$f":"IFERROR(VLOOKUP($B163,'EP_LV_Price-list'!$A:$K,11,FALSE),\" - \")","v":" - "},null,{"$f":"IFERROR(VLOOKUP($B163,'EP_LV_Price-list'!$A:$J,8,FALSE),\" - \")","v":" - "},{"$f":"IFERROR(VLOOKUP($B163,'EP_LV_Price-list'!$A:$J,9,FALSE),\" - \")","v":" - "},{"$f":"IFERROR(VLOOKUP($B163,'EP_LV_Price-list'!$A:$J,4,FALSE),\" - \")","v":" - "}," - ",null," - "," - "]
[156,null,{"$f":"IFERROR(VLOOKUP($B164,'EP_LV_Price-list'!$A:$J,2,FALSE),\" - \")","v":" - "},{"$f":"IFERROR(VLOOKUP($B164,'EP_LV_Price-list'!$A:$J,3,FALSE),\" - \")","v":" - "},{"$f":"IFERROR(VLOOKUP($B164,'EP_LV_Price-list'!$A:$J,7,FALSE),\" - \")","v":" - "},{"$f":"IFERROR(VLOOKUP($B164,'EP_LV_Price-list'!$A:$K,11,FALSE),\" - \")","v":" - "},null,{"$f":"IFERROR(VLOOKUP($B164,'EP_LV_Price-list'!$A:$J,8,FALSE),\" - \")","v":" - "},{"$f":"IFERROR(VLOOKUP($B164,'EP_LV_Price-list'!$A:$J,9,FALSE),\" - \")","v":" - "},{"$f":"IFERROR(VLOOKUP($B164,'EP_LV_Price-list'!$A:$J,4,FALSE),\" - \")","v":" - "}," - ",null," - "," - "]
[157,null,{"$f":"IFERROR(VLOOKUP($B165,'EP_LV_Price-list'!$A:$J,2,FALSE),\" - \")","v":" - "},{"$f":"IFERROR(VLOOKUP($B165,'EP_LV_Price-list'!$A:$J,3,FALSE),\" - \")","v":" - "},{"$f":"IFERROR(VLOOKUP($B165,'EP_LV_Price-list'!$A:$J,7,FALSE),\" - \")","v":" - "},{"$f":"IFERROR(VLOOKUP($B165,'EP_LV_Price-list'!$A:$K,11,FALSE),\" - \")","v":" - "},null,{"$f":"IFERROR(VLOOKUP($B165,'EP_LV_Price-list'!$A:$J,8,FALSE),\" - \")","v":" - "},{"$f":"IFERROR(VLOOKUP($B165,'EP_LV_Price-list'!$A:$J,9,FALSE),\" - \")","v":" - "},{"$f":"IFERROR(VLOOKUP($B165,'EP_LV_Price-list'!$A:$J,4,FALSE),\" - \")","v":" - "}," - ",null," - "," - "]
[158,null,{"$f":"IFERROR(VLOOKUP($B166,'EP_LV_Price-list'!$A:$J,2,FALSE),\" - \")","v":" - "},{"$f":"IFERROR(VLOOKUP($B166,'EP_LV_Price-list'!$A:$J,3,FALSE),\" - \")","v":" - "},{"$f":"IFERROR(VLOOKUP($B166,'EP_LV_Price-list'!$A:$J,7,FALSE),\" - \")","v":" - "},{"$f":"IFERROR(VLOOKUP($B166,'EP_LV_Price-list'!$A:$K,11,FALSE),\" - \")","v":" - "},null,{"$f":"IFERROR(VLOOKUP($B166,'EP_LV_Price-list'!$A:$J,8,FALSE),\" - \")","v":" - "},{"$f":"IFERROR(VLOOKUP($B166,'EP_LV_Price-list'!$A:$J,9,FALSE),\" - \")","v":" - "},{"$f":"IFERROR(VLOOKUP($B166,'EP_LV_Price-list'!$A:$J,4,FALSE),\" - \")","v":" - "}," - ",null," - "," - "]
[159,null,{"$f":"IFERROR(VLOOKUP($B167,'EP_LV_Price-list'!$A:$J,2,FALSE),\" - \")","v":" - "},{"$f":"IFERROR(VLOOKUP($B167,'EP_LV_Price-list'!$A:$J,3,FALSE),\" - \")","v":" - "},{"$f":"IFERROR(VLOOKUP($B167,'EP_LV_Price-list'!$A:$J,7,FALSE),\" - \")","v":" - "},{"$f":"IFERROR(VLOOKUP($B167,'EP_LV_Price-list'!$A:$K,11,FALSE),\" - \")","v":" - "},null,{"$f":"IFERROR(VLOOKUP($B167,'EP_LV_Price-list'!$A:$J,8,FALSE),\" - \")","v":" - "},{"$f":"IFERROR(VLOOKUP($B167,'EP_LV_Price-list'!$A:$J,9,FALSE),\" - \")","v":" - "},{"$f":"IFERROR(VLOOKUP($B167,'EP_LV_Price-list'!$A:$J,4,FALSE),\" - \")","v":" - "}," - ",null," - "," - "]
[160,null,{"$f":"IFERROR(VLOOKUP($B168,'EP_LV_Price-list'!$A:$J,2,FALSE),\" - \")","v":" - "},{"$f":"IFERROR(VLOOKUP($B168,'EP_LV_Price-list'!$A:$J,3,FALSE),\" - \")","v":" - "},{"$f":"IFERROR(VLOOKUP($B168,'EP_LV_Price-list'!$A:$J,7,FALSE),\" - \")","v":" - "},{"$f":"IFERROR(VLOOKUP($B168,'EP_LV_Price-list'!$A:$K,11,FALSE),\" - \")","v":" - "},null,{"$f":"IFERROR(VLOOKUP($B168,'EP_LV_Price-list'!$A:$J,8,FALSE),\" - \")","v":" - "},{"$f":"IFERROR(VLOOKUP($B168,'EP_LV_Price-list'!$A:$J,9,FALSE),\" - \")","v":" - "},{"$f":"IFERROR(VLOOKUP($B168,'EP_LV_Price-list'!$A:$J,4,FALSE),\" - \")","v":" - "}," - ",null," - "," - "]
[161,null,{"$f":"IFERROR(VLOOKUP($B169,'EP_LV_Price-list'!$A:$J,2,FALSE),\" - \")","v":" - "},{"$f":"IFERROR(VLOOKUP($B169,'EP_LV_Price-list'!$A:$J,3,FALSE),\" - \")","v":" - "},{"$f":"IFERROR(VLOOKUP($B169,'EP_LV_Price-list'!$A:$J,7,FALSE),\" - \")","v":" - "},{"$f":"IFERROR(VLOOKUP($B169,'EP_LV_Price-list'!$A:$K,11,FALSE),\" - \")","v":" - "},null,{"$f":"IFERROR(VLOOKUP($B169,'EP_LV_Price-list'!$A:$J,8,FALSE),\" - \")","v":" - "},{"$f":"IFERROR(VLOOKUP($B169,'EP_LV_Price-list'!$A:$J,9,FALSE),\" - \")","v":" - "},{"$f":"IFERROR(VLOOKUP($B169,'EP_LV_Price-list'!$A:$J,4,FALSE),\" - \")","v":" - "},{"$f":"IFERROR(J169*G169,\" - \")","v":" - "},null,{"$f":"IFERROR(ROUND(J169*(1-$N$2),2),\" - \")","v":" - "},{"$f":"IFERROR(M169*G169,\" - \")","v":" - "}]
[162,null,{"$f":"IFERROR(VLOOKUP($B170,'EP_LV_Price-list'!$A:$J,2,FALSE),\" - \")","v":" - "},{"$f":"IFERROR(VLOOKUP($B170,'EP_LV_Price-list'!$A:$J,3,FALSE),\" - \")","v":" - "},{"$f":"IFERROR(VLOOKUP($B170,'EP_LV_Price-list'!$A:$J,7,FALSE),\" - \")","v":" - "},{"$f":"IFERROR(VLOOKUP($B170,'EP_LV_Price-list'!$A:$K,11,FALSE),\" - \")","v":" - "},null,{"$f":"IFERROR(VLOOKUP($B170,'EP_LV_Price-list'!$A:$J,8,FALSE),\" - \")","v":" - "},{"$f":"IFERROR(VLOOKUP($B170,'EP_LV_Price-list'!$A:$J,9,FALSE),\" - \")","v":" - "},{"$f":"IFERROR(VLOOKUP($B170,'EP_LV_Price-list'!$A:$J,4,FALSE),\" - \")","v":" - "},{"$f":"IFERROR(J170*G170,\" - \")","v":" - "},null," - ",{"$f":"IFERROR(M170*G170,\" - \")","v":" - "}]
[163,null,{"$f":"IFERROR(VLOOKUP($B171,'EP_LV_Price-list'!$A:$J,2,FALSE),\" - \")","v":" - "},{"$f":"IFERROR(VLOOKUP($B171,'EP_LV_Price-list'!$A:$J,3,FALSE),\" - \")","v":" - "},{"$f":"IFERROR(VLOOKUP($B171,'EP_LV_Price-list'!$A:$J,7,FALSE),\" - \")","v":" - "},{"$f":"IFERROR(VLOOKUP($B171,'EP_LV_Price-list'!$A:$K,11,FALSE),\" - \")","v":" - "},null,{"$f":"IFERROR(VLOOKUP($B171,'EP_LV_Price-list'!$A:$J,8,FALSE),\" - \")","v":" - "},{"$f":"IFERROR(VLOOKUP($B171,'EP_LV_Price-list'!$A:$J,9,FALSE),\" - \")","v":" - "},{"$f":"IFERROR(VLOOKUP($B171,'EP_LV_Price-list'!$A:$J,4,FALSE),\" - \")","v":" - "}," - ",null," - "," - "]
[164,null,{"$f":"IFERROR(VLOOKUP($B172,'EP_LV_Price-list'!$A:$J,2,FALSE),\" - \")","v":" - "},{"$f":"IFERROR(VLOOKUP($B172,'EP_LV_Price-list'!$A:$J,3,FALSE),\" - \")","v":" - "},{"$f":"IFERROR(VLOOKUP($B172,'EP_LV_Price-list'!$A:$J,7,FALSE),\" - \")","v":" - "},{"$f":"IFERROR(VLOOKUP($B172,'EP_LV_Price-list'!$A:$K,11,FALSE),\" - \")","v":" - "},null,{"$f":"IFERROR(VLOOKUP($B172,'EP_LV_Price-list'!$A:$J,8,FALSE),\" - \")","v":" - "},{"$f":"IFERROR(VLOOKUP($B172,'EP_LV_Price-list'!$A:$J,9,FALSE),\" - \")","v":" - "},{"$f":"IFERROR(VLOOKUP($B172,'EP_LV_Price-list'!$A:$J,4,FALSE),\" - \")","v":" - "}," - ",null," - "," - "]
[165,null,{"$f":"IFERROR(VLOOKUP($B173,'EP_LV_Price-list'!$A:$J,2,FALSE),\" - \")","v":" - "},{"$f":"IFERROR(VLOOKUP($B173,'EP_LV_Price-list'!$A:$J,3,FALSE),\" - \")","v":" - "},{"$f":"IFERROR(VLOOKUP($B173,'EP_LV_Price-list'!$A:$J,7,FALSE),\" - \")","v":" - "},{"$f":"IFERROR(VLOOKUP($B173,'EP_LV_Price-list'!$A:$K,11,FALSE),\" - \")","v":" - "},null,{"$f":"IFERROR(VLOOKUP($B173,'EP_LV_Price-list'!$A:$J,8,FALSE),\" - \")","v":" - "},{"$f":"IFERROR(VLOOKUP($B173,'EP_LV_Price-list'!$A:$J,9,FALSE),\" - \")","v":" - "},{"$f":"IFERROR(VLOOKUP($B173,'EP_LV_Price-list'!$A:$J,4,FALSE),\" - \")","v":" - "}," - ",null," - "," - "]
[166,null,{"$f":"IFERROR(VLOOKUP($B174,'EP_LV_Price-list'!$A:$J,2,FALSE),\" - \")","v":" - "},{"$f":"IFERROR(VLOOKUP($B174,'EP_LV_Price-list'!$A:$J,3,FALSE),\" - \")","v":" - "},{"$f":"IFERROR(VLOOKUP($B174,'EP_LV_Price-list'!$A:$J,7,FALSE),\" - \")","v":" - "},{"$f":"IFERROR(VLOOKUP($B174,'EP_LV_Price-list'!$A:$K,11,FALSE),\" - \")","v":" - "},null,{"$f":"IFERROR(VLOOKUP($B174,'EP_LV_Price-list'!$A:$J,8,FALSE),\" - \")","v":" - "},{"$f":"IFERROR(VLOOKUP($B174,'EP_LV_Price-list'!$A:$J,9,FALSE),\" - \")","v":" - "},{"$f":"IFERROR(VLOOKUP($B174,'EP_LV_Price-list'!$A:$J,4,FALSE),\" - \")","v":" - "}," - ",null," - "," - "]
[167,null,{"$f":"IFERROR(VLOOKUP($B175,'EP_LV_Price-list'!$A:$J,2,FALSE),\" - \")","v":" - "},{"$f":"IFERROR(VLOOKUP($B175,'EP_LV_Price-list'!$A:$J,3,FALSE),\" - \")","v":" - "},{"$f":"IFERROR(VLOOKUP($B175,'EP_LV_Price-list'!$A:$J,7,FALSE),\" - \")","v":" - "},{"$f":"IFERROR(VLOOKUP($B175,'EP_LV_Price-list'!$A:$K,11,FALSE),\" - \")","v":" - "},null,{"$f":"IFERROR(VLOOKUP($B175,'EP_LV_Price-list'!$A:$J,8,FALSE),\" - \")","v":" - "},{"$f":"IFERROR(VLOOKUP($B175,'EP_LV_Price-list'!$A:$J,9,FALSE),\" - \")","v":" - "},{"$f":"IFERROR(VLOOKUP($B175,'EP_LV_Price-list'!$A:$J,4,FALSE),\" - \")","v":" - "}," - ",null," - "," - "]
[168,null,{"$f":"IFERROR(VLOOKUP($B176,'EP_LV_Price-list'!$A:$J,2,FALSE),\" - \")","v":" - "},{"$f":"IFERROR(VLOOKUP($B176,'EP_LV_Price-list'!$A:$J,3,FALSE),\" - \")","v":" - "},{"$f":"IFERROR(VLOOKUP($B176,'EP_LV_Price-list'!$A:$J,7,FALSE),\" - \")","v":" - "},{"$f":"IFERROR(VLOOKUP($B176,'EP_LV_Price-list'!$A:$K,11,FALSE),\" - \")","v":" - "},null,{"$f":"IFERROR(VLOOKUP($B176,'EP_LV_Price-list'!$A:$J,8,FALSE),\" - \")","v":" - "},{"$f":"IFERROR(VLOOKUP($B176,'EP_LV_Price-list'!$A:$J,9,FALSE),\" - \")","v":" - "},{"$f":"IFERROR(VLOOKUP($B176,'EP_LV_Price-list'!$A:$J,4,FALSE),\" - \")","v":" - "}," - ",null," - "," - "]
[169,null,{"$f":"IFERROR(VLOOKUP($B177,'EP_LV_Price-list'!$A:$J,2,FALSE),\" - \")","v":" - "},{"$f":"IFERROR(VLOOKUP($B177,'EP_LV_Price-list'!$A:$J,3,FALSE),\" - \")","v":" - "},{"$f":"IFERROR(VLOOKUP($B177,'EP_LV_Price-list'!$A:$J,7,FALSE),\" - \")","v":" - "},{"$f":"IFERROR(VLOOKUP($B177,'EP_LV_Price-list'!$A:$K,11,FALSE),\" - \")","v":" - "},null,{"$f":"IFERROR(VLOOKUP($B177,'EP_LV_Price-list'!$A:$J,8,FALSE),\" - \")","v":" - "},{"$f":"IFERROR(VLOOKUP($B177,'EP_LV_Price-list'!$A:$J,9,FALSE),\" - \")","v":" - "},{"$f":"IFERROR(VLOOKUP($B177,'EP_LV_Price-list'!$A:$J,4,FALSE),\" - \")","v":" - "}," - ",null," - "," - "]
[170,null,{"$f":"IFERROR(VLOOKUP($B178,'EP_LV_Price-list'!$A:$J,2,FALSE),\" - \")","v":" - "},{"$f":"IFERROR(VLOOKUP($B178,'EP_LV_Price-list'!$A:$J,3,FALSE),\" - \")","v":" - "},{"$f":"IFERROR(VLOOKUP($B178,'EP_LV_Price-list'!$A:$J,7,FALSE),\" - \")","v":" - "},{"$f":"IFERROR(VLOOKUP($B178,'EP_LV_Price-list'!$A:$K,11,FALSE),\" - \")","v":" - "},null,{"$f":"IFERROR(VLOOKUP($B178,'EP_LV_Price-list'!$A:$J,8,FALSE),\" - \")","v":" - "},{"$f":"IFERROR(VLOOKUP($B178,'EP_LV_Price-list'!$A:$J,9,FALSE),\" - \")","v":" - "},{"$f":"IFERROR(VLOOKUP($B178,'EP_LV_Price-list'!$A:$J,4,FALSE),\" - \")","v":" - "}," - ",null," - "," - "]
[171,null,{"$f":"IFERROR(VLOOKUP($B179,'EP_LV_Price-list'!$A:$J,2,FALSE),\" - \")","v":" - "},{"$f":"IFERROR(VLOOKUP($B179,'EP_LV_Price-list'!$A:$J,3,FALSE),\" - \")","v":" - "},{"$f":"IFERROR(VLOOKUP($B179,'EP_LV_Price-list'!$A:$J,7,FALSE),\" - \")","v":" - "},{"$f":"IFERROR(VLOOKUP($B179,'EP_LV_Price-list'!$A:$K,11,FALSE),\" - \")","v":" - "},null,{"$f":"IFERROR(VLOOKUP($B179,'EP_LV_Price-list'!$A:$J,8,FALSE),\" - \")","v":" - "},{"$f":"IFERROR(VLOOKUP($B179,'EP_LV_Price-list'!$A:$J,9,FALSE),\" - \")","v":" - "},{"$f":"IFERROR(VLOOKUP($B179,'EP_LV_Price-list'!$A:$J,4,FALSE),\" - \")","v":" - "}," - ",null," - "," - "]
[172,null,{"$f":"IFERROR(VLOOKUP($B180,'EP_LV_Price-list'!$A:$J,2,FALSE),\" - \")","v":" - "},{"$f":"IFERROR(VLOOKUP($B180,'EP_LV_Price-list'!$A:$J,3,FALSE),\" - \")","v":" - "},{"$f":"IFERROR(VLOOKUP($B180,'EP_LV_Price-list'!$A:$J,7,FALSE),\" - \")","v":" - "},{"$f":"IFERROR(VLOOKUP($B180,'EP_LV_Price-list'!$A:$K,11,FALSE),\" - \")","v":" - "},null,{"$f":"IFERROR(VLOOKUP($B180,'EP_LV_Price-list'!$A:$J,8,FALSE),\" - \")","v":" - "},{"$f":"IFERROR(VLOOKUP($B180,'EP_LV_Price-list'!$A:$J,9,FALSE),\" - \")","v":" - "},{"$f":"IFERROR(VLOOKUP($B180,'EP_LV_Price-list'!$A:$J,4,FALSE),\" - \")","v":" - "}," - ",null," - "," - "]
[173,null,{"$f":"IFERROR(VLOOKUP($B181,'EP_LV_Price-list'!$A:$J,2,FALSE),\" - \")","v":" - "},{"$f":"IFERROR(VLOOKUP($B181,'EP_LV_Price-list'!$A:$J,3,FALSE),\" - \")","v":" - "},{"$f":"IFERROR(VLOOKUP($B181,'EP_LV_Price-list'!$A:$J,7,FALSE),\" - \")","v":" - "},{"$f":"IFERROR(VLOOKUP($B181,'EP_LV_Price-list'!$A:$K,11,FALSE),\" - \")","v":" - "},null,{"$f":"IFERROR(VLOOKUP($B181,'EP_LV_Price-list'!$A:$J,8,FALSE),\" - \")","v":" - "},{"$f":"IFERROR(VLOOKUP($B181,'EP_LV_Price-list'!$A:$J,9,FALSE),\" - \")","v":" - "},{"$f":"IFERROR(VLOOKUP($B181,'EP_LV_Price-list'!$A:$J,4,FALSE),\" - \")","v":" - "}," - ",null," - "," - "]
[174,null,{"$f":"IFERROR(VLOOKUP($B182,'EP_LV_Price-list'!$A:$J,2,FALSE),\" - \")","v":" - "},{"$f":"IFERROR(VLOOKUP($B182,'EP_LV_Price-list'!$A:$J,3,FALSE),\" - \")","v":" - "},{"$f":"IFERROR(VLOOKUP($B182,'EP_LV_Price-list'!$A:$J,7,FALSE),\" - \")","v":" - "},{"$f":"IFERROR(VLOOKUP($B182,'EP_LV_Price-list'!$A:$K,11,FALSE),\" - \")","v":" - "},null,{"$f":"IFERROR(VLOOKUP($B182,'EP_LV_Price-list'!$A:$J,8,FALSE),\" - \")","v":" - "},{"$f":"IFERROR(VLOOKUP($B182,'EP_LV_Price-list'!$A:$J,9,FALSE),\" - \")","v":" - "},{"$f":"IFERROR(VLOOKUP($B182,'EP_LV_Price-list'!$A:$J,4,FALSE),\" - \")","v":" - "}," - ",null," - "," - "]
[175,null,{"$f":"IFERROR(VLOOKUP($B183,'EP_LV_Price-list'!$A:$J,2,FALSE),\" - \")","v":" - "},{"$f":"IFERROR(VLOOKUP($B183,'EP_LV_Price-list'!$A:$J,3,FALSE),\" - \")","v":" - "},{"$f":"IFERROR(VLOOKUP($B183,'EP_LV_Price-list'!$A:$J,7,FALSE),\" - \")","v":" - "},{"$f":"IFERROR(VLOOKUP($B183,'EP_LV_Price-list'!$A:$K,11,FALSE),\" - \")","v":" - "},null,{"$f":"IFERROR(VLOOKUP($B183,'EP_LV_Price-list'!$A:$J,8,FALSE),\" - \")","v":" - "},{"$f":"IFERROR(VLOOKUP($B183,'EP_LV_Price-list'!$A:$J,9,FALSE),\" - \")","v":" - "},{"$f":"IFERROR(VLOOKUP($B183,'EP_LV_Price-list'!$A:$J,4,FALSE),\" - \")","v":" - "}," - ",null," - "," - "]
[176,null,{"$f":"IFERROR(VLOOKUP($B184,'EP_LV_Price-list'!$A:$J,2,FALSE),\" - \")","v":" - "},{"$f":"IFERROR(VLOOKUP($B184,'EP_LV_Price-list'!$A:$J,3,FALSE),\" - \")","v":" - "},{"$f":"IFERROR(VLOOKUP($B184,'EP_LV_Price-list'!$A:$J,7,FALSE),\" - \")","v":" - "},{"$f":"IFERROR(VLOOKUP($B184,'EP_LV_Price-list'!$A:$K,11,FALSE),\" - \")","v":" - "},null,{"$f":"IFERROR(VLOOKUP($B184,'EP_LV_Price-list'!$A:$J,8,FALSE),\" - \")","v":" - "},{"$f":"IFERROR(VLOOKUP($B184,'EP_LV_Price-list'!$A:$J,9,FALSE),\" - \")","v":" - "},{"$f":"IFERROR(VLOOKUP($B184,'EP_LV_Price-list'!$A:$J,4,FALSE),\" - \")","v":" - "}," - ",null," - "," - "]
[177,null,{"$f":"IFERROR(VLOOKUP($B185,'EP_LV_Price-list'!$A:$J,2,FALSE),\" - \")","v":" - "},{"$f":"IFERROR(VLOOKUP($B185,'EP_LV_Price-list'!$A:$J,3,FALSE),\" - \")","v":" - "},{"$f":"IFERROR(VLOOKUP($B185,'EP_LV_Price-list'!$A:$J,7,FALSE),\" - \")","v":" - "},{"$f":"IFERROR(VLOOKUP($B185,'EP_LV_Price-list'!$A:$K,11,FALSE),\" - \")","v":" - "},null,{"$f":"IFERROR(VLOOKUP($B185,'EP_LV_Price-list'!$A:$J,8,FALSE),\" - \")","v":" - "},{"$f":"IFERROR(VLOOKUP($B185,'EP_LV_Price-list'!$A:$J,9,FALSE),\" - \")","v":" - "},{"$f":"IFERROR(VLOOKUP($B185,'EP_LV_Price-list'!$A:$J,4,FALSE),\" - \")","v":" - "}," - ",null," - "," - "]
[178,null,{"$f":"IFERROR(VLOOKUP($B186,'EP_LV_Price-list'!$A:$J,2,FALSE),\" - \")","v":" - "},{"$f":"IFERROR(VLOOKUP($B186,'EP_LV_Price-list'!$A:$J,3,FALSE),\" - \")","v":" - "},{"$f":"IFERROR(VLOOKUP($B186,'EP_LV_Price-list'!$A:$J,7,FALSE),\" - \")","v":" - "},{"$f":"IFERROR(VLOOKUP($B186,'EP_LV_Price-list'!$A:$K,11,FALSE),\" - \")","v":" - "},null,{"$f":"IFERROR(VLOOKUP($B186,'EP_LV_Price-list'!$A:$J,8,FALSE),\" - \")","v":" - "},{"$f":"IFERROR(VLOOKUP($B186,'EP_LV_Price-list'!$A:$J,9,FALSE),\" - \")","v":" - "},{"$f":"IFERROR(VLOOKUP($B186,'EP_LV_Price-list'!$A:$J,4,FALSE),\" - \")","v":" - "}," - ",null," - "," - "]
[179,null,{"$f":"IFERROR(VLOOKUP($B187,'EP_LV_Price-list'!$A:$J,2,FALSE),\" - \")","v":" - "},{"$f":"IFERROR(VLOOKUP($B187,'EP_LV_Price-list'!$A:$J,3,FALSE),\" - \")","v":" - "},{"$f":"IFERROR(VLOOKUP($B187,'EP_LV_Price-list'!$A:$J,7,FALSE),\" - \")","v":" - "},{"$f":"IFERROR(VLOOKUP($B187,'EP_LV_Price-list'!$A:$K,11,FALSE),\" - \")","v":" - "},null,{"$f":"IFERROR(VLOOKUP($B187,'EP_LV_Price-list'!$A:$J,8,FALSE),\" - \")","v":" - "},{"$f":"IFERROR(VLOOKUP($B187,'EP_LV_Price-list'!$A:$J,9,FALSE),\" - \")","v":" - "},{"$f":"IFERROR(VLOOKUP($B187,'EP_LV_Price-list'!$A:$J,4,FALSE),\" - \")","v":" - "}," - ",null," - "," - "]
[180,null,{"$f":"IFERROR(VLOOKUP($B188,'EP_LV_Price-list'!$A:$J,2,FALSE),\" - \")","v":" - "},{"$f":"IFERROR(VLOOKUP($B188,'EP_LV_Price-list'!$A:$J,3,FALSE),\" - \")","v":" - "},{"$f":"IFERROR(VLOOKUP($B188,'EP_LV_Price-list'!$A:$J,7,FALSE),\" - \")","v":" - "},{"$f":"IFERROR(VLOOKUP($B188,'EP_LV_Price-list'!$A:$K,11,FALSE),\" - \")","v":" - "},null,{"$f":"IFERROR(VLOOKUP($B188,'EP_LV_Price-list'!$A:$J,8,FALSE),\" - \")","v":" - "},{"$f":"IFERROR(VLOOKUP($B188,'EP_LV_Price-list'!$A:$J,9,FALSE),\" - \")","v":" - "},{"$f":"IFERROR(VLOOKUP($B188,'EP_LV_Price-list'!$A:$J,4,FALSE),\" - \")","v":" - "}," - ",null," - "," - "]
[181,null,{"$f":"IFERROR(VLOOKUP($B189,'EP_LV_Price-list'!$A:$J,2,FALSE),\" - \")","v":" - "},{"$f":"IFERROR(VLOOKUP($B189,'EP_LV_Price-list'!$A:$J,3,FALSE),\" - \")","v":" - "},{"$f":"IFERROR(VLOOKUP($B189,'EP_LV_Price-list'!$A:$J,7,FALSE),\" - \")","v":" - "},{"$f":"IFERROR(VLOOKUP($B189,'EP_LV_Price-list'!$A:$K,11,FALSE),\" - \")","v":" - "},null,{"$f":"IFERROR(VLOOKUP($B189,'EP_LV_Price-list'!$A:$J,8,FALSE),\" - \")","v":" - "},{"$f":"IFERROR(VLOOKUP($B189,'EP_LV_Price-list'!$A:$J,9,FALSE),\" - \")","v":" - "},{"$f":"IFERROR(VLOOKUP($B189,'EP_LV_Price-list'!$A:$J,4,FALSE),\" - \")","v":" - "}," - ",null," - "," - "]
[182,null,{"$f":"IFERROR(VLOOKUP($B190,'EP_LV_Price-list'!$A:$J,2,FALSE),\" - \")","v":" - "},{"$f":"IFERROR(VLOOKUP($B190,'EP_LV_Price-list'!$A:$J,3,FALSE),\" - \")","v":" - "},{"$f":"IFERROR(VLOOKUP($B190,'EP_LV_Price-list'!$A:$J,7,FALSE),\" - \")","v":" - "},{"$f":"IFERROR(VLOOKUP($B190,'EP_LV_Price-list'!$A:$K,11,FALSE),\" - \")","v":" - "},null,{"$f":"IFERROR(VLOOKUP($B190,'EP_LV_Price-list'!$A:$J,8,FALSE),\" - \")","v":" - "},{"$f":"IFERROR(VLOOKUP($B190,'EP_LV_Price-list'!$A:$J,9,FALSE),\" - \")","v":" - "},{"$f":"IFERROR(VLOOKUP($B190,'EP_LV_Price-list'!$A:$J,4,FALSE),\" - \")","v":" - "}," - ",null," - "," - "]
[183,null,{"$f":"IFERROR(VLOOKUP($B191,'EP_LV_Price-list'!$A:$J,2,FALSE),\" - \")","v":" - "},{"$f":"IFERROR(VLOOKUP($B191,'EP_LV_Price-list'!$A:$J,3,FALSE),\" - \")","v":" - "},{"$f":"IFERROR(VLOOKUP($B191,'EP_LV_Price-list'!$A:$J,7,FALSE),\" - \")","v":" - "},{"$f":"IFERROR(VLOOKUP($B191,'EP_LV_Price-list'!$A:$K,11,FALSE),\" - \")","v":" - "},null,{"$f":"IFERROR(VLOOKUP($B191,'EP_LV_Price-list'!$A:$J,8,FALSE),\" - \")","v":" - "},{"$f":"IFERROR(VLOOKUP($B191,'EP_LV_Price-list'!$A:$J,9,FALSE),\" - \")","v":" - "},{"$f":"IFERROR(VLOOKUP($B191,'EP_LV_Price-list'!$A:$J,4,FALSE),\" - \")","v":" - "}," - ",null," - "," - "]
[184,null,{"$f":"IFERROR(VLOOKUP($B192,'EP_LV_Price-list'!$A:$J,2,FALSE),\" - \")","v":" - "},{"$f":"IFERROR(VLOOKUP($B192,'EP_LV_Price-list'!$A:$J,3,FALSE),\" - \")","v":" - "},{"$f":"IFERROR(VLOOKUP($B192,'EP_LV_Price-list'!$A:$J,7,FALSE),\" - \")","v":" - "},{"$f":"IFERROR(VLOOKUP($B192,'EP_LV_Price-list'!$A:$K,11,FALSE),\" - \")","v":" - "},null,{"$f":"IFERROR(VLOOKUP($B192,'EP_LV_Price-list'!$A:$J,8,FALSE),\" - \")","v":" - "},{"$f":"IFERROR(VLOOKUP($B192,'EP_LV_Price-list'!$A:$J,9,FALSE),\" - \")","v":" - "},{"$f":"IFERROR(VLOOKUP($B192,'EP_LV_Price-list'!$A:$J,4,FALSE),\" - \")","v":" - "}," - ",null," - "," - "]
[185,null,{"$f":"IFERROR(VLOOKUP($B193,'EP_LV_Price-list'!$A:$J,2,FALSE),\" - \")","v":" - "},{"$f":"IFERROR(VLOOKUP($B193,'EP_LV_Price-list'!$A:$J,3,FALSE),\" - \")","v":" - "},{"$f":"IFERROR(VLOOKUP($B193,'EP_LV_Price-list'!$A:$J,7,FALSE),\" - \")","v":" - "},{"$f":"IFERROR(VLOOKUP($B193,'EP_LV_Price-list'!$A:$K,11,FALSE),\" - \")","v":" - "},null,{"$f":"IFERROR(VLOOKUP($B193,'EP_LV_Price-list'!$A:$J,8,FALSE),\" - \")","v":" - "},{"$f":"IFERROR(VLOOKUP($B193,'EP_LV_Price-list'!$A:$J,9,FALSE),\" - \")","v":" - "},{"$f":"IFERROR(VLOOKUP($B193,'EP_LV_Price-list'!$A:$J,4,FALSE),\" - \")","v":" - "}," - ",null," - "," - "]
[186,null,{"$f":"IFERROR(VLOOKUP($B194,'EP_LV_Price-list'!$A:$J,2,FALSE),\" - \")","v":" - "},{"$f":"IFERROR(VLOOKUP($B194,'EP_LV_Price-list'!$A:$J,3,FALSE),\" - \")","v":" - "},{"$f":"IFERROR(VLOOKUP($B194,'EP_LV_Price-list'!$A:$J,7,FALSE),\" - \")","v":" - "},{"$f":"IFERROR(VLOOKUP($B194,'EP_LV_Price-list'!$A:$K,11,FALSE),\" - \")","v":" - "},null,{"$f":"IFERROR(VLOOKUP($B194,'EP_LV_Price-list'!$A:$J,8,FALSE),\" - \")","v":" - "},{"$f":"IFERROR(VLOOKUP($B194,'EP_LV_Price-list'!$A:$J,9,FALSE),\" - \")","v":" - "},{"$f":"IFERROR(VLOOKUP($B194,'EP_LV_Price-list'!$A:$J,4,FALSE),\" - \")","v":" - "}," - ",null," - "," - "]
[187,null,{"$f":"IFERROR(VLOOKUP($B195,'EP_LV_Price-list'!$A:$J,2,FALSE),\" - \")","v":" - "},{"$f":"IFERROR(VLOOKUP($B195,'EP_LV_Price-list'!$A:$J,3,FALSE),\" - \")","v":" - "},{"$f":"IFERROR(VLOOKUP($B195,'EP_LV_Price-list'!$A:$J,7,FALSE),\" - \")","v":" - "},{"$f":"IFERROR(VLOOKUP($B195,'EP_LV_Price-list'!$A:$K,11,FALSE),\" - \")","v":" - "},null,{"$f":"IFERROR(VLOOKUP($B195,'EP_LV_Price-list'!$A:$J,8,FALSE),\" - \")","v":" - "},{"$f":"IFERROR(VLOOKUP($B195,'EP_LV_Price-list'!$A:$J,9,FALSE),\" - \")","v":" - "},{"$f":"IFERROR(VLOOKUP($B195,'EP_LV_Price-list'!$A:$J,4,FALSE),\" - \")","v":" - "}," - ",null," - "," - "]
[188,null,{"$f":"IFERROR(VLOOKUP($B196,'EP_LV_Price-list'!$A:$J,2,FALSE),\" - \")","v":" - "},{"$f":"IFERROR(VLOOKUP($B196,'EP_LV_Price-list'!$A:$J,3,FALSE),\" - \")","v":" - "},{"$f":"IFERROR(VLOOKUP($B196,'EP_LV_Price-list'!$A:$J,7,FALSE),\" - \")","v":" - "},{"$f":"IFERROR(VLOOKUP($B196,'EP_LV_Price-list'!$A:$K,11,FALSE),\" - \")","v":" - "},null,{"$f":"IFERROR(VLOOKUP($B196,'EP_LV_Price-list'!$A:$J,8,FALSE),\" - \")","v":" - "},{"$f":"IFERROR(VLOOKUP($B196,'EP_LV_Price-list'!$A:$J,9,FALSE),\" - \")","v":" - "},{"$f":"IFERROR(VLOOKUP($B196,'EP_LV_Price-list'!$A:$J,4,FALSE),\" - \")","v":" - "}," - ",null," - "," - "]
[189,null,{"$f":"IFERROR(VLOOKUP($B197,'EP_LV_Price-list'!$A:$J,2,FALSE),\" - \")","v":" - "},{"$f":"IFERROR(VLOOKUP($B197,'EP_LV_Price-list'!$A:$J,3,FALSE),\" - \")","v":" - "},{"$f":"IFERROR(VLOOKUP($B197,'EP_LV_Price-list'!$A:$J,7,FALSE),\" - \")","v":" - "},{"$f":"IFERROR(VLOOKUP($B197,'EP_LV_Price-list'!$A:$K,11,FALSE),\" - \")","v":" - "},null,{"$f":"IFERROR(VLOOKUP($B197,'EP_LV_Price-list'!$A:$J,8,FALSE),\" - \")","v":" - "},{"$f":"IFERROR(VLOOKUP($B197,'EP_LV_Price-list'!$A:$J,9,FALSE),\" - \")","v":" - "},{"$f":"IFERROR(VLOOKUP($B197,'EP_LV_Price-list'!$A:$J,4,FALSE),\" - \")","v":" - "}," - ",null," - "," - "]
[190,null,{"$f":"IFERROR(VLOOKUP($B198,'EP_LV_Price-list'!$A:$J,2,FALSE),\" - \")","v":" - "},{"$f":"IFERROR(VLOOKUP($B198,'EP_LV_Price-list'!$A:$J,3,FALSE),\" - \")","v":" - "},{"$f":"IFERROR(VLOOKUP($B198,'EP_LV_Price-list'!$A:$J,7,FALSE),\" - \")","v":" - "},{"$f":"IFERROR(VLOOKUP($B198,'EP_LV_Price-list'!$A:$K,11,FALSE),\" - \")","v":" - "},null,{"$f":"IFERROR(VLOOKUP($B198,'EP_LV_Price-list'!$A:$J,8,FALSE),\" - \")","v":" - "},{"$f":"IFERROR(VLOOKUP($B198,'EP_LV_Price-list'!$A:$J,9,FALSE),\" - \")","v":" - "},{"$f":"IFERROR(VLOOKUP($B198,'EP_LV_Price-list'!$A:$J,4,FALSE),\" - \")","v":" - "}," - ",null," - "," - "]
[191,null,{"$f":"IFERROR(VLOOKUP($B199,'EP_LV_Price-list'!$A:$J,2,FALSE),\" - \")","v":" - "},{"$f":"IFERROR(VLOOKUP($B199,'EP_LV_Price-list'!$A:$J,3,FALSE),\" - \")","v":" - "},{"$f":"IFERROR(VLOOKUP($B199,'EP_LV_Price-list'!$A:$J,7,FALSE),\" - \")","v":" - "},{"$f":"IFERROR(VLOOKUP($B199,'EP_LV_Price-list'!$A:$K,11,FALSE),\" - \")","v":" - "},null,{"$f":"IFERROR(VLOOKUP($B199,'EP_LV_Price-list'!$A:$J,8,FALSE),\" - \")","v":" - "},{"$f":"IFERROR(VLOOKUP($B199,'EP_LV_Price-list'!$A:$J,9,FALSE),\" - \")","v":" - "},{"$f":"IFERROR(VLOOKUP($B199,'EP_LV_Price-list'!$A:$J,4,FALSE),\" - \")","v":" - "}," - ",null," - "," - "]
[192,null,{"$f":"IFERROR(VLOOKUP($B200,'EP_LV_Price-list'!$A:$J,2,FALSE),\" - \")","v":" - "},{"$f":"IFERROR(VLOOKUP($B200,'EP_LV_Price-list'!$A:$J,3,FALSE),\" - \")","v":" - "},{"$f":"IFERROR(VLOOKUP($B200,'EP_LV_Price-list'!$A:$J,7,FALSE),\" - \")","v":" - "},{"$f":"IFERROR(VLOOKUP($B200,'EP_LV_Price-list'!$A:$K,11,FALSE),\" - \")","v":" - "},null,{"$f":"IFERROR(VLOOKUP($B200,'EP_LV_Price-list'!$A:$J,8,FALSE),\" - \")","v":" - "},{"$f":"IFERROR(VLOOKUP($B200,'EP_LV_Price-list'!$A:$J,9,FALSE),\" - \")","v":" - "},{"$f":"IFERROR(VLOOKUP($B200,'EP_LV_Price-list'!$A:$J,4,FALSE),\" - \")","v":" - "}," - ",null," - "," - "]
[193,null,{"$f":"IFERROR(VLOOKUP($B201,'EP_LV_Price-list'!$A:$J,2,FALSE),\" - \")","v":" - "},{"$f":"IFERROR(VLOOKUP($B201,'EP_LV_Price-list'!$A:$J,3,FALSE),\" - \")","v":" - "},{"$f":"IFERROR(VLOOKUP($B201,'EP_LV_Price-list'!$A:$J,7,FALSE),\" - \")","v":" - "},{"$f":"IFERROR(VLOOKUP($B201,'EP_LV_Price-list'!$A:$K,11,FALSE),\" - \")","v":" - "},null,{"$f":"IFERROR(VLOOKUP($B201,'EP_LV_Price-list'!$A:$J,8,FALSE),\" - \")","v":" - "},{"$f":"IFERROR(VLOOKUP($B201,'EP_LV_Price-list'!$A:$J,9,FALSE),\" - \")","v":" - "},{"$f":"IFERROR(VLOOKUP($B201,'EP_LV_Price-list'!$A:$J,4,FALSE),\" - \")","v":" - "}," - ",null," - "," - "]
[194,null,{"$f":"IFERROR(VLOOKUP($B202,'EP_LV_Price-list'!$A:$J,2,FALSE),\" - \")","v":" - "},{"$f":"IFERROR(VLOOKUP($B202,'EP_LV_Price-list'!$A:$J,3,FALSE),\" - \")","v":" - "},{"$f":"IFERROR(VLOOKUP($B202,'EP_LV_Price-list'!$A:$J,7,FALSE),\" - \")","v":" - "},{"$f":"IFERROR(VLOOKUP($B202,'EP_LV_Price-list'!$A:$K,11,FALSE),\" - \")","v":" - "},null,{"$f":"IFERROR(VLOOKUP($B202,'EP_LV_Price-list'!$A:$J,8,FALSE),\" - \")","v":" - "},{"$f":"IFERROR(VLOOKUP($B202,'EP_LV_Price-list'!$A:$J,9,FALSE),\" - \")","v":" - "},{"$f":"IFERROR(VLOOKUP($B202,'EP_LV_Price-list'!$A:$J,4,FALSE),\" - \")","v":" - "}," - ",null," - "," - "]
[195,null,{"$f":"IFERROR(VLOOKUP($B203,'EP_LV_Price-list'!$A:$J,2,FALSE),\" - \")","v":" - "},{"$f":"IFERROR(VLOOKUP($B203,'EP_LV_Price-list'!$A:$J,3,FALSE),\" - \")","v":" - "},{"$f":"IFERROR(VLOOKUP($B203,'EP_LV_Price-list'!$A:$J,7,FALSE),\" - \")","v":" - "},{"$f":"IFERROR(VLOOKUP($B203,'EP_LV_Price-list'!$A:$K,11,FALSE),\" - \")","v":" - "},null,{"$f":"IFERROR(VLOOKUP($B203,'EP_LV_Price-list'!$A:$J,8,FALSE),\" - \")","v":" - "},{"$f":"IFERROR(VLOOKUP($B203,'EP_LV_Price-list'!$A:$J,9,FALSE),\" - \")","v":" - "},{"$f":"IFERROR(VLOOKUP($B203,'EP_LV_Price-list'!$A:$J,4,FALSE),\" - \")","v":" - "}," - ",null," - "," - "]
[196,null,{"$f":"IFERROR(VLOOKUP($B204,'EP_LV_Price-list'!$A:$J,2,FALSE),\" - \")","v":" - "},{"$f":"IFERROR(VLOOKUP($B204,'EP_LV_Price-list'!$A:$J,3,FALSE),\" - \")","v":" - "},{"$f":"IFERROR(VLOOKUP($B204,'EP_LV_Price-list'!$A:$J,7,FALSE),\" - \")","v":" - "},{"$f":"IFERROR(VLOOKUP($B204,'EP_LV_Price-list'!$A:$K,11,FALSE),\" - \")","v":" - "},null,{"$f":"IFERROR(VLOOKUP($B204,'EP_LV_Price-list'!$A:$J,8,FALSE),\" - \")","v":" - "},{"$f":"IFERROR(VLOOKUP($B204,'EP_LV_Price-list'!$A:$J,9,FALSE),\" - \")","v":" - "},{"$f":"IFERROR(VLOOKUP($B204,'EP_LV_Price-list'!$A:$J,4,FALSE),\" - \")","v":" - "}," - ",null," - "," - "]
[197,null,{"$f":"IFERROR(VLOOKUP($B205,'EP_LV_Price-list'!$A:$J,2,FALSE),\" - \")","v":" - "},{"$f":"IFERROR(VLOOKUP($B205,'EP_LV_Price-list'!$A:$J,3,FALSE),\" - \")","v":" - "},{"$f":"IFERROR(VLOOKUP($B205,'EP_LV_Price-list'!$A:$J,7,FALSE),\" - \")","v":" - "},{"$f":"IFERROR(VLOOKUP($B205,'EP_LV_Price-list'!$A:$K,11,FALSE),\" - \")","v":" - "},null,{"$f":"IFERROR(VLOOKUP($B205,'EP_LV_Price-list'!$A:$J,8,FALSE),\" - \")","v":" - "},{"$f":"IFERROR(VLOOKUP($B205,'EP_LV_Price-list'!$A:$J,9,FALSE),\" - \")","v":" - "},{"$f":"IFERROR(VLOOKUP($B205,'EP_LV_Price-list'!$A:$J,4,FALSE),\" - \")","v":" - "}," - ",null," - "," - "]
[198,null,{"$f":"IFERROR(VLOOKUP($B206,'EP_LV_Price-list'!$A:$J,2,FALSE),\" - \")","v":" - "},{"$f":"IFERROR(VLOOKUP($B206,'EP_LV_Price-list'!$A:$J,3,FALSE),\" - \")","v":" - "},{"$f":"IFERROR(VLOOKUP($B206,'EP_LV_Price-list'!$A:$J,7,FALSE),\" - \")","v":" - "},{"$f":"IFERROR(VLOOKUP($B206,'EP_LV_Price-list'!$A:$K,11,FALSE),\" - \")","v":" - "},null,{"$f":"IFERROR(VLOOKUP($B206,'EP_LV_Price-list'!$A:$J,8,FALSE),\" - \")","v":" - "},{"$f":"IFERROR(VLOOKUP($B206,'EP_LV_Price-list'!$A:$J,9,FALSE),\" - \")","v":" - "},{"$f":"IFERROR(VLOOKUP($B206,'EP_LV_Price-list'!$A:$J,4,FALSE),\" - \")","v":" - "}," - ",null," - "," - "]
[199,null,{"$f":"IFERROR(VLOOKUP($B207,'EP_LV_Price-list'!$A:$J,2,FALSE),\" - \")","v":" - "},{"$f":"IFERROR(VLOOKUP($B207,'EP_LV_Price-list'!$A:$J,3,FALSE),\" - \")","v":" - "},{"$f":"IFERROR(VLOOKUP($B207,'EP_LV_Price-list'!$A:$J,7,FALSE),\" - \")","v":" - "},{"$f":"IFERROR(VLOOKUP($B207,'EP_LV_Price-list'!$A:$K,11,FALSE),\" - \")","v":" - "},null,{"$f":"IFERROR(VLOOKUP($B207,'EP_LV_Price-list'!$A:$J,8,FALSE),\" - \")","v":" - "},{"$f":"IFERROR(VLOOKUP($B207,'EP_LV_Price-list'!$A:$J,9,FALSE),\" - \")","v":" - "},{"$f":"IFERROR(VLOOKUP($B207,'EP_LV_Price-list'!$A:$J,4,FALSE),\" - \")","v":" - "}," - ",null," - "," - "]
[200,null,{"$f":"IFERROR(VLOOKUP($B208,'EP_LV_Price-list'!$A:$J,2,FALSE),\" - \")","v":" - "},{"$f":"IFERROR(VLOOKUP($B208,'EP_LV_Price-list'!$A:$J,3,FALSE),\" - \")","v":" - "},{"$f":"IFERROR(VLOOKUP($B208,'EP_LV_Price-list'!$A:$J,7,FALSE),\" - \")","v":" - "},{"$f":"IFERROR(VLOOKUP($B208,'EP_LV_Price-list'!$A:$K,11,FALSE),\" - \")","v":" - "},null,{"$f":"IFERROR(VLOOKUP($B208,'EP_LV_Price-list'!$A:$J,8,FALSE),\" - \")","v":" - "},{"$f":"IFERROR(VLOOKUP($B208,'EP_LV_Price-list'!$A:$J,9,FALSE),\" - \")","v":" - "},{"$f":"IFERROR(VLOOKUP($B208,'EP_LV_Price-list'!$A:$J,4,FALSE),\" - \")","v":" - "}," - ",null," - "," - "]
[null,null,null,null,null,null,null,null,null,"Сума з ПДВ:",{"$f":"SUM(K9:K208)","v":0},"Сума зі знижкою з ПДВ:",null,{"$f":"SUM(N9:N208)","v":0}]

{"sheet":"КП","index":3,"n_rows":238,"n_cols":6,"rows_kept":238,"cut":false,"hidden":false,"merged":[[209,0,209,4],[3,0,3,5],[0,0,0,5],[1,0,1,5],[2,0,2,5],[4,0,4,5],[7,0,7,5],[225,0,225,5],[210,0,210,4],[211,0,211,4],[213,0,213,5],[215,0,215,5],[216,0,216,5],[214,0,214,5],[218,0,218,5],[219,0,219,5],[221,0,221,5],[222,0,222,5],[224,0,224,5],[236,4,236,5],[237,4,237,5],[227,0,227,5],[230,0,230,5],[231,0,231,5]]}
["Комерційна пропозиція для"]
["Замовник"]
["на поставку обладнання для"]
["Кінцевий замовник"]
[]
["Дата:",null,{"$f":"TODAY()","v":"2019-06-24"},null,null,"м. Київ"]
[]
["Обсяг та вартість поставки:"]
["Поз.","Код замовлення","Назва","К-ть","Ціна за од., без ПДВ","Ціна всього,  без ПДВ"]
[1,{"$f":"IFERROR(Розрахунок!B9,\" - \")","v":0},{"$f":"IFERROR(Розрахунок!D9,\" - \")","v":" - "},{"$f":"IFERROR(IF(Розрахунок!G9=\"\",\"\",Розрахунок!G9),\" - \")","v":""},{"$f":"IFERROR(Розрахунок!M9/1.2,\" - \")","v":" - "},{"$f":"IFERROR(E10*D10,\" - \")","v":" - "}]
[2,{"$f":"IFERROR(Розрахунок!B10,\" - \")","v":0},{"$f":"IFERROR(Розрахунок!D10,\" - \")","v":" - "},{"$f":"IFERROR(IF(Розрахунок!G10=\"\",\"\",Розрахунок!G10),\" - \")","v":""},{"$f":"IFERROR(Розрахунок!M10/1.2,\" - \")","v":" - "},{"$f":"IFERROR(E11*D11,\" - \")","v":" - "}]
[3,{"$f":"IFERROR(Розрахунок!B11,\" - \")","v":0},{"$f":"IFERROR(Розрахунок!D11,\" - \")","v":" - "},{"$f":"IFERROR(IF(Розрахунок!G11=\"\",\"\",Розрахунок!G11),\" - \")","v":""},{"$f":"IFERROR(Розрахунок!M11/1.2,\" - \")","v":" - "}," - "]
[4,{"$f":"IFERROR(Розрахунок!B12,\" - \")","v":0},{"$f":"IFERROR(Розрахунок!D12,\" - \")","v":" - "},{"$f":"IFERROR(IF(Розрахунок!G12=\"\",\"\",Розрахунок!G12),\" - \")","v":""},{"$f":"IFERROR(Розрахунок!M12/1.2,\" - \")","v":" - "}," - "]
[5,{"$f":"IFERROR(Розрахунок!B13,\" - \")","v":0},{"$f":"IFERROR(Розрахунок!D13,\" - \")","v":" - "},{"$f":"IFERROR(IF(Розрахунок!G13=\"\",\"\",Розрахунок!G13),\" - \")","v":""},{"$f":"IFERROR(Розрахунок!M13/1.2,\" - \")","v":" - "}," - "]
[6,{"$f":"IFERROR(Розрахунок!B14,\" - \")","v":0},{"$f":"IFERROR(Розрахунок!D14,\" - \")","v":" - "},{"$f":"IFERROR(IF(Розрахунок!G14=\"\",\"\",Розрахунок!G14),\" - \")","v":""},{"$f":"IFERROR(Розрахунок!M14/1.2,\" - \")","v":" - "}," - "]
[7,{"$f":"IFERROR(Розрахунок!B15,\" - \")","v":0},{"$f":"IFERROR(Розрахунок!D15,\" - \")","v":" - "},{"$f":"IFERROR(IF(Розрахунок!G15=\"\",\"\",Розрахунок!G15),\" - \")","v":""},{"$f":"IFERROR(Розрахунок!M15/1.2,\" - \")","v":" - "}," - "]
[8,{"$f":"IFERROR(Розрахунок!B16,\" - \")","v":0},{"$f":"IFERROR(Розрахунок!D16,\" - \")","v":" - "},{"$f":"IFERROR(IF(Розрахунок!G16=\"\",\"\",Розрахунок!G16),\" - \")","v":""},{"$f":"IFERROR(Розрахунок!M16/1.2,\" - \")","v":" - "}," - "]
[9,{"$f":"IFERROR(Розрахунок!B17,\" - \")","v":0},{"$f":"IFERROR(Розрахунок!D17,\" - \")","v":" - "},{"$f":"IFERROR(IF(Розрахунок!G17=\"\",\"\",Розрахунок!G17),\" - \")","v":""},{"$f":"IFERROR(Розрахунок!M17/1.2,\" - \")","v":" - "}," - "]
[10,{"$f":"IFERROR(Розрахунок!B18,\" - \")","v":0},{"$f":"IFERROR(Розрахунок!D18,\" - \")","v":" - "},{"$f":"IFERROR(IF(Розрахунок!G18=\"\",\"\",Розрахунок!G18),\" - \")","v":""},{"$f":"IFERROR(Розрахунок!M18/1.2,\" - \")","v":" - "}," - "]
[11,{"$f":"IFERROR(Розрахунок!B19,\" - \")","v":0},{"$f":"IFERROR(Розрахунок!D19,\" - \")","v":" - "},{"$f":"IFERROR(IF(Розрахунок!G19=\"\",\"\",Розрахунок!G19),\" - \")","v":""},{"$f":"IFERROR(Розрахунок!M19/1.2,\" - \")","v":" - "}," - "]
[12,{"$f":"IFERROR(Розрахунок!B20,\" - \")","v":0},{"$f":"IFERROR(Розрахунок!D20,\" - \")","v":" - "},{"$f":"IFERROR(IF(Розрахунок!G20=\"\",\"\",Розрахунок!G20),\" - \")","v":""},{"$f":"IFERROR(Розрахунок!M20/1.2,\" - \")","v":" - "}," - "]
[13,{"$f":"IFERROR(Розрахунок!B21,\" - \")","v":0},{"$f":"IFERROR(Розрахунок!D21,\" - \")","v":" - "},{"$f":"IFERROR(IF(Розрахунок!G21=\"\",\"\",Розрахунок!G21),\" - \")","v":""},{"$f":"IFERROR(Розрахунок!M21/1.2,\" - \")","v":" - "}," - "]
[14,{"$f":"IFERROR(Розрахунок!B22,\" - \")","v":0},{"$f":"IFERROR(Розрахунок!D22,\" - \")","v":" - "},{"$f":"IFERROR(IF(Розрахунок!G22=\"\",\"\",Розрахунок!G22),\" - \")","v":""},{"$f":"IFERROR(Розрахунок!M22/1.2,\" - \")","v":" - "}," - "]
[15,{"$f":"IFERROR(Розрахунок!B23,\" - \")","v":0},{"$f":"IFERROR(Розрахунок!D23,\" - \")","v":" - "},{"$f":"IFERROR(IF(Розрахунок!G23=\"\",\"\",Розрахунок!G23),\" - \")","v":""},{"$f":"IFERROR(Розрахунок!M23/1.2,\" - \")","v":" - "}," - "]
[16,{"$f":"IFERROR(Розрахунок!B24,\" - \")","v":0},{"$f":"IFERROR(Розрахунок!D24,\" - \")","v":" - "},{"$f":"IFERROR(IF(Розрахунок!G24=\"\",\"\",Розрахунок!G24),\" - \")","v":""},{"$f":"IFERROR(Розрахунок!M24/1.2,\" - \")","v":" - "}," - "]
[17,{"$f":"IFERROR(Розрахунок!B25,\" - \")","v":0},{"$f":"IFERROR(Розрахунок!D25,\" - \")","v":" - "},{"$f":"IFERROR(IF(Розрахунок!G25=\"\",\"\",Розрахунок!G25),\" - \")","v":""},{"$f":"IFERROR(Розрахунок!M25/1.2,\" - \")","v":" - "}," - "]
[18,{"$f":"IFERROR(Розрахунок!B26,\" - \")","v":0},{"$f":"IFERROR(Розрахунок!D26,\" - \")","v":" - "},{"$f":"IFERROR(IF(Розрахунок!G26=\"\",\"\",Розрахунок!G26),\" - \")","v":""},{"$f":"IFERROR(Розрахунок!M26/1.2,\" - \")","v":" - "}," - "]
[19,{"$f":"IFERROR(Розрахунок!B27,\" - \")","v":0},{"$f":"IFERROR(Розрахунок!D27,\" - \")","v":" - "},{"$f":"IFERROR(IF(Розрахунок!G27=\"\",\"\",Розрахунок!G27),\" - \")","v":""},{"$f":"IFERROR(Розрахунок!M27/1.2,\" - \")","v":" - "}," - "]
[20,{"$f":"IFERROR(Розрахунок!B28,\" - \")","v":0},{"$f":"IFERROR(Розрахунок!D28,\" - \")","v":" - "},{"$f":"IFERROR(IF(Розрахунок!G28=\"\",\"\",Розрахунок!G28),\" - \")","v":""},{"$f":"IFERROR(Розрахунок!M28/1.2,\" - \")","v":" - "}," - "]
[21,{"$f":"IFERROR(Розрахунок!B29,\" - \")","v":0},{"$f":"IFERROR(Розрахунок!D29,\" - \")","v":" - "},{"$f":"IFERROR(IF(Розрахунок!G29=\"\",\"\",Розрахунок!G29),\" - \")","v":""},{"$f":"IFERROR(Розрахунок!M29/1.2,\" - \")","v":" - "}," - "]
[22,{"$f":"IFERROR(Розрахунок!B30,\" - \")","v":0},{"$f":"IFERROR(Розрахунок!D30,\" - \")","v":" - "},{"$f":"IFERROR(IF(Розрахунок!G30=\"\",\"\",Розрахунок!G30),\" - \")","v":""},{"$f":"IFERROR(Розрахунок!M30/1.2,\" - \")","v":" - "}," - "]
[23,{"$f":"IFERROR(Розрахунок!B31,\" - \")","v":0},{"$f":"IFERROR(Розрахунок!D31,\" - \")","v":" - "},{"$f":"IFERROR(IF(Розрахунок!G31=\"\",\"\",Розрахунок!G31),\" - \")","v":""},{"$f":"IFERROR(Розрахунок!M31/1.2,\" - \")","v":" - "}," - "]
[24,{"$f":"IFERROR(Розрахунок!B32,\" - \")","v":0},{"$f":"IFERROR(Розрахунок!D32,\" - \")","v":" - "},{"$f":"IFERROR(IF(Розрахунок!G32=\"\",\"\",Розрахунок!G32),\" - \")","v":""},{"$f":"IFERROR(Розрахунок!M32/1.2,\" - \")","v":" - "}," - "]
[25,{"$f":"IFERROR(Розрахунок!B33,\" - \")","v":0},{"$f":"IFERROR(Розрахунок!D33,\" - \")","v":" - "},{"$f":"IFERROR(IF(Розрахунок!G33=\"\",\"\",Розрахунок!G33),\" - \")","v":""},{"$f":"IFERROR(Розрахунок!M33/1.2,\" - \")","v":" - "}," - "]
[26,{"$f":"IFERROR(Розрахунок!B34,\" - \")","v":0},{"$f":"IFERROR(Розрахунок!D34,\" - \")","v":" - "},{"$f":"IFERROR(IF(Розрахунок!G34=\"\",\"\",Розрахунок!G34),\" - \")","v":""},{"$f":"IFERROR(Розрахунок!M34/1.2,\" - \")","v":" - "}," - "]
[27,{"$f":"IFERROR(Розрахунок!B35,\" - \")","v":0},{"$f":"IFERROR(Розрахунок!D35,\" - \")","v":" - "},{"$f":"IFERROR(IF(Розрахунок!G35=\"\",\"\",Розрахунок!G35),\" - \")","v":""},{"$f":"IFERROR(Розрахунок!M35/1.2,\" - \")","v":" - "}," - "]
[28,{"$f":"IFERROR(Розрахунок!B36,\" - \")","v":0},{"$f":"IFERROR(Розрахунок!D36,\" - \")","v":" - "},{"$f":"IFERROR(IF(Розрахунок!G36=\"\",\"\",Розрахунок!G36),\" - \")","v":""},{"$f":"IFERROR(Розрахунок!M36/1.2,\" - \")","v":" - "}," - "]
[29,{"$f":"IFERROR(Розрахунок!B37,\" - \")","v":0},{"$f":"IFERROR(Розрахунок!D37,\" - \")","v":" - "},{"$f":"IFERROR(IF(Розрахунок!G37=\"\",\"\",Розрахунок!G37),\" - \")","v":""},{"$f":"IFERROR(Розрахунок!M37/1.2,\" - \")","v":" - "}," - "]
[30,{"$f":"IFERROR(Розрахунок!B38,\" - \")","v":0},{"$f":"IFERROR(Розрахунок!D38,\" - \")","v":" - "},{"$f":"IFERROR(IF(Розрахунок!G38=\"\",\"\",Розрахунок!G38),\" - \")","v":""},{"$f":"IFERROR(Розрахунок!M38/1.2,\" - \")","v":" - "}," - "]
[31,{"$f":"IFERROR(Розрахунок!B39,\" - \")","v":0},{"$f":"IFERROR(Розрахунок!D39,\" - \")","v":" - "},{"$f":"IFERROR(IF(Розрахунок!G39=\"\",\"\",Розрахунок!G39),\" - \")","v":""},{"$f":"IFERROR(Розрахунок!M39/1.2,\" - \")","v":" - "}," - "]
[32,{"$f":"IFERROR(Розрахунок!B40,\" - \")","v":0},{"$f":"IFERROR(Розрахунок!D40,\" - \")","v":" - "},{"$f":"IFERROR(IF(Розрахунок!G40=\"\",\"\",Розрахунок!G40),\" - \")","v":""},{"$f":"IFERROR(Розрахунок!M40/1.2,\" - \")","v":" - "}," - "]
[33,{"$f":"IFERROR(Розрахунок!B41,\" - \")","v":0},{"$f":"IFERROR(Розрахунок!D41,\" - \")","v":" - "},{"$f":"IFERROR(IF(Розрахунок!G41=\"\",\"\",Розрахунок!G41),\" - \")","v":""},{"$f":"IFERROR(Розрахунок!M41/1.2,\" - \")","v":" - "}," - "]
[34,{"$f":"IFERROR(Розрахунок!B42,\" - \")","v":0},{"$f":"IFERROR(Розрахунок!D42,\" - \")","v":" - "},{"$f":"IFERROR(IF(Розрахунок!G42=\"\",\"\",Розрахунок!G42),\" - \")","v":""},{"$f":"IFERROR(Розрахунок!M42/1.2,\" - \")","v":" - "}," - "]
[35,{"$f":"IFERROR(Розрахунок!B43,\" - \")","v":0},{"$f":"IFERROR(Розрахунок!D43,\" - \")","v":" - "},{"$f":"IFERROR(IF(Розрахунок!G43=\"\",\"\",Розрахунок!G43),\" - \")","v":""},{"$f":"IFERROR(Розрахунок!M43/1.2,\" - \")","v":" - "}," - "]
[36,{"$f":"IFERROR(Розрахунок!B44,\" - \")","v":0},{"$f":"IFERROR(Розрахунок!D44,\" - \")","v":" - "},{"$f":"IFERROR(IF(Розрахунок!G44=\"\",\"\",Розрахунок!G44),\" - \")","v":""},{"$f":"IFERROR(Розрахунок!M44/1.2,\" - \")","v":" - "}," - "]
[37,{"$f":"IFERROR(Розрахунок!B45,\" - \")","v":0},{"$f":"IFERROR(Розрахунок!D45,\" - \")","v":" - "},{"$f":"IFERROR(IF(Розрахунок!G45=\"\",\"\",Розрахунок!G45),\" - \")","v":""},{"$f":"IFERROR(Розрахунок!M45/1.2,\" - \")","v":" - "}," - "]
[38,{"$f":"IFERROR(Розрахунок!B46,\" - \")","v":0},{"$f":"IFERROR(Розрахунок!D46,\" - \")","v":" - "},{"$f":"IFERROR(IF(Розрахунок!G46=\"\",\"\",Розрахунок!G46),\" - \")","v":""},{"$f":"IFERROR(Розрахунок!M46/1.2,\" - \")","v":" - "}," - "]
[39,{"$f":"IFERROR(Розрахунок!B47,\" - \")","v":0},{"$f":"IFERROR(Розрахунок!D47,\" - \")","v":" - "},{"$f":"IFERROR(IF(Розрахунок!G47=\"\",\"\",Розрахунок!G47),\" - \")","v":""},{"$f":"IFERROR(Розрахунок!M47/1.2,\" - \")","v":" - "}," - "]
[40,{"$f":"IFERROR(Розрахунок!B48,\" - \")","v":0},{"$f":"IFERROR(Розрахунок!D48,\" - \")","v":" - "},{"$f":"IFERROR(IF(Розрахунок!G48=\"\",\"\",Розрахунок!G48),\" - \")","v":""},{"$f":"IFERROR(Розрахунок!M48/1.2,\" - \")","v":" - "}," - "]
[41,{"$f":"IFERROR(Розрахунок!B49,\" - \")","v":0},{"$f":"IFERROR(Розрахунок!D49,\" - \")","v":" - "},{"$f":"IFERROR(IF(Розрахунок!G49=\"\",\"\",Розрахунок!G49),\" - \")","v":""},{"$f":"IFERROR(Розрахунок!M49/1.2,\" - \")","v":" - "},{"$f":"IFERROR(E50*D50,\" - \")","v":" - "}]
[42,{"$f":"IFERROR(Розрахунок!B50,\" - \")","v":0},{"$f":"IFERROR(Розрахунок!D50,\" - \")","v":" - "},{"$f":"IFERROR(IF(Розрахунок!G50=\"\",\"\",Розрахунок!G50),\" - \")","v":""},{"$f":"IFERROR(Розрахунок!M50/1.2,\" - \")","v":" - "},{"$f":"IFERROR(E51*D51,\" - \")","v":" - "}]
[43,{"$f":"IFERROR(Розрахунок!B51,\" - \")","v":0},{"$f":"IFERROR(Розрахунок!D51,\" - \")","v":" - "},{"$f":"IFERROR(IF(Розрахунок!G51=\"\",\"\",Розрахунок!G51),\" - \")","v":""},{"$f":"IFERROR(Розрахунок!M51/1.2,\" - \")","v":" - "}," - "]
[44,{"$f":"IFERROR(Розрахунок!B52,\" - \")","v":0},{"$f":"IFERROR(Розрахунок!D52,\" - \")","v":" - "},{"$f":"IFERROR(IF(Розрахунок!G52=\"\",\"\",Розрахунок!G52),\" - \")","v":""},{"$f":"IFERROR(Розрахунок!M52/1.2,\" - \")","v":" - "}," - "]
[45,{"$f":"IFERROR(Розрахунок!B53,\" - \")","v":0},{"$f":"IFERROR(Розрахунок!D53,\" - \")","v":" - "},{"$f":"IFERROR(IF(Розрахунок!G53=\"\",\"\",Розрахунок!G53),\" - \")","v":""},{"$f":"IFERROR(Розрахунок!M53/1.2,\" - \")","v":" - "}," - "]
[46,{"$f":"IFERROR(Розрахунок!B54,\" - \")","v":0},{"$f":"IFERROR(Розрахунок!D54,\" - \")","v":" - "},{"$f":"IFERROR(IF(Розрахунок!G54=\"\",\"\",Розрахунок!G54),\" - \")","v":""},{"$f":"IFERROR(Розрахунок!M54/1.2,\" - \")","v":" - "}," - "]
[47,{"$f":"IFERROR(Розрахунок!B55,\" - \")","v":0},{"$f":"IFERROR(Розрахунок!D55,\" - \")","v":" - "},{"$f":"IFERROR(IF(Розрахунок!G55=\"\",\"\",Розрахунок!G55),\" - \")","v":""},{"$f":"IFERROR(Розрахунок!M55/1.2,\" - \")","v":" - "}," - "]
[48,{"$f":"IFERROR(Розрахунок!B56,\" - \")","v":0},{"$f":"IFERROR(Розрахунок!D56,\" - \")","v":" - "},{"$f":"IFERROR(IF(Розрахунок!G56=\"\",\"\",Розрахунок!G56),\" - \")","v":""},{"$f":"IFERROR(Розрахунок!M56/1.2,\" - \")","v":" - "}," - "]
[49,{"$f":"IFERROR(Розрахунок!B57,\" - \")","v":0},{"$f":"IFERROR(Розрахунок!D57,\" - \")","v":" - "},{"$f":"IFERROR(IF(Розрахунок!G57=\"\",\"\",Розрахунок!G57),\" - \")","v":""},{"$f":"IFERROR(Розрахунок!M57/1.2,\" - \")","v":" - "}," - "]
[50,{"$f":"IFERROR(Розрахунок!B58,\" - \")","v":0},{"$f":"IFERROR(Розрахунок!D58,\" - \")","v":" - "},{"$f":"IFERROR(IF(Розрахунок!G58=\"\",\"\",Розрахунок!G58),\" - \")","v":""},{"$f":"IFERROR(Розрахунок!M58/1.2,\" - \")","v":" - "}," - "]
[51,{"$f":"IFERROR(Розрахунок!B59,\" - \")","v":0},{"$f":"IFERROR(Розрахунок!D59,\" - \")","v":" - "},{"$f":"IFERROR(IF(Розрахунок!G59=\"\",\"\",Розрахунок!G59),\" - \")","v":""},{"$f":"IFERROR(Розрахунок!M59/1.2,\" - \")","v":" - "}," - "]
[52,{"$f":"IFERROR(Розрахунок!B60,\" - \")","v":0},{"$f":"IFERROR(Розрахунок!D60,\" - \")","v":" - "},{"$f":"IFERROR(IF(Розрахунок!G60=\"\",\"\",Розрахунок!G60),\" - \")","v":""},{"$f":"IFERROR(Розрахунок!M60/1.2,\" - \")","v":" - "}," - "]
[53,{"$f":"IFERROR(Розрахунок!B61,\" - \")","v":0},{"$f":"IFERROR(Розрахунок!D61,\" - \")","v":" - "},{"$f":"IFERROR(IF(Розрахунок!G61=\"\",\"\",Розрахунок!G61),\" - \")","v":""},{"$f":"IFERROR(Розрахунок!M61/1.2,\" - \")","v":" - "}," - "]
[54,{"$f":"IFERROR(Розрахунок!B62,\" - \")","v":0},{"$f":"IFERROR(Розрахунок!D62,\" - \")","v":" - "},{"$f":"IFERROR(IF(Розрахунок!G62=\"\",\"\",Розрахунок!G62),\" - \")","v":""},{"$f":"IFERROR(Розрахунок!M62/1.2,\" - \")","v":" - "}," - "]
[55,{"$f":"IFERROR(Розрахунок!B63,\" - \")","v":0},{"$f":"IFERROR(Розрахунок!D63,\" - \")","v":" - "},{"$f":"IFERROR(IF(Розрахунок!G63=\"\",\"\",Розрахунок!G63),\" - \")","v":""},{"$f":"IFERROR(Розрахунок!M63/1.2,\" - \")","v":" - "}," - "]
[56,{"$f":"IFERROR(Розрахунок!B64,\" - \")","v":0},{"$f":"IFERROR(Розрахунок!D64,\" - \")","v":" - "},{"$f":"IFERROR(IF(Розрахунок!G64=\"\",\"\",Розрахунок!G64),\" - \")","v":""},{"$f":"IFERROR(Розрахунок!M64/1.2,\" - \")","v":" - "}," - "]
[57,{"$f":"IFERROR(Розрахунок!B65,\" - \")","v":0},{"$f":"IFERROR(Розрахунок!D65,\" - \")","v":" - "},{"$f":"IFERROR(IF(Розрахунок!G65=\"\",\"\",Розрахунок!G65),\" - \")","v":""},{"$f":"IFERROR(Розрахунок!M65/1.2,\" - \")","v":" - "}," - "]
[58,{"$f":"IFERROR(Розрахунок!B66,\" - \")","v":0},{"$f":"IFERROR(Розрахунок!D66,\" - \")","v":" - "},{"$f":"IFERROR(IF(Розрахунок!G66=\"\",\"\",Розрахунок!G66),\" - \")","v":""},{"$f":"IFERROR(Розрахунок!M66/1.2,\" - \")","v":" - "}," - "]
[59,{"$f":"IFERROR(Розрахунок!B67,\" - \")","v":0},{"$f":"IFERROR(Розрахунок!D67,\" - \")","v":" - "},{"$f":"IFERROR(IF(Розрахунок!G67=\"\",\"\",Розрахунок!G67),\" - \")","v":""},{"$f":"IFERROR(Розрахунок!M67/1.2,\" - \")","v":" - "}," - "]
[60,{"$f":"IFERROR(Розрахунок!B68,\" - \")","v":0},{"$f":"IFERROR(Розрахунок!D68,\" - \")","v":" - "},{"$f":"IFERROR(IF(Розрахунок!G68=\"\",\"\",Розрахунок!G68),\" - \")","v":""},{"$f":"IFERROR(Розрахунок!M68/1.2,\" - \")","v":" - "}," - "]
[61,{"$f":"IFERROR(Розрахунок!B69,\" - \")","v":0},{"$f":"IFERROR(Розрахунок!D69,\" - \")","v":" - "},{"$f":"IFERROR(IF(Розрахунок!G69=\"\",\"\",Розрахунок!G69),\" - \")","v":""},{"$f":"IFERROR(Розрахунок!M69/1.2,\" - \")","v":" - "}," - "]
[62,{"$f":"IFERROR(Розрахунок!B70,\" - \")","v":0},{"$f":"IFERROR(Розрахунок!D70,\" - \")","v":" - "},{"$f":"IFERROR(IF(Розрахунок!G70=\"\",\"\",Розрахунок!G70),\" - \")","v":""},{"$f":"IFERROR(Розрахунок!M70/1.2,\" - \")","v":" - "}," - "]
[63,{"$f":"IFERROR(Розрахунок!B71,\" - \")","v":0},{"$f":"IFERROR(Розрахунок!D71,\" - \")","v":" - "},{"$f":"IFERROR(IF(Розрахунок!G71=\"\",\"\",Розрахунок!G71),\" - \")","v":""},{"$f":"IFERROR(Розрахунок!M71/1.2,\" - \")","v":" - "}," - "]
[64,{"$f":"IFERROR(Розрахунок!B72,\" - \")","v":0},{"$f":"IFERROR(Розрахунок!D72,\" - \")","v":" - "},{"$f":"IFERROR(IF(Розрахунок!G72=\"\",\"\",Розрахунок!G72),\" - \")","v":""},{"$f":"IFERROR(Розрахунок!M72/1.2,\" - \")","v":" - "}," - "]
[65,{"$f":"IFERROR(Розрахунок!B73,\" - \")","v":0},{"$f":"IFERROR(Розрахунок!D73,\" - \")","v":" - "},{"$f":"IFERROR(IF(Розрахунок!G73=\"\",\"\",Розрахунок!G73),\" - \")","v":""},{"$f":"IFERROR(Розрахунок!M73/1.2,\" - \")","v":" - "}," - "]
[66,{"$f":"IFERROR(Розрахунок!B74,\" - \")","v":0},{"$f":"IFERROR(Розрахунок!D74,\" - \")","v":" - "},{"$f":"IFERROR(IF(Розрахунок!G74=\"\",\"\",Розрахунок!G74),\" - \")","v":""},{"$f":"IFERROR(Розрахунок!M74/1.2,\" - \")","v":" - "}," - "]
[67,{"$f":"IFERROR(Розрахунок!B75,\" - \")","v":0},{"$f":"IFERROR(Розрахунок!D75,\" - \")","v":" - "},{"$f":"IFERROR(IF(Розрахунок!G75=\"\",\"\",Розрахунок!G75),\" - \")","v":""},{"$f":"IFERROR(Розрахунок!M75/1.2,\" - \")","v":" - "}," - "]
[68,{"$f":"IFERROR(Розрахунок!B76,\" - \")","v":0},{"$f":"IFERROR(Розрахунок!D76,\" - \")","v":" - "},{"$f":"IFERROR(IF(Розрахунок!G76=\"\",\"\",Розрахунок!G76),\" - \")","v":""},{"$f":"IFERROR(Розрахунок!M76/1.2,\" - \")","v":" - "}," - "]
[69,{"$f":"IFERROR(Розрахунок!B77,\" - \")","v":0},{"$f":"IFERROR(Розрахунок!D77,\" - \")","v":" - "},{"$f":"IFERROR(IF(Розрахунок!G77=\"\",\"\",Розрахунок!G77),\" - \")","v":""},{"$f":"IFERROR(Розрахунок!M77/1.2,\" - \")","v":" - "}," - "]
[70,{"$f":"IFERROR(Розрахунок!B78,\" - \")","v":0},{"$f":"IFERROR(Розрахунок!D78,\" - \")","v":" - "},{"$f":"IFERROR(IF(Розрахунок!G78=\"\",\"\",Розрахунок!G78),\" - \")","v":""},{"$f":"IFERROR(Розрахунок!M78/1.2,\" - \")","v":" - "}," - "]
[71,{"$f":"IFERROR(Розрахунок!B79,\" - \")","v":0},{"$f":"IFERROR(Розрахунок!D79,\" - \")","v":" - "},{"$f":"IFERROR(IF(Розрахунок!G79=\"\",\"\",Розрахунок!G79),\" - \")","v":""},{"$f":"IFERROR(Розрахунок!M79/1.2,\" - \")","v":" - "}," - "]
[72,{"$f":"IFERROR(Розрахунок!B80,\" - \")","v":0},{"$f":"IFERROR(Розрахунок!D80,\" - \")","v":" - "},{"$f":"IFERROR(IF(Розрахунок!G80=\"\",\"\",Розрахунок!G80),\" - \")","v":""},{"$f":"IFERROR(Розрахунок!M80/1.2,\" - \")","v":" - "}," - "]
[73,{"$f":"IFERROR(Розрахунок!B81,\" - \")","v":0},{"$f":"IFERROR(Розрахунок!D81,\" - \")","v":" - "},{"$f":"IFERROR(IF(Розрахунок!G81=\"\",\"\",Розрахунок!G81),\" - \")","v":""},{"$f":"IFERROR(Розрахунок!M81/1.2,\" - \")","v":" - "}," - "]
[74,{"$f":"IFERROR(Розрахунок!B82,\" - \")","v":0},{"$f":"IFERROR(Розрахунок!D82,\" - \")","v":" - "},{"$f":"IFERROR(IF(Розрахунок!G82=\"\",\"\",Розрахунок!G82),\" - \")","v":""},{"$f":"IFERROR(Розрахунок!M82/1.2,\" - \")","v":" - "}," - "]
[75,{"$f":"IFERROR(Розрахунок!B83,\" - \")","v":0},{"$f":"IFERROR(Розрахунок!D83,\" - \")","v":" - "},{"$f":"IFERROR(IF(Розрахунок!G83=\"\",\"\",Розрахунок!G83),\" - \")","v":""},{"$f":"IFERROR(Розрахунок!M83/1.2,\" - \")","v":" - "}," - "]
[76,{"$f":"IFERROR(Розрахунок!B84,\" - \")","v":0},{"$f":"IFERROR(Розрахунок!D84,\" - \")","v":" - "},{"$f":"IFERROR(IF(Розрахунок!G84=\"\",\"\",Розрахунок!G84),\" - \")","v":""},{"$f":"IFERROR(Розрахунок!M84/1.2,\" - \")","v":" - "}," - "]
[77,{"$f":"IFERROR(Розрахунок!B85,\" - \")","v":0},{"$f":"IFERROR(Розрахунок!D85,\" - \")","v":" - "},{"$f":"IFERROR(IF(Розрахунок!G85=\"\",\"\",Розрахунок!G85),\" - \")","v":""},{"$f":"IFERROR(Розрахунок!M85/1.2,\" - \")","v":" - "}," - "]
[78,{"$f":"IFERROR(Розрахунок!B86,\" - \")","v":0},{"$f":"IFERROR(Розрахунок!D86,\" - \")","v":" - "},{"$f":"IFERROR(IF(Розрахунок!G86=\"\",\"\",Розрахунок!G86),\" - \")","v":""},{"$f":"IFERROR(Розрахунок!M86/1.2,\" - \")","v":" - "}," - "]
[79,{"$f":"IFERROR(Розрахунок!B87,\" - \")","v":0},{"$f":"IFERROR(Розрахунок!D87,\" - \")","v":" - "},{"$f":"IFERROR(IF(Розрахунок!G87=\"\",\"\",Розрахунок!G87),\" - \")","v":""},{"$f":"IFERROR(Розрахунок!M87/1.2,\" - \")","v":" - "}," - "]
[80,{"$f":"IFERROR(Розрахунок!B88,\" - \")","v":0},{"$f":"IFERROR(Розрахунок!D88,\" - \")","v":" - "},{"$f":"IFERROR(IF(Розрахунок!G88=\"\",\"\",Розрахунок!G88),\" - \")","v":""},{"$f":"IFERROR(Розрахунок!M88/1.2,\" - \")","v":" - "}," - "]
[81,{"$f":"IFERROR(Розрахунок!B89,\" - \")","v":0},{"$f":"IFERROR(Розрахунок!D89,\" - \")","v":" - "},{"$f":"IFERROR(IF(Розрахунок!G89=\"\",\"\",Розрахунок!G89),\" - \")","v":""},{"$f":"IFERROR(Розрахунок!M89/1.2,\" - \")","v":" - "},{"$f":"IFERROR(E90*D90,\" - \")","v":" - "}]
[82,{"$f":"IFERROR(Розрахунок!B90,\" - \")","v":0},{"$f":"IFERROR(Розрахунок!D90,\" - \")","v":" - "},{"$f":"IFERROR(IF(Розрахунок!G90=\"\",\"\",Розрахунок!G90),\" - \")","v":""},{"$f":"IFERROR(Розрахунок!M90/1.2,\" - \")","v":" - "},{"$f":"IFERROR(E91*D91,\" - \")","v":" - "}]
[83,{"$f":"IFERROR(Розрахунок!B91,\" - \")","v":0},{"$f":"IFERROR(Розрахунок!D91,\" - \")","v":" - "},{"$f":"IFERROR(IF(Розрахунок!G91=\"\",\"\",Розрахунок!G91),\" - \")","v":""},{"$f":"IFERROR(Розрахунок!M91/1.2,\" - \")","v":" - "}," - "]
[84,{"$f":"IFERROR(Розрахунок!B92,\" - \")","v":0},{"$f":"IFERROR(Розрахунок!D92,\" - \")","v":" - "},{"$f":"IFERROR(IF(Розрахунок!G92=\"\",\"\",Розрахунок!G92),\" - \")","v":""},{"$f":"IFERROR(Розрахунок!M92/1.2,\" - \")","v":" - "}," - "]
[85,{"$f":"IFERROR(Розрахунок!B93,\" - \")","v":0},{"$f":"IFERROR(Розрахунок!D93,\" - \")","v":" - "},{"$f":"IFERROR(IF(Розрахунок!G93=\"\",\"\",Розрахунок!G93),\" - \")","v":""},{"$f":"IFERROR(Розрахунок!M93/1.2,\" - \")","v":" - "}," - "]
[86,{"$f":"IFERROR(Розрахунок!B94,\" - \")","v":0},{"$f":"IFERROR(Розрахунок!D94,\" - \")","v":" - "},{"$f":"IFERROR(IF(Розрахунок!G94=\"\",\"\",Розрахунок!G94),\" - \")","v":""},{"$f":"IFERROR(Розрахунок!M94/1.2,\" - \")","v":" - "}," - "]
[87,{"$f":"IFERROR(Розрахунок!B95,\" - \")","v":0},{"$f":"IFERROR(Розрахунок!D95,\" - \")","v":" - "},{"$f":"IFERROR(IF(Розрахунок!G95=\"\",\"\",Розрахунок!G95),\" - \")","v":""},{"$f":"IFERROR(Розрахунок!M95/1.2,\" - \")","v":" - "}," - "]
[88,{"$f":"IFERROR(Розрахунок!B96,\" - \")","v":0},{"$f":"IFERROR(Розрахунок!D96,\" - \")","v":" - "},{"$f":"IFERROR(IF(Розрахунок!G96=\"\",\"\",Розрахунок!G96),\" - \")","v":""},{"$f":"IFERROR(Розрахунок!M96/1.2,\" - \")","v":" - "}," - "]
[89,{"$f":"IFERROR(Розрахунок!B97,\" - \")","v":0},{"$f":"IFERROR(Розрахунок!D97,\" - \")","v":" - "},{"$f":"IFERROR(IF(Розрахунок!G97=\"\",\"\",Розрахунок!G97),\" - \")","v":""},{"$f":"IFERROR(Розрахунок!M97/1.2,\" - \")","v":" - "}," - "]
[90,{"$f":"IFERROR(Розрахунок!B98,\" - \")","v":0},{"$f":"IFERROR(Розрахунок!D98,\" - \")","v":" - "},{"$f":"IFERROR(IF(Розрахунок!G98=\"\",\"\",Розрахунок!G98),\" - \")","v":""},{"$f":"IFERROR(Розрахунок!M98/1.2,\" - \")","v":" - "}," - "]
[91,{"$f":"IFERROR(Розрахунок!B99,\" - \")","v":0},{"$f":"IFERROR(Розрахунок!D99,\" - \")","v":" - "},{"$f":"IFERROR(IF(Розрахунок!G99=\"\",\"\",Розрахунок!G99),\" - \")","v":""},{"$f":"IFERROR(Розрахунок!M99/1.2,\" - \")","v":" - "}," - "]
[92,{"$f":"IFERROR(Розрахунок!B100,\" - \")","v":0},{"$f":"IFERROR(Розрахунок!D100,\" - \")","v":" - "},{"$f":"IFERROR(IF(Розрахунок!G100=\"\",\"\",Розрахунок!G100),\" - \")","v":""},{"$f":"IFERROR(Розрахунок!M100/1.2,\" - \")","v":" - "}," - "]
[93,{"$f":"IFERROR(Розрахунок!B101,\" - \")","v":0},{"$f":"IFERROR(Розрахунок!D101,\" - \")","v":" - "},{"$f":"IFERROR(IF(Розрахунок!G101=\"\",\"\",Розрахунок!G101),\" - \")","v":""},{"$f":"IFERROR(Розрахунок!M101/1.2,\" - \")","v":" - "}," - "]
[94,{"$f":"IFERROR(Розрахунок!B102,\" - \")","v":0},{"$f":"IFERROR(Розрахунок!D102,\" - \")","v":" - "},{"$f":"IFERROR(IF(Розрахунок!G102=\"\",\"\",Розрахунок!G102),\" - \")","v":""},{"$f":"IFERROR(Розрахунок!M102/1.2,\" - \")","v":" - "}," - "]
[95,{"$f":"IFERROR(Розрахунок!B103,\" - \")","v":0},{"$f":"IFERROR(Розрахунок!D103,\" - \")","v":" - "},{"$f":"IFERROR(IF(Розрахунок!G103=\"\",\"\",Розрахунок!G103),\" - \")","v":""},{"$f":"IFERROR(Розрахунок!M103/1.2,\" - \")","v":" - "}," - "]
[96,{"$f":"IFERROR(Розрахунок!B104,\" - \")","v":0},{"$f":"IFERROR(Розрахунок!D104,\" - \")","v":" - "},{"$f":"IFERROR(IF(Розрахунок!G104=\"\",\"\",Розрахунок!G104),\" - \")","v":""},{"$f":"IFERROR(Розрахунок!M104/1.2,\" - \")","v":" - "}," - "]
[97,{"$f":"IFERROR(Розрахунок!B105,\" - \")","v":0},{"$f":"IFERROR(Розрахунок!D105,\" - \")","v":" - "},{"$f":"IFERROR(IF(Розрахунок!G105=\"\",\"\",Розрахунок!G105),\" - \")","v":""},{"$f":"IFERROR(Розрахунок!M105/1.2,\" - \")","v":" - "}," - "]
[98,{"$f":"IFERROR(Розрахунок!B106,\" - \")","v":0},{"$f":"IFERROR(Розрахунок!D106,\" - \")","v":" - "},{"$f":"IFERROR(IF(Розрахунок!G106=\"\",\"\",Розрахунок!G106),\" - \")","v":""},{"$f":"IFERROR(Розрахунок!M106/1.2,\" - \")","v":" - "}," - "]
[99,{"$f":"IFERROR(Розрахунок!B107,\" - \")","v":0},{"$f":"IFERROR(Розрахунок!D107,\" - \")","v":" - "},{"$f":"IFERROR(IF(Розрахунок!G107=\"\",\"\",Розрахунок!G107),\" - \")","v":""},{"$f":"IFERROR(Розрахунок!M107/1.2,\" - \")","v":" - "}," - "]
[100,{"$f":"IFERROR(Розрахунок!B108,\" - \")","v":0},{"$f":"IFERROR(Розрахунок!D108,\" - \")","v":" - "},{"$f":"IFERROR(IF(Розрахунок!G108=\"\",\"\",Розрахунок!G108),\" - \")","v":""},{"$f":"IFERROR(Розрахунок!M108/1.2,\" - \")","v":" - "}," - "]
[101,{"$f":"IFERROR(Розрахунок!B109,\" - \")","v":0},{"$f":"IFERROR(Розрахунок!D109,\" - \")","v":" - "},{"$f":"IFERROR(IF(Розрахунок!G109=\"\",\"\",Розрахунок!G109),\" - \")","v":""},{"$f":"IFERROR(Розрахунок!M109/1.2,\" - \")","v":" - "}," - "]
[102,{"$f":"IFERROR(Розрахунок!B110,\" - \")","v":0},{"$f":"IFERROR(Розрахунок!D110,\" - \")","v":" - "},{"$f":"IFERROR(IF(Розрахунок!G110=\"\",\"\",Розрахунок!G110),\" - \")","v":""},{"$f":"IFERROR(Розрахунок!M110/1.2,\" - \")","v":" - "}," - "]
[103,{"$f":"IFERROR(Розрахунок!B111,\" - \")","v":0},{"$f":"IFERROR(Розрахунок!D111,\" - \")","v":" - "},{"$f":"IFERROR(IF(Розрахунок!G111=\"\",\"\",Розрахунок!G111),\" - \")","v":""},{"$f":"IFERROR(Розрахунок!M111/1.2,\" - \")","v":" - "}," - "]
[104,{"$f":"IFERROR(Розрахунок!B112,\" - \")","v":0},{"$f":"IFERROR(Розрахунок!D112,\" - \")","v":" - "},{"$f":"IFERROR(IF(Розрахунок!G112=\"\",\"\",Розрахунок!G112),\" - \")","v":""},{"$f":"IFERROR(Розрахунок!M112/1.2,\" - \")","v":" - "}," - "]
[105,{"$f":"IFERROR(Розрахунок!B113,\" - \")","v":0},{"$f":"IFERROR(Розрахунок!D113,\" - \")","v":" - "},{"$f":"IFERROR(IF(Розрахунок!G113=\"\",\"\",Розрахунок!G113),\" - \")","v":""},{"$f":"IFERROR(Розрахунок!M113/1.2,\" - \")","v":" - "}," - "]
[106,{"$f":"IFERROR(Розрахунок!B114,\" - \")","v":0},{"$f":"IFERROR(Розрахунок!D114,\" - \")","v":" - "},{"$f":"IFERROR(IF(Розрахунок!G114=\"\",\"\",Розрахунок!G114),\" - \")","v":""},{"$f":"IFERROR(Розрахунок!M114/1.2,\" - \")","v":" - "}," - "]
[107,{"$f":"IFERROR(Розрахунок!B115,\" - \")","v":0},{"$f":"IFERROR(Розрахунок!D115,\" - \")","v":" - "},{"$f":"IFERROR(IF(Розрахунок!G115=\"\",\"\",Розрахунок!G115),\" - \")","v":""},{"$f":"IFERROR(Розрахунок!M115/1.2,\" - \")","v":" - "}," - "]
[108,{"$f":"IFERROR(Розрахунок!B116,\" - \")","v":0},{"$f":"IFERROR(Розрахунок!D116,\" - \")","v":" - "},{"$f":"IFERROR(IF(Розрахунок!G116=\"\",\"\",Розрахунок!G116),\" - \")","v":""},{"$f":"IFERROR(Розрахунок!M116/1.2,\" - \")","v":" - "}," - "]
[109,{"$f":"IFERROR(Розрахунок!B117,\" - \")","v":0},{"$f":"IFERROR(Розрахунок!D117,\" - \")","v":" - "},{"$f":"IFERROR(IF(Розрахунок!G117=\"\",\"\",Розрахунок!G117),\" - \")","v":""},{"$f":"IFERROR(Розрахунок!M117/1.2,\" - \")","v":" - "}," - "]
[110,{"$f":"IFERROR(Розрахунок!B118,\" - \")","v":0},{"$f":"IFERROR(Розрахунок!D118,\" - \")","v":" - "},{"$f":"IFERROR(IF(Розрахунок!G118=\"\",\"\",Розрахунок!G118),\" - \")","v":""},{"$f":"IFERROR(Розрахунок!M118/1.2,\" - \")","v":" - "}," - "]
[111,{"$f":"IFERROR(Розрахунок!B119,\" - \")","v":0},{"$f":"IFERROR(Розрахунок!D119,\" - \")","v":" - "},{"$f":"IFERROR(IF(Розрахунок!G119=\"\",\"\",Розрахунок!G119),\" - \")","v":""},{"$f":"IFERROR(Розрахунок!M119/1.2,\" - \")","v":" - "}," - "]
[112,{"$f":"IFERROR(Розрахунок!B120,\" - \")","v":0},{"$f":"IFERROR(Розрахунок!D120,\" - \")","v":" - "},{"$f":"IFERROR(IF(Розрахунок!G120=\"\",\"\",Розрахунок!G120),\" - \")","v":""},{"$f":"IFERROR(Розрахунок!M120/1.2,\" - \")","v":" - "}," - "]
[113,{"$f":"IFERROR(Розрахунок!B121,\" - \")","v":0},{"$f":"IFERROR(Розрахунок!D121,\" - \")","v":" - "},{"$f":"IFERROR(IF(Розрахунок!G121=\"\",\"\",Розрахунок!G121),\" - \")","v":""},{"$f":"IFERROR(Розрахунок!M121/1.2,\" - \")","v":" - "}," - "]
[114,{"$f":"IFERROR(Розрахунок!B122,\" - \")","v":0},{"$f":"IFERROR(Розрахунок!D122,\" - \")","v":" - "},{"$f":"IFERROR(IF(Розрахунок!G122=\"\",\"\",Розрахунок!G122),\" - \")","v":""},{"$f":"IFERROR(Розрахунок!M122/1.2,\" - \")","v":" - "}," - "]
[115,{"$f":"IFERROR(Розрахунок!B123,\" - \")","v":0},{"$f":"IFERROR(Розрахунок!D123,\" - \")","v":" - "},{"$f":"IFERROR(IF(Розрахунок!G123=\"\",\"\",Розрахунок!G123),\" - \")","v":""},{"$f":"IFERROR(Розрахунок!M123/1.2,\" - \")","v":" - "}," - "]
[116,{"$f":"IFERROR(Розрахунок!B124,\" - \")","v":0},{"$f":"IFERROR(Розрахунок!D124,\" - \")","v":" - "},{"$f":"IFERROR(IF(Розрахунок!G124=\"\",\"\",Розрахунок!G124),\" - \")","v":""},{"$f":"IFERROR(Розрахунок!M124/1.2,\" - \")","v":" - "}," - "]
[117,{"$f":"IFERROR(Розрахунок!B125,\" - \")","v":0},{"$f":"IFERROR(Розрахунок!D125,\" - \")","v":" - "},{"$f":"IFERROR(IF(Розрахунок!G125=\"\",\"\",Розрахунок!G125),\" - \")","v":""},{"$f":"IFERROR(Розрахунок!M125/1.2,\" - \")","v":" - "}," - "]
[118,{"$f":"IFERROR(Розрахунок!B126,\" - \")","v":0},{"$f":"IFERROR(Розрахунок!D126,\" - \")","v":" - "},{"$f":"IFERROR(IF(Розрахунок!G126=\"\",\"\",Розрахунок!G126),\" - \")","v":""},{"$f":"IFERROR(Розрахунок!M126/1.2,\" - \")","v":" - "}," - "]
[119,{"$f":"IFERROR(Розрахунок!B127,\" - \")","v":0},{"$f":"IFERROR(Розрахунок!D127,\" - \")","v":" - "},{"$f":"IFERROR(IF(Розрахунок!G127=\"\",\"\",Розрахунок!G127),\" - \")","v":""},{"$f":"IFERROR(Розрахунок!M127/1.2,\" - \")","v":" - "}," - "]
[120,{"$f":"IFERROR(Розрахунок!B128,\" - \")","v":0},{"$f":"IFERROR(Розрахунок!D128,\" - \")","v":" - "},{"$f":"IFERROR(IF(Розрахунок!G128=\"\",\"\",Розрахунок!G128),\" - \")","v":""},{"$f":"IFERROR(Розрахунок!M128/1.2,\" - \")","v":" - "}," - "]
[121,{"$f":"IFERROR(Розрахунок!B89,\" - \")","v":0},{"$f":"IFERROR(Розрахунок!D89,\" - \")","v":" - "},{"$f":"IFERROR(IF(Розрахунок!G89=\"\",\"\",Розрахунок!G89),\" - \")","v":""},{"$f":"IFERROR(Розрахунок!M89/1.2,\" - \")","v":" - "},{"$f":"IFERROR(E130*D130,\" - \")","v":" - "}]
[122,{"$f":"IFERROR(Розрахунок!B90,\" - \")","v":0},{"$f":"IFERROR(Розрахунок!D90,\" - \")","v":" - "},{"$f":"IFERROR(IF(Розрахунок!G90=\"\",\"\",Розрахунок!G90),\" - \")","v":""},{"$f":"IFERROR(Розрахунок!M90/1.2,\" - \")","v":" - "},{"$f":"IFERROR(E131*D131,\" - \")","v":" - "}]
[123,{"$f":"IFERROR(Розрахунок!B91,\" - \")","v":0},{"$f":"IFERROR(Розрахунок!D91,\" - \")","v":" - "},{"$f":"IFERROR(IF(Розрахунок!G91=\"\",\"\",Розрахунок!G91),\" - \")","v":""},{"$f":"IFERROR(Розрахунок!M91/1.2,\" - \")","v":" - "}," - "]
[124,{"$f":"IFERROR(Розрахунок!B92,\" - \")","v":0},{"$f":"IFERROR(Розрахунок!D92,\" - \")","v":" - "},{"$f":"IFERROR(IF(Розрахунок!G92=\"\",\"\",Розрахунок!G92),\" - \")","v":""},{"$f":"IFERROR(Розрахунок!M92/1.2,\" - \")","v":" - "}," - "]
[125,{"$f":"IFERROR(Розрахунок!B93,\" - \")","v":0},{"$f":"IFERROR(Розрахунок!D93,\" - \")","v":" - "},{"$f":"IFERROR(IF(Розрахунок!G93=\"\",\"\",Розрахунок!G93),\" - \")","v":""},{"$f":"IFERROR(Розрахунок!M93/1.2,\" - \")","v":" - "}," - "]
[126,{"$f":"IFERROR(Розрахунок!B94,\" - \")","v":0},{"$f":"IFERROR(Розрахунок!D94,\" - \")","v":" - "},{"$f":"IFERROR(IF(Розрахунок!G94=\"\",\"\",Розрахунок!G94),\" - \")","v":""},{"$f":"IFERROR(Розрахунок!M94/1.2,\" - \")","v":" - "}," - "]
[127,{"$f":"IFERROR(Розрахунок!B95,\" - \")","v":0},{"$f":"IFERROR(Розрахунок!D95,\" - \")","v":" - "},{"$f":"IFERROR(IF(Розрахунок!G95=\"\",\"\",Розрахунок!G95),\" - \")","v":""},{"$f":"IFERROR(Розрахунок!M95/1.2,\" - \")","v":" - "}," - "]
[128,{"$f":"IFERROR(Розрахунок!B96,\" - \")","v":0},{"$f":"IFERROR(Розрахунок!D96,\" - \")","v":" - "},{"$f":"IFERROR(IF(Розрахунок!G96=\"\",\"\",Розрахунок!G96),\" - \")","v":""},{"$f":"IFERROR(Розрахунок!M96/1.2,\" - \")","v":" - "}," - "]
[129,{"$f":"IFERROR(Розрахунок!B97,\" - \")","v":0},{"$f":"IFERROR(Розрахунок!D97,\" - \")","v":" - "},{"$f":"IFERROR(IF(Розрахунок!G97=\"\",\"\",Розрахунок!G97),\" - \")","v":""},{"$f":"IFERROR(Розрахунок!M97/1.2,\" - \")","v":" - "}," - "]
[130,{"$f":"IFERROR(Розрахунок!B98,\" - \")","v":0},{"$f":"IFERROR(Розрахунок!D98,\" - \")","v":" - "},{"$f":"IFERROR(IF(Розрахунок!G98=\"\",\"\",Розрахунок!G98),\" - \")","v":""},{"$f":"IFERROR(Розрахунок!M98/1.2,\" - \")","v":" - "}," - "]
[131,{"$f":"IFERROR(Розрахунок!B99,\" - \")","v":0},{"$f":"IFERROR(Розрахунок!D99,\" - \")","v":" - "},{"$f":"IFERROR(IF(Розрахунок!G99=\"\",\"\",Розрахунок!G99),\" - \")","v":""},{"$f":"IFERROR(Розрахунок!M99/1.2,\" - \")","v":" - "}," - "]
[132,{"$f":"IFERROR(Розрахунок!B100,\" - \")","v":0},{"$f":"IFERROR(Розрахунок!D100,\" - \")","v":" - "},{"$f":"IFERROR(IF(Розрахунок!G100=\"\",\"\",Розрахунок!G100),\" - \")","v":""},{"$f":"IFERROR(Розрахунок!M100/1.2,\" - \")","v":" - "}," - "]
[133,{"$f":"IFERROR(Розрахунок!B101,\" - \")","v":0},{"$f":"IFERROR(Розрахунок!D101,\" - \")","v":" - "},{"$f":"IFERROR(IF(Розрахунок!G101=\"\",\"\",Розрахунок!G101),\" - \")","v":""},{"$f":"IFERROR(Розрахунок!M101/1.2,\" - \")","v":" - "}," - "]
[134,{"$f":"IFERROR(Розрахунок!B102,\" - \")","v":0},{"$f":"IFERROR(Розрахунок!D102,\" - \")","v":" - "},{"$f":"IFERROR(IF(Розрахунок!G102=\"\",\"\",Розрахунок!G102),\" - \")","v":""},{"$f":"IFERROR(Розрахунок!M102/1.2,\" - \")","v":" - "}," - "]
[135,{"$f":"IFERROR(Розрахунок!B103,\" - \")","v":0},{"$f":"IFERROR(Розрахунок!D103,\" - \")","v":" - "},{"$f":"IFERROR(IF(Розрахунок!G103=\"\",\"\",Розрахунок!G103),\" - \")","v":""},{"$f":"IFERROR(Розрахунок!M103/1.2,\" - \")","v":" - "}," - "]
[136,{"$f":"IFERROR(Розрахунок!B104,\" - \")","v":0},{"$f":"IFERROR(Розрахунок!D104,\" - \")","v":" - "},{"$f":"IFERROR(IF(Розрахунок!G104=\"\",\"\",Розрахунок!G104),\" - \")","v":""},{"$f":"IFERROR(Розрахунок!M104/1.2,\" - \")","v":" - "}," - "]
[137,{"$f":"IFERROR(Розрахунок!B105,\" - \")","v":0},{"$f":"IFERROR(Розрахунок!D105,\" - \")","v":" - "},{"$f":"IFERROR(IF(Розрахунок!G105=\"\",\"\",Розрахунок!G105),\" - \")","v":""},{"$f":"IFERROR(Розрахунок!M105/1.2,\" - \")","v":" - "}," - "]
[138,{"$f":"IFERROR(Розрахунок!B106,\" - \")","v":0},{"$f":"IFERROR(Розрахунок!D106,\" - \")","v":" - "},{"$f":"IFERROR(IF(Розрахунок!G106=\"\",\"\",Розрахунок!G106),\" - \")","v":""},{"$f":"IFERROR(Розрахунок!M106/1.2,\" - \")","v":" - "}," - "]
[139,{"$f":"IFERROR(Розрахунок!B107,\" - \")","v":0},{"$f":"IFERROR(Розрахунок!D107,\" - \")","v":" - "},{"$f":"IFERROR(IF(Розрахунок!G107=\"\",\"\",Розрахунок!G107),\" - \")","v":""},{"$f":"IFERROR(Розрахунок!M107/1.2,\" - \")","v":" - "}," - "]
[140,{"$f":"IFERROR(Розрахунок!B108,\" - \")","v":0},{"$f":"IFERROR(Розрахунок!D108,\" - \")","v":" - "},{"$f":"IFERROR(IF(Розрахунок!G108=\"\",\"\",Розрахунок!G108),\" - \")","v":""},{"$f":"IFERROR(Розрахунок!M108/1.2,\" - \")","v":" - "}," - "]
[141,{"$f":"IFERROR(Розрахунок!B109,\" - \")","v":0},{"$f":"IFERROR(Розрахунок!D109,\" - \")","v":" - "},{"$f":"IFERROR(IF(Розрахунок!G109=\"\",\"\",Розрахунок!G109),\" - \")","v":""},{"$f":"IFERROR(Розрахунок!M109/1.2,\" - \")","v":" - "}," - "]
[142,{"$f":"IFERROR(Розрахунок!B110,\" - \")","v":0},{"$f":"IFERROR(Розрахунок!D110,\" - \")","v":" - "},{"$f":"IFERROR(IF(Розрахунок!G110=\"\",\"\",Розрахунок!G110),\" - \")","v":""},{"$f":"IFERROR(Розрахунок!M110/1.2,\" - \")","v":" - "}," - "]
[143,{"$f":"IFERROR(Розрахунок!B111,\" - \")","v":0},{"$f":"IFERROR(Розрахунок!D111,\" - \")","v":" - "},{"$f":"IFERROR(IF(Розрахунок!G111=\"\",\"\",Розрахунок!G111),\" - \")","v":""},{"$f":"IFERROR(Розрахунок!M111/1.2,\" - \")","v":" - "}," - "]
[144,{"$f":"IFERROR(Розрахунок!B112,\" - \")","v":0},{"$f":"IFERROR(Розрахунок!D112,\" - \")","v":" - "},{"$f":"IFERROR(IF(Розрахунок!G112=\"\",\"\",Розрахунок!G112),\" - \")","v":""},{"$f":"IFERROR(Розрахунок!M112/1.2,\" - \")","v":" - "}," - "]
[145,{"$f":"IFERROR(Розрахунок!B113,\" - \")","v":0},{"$f":"IFERROR(Розрахунок!D113,\" - \")","v":" - "},{"$f":"IFERROR(IF(Розрахунок!G113=\"\",\"\",Розрахунок!G113),\" - \")","v":""},{"$f":"IFERROR(Розрахунок!M113/1.2,\" - \")","v":" - "}," - "]
[146,{"$f":"IFERROR(Розрахунок!B114,\" - \")","v":0},{"$f":"IFERROR(Розрахунок!D114,\" - \")","v":" - "},{"$f":"IFERROR(IF(Розрахунок!G114=\"\",\"\",Розрахунок!G114),\" - \")","v":""},{"$f":"IFERROR(Розрахунок!M114/1.2,\" - \")","v":" - "}," - "]
[147,{"$f":"IFERROR(Розрахунок!B115,\" - \")","v":0},{"$f":"IFERROR(Розрахунок!D115,\" - \")","v":" - "},{"$f":"IFERROR(IF(Розрахунок!G115=\"\",\"\",Розрахунок!G115),\" - \")","v":""},{"$f":"IFERROR(Розрахунок!M115/1.2,\" - \")","v":" - "}," - "]
[148,{"$f":"IFERROR(Розрахунок!B116,\" - \")","v":0},{"$f":"IFERROR(Розрахунок!D116,\" - \")","v":" - "},{"$f":"IFERROR(IF(Розрахунок!G116=\"\",\"\",Розрахунок!G116),\" - \")","v":""},{"$f":"IFERROR(Розрахунок!M116/1.2,\" - \")","v":" - "}," - "]
[149,{"$f":"IFERROR(Розрахунок!B117,\" - \")","v":0},{"$f":"IFERROR(Розрахунок!D117,\" - \")","v":" - "},{"$f":"IFERROR(IF(Розрахунок!G117=\"\",\"\",Розрахунок!G117),\" - \")","v":""},{"$f":"IFERROR(Розрахунок!M117/1.2,\" - \")","v":" - "}," - "]
[150,{"$f":"IFERROR(Розрахунок!B118,\" - \")","v":0},{"$f":"IFERROR(Розрахунок!D118,\" - \")","v":" - "},{"$f":"IFERROR(IF(Розрахунок!G118=\"\",\"\",Розрахунок!G118),\" - \")","v":""},{"$f":"IFERROR(Розрахунок!M118/1.2,\" - \")","v":" - "}," - "]
[151,{"$f":"IFERROR(Розрахунок!B119,\" - \")","v":0},{"$f":"IFERROR(Розрахунок!D119,\" - \")","v":" - "},{"$f":"IFERROR(IF(Розрахунок!G119=\"\",\"\",Розрахунок!G119),\" - \")","v":""},{"$f":"IFERROR(Розрахунок!M119/1.2,\" - \")","v":" - "}," - "]
[152,{"$f":"IFERROR(Розрахунок!B120,\" - \")","v":0},{"$f":"IFERROR(Розрахунок!D120,\" - \")","v":" - "},{"$f":"IFERROR(IF(Розрахунок!G120=\"\",\"\",Розрахунок!G120),\" - \")","v":""},{"$f":"IFERROR(Розрахунок!M120/1.2,\" - \")","v":" - "}," - "]
[153,{"$f":"IFERROR(Розрахунок!B121,\" - \")","v":0},{"$f":"IFERROR(Розрахунок!D121,\" - \")","v":" - "},{"$f":"IFERROR(IF(Розрахунок!G121=\"\",\"\",Розрахунок!G121),\" - \")","v":""},{"$f":"IFERROR(Розрахунок!M121/1.2,\" - \")","v":" - "}," - "]
[154,{"$f":"IFERROR(Розрахунок!B122,\" - \")","v":0},{"$f":"IFERROR(Розрахунок!D122,\" - \")","v":" - "},{"$f":"IFERROR(IF(Розрахунок!G122=\"\",\"\",Розрахунок!G122),\" - \")","v":""},{"$f":"IFERROR(Розрахунок!M122/1.2,\" - \")","v":" - "}," - "]
[155,{"$f":"IFERROR(Розрахунок!B123,\" - \")","v":0},{"$f":"IFERROR(Розрахунок!D123,\" - \")","v":" - "},{"$f":"IFERROR(IF(Розрахунок!G123=\"\",\"\",Розрахунок!G123),\" - \")","v":""},{"$f":"IFERROR(Розрахунок!M123/1.2,\" - \")","v":" - "}," - "]
[156,{"$f":"IFERROR(Розрахунок!B124,\" - \")","v":0},{"$f":"IFERROR(Розрахунок!D124,\" - \")","v":" - "},{"$f":"IFERROR(IF(Розрахунок!G124=\"\",\"\",Розрахунок!G124),\" - \")","v":""},{"$f":"IFERROR(Розрахунок!M124/1.2,\" - \")","v":" - "}," - "]
[157,{"$f":"IFERROR(Розрахунок!B125,\" - \")","v":0},{"$f":"IFERROR(Розрахунок!D125,\" - \")","v":" - "},{"$f":"IFERROR(IF(Розрахунок!G125=\"\",\"\",Розрахунок!G125),\" - \")","v":""},{"$f":"IFERROR(Розрахунок!M125/1.2,\" - \")","v":" - "}," - "]
[158,{"$f":"IFERROR(Розрахунок!B126,\" - \")","v":0},{"$f":"IFERROR(Розрахунок!D126,\" - \")","v":" - "},{"$f":"IFERROR(IF(Розрахунок!G126=\"\",\"\",Розрахунок!G126),\" - \")","v":""},{"$f":"IFERROR(Розрахунок!M126/1.2,\" - \")","v":" - "}," - "]
[159,{"$f":"IFERROR(Розрахунок!B127,\" - \")","v":0},{"$f":"IFERROR(Розрахунок!D127,\" - \")","v":" - "},{"$f":"IFERROR(IF(Розрахунок!G127=\"\",\"\",Розрахунок!G127),\" - \")","v":""},{"$f":"IFERROR(Розрахунок!M127/1.2,\" - \")","v":" - "}," - "]
[160,{"$f":"IFERROR(Розрахунок!B128,\" - \")","v":0},{"$f":"IFERROR(Розрахунок!D128,\" - \")","v":" - "},{"$f":"IFERROR(IF(Розрахунок!G128=\"\",\"\",Розрахунок!G128),\" - \")","v":""},{"$f":"IFERROR(Розрахунок!M128/1.2,\" - \")","v":" - "}," - "]
[161,{"$f":"IFERROR(Розрахунок!B129,\" - \")","v":0},{"$f":"IFERROR(Розрахунок!D129,\" - \")","v":" - "},{"$f":"IFERROR(IF(Розрахунок!G129=\"\",\"\",Розрахунок!G129),\" - \")","v":""},{"$f":"IFERROR(Розрахунок!M129/1.2,\" - \")","v":" - "},{"$f":"IFERROR(E170*D170,\" - \")","v":" - "}]
[162,{"$f":"IFERROR(Розрахунок!B130,\" - \")","v":0},{"$f":"IFERROR(Розрахунок!D130,\" - \")","v":" - "},{"$f":"IFERROR(IF(Розрахунок!G130=\"\",\"\",Розрахунок!G130),\" - \")","v":""},{"$f":"IFERROR(Розрахунок!M130/1.2,\" - \")","v":" - "},{"$f":"IFERROR(E171*D171,\" - \")","v":" - "}]
[163,{"$f":"IFERROR(Розрахунок!B131,\" - \")","v":0},{"$f":"IFERROR(Розрахунок!D131,\" - \")","v":" - "},{"$f":"IFERROR(IF(Розрахунок!G131=\"\",\"\",Розрахунок!G131),\" - \")","v":""},{"$f":"IFERROR(Розрахунок!M131/1.2,\" - \")","v":" - "}," - "]
[164,{"$f":"IFERROR(Розрахунок!B132,\" - \")","v":0},{"$f":"IFERROR(Розрахунок!D132,\" - \")","v":" - "},{"$f":"IFERROR(IF(Розрахунок!G132=\"\",\"\",Розрахунок!G132),\" - \")","v":""},{"$f":"IFERROR(Розрахунок!M132/1.2,\" - \")","v":" - "}," - "]
[165,{"$f":"IFERROR(Розрахунок!B133,\" - \")","v":0},{"$f":"IFERROR(Розрахунок!D133,\" - \")","v":" - "},{"$f":"IFERROR(IF(Розрахунок!G133=\"\",\"\",Розрахунок!G133),\" - \")","v":""},{"$f":"IFERROR(Розрахунок!M133/1.2,\" - \")","v":" - "}," - "]
[166,{"$f":"IFERROR(Розрахунок!B134,\" - \")","v":0},{"$f":"IFERROR(Розрахунок!D134,\" - \")","v":" - "},{"$f":"IFERROR(IF(Розрахунок!G134=\"\",\"\",Розрахунок!G134),\" - \")","v":""},{"$f":"IFERROR(Розрахунок!M134/1.2,\" - \")","v":" - "}," - "]
[167,{"$f":"IFERROR(Розрахунок!B135,\" - \")","v":0},{"$f":"IFERROR(Розрахунок!D135,\" - \")","v":" - "},{"$f":"IFERROR(IF(Розрахунок!G135=\"\",\"\",Розрахунок!G135),\" - \")","v":""},{"$f":"IFERROR(Розрахунок!M135/1.2,\" - \")","v":" - "}," - "]
[168,{"$f":"IFERROR(Розрахунок!B136,\" - \")","v":0},{"$f":"IFERROR(Розрахунок!D136,\" - \")","v":" - "},{"$f":"IFERROR(IF(Розрахунок!G136=\"\",\"\",Розрахунок!G136),\" - \")","v":""},{"$f":"IFERROR(Розрахунок!M136/1.2,\" - \")","v":" - "}," - "]
[169,{"$f":"IFERROR(Розрахунок!B137,\" - \")","v":0},{"$f":"IFERROR(Розрахунок!D137,\" - \")","v":" - "},{"$f":"IFERROR(IF(Розрахунок!G137=\"\",\"\",Розрахунок!G137),\" - \")","v":""},{"$f":"IFERROR(Розрахунок!M137/1.2,\" - \")","v":" - "}," - "]
[170,{"$f":"IFERROR(Розрахунок!B138,\" - \")","v":0},{"$f":"IFERROR(Розрахунок!D138,\" - \")","v":" - "},{"$f":"IFERROR(IF(Розрахунок!G138=\"\",\"\",Розрахунок!G138),\" - \")","v":""},{"$f":"IFERROR(Розрахунок!M138/1.2,\" - \")","v":" - "}," - "]
[171,{"$f":"IFERROR(Розрахунок!B139,\" - \")","v":0},{"$f":"IFERROR(Розрахунок!D139,\" - \")","v":" - "},{"$f":"IFERROR(IF(Розрахунок!G139=\"\",\"\",Розрахунок!G139),\" - \")","v":""},{"$f":"IFERROR(Розрахунок!M139/1.2,\" - \")","v":" - "}," - "]
[172,{"$f":"IFERROR(Розрахунок!B140,\" - \")","v":0},{"$f":"IFERROR(Розрахунок!D140,\" - \")","v":" - "},{"$f":"IFERROR(IF(Розрахунок!G140=\"\",\"\",Розрахунок!G140),\" - \")","v":""},{"$f":"IFERROR(Розрахунок!M140/1.2,\" - \")","v":" - "}," - "]
[173,{"$f":"IFERROR(Розрахунок!B141,\" - \")","v":0},{"$f":"IFERROR(Розрахунок!D141,\" - \")","v":" - "},{"$f":"IFERROR(IF(Розрахунок!G141=\"\",\"\",Розрахунок!G141),\" - \")","v":""},{"$f":"IFERROR(Розрахунок!M141/1.2,\" - \")","v":" - "}," - "]
[174,{"$f":"IFERROR(Розрахунок!B142,\" - \")","v":0},{"$f":"IFERROR(Розрахунок!D142,\" - \")","v":" - "},{"$f":"IFERROR(IF(Розрахунок!G142=\"\",\"\",Розрахунок!G142),\" - \")","v":""},{"$f":"IFERROR(Розрахунок!M142/1.2,\" - \")","v":" - "}," - "]
[175,{"$f":"IFERROR(Розрахунок!B143,\" - \")","v":0},{"$f":"IFERROR(Розрахунок!D143,\" - \")","v":" - "},{"$f":"IFERROR(IF(Розрахунок!G143=\"\",\"\",Розрахунок!G143),\" - \")","v":""},{"$f":"IFERROR(Розрахунок!M143/1.2,\" - \")","v":" - "}," - "]
[176,{"$f":"IFERROR(Розрахунок!B144,\" - \")","v":0},{"$f":"IFERROR(Розрахунок!D144,\" - \")","v":" - "},{"$f":"IFERROR(IF(Розрахунок!G144=\"\",\"\",Розрахунок!G144),\" - \")","v":""},{"$f":"IFERROR(Розрахунок!M144/1.2,\" - \")","v":" - "}," - "]
[177,{"$f":"IFERROR(Розрахунок!B145,\" - \")","v":0},{"$f":"IFERROR(Розрахунок!D145,\" - \")","v":" - "},{"$f":"IFERROR(IF(Розрахунок!G145=\"\",\"\",Розрахунок!G145),\" - \")","v":""},{"$f":"IFERROR(Розрахунок!M145/1.2,\" - \")","v":" - "}," - "]
[178,{"$f":"IFERROR(Розрахунок!B146,\" - \")","v":0},{"$f":"IFERROR(Розрахунок!D146,\" - \")","v":" - "},{"$f":"IFERROR(IF(Розрахунок!G146=\"\",\"\",Розрахунок!G146),\" - \")","v":""},{"$f":"IFERROR(Розрахунок!M146/1.2,\" - \")","v":" - "}," - "]
[179,{"$f":"IFERROR(Розрахунок!B147,\" - \")","v":0},{"$f":"IFERROR(Розрахунок!D147,\" - \")","v":" - "},{"$f":"IFERROR(IF(Розрахунок!G147=\"\",\"\",Розрахунок!G147),\" - \")","v":""},{"$f":"IFERROR(Розрахунок!M147/1.2,\" - \")","v":" - "}," - "]
[180,{"$f":"IFERROR(Розрахунок!B148,\" - \")","v":0},{"$f":"IFERROR(Розрахунок!D148,\" - \")","v":" - "},{"$f":"IFERROR(IF(Розрахунок!G148=\"\",\"\",Розрахунок!G148),\" - \")","v":""},{"$f":"IFERROR(Розрахунок!M148/1.2,\" - \")","v":" - "}," - "]
[181,{"$f":"IFERROR(Розрахунок!B149,\" - \")","v":0},{"$f":"IFERROR(Розрахунок!D149,\" - \")","v":" - "},{"$f":"IFERROR(IF(Розрахунок!G149=\"\",\"\",Розрахунок!G149),\" - \")","v":""},{"$f":"IFERROR(Розрахунок!M149/1.2,\" - \")","v":" - "}," - "]
[182,{"$f":"IFERROR(Розрахунок!B150,\" - \")","v":0},{"$f":"IFERROR(Розрахунок!D150,\" - \")","v":" - "},{"$f":"IFERROR(IF(Розрахунок!G150=\"\",\"\",Розрахунок!G150),\" - \")","v":""},{"$f":"IFERROR(Розрахунок!M150/1.2,\" - \")","v":" - "}," - "]
[183,{"$f":"IFERROR(Розрахунок!B151,\" - \")","v":0},{"$f":"IFERROR(Розрахунок!D151,\" - \")","v":" - "},{"$f":"IFERROR(IF(Розрахунок!G151=\"\",\"\",Розрахунок!G151),\" - \")","v":""},{"$f":"IFERROR(Розрахунок!M151/1.2,\" - \")","v":" - "}," - "]
[184,{"$f":"IFERROR(Розрахунок!B152,\" - \")","v":0},{"$f":"IFERROR(Розрахунок!D152,\" - \")","v":" - "},{"$f":"IFERROR(IF(Розрахунок!G152=\"\",\"\",Розрахунок!G152),\" - \")","v":""},{"$f":"IFERROR(Розрахунок!M152/1.2,\" - \")","v":" - "}," - "]
[185,{"$f":"IFERROR(Розрахунок!B153,\" - \")","v":0},{"$f":"IFERROR(Розрахунок!D153,\" - \")","v":" - "},{"$f":"IFERROR(IF(Розрахунок!G153=\"\",\"\",Розрахунок!G153),\" - \")","v":""},{"$f":"IFERROR(Розрахунок!M153/1.2,\" - \")","v":" - "}," - "]
[186,{"$f":"IFERROR(Розрахунок!B154,\" - \")","v":0},{"$f":"IFERROR(Розрахунок!D154,\" - \")","v":" - "},{"$f":"IFERROR(IF(Розрахунок!G154=\"\",\"\",Розрахунок!G154),\" - \")","v":""},{"$f":"IFERROR(Розрахунок!M154/1.2,\" - \")","v":" - "}," - "]
[187,{"$f":"IFERROR(Розрахунок!B155,\" - \")","v":0},{"$f":"IFERROR(Розрахунок!D155,\" - \")","v":" - "},{"$f":"IFERROR(IF(Розрахунок!G155=\"\",\"\",Розрахунок!G155),\" - \")","v":""},{"$f":"IFERROR(Розрахунок!M155/1.2,\" - \")","v":" - "}," - "]
[188,{"$f":"IFERROR(Розрахунок!B156,\" - \")","v":0},{"$f":"IFERROR(Розрахунок!D156,\" - \")","v":" - "},{"$f":"IFERROR(IF(Розрахунок!G156=\"\",\"\",Розрахунок!G156),\" - \")","v":""},{"$f":"IFERROR(Розрахунок!M156/1.2,\" - \")","v":" - "}," - "]
[189,{"$f":"IFERROR(Розрахунок!B157,\" - \")","v":0},{"$f":"IFERROR(Розрахунок!D157,\" - \")","v":" - "},{"$f":"IFERROR(IF(Розрахунок!G157=\"\",\"\",Розрахунок!G157),\" - \")","v":""},{"$f":"IFERROR(Розрахунок!M157/1.2,\" - \")","v":" - "}," - "]
[190,{"$f":"IFERROR(Розрахунок!B158,\" - \")","v":0},{"$f":"IFERROR(Розрахунок!D158,\" - \")","v":" - "},{"$f":"IFERROR(IF(Розрахунок!G158=\"\",\"\",Розрахунок!G158),\" - \")","v":""},{"$f":"IFERROR(Розрахунок!M158/1.2,\" - \")","v":" - "}," - "]
[191,{"$f":"IFERROR(Розрахунок!B159,\" - \")","v":0},{"$f":"IFERROR(Розрахунок!D159,\" - \")","v":" - "},{"$f":"IFERROR(IF(Розрахунок!G159=\"\",\"\",Розрахунок!G159),\" - \")","v":""},{"$f":"IFERROR(Розрахунок!M159/1.2,\" - \")","v":" - "}," - "]
[192,{"$f":"IFERROR(Розрахунок!B160,\" - \")","v":0},{"$f":"IFERROR(Розрахунок!D160,\" - \")","v":" - "},{"$f":"IFERROR(IF(Розрахунок!G160=\"\",\"\",Розрахунок!G160),\" - \")","v":""},{"$f":"IFERROR(Розрахунок!M160/1.2,\" - \")","v":" - "}," - "]
[193,{"$f":"IFERROR(Розрахунок!B161,\" - \")","v":0},{"$f":"IFERROR(Розрахунок!D161,\" - \")","v":" - "},{"$f":"IFERROR(IF(Розрахунок!G161=\"\",\"\",Розрахунок!G161),\" - \")","v":""},{"$f":"IFERROR(Розрахунок!M161/1.2,\" - \")","v":" - "}," - "]
[194,{"$f":"IFERROR(Розрахунок!B162,\" - \")","v":0},{"$f":"IFERROR(Розрахунок!D162,\" - \")","v":" - "},{"$f":"IFERROR(IF(Розрахунок!G162=\"\",\"\",Розрахунок!G162),\" - \")","v":""},{"$f":"IFERROR(Розрахунок!M162/1.2,\" - \")","v":" - "}," - "]
[195,{"$f":"IFERROR(Розрахунок!B163,\" - \")","v":0},{"$f":"IFERROR(Розрахунок!D163,\" - \")","v":" - "},{"$f":"IFERROR(IF(Розрахунок!G163=\"\",\"\",Розрахунок!G163),\" - \")","v":""},{"$f":"IFERROR(Розрахунок!M163/1.2,\" - \")","v":" - "}," - "]
[196,{"$f":"IFERROR(Розрахунок!B164,\" - \")","v":0},{"$f":"IFERROR(Розрахунок!D164,\" - \")","v":" - "},{"$f":"IFERROR(IF(Розрахунок!G164=\"\",\"\",Розрахунок!G164),\" - \")","v":""},{"$f":"IFERROR(Розрахунок!M164/1.2,\" - \")","v":" - "}," - "]
[197,{"$f":"IFERROR(Розрахунок!B165,\" - \")","v":0},{"$f":"IFERROR(Розрахунок!D165,\" - \")","v":" - "},{"$f":"IFERROR(IF(Розрахунок!G165=\"\",\"\",Розрахунок!G165),\" - \")","v":""},{"$f":"IFERROR(Розрахунок!M165/1.2,\" - \")","v":" - "}," - "]
[198,{"$f":"IFERROR(Розрахунок!B166,\" - \")","v":0},{"$f":"IFERROR(Розрахунок!D166,\" - \")","v":" - "},{"$f":"IFERROR(IF(Розрахунок!G166=\"\",\"\",Розрахунок!G166),\" - \")","v":""},{"$f":"IFERROR(Розрахунок!M166/1.2,\" - \")","v":" - "}," - "]
[199,{"$f":"IFERROR(Розрахунок!B167,\" - \")","v":0},{"$f":"IFERROR(Розрахунок!D167,\" - \")","v":" - "},{"$f":"IFERROR(IF(Розрахунок!G167=\"\",\"\",Розрахунок!G167),\" - \")","v":""},{"$f":"IFERROR(Розрахунок!M167/1.2,\" - \")","v":" - "}," - "]
[200,{"$f":"IFERROR(Розрахунок!B168,\" - \")","v":0},{"$f":"IFERROR(Розрахунок!D168,\" - \")","v":" - "},{"$f":"IFERROR(IF(Розрахунок!G168=\"\",\"\",Розрахунок!G168),\" - \")","v":""},{"$f":"IFERROR(Розрахунок!M168/1.2,\" - \")","v":" - "}," - "]
["Сума без ПДВ:",null,null,null,null,{"$f":"SUM(F10:F209)","v":0}]
["ПДВ:",null,null,null,null,{"$f":"ROUND(F210*0.2,2)","v":0}]
["Всього з ПДВ:",null,null,null,null,{"$f":"F210+F211","v":0}]
[]
["Умови платежу:"]
["\nВідповідно до рамкового контракту, якщо дія цього контракту поширюється на продукцію з цієї пропозиції або"]
["– 50% — протягом 5 (п'яти) банківских днів після підписання контракту;\n– 50% — протягом 5 (п'яти) банківских днів після повідомлення про готовність обладнання до відвантаження з завода-виробника."]
["– Платежі здійснюються в гривнях за офіцийним курсом НБУ євро/грн на дату, що передує даті оплати."]
[]
["Умови поставки/надання:"]
["EXW склад Бровари, відповідно до INCOTERMS 2010"]
[]
["Термін поставки:"]
["__ тижнів після отримання першої оплати "]
[]
["Гарантия:"]
["__  місяців після введення в експлуатацію, але не більше ніж __ місяців після відвантаження."]
[]
["Пропозиція діє до:"]
[null,null,{"$f":"C6+30","v":"2019-07-24"}]
[]
["Інші суттєві умови:"]
[]
[]
[]
[]
[]
["Контактна особа:",null,null,"моб.: ","+380 67 465 XX XX"]
[null,null,null,"офіс: ","+380 44 495 22 11"]

{"sheet":"Заявка","index":4,"n_rows":219,"n_cols":9,"rows_kept":219,"cut":false,"hidden":false,"merged":[[213,0,213,7],[214,0,214,7],[215,0,215,7],[0,0,0,8],[1,0,1,8],[2,0,2,8],[6,0,6,8],[11,0,11,8]]}
["Заявка"]
["на поставку обладнання АББ"]
[]
[]
["Замовник: ",null,"___________________________"]
[]
[]
["Дата:",null,{"$f":"TODAY()","v":"2019-06-24"},null,null,null,null,null,"м. __________"]
[]
["Згідно з комерційною пропозицією № ______ від «__» _________ 2019 р."]
[]
["Обсяг поставки:"]
["Поз.","Код замовлення","Назва","Товарна группа","MPG","К-ть","Кратність замовлення","Ціна за од.,  без ПДВ","Ціна всього,  без ПДВ"]
[1,{"$f":"IFERROR(IF(Розрахунок!B9=\"\",\"\",Розрахунок!B9),\" - \")","v":""},{"$f":"IFERROR(Розрахунок!D9,\" - \")","v":" - "},{"$f":"IFERROR(Розрахунок!E9,\" - \")","v":" - "},{"$f":"IFERROR(IF(Розрахунок!F9=\"\",\"\",Розрахунок!F9),\" - \")","v":" - "},{"$f":"IFERROR(IF(Розрахунок!G9=\"\",\"\",Розрахунок!G9),\" - \")","v":""},{"$f":"IFERROR(IF(Розрахунок!H9=\"\",\"\",Розрахунок!H9),\" - \")","v":" - "},{"$f":"IFERROR(Розрахунок!J9/1.2,\" - \")","v":" - "},{"$f":"IFERROR(H14*F14,\" - \")","v":" - "}]
[2,{"$f":"IFERROR(IF(Розрахунок!B10=\"\",\"\",Розрахунок!B10),\" - \")","v":""},{"$f":"IFERROR(Розрахунок!D10,\" - \")","v":" - "},{"$f":"IFERROR(Розрахунок!E10,\" - \")","v":" - "},{"$f":"IFERROR(IF(Розрахунок!F10=\"\",\"\",Розрахунок!F10),\" - \")","v":" - "},{"$f":"IFERROR(IF(Розрахунок!G10=\"\",\"\",Розрахунок!G10),\" - \")","v":""},{"$f":"IFERROR(IF(Розрахунок!H10=\"\",\"\",Розрахунок!H10),\" - \")","v":" - "},{"$f":"IFERROR(Розрахунок!J10/1.2,\" - \")","v":" - "},{"$f":"IFERROR(H15*F15,\" - \")","v":" - "}]
[3,{"$f":"IFERROR(IF(Розрахунок!B11=\"\",\"\",Розрахунок!B11),\" - \")","v":""},{"$f":"IFERROR(Розрахунок!D11,\" - \")","v":" - "},{"$f":"IFERROR(Розрахунок!E11,\" - \")","v":" - "},{"$f":"IFERROR(IF(Розрахунок!F11=\"\",\"\",Розрахунок!F11),\" - \")","v":" - "},{"$f":"IFERROR(IF(Розрахунок!G11=\"\",\"\",Розрахунок!G11),\" - \")","v":""},{"$f":"IFERROR(IF(Розрахунок!H11=\"\",\"\",Розрахунок!H11),\" - \")","v":" - "},{"$f":"IFERROR(Розрахунок!J11/1.2,\" - \")","v":" - "}," - "]
[4,{"$f":"IFERROR(IF(Розрахунок!B12=\"\",\"\",Розрахунок!B12),\" - \")","v":""},{"$f":"IFERROR(Розрахунок!D12,\" - \")","v":" - "},{"$f":"IFERROR(Розрахунок!E12,\" - \")","v":" - "},{"$f":"IFERROR(IF(Розрахунок!F12=\"\",\"\",Розрахунок!F12),\" - \")","v":" - "},{"$f":"IFERROR(IF(Розрахунок!G12=\"\",\"\",Розрахунок!G12),\" - \")","v":""},{"$f":"IFERROR(IF(Розрахунок!H12=\"\",\"\",Розрахунок!H12),\" - \")","v":" - "},{"$f":"IFERROR(Розрахунок!J12/1.2,\" - \")","v":" - "}," - "]
[5,{"$f":"IFERROR(IF(Розрахунок!B13=\"\",\"\",Розрахунок!B13),\" - \")","v":""},{"$f":"IFERROR(Розрахунок!D13,\" - \")","v":" - "},{"$f":"IFERROR(Розрахунок!E13,\" - \")","v":" - "},{"$f":"IFERROR(IF(Розрахунок!F13=\"\",\"\",Розрахунок!F13),\" - \")","v":" - "},{"$f":"IFERROR(IF(Розрахунок!G13=\"\",\"\",Розрахунок!G13),\" - \")","v":""},{"$f":"IFERROR(IF(Розрахунок!H13=\"\",\"\",Розрахунок!H13),\" - \")","v":" - "},{"$f":"IFERROR(Розрахунок!J13/1.2,\" - \")","v":" - "}," - "]
[6,{"$f":"IFERROR(IF(Розрахунок!B14=\"\",\"\",Розрахунок!B14),\" - \")","v":""},{"$f":"IFERROR(Розрахунок!D14,\" - \")","v":" - "},{"$f":"IFERROR(Розрахунок!E14,\" - \")","v":" - "},{"$f":"IFERROR(IF(Розрахунок!F14=\"\",\"\",Розрахунок!F14),\" - \")","v":" - "},{"$f":"IFERROR(IF(Розрахунок!G14=\"\",\"\",Розрахунок!G14),\" - \")","v":""},{"$f":"IFERROR(IF(Розрахунок!H14=\"\",\"\",Розрахунок!H14),\" - \")","v":" - "},{"$f":"IFERROR(Розрахунок!J14/1.2,\" - \")","v":" - "}," - "]
[7,{"$f":"IFERROR(IF(Розрахунок!B15=\"\",\"\",Розрахунок!B15),\" - \")","v":""},{"$f":"IFERROR(Розрахунок!D15,\" - \")","v":" - "},{"$f":"IFERROR(Розрахунок!E15,\" - \")","v":" - "},{"$f":"IFERROR(IF(Розрахунок!F15=\"\",\"\",Розрахунок!F15),\" - \")","v":" - "},{"$f":"IFERROR(IF(Розрахунок!G15=\"\",\"\",Розрахунок!G15),\" - \")","v":""},{"$f":"IFERROR(IF(Розрахунок!H15=\"\",\"\",Розрахунок!H15),\" - \")","v":" - "},{"$f":"IFERROR(Розрахунок!J15/1.2,\" - \")","v":" - "}," - "]
[8,{"$f":"IFERROR(IF(Розрахунок!B16=\"\",\"\",Розрахунок!B16),\" - \")","v":""},{"$f":"IFERROR(Розрахунок!D16,\" - \")","v":" - "},{"$f":"IFERROR(Розрахунок!E16,\" - \")","v":" - "},{"$f":"IFERROR(IF(Розрахунок!F16=\"\",\"\",Розрахунок!F16),\" - \")","v":" - "},{"$f":"IFERROR(IF(Розрахунок!G16=\"\",\"\",Розрахунок!G16),\" - \")","v":""},{"$f":"IFERROR(IF(Розрахунок!H16=\"\",\"\",Розрахунок!H16),\" - \")","v":" - "},{"$f":"IFERROR(Розрахунок!J16/1.2,\" - \")","v":" - "}," - "]
[9,{"$f":"IFERROR(IF(Розрахунок!B17=\"\",\"\",Розрахунок!B17),\" - \")","v":""},{"$f":"IFERROR(Розрахунок!D17,\" - \")","v":" - "},{"$f":"IFERROR(Розрахунок!E17,\" - \")","v":" - "},{"$f":"IFERROR(IF(Розрахунок!F17=\"\",\"\",Розрахунок!F17),\" - \")","v":" - "},{"$f":"IFERROR(IF(Розрахунок!G17=\"\",\"\",Розрахунок!G17),\" - \")","v":""},{"$f":"IFERROR(IF(Розрахунок!H17=\"\",\"\",Розрахунок!H17),\" - \")","v":" - "},{"$f":"IFERROR(Розрахунок!J17/1.2,\" - \")","v":" - "}," - "]
[10,{"$f":"IFERROR(IF(Розрахунок!B18=\"\",\"\",Розрахунок!B18),\" - \")","v":""},{"$f":"IFERROR(Розрахунок!D18,\" - \")","v":" - "},{"$f":"IFERROR(Розрахунок!E18,\" - \")","v":" - "},{"$f":"IFERROR(IF(Розрахунок!F18=\"\",\"\",Розрахунок!F18),\" - \")","v":" - "},{"$f":"IFERROR(IF(Розрахунок!G18=\"\",\"\",Розрахунок!G18),\" - \")","v":""},{"$f":"IFERROR(IF(Розрахунок!H18=\"\",\"\",Розрахунок!H18),\" - \")","v":" - "},{"$f":"IFERROR(Розрахунок!J18/1.2,\" - \")","v":" - "}," - "]
[11,{"$f":"IFERROR(IF(Розрахунок!B19=\"\",\"\",Розрахунок!B19),\" - \")","v":""},{"$f":"IFERROR(Розрахунок!D19,\" - \")","v":" - "},{"$f":"IFERROR(Розрахунок!E19,\" - \")","v":" - "},{"$f":"IFERROR(IF(Розрахунок!F19=\"\",\"\",Розрахунок!F19),\" - \")","v":" - "},{"$f":"IFERROR(IF(Розрахунок!G19=\"\",\"\",Розрахунок!G19),\" - \")","v":""},{"$f":"IFERROR(IF(Розрахунок!H19=\"\",\"\",Розрахунок!H19),\" - \")","v":" - "},{"$f":"IFERROR(Розрахунок!J19/1.2,\" - \")","v":" - "}," - "]
[12,{"$f":"IFERROR(IF(Розрахунок!B20=\"\",\"\",Розрахунок!B20),\" - \")","v":""},{"$f":"IFERROR(Розрахунок!D20,\" - \")","v":" - "},{"$f":"IFERROR(Розрахунок!E20,\" - \")","v":" - "},{"$f":"IFERROR(IF(Розрахунок!F20=\"\",\"\",Розрахунок!F20),\" - \")","v":" - "},{"$f":"IFERROR(IF(Розрахунок!G20=\"\",\"\",Розрахунок!G20),\" - \")","v":""},{"$f":"IFERROR(IF(Розрахунок!H20=\"\",\"\",Розрахунок!H20),\" - \")","v":" - "},{"$f":"IFERROR(Розрахунок!J20/1.2,\" - \")","v":" - "}," - "]
[13,{"$f":"IFERROR(IF(Розрахунок!B21=\"\",\"\",Розрахунок!B21),\" - \")","v":""},{"$f":"IFERROR(Розрахунок!D21,\" - \")","v":" - "},{"$f":"IFERROR(Розрахунок!E21,\" - \")","v":" - "},{"$f":"IFERROR(IF(Розрахунок!F21=\"\",\"\",Розрахунок!F21),\" - \")","v":" - "},{"$f":"IFERROR(IF(Розрахунок!G21=\"\",\"\",Розрахунок!G21),\" - \")","v":""},{"$f":"IFERROR(IF(Розрахунок!H21=\"\",\"\",Розрахунок!H21),\" - \")","v":" - "},{"$f":"IFERROR(Розрахунок!J21/1.2,\" - \")","v":" - "}," - "]
[14,{"$f":"IFERROR(IF(Розрахунок!B22=\"\",\"\",Розрахунок!B22),\" - \")","v":""},{"$f":"IFERROR(Розрахунок!D22,\" - \")","v":" - "},{"$f":"IFERROR(Розрахунок!E22,\" - \")","v":" - "},{"$f":"IFERROR(IF(Розрахунок!F22=\"\",\"\",Розрахунок!F22),\" - \")","v":" - "},{"$f":"IFERROR(IF(Розрахунок!G22=\"\",\"\",Розрахунок!G22),\" - \")","v":""},{"$f":"IFERROR(IF(Розрахунок!H22=\"\",\"\",Розрахунок!H22),\" - \")","v":" - "},{"$f":"IFERROR(Розрахунок!J22/1.2,\" - \")","v":" - "}," - "]
[15,{"$f":"IFERROR(IF(Розрахунок!B23=\"\",\"\",Розрахунок!B23),\" - \")","v":""},{"$f":"IFERROR(Розрахунок!D23,\" - \")","v":" - "},{"$f":"IFERROR(Розрахунок!E23,\" - \")","v":" - "},{"$f":"IFERROR(IF(Розрахунок!F23=\"\",\"\",Розрахунок!F23),\" - \")","v":" - "},{"$f":"IFERROR(IF(Розрахунок!G23=\"\",\"\",Розрахунок!G23),\" - \")","v":""},{"$f":"IFERROR(IF(Розрахунок!H23=\"\",\"\",Розрахунок!H23),\" - \")","v":" - "},{"$f":"IFERROR(Розрахунок!J23/1.2,\" - \")","v":" - "}," - "]
[16,{"$f":"IFERROR(IF(Розрахунок!B24=\"\",\"\",Розрахунок!B24),\" - \")","v":""},{"$f":"IFERROR(Розрахунок!D24,\" - \")","v":" - "},{"$f":"IFERROR(Розрахунок!E24,\" - \")","v":" - "},{"$f":"IFERROR(IF(Розрахунок!F24=\"\",\"\",Розрахунок!F24),\" - \")","v":" - "},{"$f":"IFERROR(IF(Розрахунок!G24=\"\",\"\",Розрахунок!G24),\" - \")","v":""},{"$f":"IFERROR(IF(Розрахунок!H24=\"\",\"\",Розрахунок!H24),\" - \")","v":" - "},{"$f":"IFERROR(Розрахунок!J24/1.2,\" - \")","v":" - "}," - "]
[17,{"$f":"IFERROR(IF(Розрахунок!B25=\"\",\"\",Розрахунок!B25),\" - \")","v":""},{"$f":"IFERROR(Розрахунок!D25,\" - \")","v":" - "},{"$f":"IFERROR(Розрахунок!E25,\" - \")","v":" - "},{"$f":"IFERROR(IF(Розрахунок!F25=\"\",\"\",Розрахунок!F25),\" - \")","v":" - "},{"$f":"IFERROR(IF(Розрахунок!G25=\"\",\"\",Розрахунок!G25),\" - \")","v":""},{"$f":"IFERROR(IF(Розрахунок!H25=\"\",\"\",Розрахунок!H25),\" - \")","v":" - "},{"$f":"IFERROR(Розрахунок!J25/1.2,\" - \")","v":" - "}," - "]
[18,{"$f":"IFERROR(IF(Розрахунок!B26=\"\",\"\",Розрахунок!B26),\" - \")","v":""},{"$f":"IFERROR(Розрахунок!D26,\" - \")","v":" - "},{"$f":"IFERROR(Розрахунок!E26,\" - \")","v":" - "},{"$f":"IFERROR(IF(Розрахунок!F26=\"\",\"\",Розрахунок!F26),\" - \")","v":" - "},{"$f":"IFERROR(IF(Розрахунок!G26=\"\",\"\",Розрахунок!G26),\" - \")","v":""},{"$f":"IFERROR(IF(Розрахунок!H26=\"\",\"\",Розрахунок!H26),\" - \")","v":" - "},{"$f":"IFERROR(Розрахунок!J26/1.2,\" - \")","v":" - "}," - "]
[19,{"$f":"IFERROR(IF(Розрахунок!B27=\"\",\"\",Розрахунок!B27),\" - \")","v":""},{"$f":"IFERROR(Розрахунок!D27,\" - \")","v":" - "},{"$f":"IFERROR(Розрахунок!E27,\" - \")","v":" - "},{"$f":"IFERROR(IF(Розрахунок!F27=\"\",\"\",Розрахунок!F27),\" - \")","v":" - "},{"$f":"IFERROR(IF(Розрахунок!G27=\"\",\"\",Розрахунок!G27),\" - \")","v":""},{"$f":"IFERROR(IF(Розрахунок!H27=\"\",\"\",Розрахунок!H27),\" - \")","v":" - "},{"$f":"IFERROR(Розрахунок!J27/1.2,\" - \")","v":" - "}," - "]
[20,{"$f":"IFERROR(IF(Розрахунок!B28=\"\",\"\",Розрахунок!B28),\" - \")","v":""},{"$f":"IFERROR(Розрахунок!D28,\" - \")","v":" - "},{"$f":"IFERROR(Розрахунок!E28,\" - \")","v":" - "},{"$f":"IFERROR(IF(Розрахунок!F28=\"\",\"\",Розрахунок!F28),\" - \")","v":" - "},{"$f":"IFERROR(IF(Розрахунок!G28=\"\",\"\",Розрахунок!G28),\" - \")","v":""},{"$f":"IFERROR(IF(Розрахунок!H28=\"\",\"\",Розрахунок!H28),\" - \")","v":" - "},{"$f":"IFERROR(Розрахунок!J28/1.2,\" - \")","v":" - "}," - "]
[21,{"$f":"IFERROR(IF(Розрахунок!B29=\"\",\"\",Розрахунок!B29),\" - \")","v":""},{"$f":"IFERROR(Розрахунок!D29,\" - \")","v":" - "},{"$f":"IFERROR(Розрахунок!E29,\" - \")","v":" - "},{"$f":"IFERROR(IF(Розрахунок!F29=\"\",\"\",Розрахунок!F29),\" - \")","v":" - "},{"$f":"IFERROR(IF(Розрахунок!G29=\"\",\"\",Розрахунок!G29),\" - \")","v":""},{"$f":"IFERROR(IF(Розрахунок!H29=\"\",\"\",Розрахунок!H29),\" - \")","v":" - "},{"$f":"IFERROR(Розрахунок!J29/1.2,\" - \")","v":" - "}," - "]
[22,{"$f":"IFERROR(IF(Розрахунок!B30=\"\",\"\",Розрахунок!B30),\" - \")","v":""},{"$f":"IFERROR(Розрахунок!D30,\" - \")","v":" - "},{"$f":"IFERROR(Розрахунок!E30,\" - \")","v":" - "},{"$f":"IFERROR(IF(Розрахунок!F30=\"\",\"\",Розрахунок!F30),\" - \")","v":" - "},{"$f":"IFERROR(IF(Розрахунок!G30=\"\",\"\",Розрахунок!G30),\" - \")","v":""},{"$f":"IFERROR(IF(Розрахунок!H30=\"\",\"\",Розрахунок!H30),\" - \")","v":" - "},{"$f":"IFERROR(Розрахунок!J30/1.2,\" - \")","v":" - "}," - "]
[23,{"$f":"IFERROR(IF(Розрахунок!B31=\"\",\"\",Розрахунок!B31),\" - \")","v":""},{"$f":"IFERROR(Розрахунок!D31,\" - \")","v":" - "},{"$f":"IFERROR(Розрахунок!E31,\" - \")","v":" - "},{"$f":"IFERROR(IF(Розрахунок!F31=\"\",\"\",Розрахунок!F31),\" - \")","v":" - "},{"$f":"IFERROR(IF(Розрахунок!G31=\"\",\"\",Розрахунок!G31),\" - \")","v":""},{"$f":"IFERROR(IF(Розрахунок!H31=\"\",\"\",Розрахунок!H31),\" - \")","v":" - "},{"$f":"IFERROR(Розрахунок!J31/1.2,\" - \")","v":" - "}," - "]
[24,{"$f":"IFERROR(IF(Розрахунок!B32=\"\",\"\",Розрахунок!B32),\" - \")","v":""},{"$f":"IFERROR(Розрахунок!D32,\" - \")","v":" - "},{"$f":"IFERROR(Розрахунок!E32,\" - \")","v":" - "},{"$f":"IFERROR(IF(Розрахунок!F32=\"\",\"\",Розрахунок!F32),\" - \")","v":" - "},{"$f":"IFERROR(IF(Розрахунок!G32=\"\",\"\",Розрахунок!G32),\" - \")","v":""},{"$f":"IFERROR(IF(Розрахунок!H32=\"\",\"\",Розрахунок!H32),\" - \")","v":" - "},{"$f":"IFERROR(Розрахунок!J32/1.2,\" - \")","v":" - "}," - "]
[25,{"$f":"IFERROR(IF(Розрахунок!B33=\"\",\"\",Розрахунок!B33),\" - \")","v":""},{"$f":"IFERROR(Розрахунок!D33,\" - \")","v":" - "},{"$f":"IFERROR(Розрахунок!E33,\" - \")","v":" - "},{"$f":"IFERROR(IF(Розрахунок!F33=\"\",\"\",Розрахунок!F33),\" - \")","v":" - "},{"$f":"IFERROR(IF(Розрахунок!G33=\"\",\"\",Розрахунок!G33),\" - \")","v":""},{"$f":"IFERROR(IF(Розрахунок!H33=\"\",\"\",Розрахунок!H33),\" - \")","v":" - "},{"$f":"IFERROR(Розрахунок!J33/1.2,\" - \")","v":" - "}," - "]
[26,{"$f":"IFERROR(IF(Розрахунок!B34=\"\",\"\",Розрахунок!B34),\" - \")","v":""},{"$f":"IFERROR(Розрахунок!D34,\" - \")","v":" - "},{"$f":"IFERROR(Розрахунок!E34,\" - \")","v":" - "},{"$f":"IFERROR(IF(Розрахунок!F34=\"\",\"\",Розрахунок!F34),\" - \")","v":" - "},{"$f":"IFERROR(IF(Розрахунок!G34=\"\",\"\",Розрахунок!G34),\" - \")","v":""},{"$f":"IFERROR(IF(Розрахунок!H34=\"\",\"\",Розрахунок!H34),\" - \")","v":" - "},{"$f":"IFERROR(Розрахунок!J34/1.2,\" - \")","v":" - "}," - "]
[27,{"$f":"IFERROR(IF(Розрахунок!B35=\"\",\"\",Розрахунок!B35),\" - \")","v":""},{"$f":"IFERROR(Розрахунок!D35,\" - \")","v":" - "},{"$f":"IFERROR(Розрахунок!E35,\" - \")","v":" - "},{"$f":"IFERROR(IF(Розрахунок!F35=\"\",\"\",Розрахунок!F35),\" - \")","v":" - "},{"$f":"IFERROR(IF(Розрахунок!G35=\"\",\"\",Розрахунок!G35),\" - \")","v":""},{"$f":"IFERROR(IF(Розрахунок!H35=\"\",\"\",Розрахунок!H35),\" - \")","v":" - "},{"$f":"IFERROR(Розрахунок!J35/1.2,\" - \")","v":" - "}," - "]
[28,{"$f":"IFERROR(IF(Розрахунок!B36=\"\",\"\",Розрахунок!B36),\" - \")","v":""},{"$f":"IFERROR(Розрахунок!D36,\" - \")","v":" - "},{"$f":"IFERROR(Розрахунок!E36,\" - \")","v":" - "},{"$f":"IFERROR(IF(Розрахунок!F36=\"\",\"\",Розрахунок!F36),\" - \")","v":" - "},{"$f":"IFERROR(IF(Розрахунок!G36=\"\",\"\",Розрахунок!G36),\" - \")","v":""},{"$f":"IFERROR(IF(Розрахунок!H36=\"\",\"\",Розрахунок!H36),\" - \")","v":" - "},{"$f":"IFERROR(Розрахунок!J36/1.2,\" - \")","v":" - "}," - "]
[29,{"$f":"IFERROR(IF(Розрахунок!B37=\"\",\"\",Розрахунок!B37),\" - \")","v":""},{"$f":"IFERROR(Розрахунок!D37,\" - \")","v":" - "},{"$f":"IFERROR(Розрахунок!E37,\" - \")","v":" - "},{"$f":"IFERROR(IF(Розрахунок!F37=\"\",\"\",Розрахунок!F37),\" - \")","v":" - "},{"$f":"IFERROR(IF(Розрахунок!G37=\"\",\"\",Розрахунок!G37),\" - \")","v":""},{"$f":"IFERROR(IF(Розрахунок!H37=\"\",\"\",Розрахунок!H37),\" - \")","v":" - "},{"$f":"IFERROR(Розрахунок!J37/1.2,\" - \")","v":" - "}," - "]
[30,{"$f":"IFERROR(IF(Розрахунок!B38=\"\",\"\",Розрахунок!B38),\" - \")","v":""},{"$f":"IFERROR(Розрахунок!D38,\" - \")","v":" - "},{"$f":"IFERROR(Розрахунок!E38,\" - \")","v":" - "},{"$f":"IFERROR(IF(Розрахунок!F38=\"\",\"\",Розрахунок!F38),\" - \")","v":" - "},{"$f":"IFERROR(IF(Розрахунок!G38=\"\",\"\",Розрахунок!G38),\" - \")","v":""},{"$f":"IFERROR(IF(Розрахунок!H38=\"\",\"\",Розрахунок!H38),\" - \")","v":" - "},{"$f":"IFERROR(Розрахунок!J38/1.2,\" - \")","v":" - "}," - "]
[31,{"$f":"IFERROR(IF(Розрахунок!B39=\"\",\"\",Розрахунок!B39),\" - \")","v":""},{"$f":"IFERROR(Розрахунок!D39,\" - \")","v":" - "},{"$f":"IFERROR(Розрахунок!E39,\" - \")","v":" - "},{"$f":"IFERROR(IF(Розрахунок!F39=\"\",\"\",Розрахунок!F39),\" - \")","v":" - "},{"$f":"IFERROR(IF(Розрахунок!G39=\"\",\"\",Розрахунок!G39),\" - \")","v":""},{"$f":"IFERROR(IF(Розрахунок!H39=\"\",\"\",Розрахунок!H39),\" - \")","v":" - "},{"$f":"IFERROR(Розрахунок!J39/1.2,\" - \")","v":" - "}," - "]
[32,{"$f":"IFERROR(IF(Розрахунок!B40=\"\",\"\",Розрахунок!B40),\" - \")","v":""},{"$f":"IFERROR(Розрахунок!D40,\" - \")","v":" - "},{"$f":"IFERROR(Розрахунок!E40,\" - \")","v":" - "},{"$f":"IFERROR(IF(Розрахунок!F40=\"\",\"\",Розрахунок!F40),\" - \")","v":" - "},{"$f":"IFERROR(IF(Розрахунок!G40=\"\",\"\",Розрахунок!G40),\" - \")","v":""},{"$f":"IFERROR(IF(Розрахунок!H40=\"\",\"\",Розрахунок!H40),\" - \")","v":" - "},{"$f":"IFERROR(Розрахунок!J40/1.2,\" - \")","v":" - "}," - "]
[33,{"$f":"IFERROR(IF(Розрахунок!B41=\"\",\"\",Розрахунок!B41),\" - \")","v":""},{"$f":"IFERROR(Розрахунок!D41,\" - \")","v":" - "},{"$f":"IFERROR(Розрахунок!E41,\" - \")","v":" - "},{"$f":"IFERROR(IF(Розрахунок!F41=\"\",\"\",Розрахунок!F41),\" - \")","v":" - "},{"$f":"IFERROR(IF(Розрахунок!G41=\"\",\"\",Розрахунок!G41),\" - \")","v":""},{"$f":"IFERROR(IF(Розрахунок!H41=\"\",\"\",Розрахунок!H41),\" - \")","v":" - "},{"$f":"IFERROR(Розрахунок!J41/1.2,\" - \")","v":" - "}," - "]
[34,{"$f":"IFERROR(IF(Розрахунок!B42=\"\",\"\",Розрахунок!B42),\" - \")","v":""},{"$f":"IFERROR(Розрахунок!D42,\" - \")","v":" - "},{"$f":"IFERROR(Розрахунок!E42,\" - \")","v":" - "},{"$f":"IFERROR(IF(Розрахунок!F42=\"\",\"\",Розрахунок!F42),\" - \")","v":" - "},{"$f":"IFERROR(IF(Розрахунок!G42=\"\",\"\",Розрахунок!G42),\" - \")","v":""},{"$f":"IFERROR(IF(Розрахунок!H42=\"\",\"\",Розрахунок!H42),\" - \")","v":" - "},{"$f":"IFERROR(Розрахунок!J42/1.2,\" - \")","v":" - "}," - "]
[35,{"$f":"IFERROR(IF(Розрахунок!B43=\"\",\"\",Розрахунок!B43),\" - \")","v":""},{"$f":"IFERROR(Розрахунок!D43,\" - \")","v":" - "},{"$f":"IFERROR(Розрахунок!E43,\" - \")","v":" - "},{"$f":"IFERROR(IF(Розрахунок!F43=\"\",\"\",Розрахунок!F43),\" - \")","v":" - "},{"$f":"IFERROR(IF(Розрахунок!G43=\"\",\"\",Розрахунок!G43),\" - \")","v":""},{"$f":"IFERROR(IF(Розрахунок!H43=\"\",\"\",Розрахунок!H43),\" - \")","v":" - "},{"$f":"IFERROR(Розрахунок!J43/1.2,\" - \")","v":" - "}," - "]
[36,{"$f":"IFERROR(IF(Розрахунок!B44=\"\",\"\",Розрахунок!B44),\" - \")","v":""},{"$f":"IFERROR(Розрахунок!D44,\" - \")","v":" - "},{"$f":"IFERROR(Розрахунок!E44,\" - \")","v":" - "},{"$f":"IFERROR(IF(Розрахунок!F44=\"\",\"\",Розрахунок!F44),\" - \")","v":" - "},{"$f":"IFERROR(IF(Розрахунок!G44=\"\",\"\",Розрахунок!G44),\" - \")","v":""},{"$f":"IFERROR(IF(Розрахунок!H44=\"\",\"\",Розрахунок!H44),\" - \")","v":" - "},{"$f":"IFERROR(Розрахунок!J44/1.2,\" - \")","v":" - "}," - "]
[37,{"$f":"IFERROR(IF(Розрахунок!B45=\"\",\"\",Розрахунок!B45),\" - \")","v":""},{"$f":"IFERROR(Розрахунок!D45,\" - \")","v":" - "},{"$f":"IFERROR(Розрахунок!E45,\" - \")","v":" - "},{"$f":"IFERROR(IF(Розрахунок!F45=\"\",\"\",Розрахунок!F45),\" - \")","v":" - "},{"$f":"IFERROR(IF(Розрахунок!G45=\"\",\"\",Розрахунок!G45),\" - \")","v":""},{"$f":"IFERROR(IF(Розрахунок!H45=\"\",\"\",Розрахунок!H45),\" - \")","v":" - "},{"$f":"IFERROR(Розрахунок!J45/1.2,\" - \")","v":" - "}," - "]
[38,{"$f":"IFERROR(IF(Розрахунок!B46=\"\",\"\",Розрахунок!B46),\" - \")","v":""},{"$f":"IFERROR(Розрахунок!D46,\" - \")","v":" - "},{"$f":"IFERROR(Розрахунок!E46,\" - \")","v":" - "},{"$f":"IFERROR(IF(Розрахунок!F46=\"\",\"\",Розрахунок!F46),\" - \")","v":" - "},{"$f":"IFERROR(IF(Розрахунок!G46=\"\",\"\",Розрахунок!G46),\" - \")","v":""},{"$f":"IFERROR(IF(Розрахунок!H46=\"\",\"\",Розрахунок!H46),\" - \")","v":" - "},{"$f":"IFERROR(Розрахунок!J46/1.2,\" - \")","v":" - "}," - "]
[39,{"$f":"IFERROR(IF(Розрахунок!B47=\"\",\"\",Розрахунок!B47),\" - \")","v":""},{"$f":"IFERROR(Розрахунок!D47,\" - \")","v":" - "},{"$f":"IFERROR(Розрахунок!E47,\" - \")","v":" - "},{"$f":"IFERROR(IF(Розрахунок!F47=\"\",\"\",Розрахунок!F47),\" - \")","v":" - "},{"$f":"IFERROR(IF(Розрахунок!G47=\"\",\"\",Розрахунок!G47),\" - \")","v":""},{"$f":"IFERROR(IF(Розрахунок!H47=\"\",\"\",Розрахунок!H47),\" - \")","v":" - "},{"$f":"IFERROR(Розрахунок!J47/1.2,\" - \")","v":" - "}," - "]
[40,{"$f":"IFERROR(IF(Розрахунок!B48=\"\",\"\",Розрахунок!B48),\" - \")","v":""},{"$f":"IFERROR(Розрахунок!D48,\" - \")","v":" - "},{"$f":"IFERROR(Розрахунок!E48,\" - \")","v":" - "},{"$f":"IFERROR(IF(Розрахунок!F48=\"\",\"\",Розрахунок!F48),\" - \")","v":" - "},{"$f":"IFERROR(IF(Розрахунок!G48=\"\",\"\",Розрахунок!G48),\" - \")","v":""},{"$f":"IFERROR(IF(Розрахунок!H48=\"\",\"\",Розрахунок!H48),\" - \")","v":" - "},{"$f":"IFERROR(Розрахунок!J48/1.2,\" - \")","v":" - "}," - "]
[41,{"$f":"IFERROR(IF(Розрахунок!B49=\"\",\"\",Розрахунок!B49),\" - \")","v":""},{"$f":"IFERROR(Розрахунок!D49,\" - \")","v":" - "},{"$f":"IFERROR(Розрахунок!E49,\" - \")","v":" - "},{"$f":"IFERROR(IF(Розрахунок!F49=\"\",\"\",Розрахунок!F49),\" - \")","v":" - "},{"$f":"IFERROR(IF(Розрахунок!G49=\"\",\"\",Розрахунок!G49),\" - \")","v":""},{"$f":"IFERROR(IF(Розрахунок!H49=\"\",\"\",Розрахунок!H49),\" - \")","v":" - "},{"$f":"IFERROR(Розрахунок!J49/1.2,\" - \")","v":" - "},{"$f":"IFERROR(H54*F54,\" - \")","v":" - "}]
[42,{"$f":"IFERROR(IF(Розрахунок!B50=\"\",\"\",Розрахунок!B50),\" - \")","v":""},{"$f":"IFERROR(Розрахунок!D50,\" - \")","v":" - "},{"$f":"IFERROR(Розрахунок!E50,\" - \")","v":" - "},{"$f":"IFERROR(IF(Розрахунок!F50=\"\",\"\",Розрахунок!F50),\" - \")","v":" - "},{"$f":"IFERROR(IF(Розрахунок!G50=\"\",\"\",Розрахунок!G50),\" - \")","v":""},{"$f":"IFERROR(IF(Розрахунок!H50=\"\",\"\",Розрахунок!H50),\" - \")","v":" - "},{"$f":"IFERROR(Розрахунок!J50/1.2,\" - \")","v":" - "},{"$f":"IFERROR(H55*F55,\" - \")","v":" - "}]
[43,{"$f":"IFERROR(IF(Розрахунок!B51=\"\",\"\",Розрахунок!B51),\" - \")","v":""},{"$f":"IFERROR(Розрахунок!D51,\" - \")","v":" - "},{"$f":"IFERROR(Розрахунок!E51,\" - \")","v":" - "},{"$f":"IFERROR(IF(Розрахунок!F51=\"\",\"\",Розрахунок!F51),\" - \")","v":" - "},{"$f":"IFERROR(IF(Розрахунок!G51=\"\",\"\",Розрахунок!G51),\" - \")","v":""},{"$f":"IFERROR(IF(Розрахунок!H51=\"\",\"\",Розрахунок!H51),\" - \")","v":" - "},{"$f":"IFERROR(Розрахунок!J51/1.2,\" - \")","v":" - "}," - "]
[44,{"$f":"IFERROR(IF(Розрахунок!B52=\"\",\"\",Розрахунок!B52),\" - \")","v":""},{"$f":"IFERROR(Розрахунок!D52,\" - \")","v":" - "},{"$f":"IFERROR(Розрахунок!E52,\" - \")","v":" - "},{"$f":"IFERROR(IF(Розрахунок!F52=\"\",\"\",Розрахунок!F52),\" - \")","v":" - "},{"$f":"IFERROR(IF(Розрахунок!G52=\"\",\"\",Розрахунок!G52),\" - \")","v":""},{"$f":"IFERROR(IF(Розрахунок!H52=\"\",\"\",Розрахунок!H52),\" - \")","v":" - "},{"$f":"IFERROR(Розрахунок!J52/1.2,\" - \")","v":" - "}," - "]
[45,{"$f":"IFERROR(IF(Розрахунок!B53=\"\",\"\",Розрахунок!B53),\" - \")","v":""},{"$f":"IFERROR(Розрахунок!D53,\" - \")","v":" - "},{"$f":"IFERROR(Розрахунок!E53,\" - \")","v":" - "},{"$f":"IFERROR(IF(Розрахунок!F53=\"\",\"\",Розрахунок!F53),\" - \")","v":" - "},{"$f":"IFERROR(IF(Розрахунок!G53=\"\",\"\",Розрахунок!G53),\" - \")","v":""},{"$f":"IFERROR(IF(Розрахунок!H53=\"\",\"\",Розрахунок!H53),\" - \")","v":" - "},{"$f":"IFERROR(Розрахунок!J53/1.2,\" - \")","v":" - "}," - "]
[46,{"$f":"IFERROR(IF(Розрахунок!B54=\"\",\"\",Розрахунок!B54),\" - \")","v":""},{"$f":"IFERROR(Розрахунок!D54,\" - \")","v":" - "},{"$f":"IFERROR(Розрахунок!E54,\" - \")","v":" - "},{"$f":"IFERROR(IF(Розрахунок!F54=\"\",\"\",Розрахунок!F54),\" - \")","v":" - "},{"$f":"IFERROR(IF(Розрахунок!G54=\"\",\"\",Розрахунок!G54),\" - \")","v":""},{"$f":"IFERROR(IF(Розрахунок!H54=\"\",\"\",Розрахунок!H54),\" - \")","v":" - "},{"$f":"IFERROR(Розрахунок!J54/1.2,\" - \")","v":" - "}," - "]
[47,{"$f":"IFERROR(IF(Розрахунок!B55=\"\",\"\",Розрахунок!B55),\" - \")","v":""},{"$f":"IFERROR(Розрахунок!D55,\" - \")","v":" - "},{"$f":"IFERROR(Розрахунок!E55,\" - \")","v":" - "},{"$f":"IFERROR(IF(Розрахунок!F55=\"\",\"\",Розрахунок!F55),\" - \")","v":" - "},{"$f":"IFERROR(IF(Розрахунок!G55=\"\",\"\",Розрахунок!G55),\" - \")","v":""},{"$f":"IFERROR(IF(Розрахунок!H55=\"\",\"\",Розрахунок!H55),\" - \")","v":" - "},{"$f":"IFERROR(Розрахунок!J55/1.2,\" - \")","v":" - "}," - "]
[48,{"$f":"IFERROR(IF(Розрахунок!B56=\"\",\"\",Розрахунок!B56),\" - \")","v":""},{"$f":"IFERROR(Розрахунок!D56,\" - \")","v":" - "},{"$f":"IFERROR(Розрахунок!E56,\" - \")","v":" - "},{"$f":"IFERROR(IF(Розрахунок!F56=\"\",\"\",Розрахунок!F56),\" - \")","v":" - "},{"$f":"IFERROR(IF(Розрахунок!G56=\"\",\"\",Розрахунок!G56),\" - \")","v":""},{"$f":"IFERROR(IF(Розрахунок!H56=\"\",\"\",Розрахунок!H56),\" - \")","v":" - "},{"$f":"IFERROR(Розрахунок!J56/1.2,\" - \")","v":" - "}," - "]
[49,{"$f":"IFERROR(IF(Розрахунок!B57=\"\",\"\",Розрахунок!B57),\" - \")","v":""},{"$f":"IFERROR(Розрахунок!D57,\" - \")","v":" - "},{"$f":"IFERROR(Розрахунок!E57,\" - \")","v":" - "},{"$f":"IFERROR(IF(Розрахунок!F57=\"\",\"\",Розрахунок!F57),\" - \")","v":" - "},{"$f":"IFERROR(IF(Розрахунок!G57=\"\",\"\",Розрахунок!G57),\" - \")","v":""},{"$f":"IFERROR(IF(Розрахунок!H57=\"\",\"\",Розрахунок!H57),\" - \")","v":" - "},{"$f":"IFERROR(Розрахунок!J57/1.2,\" - \")","v":" - "}," - "]
[50,{"$f":"IFERROR(IF(Розрахунок!B58=\"\",\"\",Розрахунок!B58),\" - \")","v":""},{"$f":"IFERROR(Розрахунок!D58,\" - \")","v":" - "},{"$f":"IFERROR(Розрахунок!E58,\" - \")","v":" - "},{"$f":"IFERROR(IF(Розрахунок!F58=\"\",\"\",Розрахунок!F58),\" - \")","v":" - "},{"$f":"IFERROR(IF(Розрахунок!G58=\"\",\"\",Розрахунок!G58),\" - \")","v":""},{"$f":"IFERROR(IF(Розрахунок!H58=\"\",\"\",Розрахунок!H58),\" - \")","v":" - "},{"$f":"IFERROR(Розрахунок!J58/1.2,\" - \")","v":" - "}," - "]
[51,{"$f":"IFERROR(IF(Розрахунок!B59=\"\",\"\",Розрахунок!B59),\" - \")","v":""},{"$f":"IFERROR(Розрахунок!D59,\" - \")","v":" - "},{"$f":"IFERROR(Розрахунок!E59,\" - \")","v":" - "},{"$f":"IFERROR(IF(Розрахунок!F59=\"\",\"\",Розрахунок!F59),\" - \")","v":" - "},{"$f":"IFERROR(IF(Розрахунок!G59=\"\",\"\",Розрахунок!G59),\" - \")","v":""},{"$f":"IFERROR(IF(Розрахунок!H59=\"\",\"\",Розрахунок!H59),\" - \")","v":" - "},{"$f":"IFERROR(Розрахунок!J59/1.2,\" - \")","v":" - "}," - "]
[52,{"$f":"IFERROR(IF(Розрахунок!B60=\"\",\"\",Розрахунок!B60),\" - \")","v":""},{"$f":"IFERROR(Розрахунок!D60,\" - \")","v":" - "},{"$f":"IFERROR(Розрахунок!E60,\" - \")","v":" - "},{"$f":"IFERROR(IF(Розрахунок!F60=\"\",\"\",Розрахунок!F60),\" - \")","v":" - "},{"$f":"IFERROR(IF(Розрахунок!G60=\"\",\"\",Розрахунок!G60),\" - \")","v":""},{"$f":"IFERROR(IF(Розрахунок!H60=\"\",\"\",Розрахунок!H60),\" - \")","v":" - "},{"$f":"IFERROR(Розрахунок!J60/1.2,\" - \")","v":" - "}," - "]
[53,{"$f":"IFERROR(IF(Розрахунок!B61=\"\",\"\",Розрахунок!B61),\" - \")","v":""},{"$f":"IFERROR(Розрахунок!D61,\" - \")","v":" - "},{"$f":"IFERROR(Розрахунок!E61,\" - \")","v":" - "},{"$f":"IFERROR(IF(Розрахунок!F61=\"\",\"\",Розрахунок!F61),\" - \")","v":" - "},{"$f":"IFERROR(IF(Розрахунок!G61=\"\",\"\",Розрахунок!G61),\" - \")","v":""},{"$f":"IFERROR(IF(Розрахунок!H61=\"\",\"\",Розрахунок!H61),\" - \")","v":" - "},{"$f":"IFERROR(Розрахунок!J61/1.2,\" - \")","v":" - "}," - "]
[54,{"$f":"IFERROR(IF(Розрахунок!B62=\"\",\"\",Розрахунок!B62),\" - \")","v":""},{"$f":"IFERROR(Розрахунок!D62,\" - \")","v":" - "},{"$f":"IFERROR(Розрахунок!E62,\" - \")","v":" - "},{"$f":"IFERROR(IF(Розрахунок!F62=\"\",\"\",Розрахунок!F62),\" - \")","v":" - "},{"$f":"IFERROR(IF(Розрахунок!G62=\"\",\"\",Розрахунок!G62),\" - \")","v":""},{"$f":"IFERROR(IF(Розрахунок!H62=\"\",\"\",Розрахунок!H62),\" - \")","v":" - "},{"$f":"IFERROR(Розрахунок!J62/1.2,\" - \")","v":" - "}," - "]
[55,{"$f":"IFERROR(IF(Розрахунок!B63=\"\",\"\",Розрахунок!B63),\" - \")","v":""},{"$f":"IFERROR(Розрахунок!D63,\" - \")","v":" - "},{"$f":"IFERROR(Розрахунок!E63,\" - \")","v":" - "},{"$f":"IFERROR(IF(Розрахунок!F63=\"\",\"\",Розрахунок!F63),\" - \")","v":" - "},{"$f":"IFERROR(IF(Розрахунок!G63=\"\",\"\",Розрахунок!G63),\" - \")","v":""},{"$f":"IFERROR(IF(Розрахунок!H63=\"\",\"\",Розрахунок!H63),\" - \")","v":" - "},{"$f":"IFERROR(Розрахунок!J63/1.2,\" - \")","v":" - "}," - "]
[56,{"$f":"IFERROR(IF(Розрахунок!B64=\"\",\"\",Розрахунок!B64),\" - \")","v":""},{"$f":"IFERROR(Розрахунок!D64,\" - \")","v":" - "},{"$f":"IFERROR(Розрахунок!E64,\" - \")","v":" - "},{"$f":"IFERROR(IF(Розрахунок!F64=\"\",\"\",Розрахунок!F64),\" - \")","v":" - "},{"$f":"IFERROR(IF(Розрахунок!G64=\"\",\"\",Розрахунок!G64),\" - \")","v":""},{"$f":"IFERROR(IF(Розрахунок!H64=\"\",\"\",Розрахунок!H64),\" - \")","v":" - "},{"$f":"IFERROR(Розрахунок!J64/1.2,\" - \")","v":" - "}," - "]
[57,{"$f":"IFERROR(IF(Розрахунок!B65=\"\",\"\",Розрахунок!B65),\" - \")","v":""},{"$f":"IFERROR(Розрахунок!D65,\" - \")","v":" - "},{"$f":"IFERROR(Розрахунок!E65,\" - \")","v":" - "},{"$f":"IFERROR(IF(Розрахунок!F65=\"\",\"\",Розрахунок!F65),\" - \")","v":" - "},{"$f":"IFERROR(IF(Розрахунок!G65=\"\",\"\",Розрахунок!G65),\" - \")","v":""},{"$f":"IFERROR(IF(Розрахунок!H65=\"\",\"\",Розрахунок!H65),\" - \")","v":" - "},{"$f":"IFERROR(Розрахунок!J65/1.2,\" - \")","v":" - "}," - "]
[58,{"$f":"IFERROR(IF(Розрахунок!B66=\"\",\"\",Розрахунок!B66),\" - \")","v":""},{"$f":"IFERROR(Розрахунок!D66,\" - \")","v":" - "},{"$f":"IFERROR(Розрахунок!E66,\" - \")","v":" - "},{"$f":"IFERROR(IF(Розрахунок!F66=\"\",\"\",Розрахунок!F66),\" - \")","v":" - "},{"$f":"IFERROR(IF(Розрахунок!G66=\"\",\"\",Розрахунок!G66),\" - \")","v":""},{"$f":"IFERROR(IF(Розрахунок!H66=\"\",\"\",Розрахунок!H66),\" - \")","v":" - "},{"$f":"IFERROR(Розрахунок!J66/1.2,\" - \")","v":" - "}," - "]
[59,{"$f":"IFERROR(IF(Розрахунок!B67=\"\",\"\",Розрахунок!B67),\" - \")","v":""},{"$f":"IFERROR(Розрахунок!D67,\" - \")","v":" - "},{"$f":"IFERROR(Розрахунок!E67,\" - \")","v":" - "},{"$f":"IFERROR(IF(Розрахунок!F67=\"\",\"\",Розрахунок!F67),\" - \")","v":" - "},{"$f":"IFERROR(IF(Розрахунок!G67=\"\",\"\",Розрахунок!G67),\" - \")","v":""},{"$f":"IFERROR(IF(Розрахунок!H67=\"\",\"\",Розрахунок!H67),\" - \")","v":" - "},{"$f":"IFERROR(Розрахунок!J67/1.2,\" - \")","v":" - "}," - "]
[60,{"$f":"IFERROR(IF(Розрахунок!B68=\"\",\"\",Розрахунок!B68),\" - \")","v":""},{"$f":"IFERROR(Розрахунок!D68,\" - \")","v":" - "},{"$f":"IFERROR(Розрахунок!E68,\" - \")","v":" - "},{"$f":"IFERROR(IF(Розрахунок!F68=\"\",\"\",Розрахунок!F68),\" - \")","v":" - "},{"$f":"IFERROR(IF(Розрахунок!G68=\"\",\"\",Розрахунок!G68),\" - \")","v":""},{"$f":"IFERROR(IF(Розрахунок!H68=\"\",\"\",Розрахунок!H68),\" - \")","v":" - "},{"$f":"IFERROR(Розрахунок!J68/1.2,\" - \")","v":" - "}," - "]
[61,{"$f":"IFERROR(IF(Розрахунок!B69=\"\",\"\",Розрахунок!B69),\" - \")","v":""},{"$f":"IFERROR(Розрахунок!D69,\" - \")","v":" - "},{"$f":"IFERROR(Розрахунок!E69,\" - \")","v":" - "},{"$f":"IFERROR(IF(Розрахунок!F69=\"\",\"\",Розрахунок!F69),\" - \")","v":" - "},{"$f":"IFERROR(IF(Розрахунок!G69=\"\",\"\",Розрахунок!G69),\" - \")","v":""},{"$f":"IFERROR(IF(Розрахунок!H69=\"\",\"\",Розрахунок!H69),\" - \")","v":" - "},{"$f":"IFERROR(Розрахунок!J69/1.2,\" - \")","v":" - "}," - "]
[62,{"$f":"IFERROR(IF(Розрахунок!B70=\"\",\"\",Розрахунок!B70),\" - \")","v":""},{"$f":"IFERROR(Розрахунок!D70,\" - \")","v":" - "},{"$f":"IFERROR(Розрахунок!E70,\" - \")","v":" - "},{"$f":"IFERROR(IF(Розрахунок!F70=\"\",\"\",Розрахунок!F70),\" - \")","v":" - "},{"$f":"IFERROR(IF(Розрахунок!G70=\"\",\"\",Розрахунок!G70),\" - \")","v":""},{"$f":"IFERROR(IF(Розрахунок!H70=\"\",\"\",Розрахунок!H70),\" - \")","v":" - "},{"$f":"IFERROR(Розрахунок!J70/1.2,\" - \")","v":" - "}," - "]
[63,{"$f":"IFERROR(IF(Розрахунок!B71=\"\",\"\",Розрахунок!B71),\" - \")","v":""},{"$f":"IFERROR(Розрахунок!D71,\" - \")","v":" - "},{"$f":"IFERROR(Розрахунок!E71,\" - \")","v":" - "},{"$f":"IFERROR(IF(Розрахунок!F71=\"\",\"\",Розрахунок!F71),\" - \")","v":" - "},{"$f":"IFERROR(IF(Розрахунок!G71=\"\",\"\",Розрахунок!G71),\" - \")","v":""},{"$f":"IFERROR(IF(Розрахунок!H71=\"\",\"\",Розрахунок!H71),\" - \")","v":" - "},{"$f":"IFERROR(Розрахунок!J71/1.2,\" - \")","v":" - "}," - "]
[64,{"$f":"IFERROR(IF(Розрахунок!B72=\"\",\"\",Розрахунок!B72),\" - \")","v":""},{"$f":"IFERROR(Розрахунок!D72,\" - \")","v":" - "},{"$f":"IFERROR(Розрахунок!E72,\" - \")","v":" - "},{"$f":"IFERROR(IF(Розрахунок!F72=\"\",\"\",Розрахунок!F72),\" - \")","v":" - "},{"$f":"IFERROR(IF(Розрахунок!G72=\"\",\"\",Розрахунок!G72),\" - \")","v":""},{"$f":"IFERROR(IF(Розрахунок!H72=\"\",\"\",Розрахунок!H72),\" - \")","v":" - "},{"$f":"IFERROR(Розрахунок!J72/1.2,\" - \")","v":" - "}," - "]
[65,{"$f":"IFERROR(IF(Розрахунок!B73=\"\",\"\",Розрахунок!B73),\" - \")","v":""},{"$f":"IFERROR(Розрахунок!D73,\" - \")","v":" - "},{"$f":"IFERROR(Розрахунок!E73,\" - \")","v":" - "},{"$f":"IFERROR(IF(Розрахунок!F73=\"\",\"\",Розрахунок!F73),\" - \")","v":" - "},{"$f":"IFERROR(IF(Розрахунок!G73=\"\",\"\",Розрахунок!G73),\" - \")","v":""},{"$f":"IFERROR(IF(Розрахунок!H73=\"\",\"\",Розрахунок!H73),\" - \")","v":" - "},{"$f":"IFERROR(Розрахунок!J73/1.2,\" - \")","v":" - "}," - "]
[66,{"$f":"IFERROR(IF(Розрахунок!B74=\"\",\"\",Розрахунок!B74),\" - \")","v":""},{"$f":"IFERROR(Розрахунок!D74,\" - \")","v":" - "},{"$f":"IFERROR(Розрахунок!E74,\" - \")","v":" - "},{"$f":"IFERROR(IF(Розрахунок!F74=\"\",\"\",Розрахунок!F74),\" - \")","v":" - "},{"$f":"IFERROR(IF(Розрахунок!G74=\"\",\"\",Розрахунок!G74),\" - \")","v":""},{"$f":"IFERROR(IF(Розрахунок!H74=\"\",\"\",Розрахунок!H74),\" - \")","v":" - "},{"$f":"IFERROR(Розрахунок!J74/1.2,\" - \")","v":" - "}," - "]
[67,{"$f":"IFERROR(IF(Розрахунок!B75=\"\",\"\",Розрахунок!B75),\" - \")","v":""},{"$f":"IFERROR(Розрахунок!D75,\" - \")","v":" - "},{"$f":"IFERROR(Розрахунок!E75,\" - \")","v":" - "},{"$f":"IFERROR(IF(Розрахунок!F75=\"\",\"\",Розрахунок!F75),\" - \")","v":" - "},{"$f":"IFERROR(IF(Розрахунок!G75=\"\",\"\",Розрахунок!G75),\" - \")","v":""},{"$f":"IFERROR(IF(Розрахунок!H75=\"\",\"\",Розрахунок!H75),\" - \")","v":" - "},{"$f":"IFERROR(Розрахунок!J75/1.2,\" - \")","v":" - "}," - "]
[68,{"$f":"IFERROR(IF(Розрахунок!B76=\"\",\"\",Розрахунок!B76),\" - \")","v":""},{"$f":"IFERROR(Розрахунок!D76,\" - \")","v":" - "},{"$f":"IFERROR(Розрахунок!E76,\" - \")","v":" - "},{"$f":"IFERROR(IF(Розрахунок!F76=\"\",\"\",Розрахунок!F76),\" - \")","v":" - "},{"$f":"IFERROR(IF(Розрахунок!G76=\"\",\"\",Розрахунок!G76),\" - \")","v":""},{"$f":"IFERROR(IF(Розрахунок!H76=\"\",\"\",Розрахунок!H76),\" - \")","v":" - "},{"$f":"IFERROR(Розрахунок!J76/1.2,\" - \")","v":" - "}," - "]
[69,{"$f":"IFERROR(IF(Розрахунок!B77=\"\",\"\",Розрахунок!B77),\" - \")","v":""},{"$f":"IFERROR(Розрахунок!D77,\" - \")","v":" - "},{"$f":"IFERROR(Розрахунок!E77,\" - \")","v":" - "},{"$f":"IFERROR(IF(Розрахунок!F77=\"\",\"\",Розрахунок!F77),\" - \")","v":" - "},{"$f":"IFERROR(IF(Розрахунок!G77=\"\",\"\",Розрахунок!G77),\" - \")","v":""},{"$f":"IFERROR(IF(Розрахунок!H77=\"\",\"\",Розрахунок!H77),\" - \")","v":" - "},{"$f":"IFERROR(Розрахунок!J77/1.2,\" - \")","v":" - "}," - "]
[70,{"$f":"IFERROR(IF(Розрахунок!B78=\"\",\"\",Розрахунок!B78),\" - \")","v":""},{"$f":"IFERROR(Розрахунок!D78,\" - \")","v":" - "},{"$f":"IFERROR(Розрахунок!E78,\" - \")","v":" - "},{"$f":"IFERROR(IF(Розрахунок!F78=\"\",\"\",Розрахунок!F78),\" - \")","v":" - "},{"$f":"IFERROR(IF(Розрахунок!G78=\"\",\"\",Розрахунок!G78),\" - \")","v":""},{"$f":"IFERROR(IF(Розрахунок!H78=\"\",\"\",Розрахунок!H78),\" - \")","v":" - "},{"$f":"IFERROR(Розрахунок!J78/1.2,\" - \")","v":" - "}," - "]
[71,{"$f":"IFERROR(IF(Розрахунок!B79=\"\",\"\",Розрахунок!B79),\" - \")","v":""},{"$f":"IFERROR(Розрахунок!D79,\" - \")","v":" - "},{"$f":"IFERROR(Розрахунок!E79,\" - \")","v":" - "},{"$f":"IFERROR(IF(Розрахунок!F79=\"\",\"\",Розрахунок!F79),\" - \")","v":" - "},{"$f":"IFERROR(IF(Розрахунок!G79=\"\",\"\",Розрахунок!G79),\" - \")","v":""},{"$f":"IFERROR(IF(Розрахунок!H79=\"\",\"\",Розрахунок!H79),\" - \")","v":" - "},{"$f":"IFERROR(Розрахунок!J79/1.2,\" - \")","v":" - "}," - "]
[72,{"$f":"IFERROR(IF(Розрахунок!B80=\"\",\"\",Розрахунок!B80),\" - \")","v":""},{"$f":"IFERROR(Розрахунок!D80,\" - \")","v":" - "},{"$f":"IFERROR(Розрахунок!E80,\" - \")","v":" - "},{"$f":"IFERROR(IF(Розрахунок!F80=\"\",\"\",Розрахунок!F80),\" - \")","v":" - "},{"$f":"IFERROR(IF(Розрахунок!G80=\"\",\"\",Розрахунок!G80),\" - \")","v":""},{"$f":"IFERROR(IF(Розрахунок!H80=\"\",\"\",Розрахунок!H80),\" - \")","v":" - "},{"$f":"IFERROR(Розрахунок!J80/1.2,\" - \")","v":" - "}," - "]
[73,{"$f":"IFERROR(IF(Розрахунок!B81=\"\",\"\",Розрахунок!B81),\" - \")","v":""},{"$f":"IFERROR(Розрахунок!D81,\" - \")","v":" - "},{"$f":"IFERROR(Розрахунок!E81,\" - \")","v":" - "},{"$f":"IFERROR(IF(Розрахунок!F81=\"\",\"\",Розрахунок!F81),\" - \")","v":" - "},{"$f":"IFERROR(IF(Розрахунок!G81=\"\",\"\",Розрахунок!G81),\" - \")","v":""},{"$f":"IFERROR(IF(Розрахунок!H81=\"\",\"\",Розрахунок!H81),\" - \")","v":" - "},{"$f":"IFERROR(Розрахунок!J81/1.2,\" - \")","v":" - "}," - "]
[74,{"$f":"IFERROR(IF(Розрахунок!B82=\"\",\"\",Розрахунок!B82),\" - \")","v":""},{"$f":"IFERROR(Розрахунок!D82,\" - \")","v":" - "},{"$f":"IFERROR(Розрахунок!E82,\" - \")","v":" - "},{"$f":"IFERROR(IF(Розрахунок!F82=\"\",\"\",Розрахунок!F82),\" - \")","v":" - "},{"$f":"IFERROR(IF(Розрахунок!G82=\"\",\"\",Розрахунок!G82),\" - \")","v":""},{"$f":"IFERROR(IF(Розрахунок!H82=\"\",\"\",Розрахунок!H82),\" - \")","v":" - "},{"$f":"IFERROR(Розрахунок!J82/1.2,\" - \")","v":" - "}," - "]
[75,{"$f":"IFERROR(IF(Розрахунок!B83=\"\",\"\",Розрахунок!B83),\" - \")","v":""},{"$f":"IFERROR(Розрахунок!D83,\" - \")","v":" - "},{"$f":"IFERROR(Розрахунок!E83,\" - \")","v":" - "},{"$f":"IFERROR(IF(Розрахунок!F83=\"\",\"\",Розрахунок!F83),\" - \")","v":" - "},{"$f":"IFERROR(IF(Розрахунок!G83=\"\",\"\",Розрахунок!G83),\" - \")","v":""},{"$f":"IFERROR(IF(Розрахунок!H83=\"\",\"\",Розрахунок!H83),\" - \")","v":" - "},{"$f":"IFERROR(Розрахунок!J83/1.2,\" - \")","v":" - "}," - "]
[76,{"$f":"IFERROR(IF(Розрахунок!B84=\"\",\"\",Розрахунок!B84),\" - \")","v":""},{"$f":"IFERROR(Розрахунок!D84,\" - \")","v":" - "},{"$f":"IFERROR(Розрахунок!E84,\" - \")","v":" - "},{"$f":"IFERROR(IF(Розрахунок!F84=\"\",\"\",Розрахунок!F84),\" - \")","v":" - "},{"$f":"IFERROR(IF(Розрахунок!G84=\"\",\"\",Розрахунок!G84),\" - \")","v":""},{"$f":"IFERROR(IF(Розрахунок!H84=\"\",\"\",Розрахунок!H84),\" - \")","v":" - "},{"$f":"IFERROR(Розрахунок!J84/1.2,\" - \")","v":" - "}," - "]
[77,{"$f":"IFERROR(IF(Розрахунок!B85=\"\",\"\",Розрахунок!B85),\" - \")","v":""},{"$f":"IFERROR(Розрахунок!D85,\" - \")","v":" - "},{"$f":"IFERROR(Розрахунок!E85,\" - \")","v":" - "},{"$f":"IFERROR(IF(Розрахунок!F85=\"\",\"\",Розрахунок!F85),\" - \")","v":" - "},{"$f":"IFERROR(IF(Розрахунок!G85=\"\",\"\",Розрахунок!G85),\" - \")","v":""},{"$f":"IFERROR(IF(Розрахунок!H85=\"\",\"\",Розрахунок!H85),\" - \")","v":" - "},{"$f":"IFERROR(Розрахунок!J85/1.2,\" - \")","v":" - "}," - "]
[78,{"$f":"IFERROR(IF(Розрахунок!B86=\"\",\"\",Розрахунок!B86),\" - \")","v":""},{"$f":"IFERROR(Розрахунок!D86,\" - \")","v":" - "},{"$f":"IFERROR(Розрахунок!E86,\" - \")","v":" - "},{"$f":"IFERROR(IF(Розрахунок!F86=\"\",\"\",Розрахунок!F86),\" - \")","v":" - "},{"$f":"IFERROR(IF(Розрахунок!G86=\"\",\"\",Розрахунок!G86),\" - \")","v":""},{"$f":"IFERROR(IF(Розрахунок!H86=\"\",\"\",Розрахунок!H86),\" - \")","v":" - "},{"$f":"IFERROR(Розрахунок!J86/1.2,\" - \")","v":" - "}," - "]
[79,{"$f":"IFERROR(IF(Розрахунок!B87=\"\",\"\",Розрахунок!B87),\" - \")","v":""},{"$f":"IFERROR(Розрахунок!D87,\" - \")","v":" - "},{"$f":"IFERROR(Розрахунок!E87,\" - \")","v":" - "},{"$f":"IFERROR(IF(Розрахунок!F87=\"\",\"\",Розрахунок!F87),\" - \")","v":" - "},{"$f":"IFERROR(IF(Розрахунок!G87=\"\",\"\",Розрахунок!G87),\" - \")","v":""},{"$f":"IFERROR(IF(Розрахунок!H87=\"\",\"\",Розрахунок!H87),\" - \")","v":" - "},{"$f":"IFERROR(Розрахунок!J87/1.2,\" - \")","v":" - "}," - "]
[80,{"$f":"IFERROR(IF(Розрахунок!B88=\"\",\"\",Розрахунок!B88),\" - \")","v":""},{"$f":"IFERROR(Розрахунок!D88,\" - \")","v":" - "},{"$f":"IFERROR(Розрахунок!E88,\" - \")","v":" - "},{"$f":"IFERROR(IF(Розрахунок!F88=\"\",\"\",Розрахунок!F88),\" - \")","v":" - "},{"$f":"IFERROR(IF(Розрахунок!G88=\"\",\"\",Розрахунок!G88),\" - \")","v":""},{"$f":"IFERROR(IF(Розрахунок!H88=\"\",\"\",Розрахунок!H88),\" - \")","v":" - "},{"$f":"IFERROR(Розрахунок!J88/1.2,\" - \")","v":" - "}," - "]
[81,{"$f":"IFERROR(IF(Розрахунок!B89=\"\",\"\",Розрахунок!B89),\" - \")","v":""},{"$f":"IFERROR(Розрахунок!D89,\" - \")","v":" - "},{"$f":"IFERROR(Розрахунок!E89,\" - \")","v":" - "},{"$f":"IFERROR(IF(Розрахунок!F89=\"\",\"\",Розрахунок!F89),\" - \")","v":" - "},{"$f":"IFERROR(IF(Розрахунок!G89=\"\",\"\",Розрахунок!G89),\" - \")","v":""},{"$f":"IFERROR(IF(Розрахунок!H89=\"\",\"\",Розрахунок!H89),\" - \")","v":" - "},{"$f":"IFERROR(Розрахунок!J89/1.2,\" - \")","v":" - "},{"$f":"IFERROR(H94*F94,\" - \")","v":" - "}]
[82,{"$f":"IFERROR(IF(Розрахунок!B90=\"\",\"\",Розрахунок!B90),\" - \")","v":""},{"$f":"IFERROR(Розрахунок!D90,\" - \")","v":" - "},{"$f":"IFERROR(Розрахунок!E90,\" - \")","v":" - "},{"$f":"IFERROR(IF(Розрахунок!F90=\"\",\"\",Розрахунок!F90),\" - \")","v":" - "},{"$f":"IFERROR(IF(Розрахунок!G90=\"\",\"\",Розрахунок!G90),\" - \")","v":""},{"$f":"IFERROR(IF(Розрахунок!H90=\"\",\"\",Розрахунок!H90),\" - \")","v":" - "},{"$f":"IFERROR(Розрахунок!J90/1.2,\" - \")","v":" - "},{"$f":"IFERROR(H95*F95,\" - \")","v":" - "}]
[83,{"$f":"IFERROR(IF(Розрахунок!B91=\"\",\"\",Розрахунок!B91),\" - \")","v":""},{"$f":"IFERROR(Розрахунок!D91,\" - \")","v":" - "},{"$f":"IFERROR(Розрахунок!E91,\" - \")","v":" - "},{"$f":"IFERROR(IF(Розрахунок!F91=\"\",\"\",Розрахунок!F91),\" - \")","v":" - "},{"$f":"IFERROR(IF(Розрахунок!G91=\"\",\"\",Розрахунок!G91),\" - \")","v":""},{"$f":"IFERROR(IF(Розрахунок!H91=\"\",\"\",Розрахунок!H91),\" - \")","v":" - "},{"$f":"IFERROR(Розрахунок!J91/1.2,\" - \")","v":" - "}," - "]
[84,{"$f":"IFERROR(IF(Розрахунок!B92=\"\",\"\",Розрахунок!B92),\" - \")","v":""},{"$f":"IFERROR(Розрахунок!D92,\" - \")","v":" - "},{"$f":"IFERROR(Розрахунок!E92,\" - \")","v":" - "},{"$f":"IFERROR(IF(Розрахунок!F92=\"\",\"\",Розрахунок!F92),\" - \")","v":" - "},{"$f":"IFERROR(IF(Розрахунок!G92=\"\",\"\",Розрахунок!G92),\" - \")","v":""},{"$f":"IFERROR(IF(Розрахунок!H92=\"\",\"\",Розрахунок!H92),\" - \")","v":" - "},{"$f":"IFERROR(Розрахунок!J92/1.2,\" - \")","v":" - "}," - "]
[85,{"$f":"IFERROR(IF(Розрахунок!B93=\"\",\"\",Розрахунок!B93),\" - \")","v":""},{"$f":"IFERROR(Розрахунок!D93,\" - \")","v":" - "},{"$f":"IFERROR(Розрахунок!E93,\" - \")","v":" - "},{"$f":"IFERROR(IF(Розрахунок!F93=\"\",\"\",Розрахунок!F93),\" - \")","v":" - "},{"$f":"IFERROR(IF(Розрахунок!G93=\"\",\"\",Розрахунок!G93),\" - \")","v":""},{"$f":"IFERROR(IF(Розрахунок!H93=\"\",\"\",Розрахунок!H93),\" - \")","v":" - "},{"$f":"IFERROR(Розрахунок!J93/1.2,\" - \")","v":" - "}," - "]
[86,{"$f":"IFERROR(IF(Розрахунок!B94=\"\",\"\",Розрахунок!B94),\" - \")","v":""},{"$f":"IFERROR(Розрахунок!D94,\" - \")","v":" - "},{"$f":"IFERROR(Розрахунок!E94,\" - \")","v":" - "},{"$f":"IFERROR(IF(Розрахунок!F94=\"\",\"\",Розрахунок!F94),\" - \")","v":" - "},{"$f":"IFERROR(IF(Розрахунок!G94=\"\",\"\",Розрахунок!G94),\" - \")","v":""},{"$f":"IFERROR(IF(Розрахунок!H94=\"\",\"\",Розрахунок!H94),\" - \")","v":" - "},{"$f":"IFERROR(Розрахунок!J94/1.2,\" - \")","v":" - "}," - "]
[87,{"$f":"IFERROR(IF(Розрахунок!B95=\"\",\"\",Розрахунок!B95),\" - \")","v":""},{"$f":"IFERROR(Розрахунок!D95,\" - \")","v":" - "},{"$f":"IFERROR(Розрахунок!E95,\" - \")","v":" - "},{"$f":"IFERROR(IF(Розрахунок!F95=\"\",\"\",Розрахунок!F95),\" - \")","v":" - "},{"$f":"IFERROR(IF(Розрахунок!G95=\"\",\"\",Розрахунок!G95),\" - \")","v":""},{"$f":"IFERROR(IF(Розрахунок!H95=\"\",\"\",Розрахунок!H95),\" - \")","v":" - "},{"$f":"IFERROR(Розрахунок!J95/1.2,\" - \")","v":" - "}," - "]
[88,{"$f":"IFERROR(IF(Розрахунок!B96=\"\",\"\",Розрахунок!B96),\" - \")","v":""},{"$f":"IFERROR(Розрахунок!D96,\" - \")","v":" - "},{"$f":"IFERROR(Розрахунок!E96,\" - \")","v":" - "},{"$f":"IFERROR(IF(Розрахунок!F96=\"\",\"\",Розрахунок!F96),\" - \")","v":" - "},{"$f":"IFERROR(IF(Розрахунок!G96=\"\",\"\",Розрахунок!G96),\" - \")","v":""},{"$f":"IFERROR(IF(Розрахунок!H96=\"\",\"\",Розрахунок!H96),\" - \")","v":" - "},{"$f":"IFERROR(Розрахунок!J96/1.2,\" - \")","v":" - "}," - "]
[89,{"$f":"IFERROR(IF(Розрахунок!B97=\"\",\"\",Розрахунок!B97),\" - \")","v":""},{"$f":"IFERROR(Розрахунок!D97,\" - \")","v":" - "},{"$f":"IFERROR(Розрахунок!E97,\" - \")","v":" - "},{"$f":"IFERROR(IF(Розрахунок!F97=\"\",\"\",Розрахунок!F97),\" - \")","v":" - "},{"$f":"IFERROR(IF(Розрахунок!G97=\"\",\"\",Розрахунок!G97),\" - \")","v":""},{"$f":"IFERROR(IF(Розрахунок!H97=\"\",\"\",Розрахунок!H97),\" - \")","v":" - "},{"$f":"IFERROR(Розрахунок!J97/1.2,\" - \")","v":" - "}," - "]
[90,{"$f":"IFERROR(IF(Розрахунок!B98=\"\",\"\",Розрахунок!B98),\" - \")","v":""},{"$f":"IFERROR(Розрахунок!D98,\" - \")","v":" - "},{"$f":"IFERROR(Розрахунок!E98,\" - \")","v":" - "},{"$f":"IFERROR(IF(Розрахунок!F98=\"\",\"\",Розрахунок!F98),\" - \")","v":" - "},{"$f":"IFERROR(IF(Розрахунок!G98=\"\",\"\",Розрахунок!G98),\" - \")","v":""},{"$f":"IFERROR(IF(Розрахунок!H98=\"\",\"\",Розрахунок!H98),\" - \")","v":" - "},{"$f":"IFERROR(Розрахунок!J98/1.2,\" - \")","v":" - "}," - "]
[91,{"$f":"IFERROR(IF(Розрахунок!B99=\"\",\"\",Розрахунок!B99),\" - \")","v":""},{"$f":"IFERROR(Розрахунок!D99,\" - \")","v":" - "},{"$f":"IFERROR(Розрахунок!E99,\" - \")","v":" - "},{"$f":"IFERROR(IF(Розрахунок!F99=\"\",\"\",Розрахунок!F99),\" - \")","v":" - "},{"$f":"IFERROR(IF(Розрахунок!G99=\"\",\"\",Розрахунок!G99),\" - \")","v":""},{"$f":"IFERROR(IF(Розрахунок!H99=\"\",\"\",Розрахунок!H99),\" - \")","v":" - "},{"$f":"IFERROR(Розрахунок!J99/1.2,\" - \")","v":" - "}," - "]
[92,{"$f":"IFERROR(IF(Розрахунок!B100=\"\",\"\",Розрахунок!B100),\" - \")","v":""},{"$f":"IFERROR(Розрахунок!D100,\" - \")","v":" - "},{"$f":"IFERROR(Розрахунок!E100,\" - \")","v":" - "},{"$f":"IFERROR(IF(Розрахунок!F100=\"\",\"\",Розрахунок!F100),\" - \")","v":" - "},{"$f":"IFERROR(IF(Розрахунок!G100=\"\",\"\",Розрахунок!G100),\" - \")","v":""},{"$f":"IFERROR(IF(Розрахунок!H100=\"\",\"\",Розрахунок!H100),\" - \")","v":" - "},{"$f":"IFERROR(Розрахунок!J100/1.2,\" - \")","v":" - "}," - "]
[93,{"$f":"IFERROR(IF(Розрахунок!B101=\"\",\"\",Розрахунок!B101),\" - \")","v":""},{"$f":"IFERROR(Розрахунок!D101,\" - \")","v":" - "},{"$f":"IFERROR(Розрахунок!E101,\" - \")","v":" - "},{"$f":"IFERROR(IF(Розрахунок!F101=\"\",\"\",Розрахунок!F101),\" - \")","v":" - "},{"$f":"IFERROR(IF(Розрахунок!G101=\"\",\"\",Розрахунок!G101),\" - \")","v":""},{"$f":"IFERROR(IF(Розрахунок!H101=\"\",\"\",Розрахунок!H101),\" - \")","v":" - "},{"$f":"IFERROR(Розрахунок!J101/1.2,\" - \")","v":" - "}," - "]
[94,{"$f":"IFERROR(IF(Розрахунок!B102=\"\",\"\",Розрахунок!B102),\" - \")","v":""},{"$f":"IFERROR(Розрахунок!D102,\" - \")","v":" - "},{"$f":"IFERROR(Розрахунок!E102,\" - \")","v":" - "},{"$f":"IFERROR(IF(Розрахунок!F102=\"\",\"\",Розрахунок!F102),\" - \")","v":" - "},{"$f":"IFERROR(IF(Розрахунок!G102=\"\",\"\",Розрахунок!G102),\" - \")","v":""},{"$f":"IFERROR(IF(Розрахунок!H102=\"\",\"\",Розрахунок!H102),\" - \")","v":" - "},{"$f":"IFERROR(Розрахунок!J102/1.2,\" - \")","v":" - "}," - "]
[95,{"$f":"IFERROR(IF(Розрахунок!B103=\"\",\"\",Розрахунок!B103),\" - \")","v":""},{"$f":"IFERROR(Розрахунок!D103,\" - \")","v":" - "},{"$f":"IFERROR(Розрахунок!E103,\" - \")","v":" - "},{"$f":"IFERROR(IF(Розрахунок!F103=\"\",\"\",Розрахунок!F103),\" - \")","v":" - "},{"$f":"IFERROR(IF(Розрахунок!G103=\"\",\"\",Розрахунок!G103),\" - \")","v":""},{"$f":"IFERROR(IF(Розрахунок!H103=\"\",\"\",Розрахунок!H103),\" - \")","v":" - "},{"$f":"IFERROR(Розрахунок!J103/1.2,\" - \")","v":" - "}," - "]
[96,{"$f":"IFERROR(IF(Розрахунок!B104=\"\",\"\",Розрахунок!B104),\" - \")","v":""},{"$f":"IFERROR(Розрахунок!D104,\" - \")","v":" - "},{"$f":"IFERROR(Розрахунок!E104,\" - \")","v":" - "},{"$f":"IFERROR(IF(Розрахунок!F104=\"\",\"\",Розрахунок!F104),\" - \")","v":" - "},{"$f":"IFERROR(IF(Розрахунок!G104=\"\",\"\",Розрахунок!G104),\" - \")","v":""},{"$f":"IFERROR(IF(Розрахунок!H104=\"\",\"\",Розрахунок!H104),\" - \")","v":" - "},{"$f":"IFERROR(Розрахунок!J104/1.2,\" - \")","v":" - "}," - "]
[97,{"$f":"IFERROR(IF(Розрахунок!B105=\"\",\"\",Розрахунок!B105),\" - \")","v":""},{"$f":"IFERROR(Розрахунок!D105,\" - \")","v":" - "},{"$f":"IFERROR(Розрахунок!E105,\" - \")","v":" - "},{"$f":"IFERROR(IF(Розрахунок!F105=\"\",\"\",Розрахунок!F105),\" - \")","v":" - "},{"$f":"IFERROR(IF(Розрахунок!G105=\"\",\"\",Розрахунок!G105),\" - \")","v":""},{"$f":"IFERROR(IF(Розрахунок!H105=\"\",\"\",Розрахунок!H105),\" - \")","v":" - "},{"$f":"IFERROR(Розрахунок!J105/1.2,\" - \")","v":" - "}," - "]
[98,{"$f":"IFERROR(IF(Розрахунок!B106=\"\",\"\",Розрахунок!B106),\" - \")","v":""},{"$f":"IFERROR(Розрахунок!D106,\" - \")","v":" - "},{"$f":"IFERROR(Розрахунок!E106,\" - \")","v":" - "},{"$f":"IFERROR(IF(Розрахунок!F106=\"\",\"\",Розрахунок!F106),\" - \")","v":" - "},{"$f":"IFERROR(IF(Розрахунок!G106=\"\",\"\",Розрахунок!G106),\" - \")","v":""},{"$f":"IFERROR(IF(Розрахунок!H106=\"\",\"\",Розрахунок!H106),\" - \")","v":" - "},{"$f":"IFERROR(Розрахунок!J106/1.2,\" - \")","v":" - "}," - "]
[99,{"$f":"IFERROR(IF(Розрахунок!B107=\"\",\"\",Розрахунок!B107),\" - \")","v":""},{"$f":"IFERROR(Розрахунок!D107,\" - \")","v":" - "},{"$f":"IFERROR(Розрахунок!E107,\" - \")","v":" - "},{"$f":"IFERROR(IF(Розрахунок!F107=\"\",\"\",Розрахунок!F107),\" - \")","v":" - "},{"$f":"IFERROR(IF(Розрахунок!G107=\"\",\"\",Розрахунок!G107),\" - \")","v":""},{"$f":"IFERROR(IF(Розрахунок!H107=\"\",\"\",Розрахунок!H107),\" - \")","v":" - "},{"$f":"IFERROR(Розрахунок!J107/1.2,\" - \")","v":" - "}," - "]
[100,{"$f":"IFERROR(IF(Розрахунок!B108=\"\",\"\",Розрахунок!B108),\" - \")","v":""},{"$f":"IFERROR(Розрахунок!D108,\" - \")","v":" - "},{"$f":"IFERROR(Розрахунок!E108,\" - \")","v":" - "},{"$f":"IFERROR(IF(Розрахунок!F108=\"\",\"\",Розрахунок!F108),\" - \")","v":" - "},{"$f":"IFERROR(IF(Розрахунок!G108=\"\",\"\",Розрахунок!G108),\" - \")","v":""},{"$f":"IFERROR(IF(Розрахунок!H108=\"\",\"\",Розрахунок!H108),\" - \")","v":" - "},{"$f":"IFERROR(Розрахунок!J108/1.2,\" - \")","v":" - "}," - "]
[101,{"$f":"IFERROR(IF(Розрахунок!B109=\"\",\"\",Розрахунок!B109),\" - \")","v":""},{"$f":"IFERROR(Розрахунок!D109,\" - \")","v":" - "},{"$f":"IFERROR(Розрахунок!E109,\" - \")","v":" - "},{"$f":"IFERROR(IF(Розрахунок!F109=\"\",\"\",Розрахунок!F109),\" - \")","v":" - "},{"$f":"IFERROR(IF(Розрахунок!G109=\"\",\"\",Розрахунок!G109),\" - \")","v":""},{"$f":"IFERROR(IF(Розрахунок!H109=\"\",\"\",Розрахунок!H109),\" - \")","v":" - "},{"$f":"IFERROR(Розрахунок!J109/1.2,\" - \")","v":" - "}," - "]
[102,{"$f":"IFERROR(IF(Розрахунок!B110=\"\",\"\",Розрахунок!B110),\" - \")","v":""},{"$f":"IFERROR(Розрахунок!D110,\" - \")","v":" - "},{"$f":"IFERROR(Розрахунок!E110,\" - \")","v":" - "},{"$f":"IFERROR(IF(Розрахунок!F110=\"\",\"\",Розрахунок!F110),\" - \")","v":" - "},{"$f":"IFERROR(IF(Розрахунок!G110=\"\",\"\",Розрахунок!G110),\" - \")","v":""},{"$f":"IFERROR(IF(Розрахунок!H110=\"\",\"\",Розрахунок!H110),\" - \")","v":" - "},{"$f":"IFERROR(Розрахунок!J110/1.2,\" - \")","v":" - "}," - "]
[103,{"$f":"IFERROR(IF(Розрахунок!B111=\"\",\"\",Розрахунок!B111),\" - \")","v":""},{"$f":"IFERROR(Розрахунок!D111,\" - \")","v":" - "},{"$f":"IFERROR(Розрахунок!E111,\" - \")","v":" - "},{"$f":"IFERROR(IF(Розрахунок!F111=\"\",\"\",Розрахунок!F111),\" - \")","v":" - "},{"$f":"IFERROR(IF(Розрахунок!G111=\"\",\"\",Розрахунок!G111),\" - \")","v":""},{"$f":"IFERROR(IF(Розрахунок!H111=\"\",\"\",Розрахунок!H111),\" - \")","v":" - "},{"$f":"IFERROR(Розрахунок!J111/1.2,\" - \")","v":" - "}," - "]
[104,{"$f":"IFERROR(IF(Розрахунок!B112=\"\",\"\",Розрахунок!B112),\" - \")","v":""},{"$f":"IFERROR(Розрахунок!D112,\" - \")","v":" - "},{"$f":"IFERROR(Розрахунок!E112,\" - \")","v":" - "},{"$f":"IFERROR(IF(Розрахунок!F112=\"\",\"\",Розрахунок!F112),\" - \")","v":" - "},{"$f":"IFERROR(IF(Розрахунок!G112=\"\",\"\",Розрахунок!G112),\" - \")","v":""},{"$f":"IFERROR(IF(Розрахунок!H112=\"\",\"\",Розрахунок!H112),\" - \")","v":" - "},{"$f":"IFERROR(Розрахунок!J112/1.2,\" - \")","v":" - "}," - "]
[105,{"$f":"IFERROR(IF(Розрахунок!B113=\"\",\"\",Розрахунок!B113),\" - \")","v":""},{"$f":"IFERROR(Розрахунок!D113,\" - \")","v":" - "},{"$f":"IFERROR(Розрахунок!E113,\" - \")","v":" - "},{"$f":"IFERROR(IF(Розрахунок!F113=\"\",\"\",Розрахунок!F113),\" - \")","v":" - "},{"$f":"IFERROR(IF(Розрахунок!G113=\"\",\"\",Розрахунок!G113),\" - \")","v":""},{"$f":"IFERROR(IF(Розрахунок!H113=\"\",\"\",Розрахунок!H113),\" - \")","v":" - "},{"$f":"IFERROR(Розрахунок!J113/1.2,\" - \")","v":" - "}," - "]
[106,{"$f":"IFERROR(IF(Розрахунок!B114=\"\",\"\",Розрахунок!B114),\" - \")","v":""},{"$f":"IFERROR(Розрахунок!D114,\" - \")","v":" - "},{"$f":"IFERROR(Розрахунок!E114,\" - \")","v":" - "},{"$f":"IFERROR(IF(Розрахунок!F114=\"\",\"\",Розрахунок!F114),\" - \")","v":" - "},{"$f":"IFERROR(IF(Розрахунок!G114=\"\",\"\",Розрахунок!G114),\" - \")","v":""},{"$f":"IFERROR(IF(Розрахунок!H114=\"\",\"\",Розрахунок!H114),\" - \")","v":" - "},{"$f":"IFERROR(Розрахунок!J114/1.2,\" - \")","v":" - "}," - "]
[107,{"$f":"IFERROR(IF(Розрахунок!B115=\"\",\"\",Розрахунок!B115),\" - \")","v":""},{"$f":"IFERROR(Розрахунок!D115,\" - \")","v":" - "},{"$f":"IFERROR(Розрахунок!E115,\" - \")","v":" - "},{"$f":"IFERROR(IF(Розрахунок!F115=\"\",\"\",Розрахунок!F115),\" - \")","v":" - "},{"$f":"IFERROR(IF(Розрахунок!G115=\"\",\"\",Розрахунок!G115),\" - \")","v":""},{"$f":"IFERROR(IF(Розрахунок!H115=\"\",\"\",Розрахунок!H115),\" - \")","v":" - "},{"$f":"IFERROR(Розрахунок!J115/1.2,\" - \")","v":" - "}," - "]
[108,{"$f":"IFERROR(IF(Розрахунок!B116=\"\",\"\",Розрахунок!B116),\" - \")","v":""},{"$f":"IFERROR(Розрахунок!D116,\" - \")","v":" - "},{"$f":"IFERROR(Розрахунок!E116,\" - \")","v":" - "},{"$f":"IFERROR(IF(Розрахунок!F116=\"\",\"\",Розрахунок!F116),\" - \")","v":" - "},{"$f":"IFERROR(IF(Розрахунок!G116=\"\",\"\",Розрахунок!G116),\" - \")","v":""},{"$f":"IFERROR(IF(Розрахунок!H116=\"\",\"\",Розрахунок!H116),\" - \")","v":" - "},{"$f":"IFERROR(Розрахунок!J116/1.2,\" - \")","v":" - "}," - "]
[109,{"$f":"IFERROR(IF(Розрахунок!B117=\"\",\"\",Розрахунок!B117),\" - \")","v":""},{"$f":"IFERROR(Розрахунок!D117,\" - \")","v":" - "},{"$f":"IFERROR(Розрахунок!E117,\" - \")","v":" - "},{"$f":"IFERROR(IF(Розрахунок!F117=\"\",\"\",Розрахунок!F117),\" - \")","v":" - "},{"$f":"IFERROR(IF(Розрахунок!G117=\"\",\"\",Розрахунок!G117),\" - \")","v":""},{"$f":"IFERROR(IF(Розрахунок!H117=\"\",\"\",Розрахунок!H117),\" - \")","v":" - "},{"$f":"IFERROR(Розрахунок!J117/1.2,\" - \")","v":" - "}," - "]
[110,{"$f":"IFERROR(IF(Розрахунок!B118=\"\",\"\",Розрахунок!B118),\" - \")","v":""},{"$f":"IFERROR(Розрахунок!D118,\" - \")","v":" - "},{"$f":"IFERROR(Розрахунок!E118,\" - \")","v":" - "},{"$f":"IFERROR(IF(Розрахунок!F118=\"\",\"\",Розрахунок!F118),\" - \")","v":" - "},{"$f":"IFERROR(IF(Розрахунок!G118=\"\",\"\",Розрахунок!G118),\" - \")","v":""},{"$f":"IFERROR(IF(Розрахунок!H118=\"\",\"\",Розрахунок!H118),\" - \")","v":" - "},{"$f":"IFERROR(Розрахунок!J118/1.2,\" - \")","v":" - "}," - "]
[111,{"$f":"IFERROR(IF(Розрахунок!B119=\"\",\"\",Розрахунок!B119),\" - \")","v":""},{"$f":"IFERROR(Розрахунок!D119,\" - \")","v":" - "},{"$f":"IFERROR(Розрахунок!E119,\" - \")","v":" - "},{"$f":"IFERROR(IF(Розрахунок!F119=\"\",\"\",Розрахунок!F119),\" - \")","v":" - "},{"$f":"IFERROR(IF(Розрахунок!G119=\"\",\"\",Розрахунок!G119),\" - \")","v":""},{"$f":"IFERROR(IF(Розрахунок!H119=\"\",\"\",Розрахунок!H119),\" - \")","v":" - "},{"$f":"IFERROR(Розрахунок!J119/1.2,\" - \")","v":" - "}," - "]
[112,{"$f":"IFERROR(IF(Розрахунок!B120=\"\",\"\",Розрахунок!B120),\" - \")","v":""},{"$f":"IFERROR(Розрахунок!D120,\" - \")","v":" - "},{"$f":"IFERROR(Розрахунок!E120,\" - \")","v":" - "},{"$f":"IFERROR(IF(Розрахунок!F120=\"\",\"\",Розрахунок!F120),\" - \")","v":" - "},{"$f":"IFERROR(IF(Розрахунок!G120=\"\",\"\",Розрахунок!G120),\" - \")","v":""},{"$f":"IFERROR(IF(Розрахунок!H120=\"\",\"\",Розрахунок!H120),\" - \")","v":" - "},{"$f":"IFERROR(Розрахунок!J120/1.2,\" - \")","v":" - "}," - "]
[113,{"$f":"IFERROR(IF(Розрахунок!B121=\"\",\"\",Розрахунок!B121),\" - \")","v":""},{"$f":"IFERROR(Розрахунок!D121,\" - \")","v":" - "},{"$f":"IFERROR(Розрахунок!E121,\" - \")","v":" - "},{"$f":"IFERROR(IF(Розрахунок!F121=\"\",\"\",Розрахунок!F121),\" - \")","v":" - "},{"$f":"IFERROR(IF(Розрахунок!G121=\"\",\"\",Розрахунок!G121),\" - \")","v":""},{"$f":"IFERROR(IF(Розрахунок!H121=\"\",\"\",Розрахунок!H121),\" - \")","v":" - "},{"$f":"IFERROR(Розрахунок!J121/1.2,\" - \")","v":" - "}," - "]
[114,{"$f":"IFERROR(IF(Розрахунок!B122=\"\",\"\",Розрахунок!B122),\" - \")","v":""},{"$f":"IFERROR(Розрахунок!D122,\" - \")","v":" - "},{"$f":"IFERROR(Розрахунок!E122,\" - \")","v":" - "},{"$f":"IFERROR(IF(Розрахунок!F122=\"\",\"\",Розрахунок!F122),\" - \")","v":" - "},{"$f":"IFERROR(IF(Розрахунок!G122=\"\",\"\",Розрахунок!G122),\" - \")","v":""},{"$f":"IFERROR(IF(Розрахунок!H122=\"\",\"\",Розрахунок!H122),\" - \")","v":" - "},{"$f":"IFERROR(Розрахунок!J122/1.2,\" - \")","v":" - "}," - "]
[115,{"$f":"IFERROR(IF(Розрахунок!B123=\"\",\"\",Розрахунок!B123),\" - \")","v":""},{"$f":"IFERROR(Розрахунок!D123,\" - \")","v":" - "},{"$f":"IFERROR(Розрахунок!E123,\" - \")","v":" - "},{"$f":"IFERROR(IF(Розрахунок!F123=\"\",\"\",Розрахунок!F123),\" - \")","v":" - "},{"$f":"IFERROR(IF(Розрахунок!G123=\"\",\"\",Розрахунок!G123),\" - \")","v":""},{"$f":"IFERROR(IF(Розрахунок!H123=\"\",\"\",Розрахунок!H123),\" - \")","v":" - "},{"$f":"IFERROR(Розрахунок!J123/1.2,\" - \")","v":" - "}," - "]
[116,{"$f":"IFERROR(IF(Розрахунок!B124=\"\",\"\",Розрахунок!B124),\" - \")","v":""},{"$f":"IFERROR(Розрахунок!D124,\" - \")","v":" - "},{"$f":"IFERROR(Розрахунок!E124,\" - \")","v":" - "},{"$f":"IFERROR(IF(Розрахунок!F124=\"\",\"\",Розрахунок!F124),\" - \")","v":" - "},{"$f":"IFERROR(IF(Розрахунок!G124=\"\",\"\",Розрахунок!G124),\" - \")","v":""},{"$f":"IFERROR(IF(Розрахунок!H124=\"\",\"\",Розрахунок!H124),\" - \")","v":" - "},{"$f":"IFERROR(Розрахунок!J124/1.2,\" - \")","v":" - "}," - "]
[117,{"$f":"IFERROR(IF(Розрахунок!B125=\"\",\"\",Розрахунок!B125),\" - \")","v":""},{"$f":"IFERROR(Розрахунок!D125,\" - \")","v":" - "},{"$f":"IFERROR(Розрахунок!E125,\" - \")","v":" - "},{"$f":"IFERROR(IF(Розрахунок!F125=\"\",\"\",Розрахунок!F125),\" - \")","v":" - "},{"$f":"IFERROR(IF(Розрахунок!G125=\"\",\"\",Розрахунок!G125),\" - \")","v":""},{"$f":"IFERROR(IF(Розрахунок!H125=\"\",\"\",Розрахунок!H125),\" - \")","v":" - "},{"$f":"IFERROR(Розрахунок!J125/1.2,\" - \")","v":" - "}," - "]
[118,{"$f":"IFERROR(IF(Розрахунок!B126=\"\",\"\",Розрахунок!B126),\" - \")","v":""},{"$f":"IFERROR(Розрахунок!D126,\" - \")","v":" - "},{"$f":"IFERROR(Розрахунок!E126,\" - \")","v":" - "},{"$f":"IFERROR(IF(Розрахунок!F126=\"\",\"\",Розрахунок!F126),\" - \")","v":" - "},{"$f":"IFERROR(IF(Розрахунок!G126=\"\",\"\",Розрахунок!G126),\" - \")","v":""},{"$f":"IFERROR(IF(Розрахунок!H126=\"\",\"\",Розрахунок!H126),\" - \")","v":" - "},{"$f":"IFERROR(Розрахунок!J126/1.2,\" - \")","v":" - "}," - "]
[119,{"$f":"IFERROR(IF(Розрахунок!B127=\"\",\"\",Розрахунок!B127),\" - \")","v":""},{"$f":"IFERROR(Розрахунок!D127,\" - \")","v":" - "},{"$f":"IFERROR(Розрахунок!E127,\" - \")","v":" - "},{"$f":"IFERROR(IF(Розрахунок!F127=\"\",\"\",Розрахунок!F127),\" - \")","v":" - "},{"$f":"IFERROR(IF(Розрахунок!G127=\"\",\"\",Розрахунок!G127),\" - \")","v":""},{"$f":"IFERROR(IF(Розрахунок!H127=\"\",\"\",Розрахунок!H127),\" - \")","v":" - "},{"$f":"IFERROR(Розрахунок!J127/1.2,\" - \")","v":" - "}," - "]
[120,{"$f":"IFERROR(IF(Розрахунок!B128=\"\",\"\",Розрахунок!B128),\" - \")","v":""},{"$f":"IFERROR(Розрахунок!D128,\" - \")","v":" - "},{"$f":"IFERROR(Розрахунок!E128,\" - \")","v":" - "},{"$f":"IFERROR(IF(Розрахунок!F128=\"\",\"\",Розрахунок!F128),\" - \")","v":" - "},{"$f":"IFERROR(IF(Розрахунок!G128=\"\",\"\",Розрахунок!G128),\" - \")","v":""},{"$f":"IFERROR(IF(Розрахунок!H128=\"\",\"\",Розрахунок!H128),\" - \")","v":" - "},{"$f":"IFERROR(Розрахунок!J128/1.2,\" - \")","v":" - "}," - "]
[121,{"$f":"IFERROR(IF(Розрахунок!B129=\"\",\"\",Розрахунок!B129),\" - \")","v":""},{"$f":"IFERROR(Розрахунок!D129,\" - \")","v":" - "},{"$f":"IFERROR(Розрахунок!E129,\" - \")","v":" - "},{"$f":"IFERROR(IF(Розрахунок!F129=\"\",\"\",Розрахунок!F129),\" - \")","v":" - "},{"$f":"IFERROR(IF(Розрахунок!G129=\"\",\"\",Розрахунок!G129),\" - \")","v":""},{"$f":"IFERROR(IF(Розрахунок!H129=\"\",\"\",Розрахунок!H129),\" - \")","v":" - "},{"$f":"IFERROR(Розрахунок!J129/1.2,\" - \")","v":" - "},{"$f":"IFERROR(H134*F134,\" - \")","v":" - "}]
[122,{"$f":"IFERROR(IF(Розрахунок!B130=\"\",\"\",Розрахунок!B130),\" - \")","v":""},{"$f":"IFERROR(Розрахунок!D130,\" - \")","v":" - "},{"$f":"IFERROR(Розрахунок!E130,\" - \")","v":" - "},{"$f":"IFERROR(IF(Розрахунок!F130=\"\",\"\",Розрахунок!F130),\" - \")","v":" - "},{"$f":"IFERROR(IF(Розрахунок!G130=\"\",\"\",Розрахунок!G130),\" - \")","v":""},{"$f":"IFERROR(IF(Розрахунок!H130=\"\",\"\",Розрахунок!H130),\" - \")","v":" - "},{"$f":"IFERROR(Розрахунок!J130/1.2,\" - \")","v":" - "},{"$f":"IFERROR(H135*F135,\" - \")","v":" - "}]
[123,{"$f":"IFERROR(IF(Розрахунок!B131=\"\",\"\",Розрахунок!B131),\" - \")","v":""},{"$f":"IFERROR(Розрахунок!D131,\" - \")","v":" - "},{"$f":"IFERROR(Розрахунок!E131,\" - \")","v":" - "},{"$f":"IFERROR(IF(Розрахунок!F131=\"\",\"\",Розрахунок!F131),\" - \")","v":" - "},{"$f":"IFERROR(IF(Розрахунок!G131=\"\",\"\",Розрахунок!G131),\" - \")","v":""},{"$f":"IFERROR(IF(Розрахунок!H131=\"\",\"\",Розрахунок!H131),\" - \")","v":" - "},{"$f":"IFERROR(Розрахунок!J131/1.2,\" - \")","v":" - "}," - "]
[124,{"$f":"IFERROR(IF(Розрахунок!B132=\"\",\"\",Розрахунок!B132),\" - \")","v":""},{"$f":"IFERROR(Розрахунок!D132,\" - \")","v":" - "},{"$f":"IFERROR(Розрахунок!E132,\" - \")","v":" - "},{"$f":"IFERROR(IF(Розрахунок!F132=\"\",\"\",Розрахунок!F132),\" - \")","v":" - "},{"$f":"IFERROR(IF(Розрахунок!G132=\"\",\"\",Розрахунок!G132),\" - \")","v":""},{"$f":"IFERROR(IF(Розрахунок!H132=\"\",\"\",Розрахунок!H132),\" - \")","v":" - "},{"$f":"IFERROR(Розрахунок!J132/1.2,\" - \")","v":" - "}," - "]
[125,{"$f":"IFERROR(IF(Розрахунок!B133=\"\",\"\",Розрахунок!B133),\" - \")","v":""},{"$f":"IFERROR(Розрахунок!D133,\" - \")","v":" - "},{"$f":"IFERROR(Розрахунок!E133,\" - \")","v":" - "},{"$f":"IFERROR(IF(Розрахунок!F133=\"\",\"\",Розрахунок!F133),\" - \")","v":" - "},{"$f":"IFERROR(IF(Розрахунок!G133=\"\",\"\",Розрахунок!G133),\" - \")","v":""},{"$f":"IFERROR(IF(Розрахунок!H133=\"\",\"\",Розрахунок!H133),\" - \")","v":" - "},{"$f":"IFERROR(Розрахунок!J133/1.2,\" - \")","v":" - "}," - "]
[126,{"$f":"IFERROR(IF(Розрахунок!B134=\"\",\"\",Розрахунок!B134),\" - \")","v":""},{"$f":"IFERROR(Розрахунок!D134,\" - \")","v":" - "},{"$f":"IFERROR(Розрахунок!E134,\" - \")","v":" - "},{"$f":"IFERROR(IF(Розрахунок!F134=\"\",\"\",Розрахунок!F134),\" - \")","v":" - "},{"$f":"IFERROR(IF(Розрахунок!G134=\"\",\"\",Розрахунок!G134),\" - \")","v":""},{"$f":"IFERROR(IF(Розрахунок!H134=\"\",\"\",Розрахунок!H134),\" - \")","v":" - "},{"$f":"IFERROR(Розрахунок!J134/1.2,\" - \")","v":" - "}," - "]
[127,{"$f":"IFERROR(IF(Розрахунок!B135=\"\",\"\",Розрахунок!B135),\" - \")","v":""},{"$f":"IFERROR(Розрахунок!D135,\" - \")","v":" - "},{"$f":"IFERROR(Розрахунок!E135,\" - \")","v":" - "},{"$f":"IFERROR(IF(Розрахунок!F135=\"\",\"\",Розрахунок!F135),\" - \")","v":" - "},{"$f":"IFERROR(IF(Розрахунок!G135=\"\",\"\",Розрахунок!G135),\" - \")","v":""},{"$f":"IFERROR(IF(Розрахунок!H135=\"\",\"\",Розрахунок!H135),\" - \")","v":" - "},{"$f":"IFERROR(Розрахунок!J135/1.2,\" - \")","v":" - "}," - "]
[128,{"$f":"IFERROR(IF(Розрахунок!B136=\"\",\"\",Розрахунок!B136),\" - \")","v":""},{"$f":"IFERROR(Розрахунок!D136,\" - \")","v":" - "},{"$f":"IFERROR(Розрахунок!E136,\" - \")","v":" - "},{"$f":"IFERROR(IF(Розрахунок!F136=\"\",\"\",Розрахунок!F136),\" - \")","v":" - "},{"$f":"IFERROR(IF(Розрахунок!G136=\"\",\"\",Розрахунок!G136),\" - \")","v":""},{"$f":"IFERROR(IF(Розрахунок!H136=\"\",\"\",Розрахунок!H136),\" - \")","v":" - "},{"$f":"IFERROR(Розрахунок!J136/1.2,\" - \")","v":" - "}," - "]
[129,{"$f":"IFERROR(IF(Розрахунок!B137=\"\",\"\",Розрахунок!B137),\" - \")","v":""},{"$f":"IFERROR(Розрахунок!D137,\" - \")","v":" - "},{"$f":"IFERROR(Розрахунок!E137,\" - \")","v":" - "},{"$f":"IFERROR(IF(Розрахунок!F137=\"\",\"\",Розрахунок!F137),\" - \")","v":" - "},{"$f":"IFERROR(IF(Розрахунок!G137=\"\",\"\",Розрахунок!G137),\" - \")","v":""},{"$f":"IFERROR(IF(Розрахунок!H137=\"\",\"\",Розрахунок!H137),\" - \")","v":" - "},{"$f":"IFERROR(Розрахунок!J137/1.2,\" - \")","v":" - "}," - "]
[130,{"$f":"IFERROR(IF(Розрахунок!B138=\"\",\"\",Розрахунок!B138),\" - \")","v":""},{"$f":"IFERROR(Розрахунок!D138,\" - \")","v":" - "},{"$f":"IFERROR(Розрахунок!E138,\" - \")","v":" - "},{"$f":"IFERROR(IF(Розрахунок!F138=\"\",\"\",Розрахунок!F138),\" - \")","v":" - "},{"$f":"IFERROR(IF(Розрахунок!G138=\"\",\"\",Розрахунок!G138),\" - \")","v":""},{"$f":"IFERROR(IF(Розрахунок!H138=\"\",\"\",Розрахунок!H138),\" - \")","v":" - "},{"$f":"IFERROR(Розрахунок!J138/1.2,\" - \")","v":" - "}," - "]
[131,{"$f":"IFERROR(IF(Розрахунок!B139=\"\",\"\",Розрахунок!B139),\" - \")","v":""},{"$f":"IFERROR(Розрахунок!D139,\" - \")","v":" - "},{"$f":"IFERROR(Розрахунок!E139,\" - \")","v":" - "},{"$f":"IFERROR(IF(Розрахунок!F139=\"\",\"\",Розрахунок!F139),\" - \")","v":" - "},{"$f":"IFERROR(IF(Розрахунок!G139=\"\",\"\",Розрахунок!G139),\" - \")","v":""},{"$f":"IFERROR(IF(Розрахунок!H139=\"\",\"\",Розрахунок!H139),\" - \")","v":" - "},{"$f":"IFERROR(Розрахунок!J139/1.2,\" - \")","v":" - "}," - "]
[132,{"$f":"IFERROR(IF(Розрахунок!B140=\"\",\"\",Розрахунок!B140),\" - \")","v":""},{"$f":"IFERROR(Розрахунок!D140,\" - \")","v":" - "},{"$f":"IFERROR(Розрахунок!E140,\" - \")","v":" - "},{"$f":"IFERROR(IF(Розрахунок!F140=\"\",\"\",Розрахунок!F140),\" - \")","v":" - "},{"$f":"IFERROR(IF(Розрахунок!G140=\"\",\"\",Розрахунок!G140),\" - \")","v":""},{"$f":"IFERROR(IF(Розрахунок!H140=\"\",\"\",Розрахунок!H140),\" - \")","v":" - "},{"$f":"IFERROR(Розрахунок!J140/1.2,\" - \")","v":" - "}," - "]
[133,{"$f":"IFERROR(IF(Розрахунок!B141=\"\",\"\",Розрахунок!B141),\" - \")","v":""},{"$f":"IFERROR(Розрахунок!D141,\" - \")","v":" - "},{"$f":"IFERROR(Розрахунок!E141,\" - \")","v":" - "},{"$f":"IFERROR(IF(Розрахунок!F141=\"\",\"\",Розрахунок!F141),\" - \")","v":" - "},{"$f":"IFERROR(IF(Розрахунок!G141=\"\",\"\",Розрахунок!G141),\" - \")","v":""},{"$f":"IFERROR(IF(Розрахунок!H141=\"\",\"\",Розрахунок!H141),\" - \")","v":" - "},{"$f":"IFERROR(Розрахунок!J141/1.2,\" - \")","v":" - "}," - "]
[134,{"$f":"IFERROR(IF(Розрахунок!B142=\"\",\"\",Розрахунок!B142),\" - \")","v":""},{"$f":"IFERROR(Розрахунок!D142,\" - \")","v":" - "},{"$f":"IFERROR(Розрахунок!E142,\" - \")","v":" - "},{"$f":"IFERROR(IF(Розрахунок!F142=\"\",\"\",Розрахунок!F142),\" - \")","v":" - "},{"$f":"IFERROR(IF(Розрахунок!G142=\"\",\"\",Розрахунок!G142),\" - \")","v":""},{"$f":"IFERROR(IF(Розрахунок!H142=\"\",\"\",Розрахунок!H142),\" - \")","v":" - "},{"$f":"IFERROR(Розрахунок!J142/1.2,\" - \")","v":" - "}," - "]
[135,{"$f":"IFERROR(IF(Розрахунок!B143=\"\",\"\",Розрахунок!B143),\" - \")","v":""},{"$f":"IFERROR(Розрахунок!D143,\" - \")","v":" - "},{"$f":"IFERROR(Розрахунок!E143,\" - \")","v":" - "},{"$f":"IFERROR(IF(Розрахунок!F143=\"\",\"\",Розрахунок!F143),\" - \")","v":" - "},{"$f":"IFERROR(IF(Розрахунок!G143=\"\",\"\",Розрахунок!G143),\" - \")","v":""},{"$f":"IFERROR(IF(Розрахунок!H143=\"\",\"\",Розрахунок!H143),\" - \")","v":" - "},{"$f":"IFERROR(Розрахунок!J143/1.2,\" - \")","v":" - "}," - "]
[136,{"$f":"IFERROR(IF(Розрахунок!B144=\"\",\"\",Розрахунок!B144),\" - \")","v":""},{"$f":"IFERROR(Розрахунок!D144,\" - \")","v":" - "},{"$f":"IFERROR(Розрахунок!E144,\" - \")","v":" - "},{"$f":"IFERROR(IF(Розрахунок!F144=\"\",\"\",Розрахунок!F144),\" - \")","v":" - "},{"$f":"IFERROR(IF(Розрахунок!G144=\"\",\"\",Розрахунок!G144),\" - \")","v":""},{"$f":"IFERROR(IF(Розрахунок!H144=\"\",\"\",Розрахунок!H144),\" - \")","v":" - "},{"$f":"IFERROR(Розрахунок!J144/1.2,\" - \")","v":" - "}," - "]
[137,{"$f":"IFERROR(IF(Розрахунок!B145=\"\",\"\",Розрахунок!B145),\" - \")","v":""},{"$f":"IFERROR(Розрахунок!D145,\" - \")","v":" - "},{"$f":"IFERROR(Розрахунок!E145,\" - \")","v":" - "},{"$f":"IFERROR(IF(Розрахунок!F145=\"\",\"\",Розрахунок!F145),\" - \")","v":" - "},{"$f":"IFERROR(IF(Розрахунок!G145=\"\",\"\",Розрахунок!G145),\" - \")","v":""},{"$f":"IFERROR(IF(Розрахунок!H145=\"\",\"\",Розрахунок!H145),\" - \")","v":" - "},{"$f":"IFERROR(Розрахунок!J145/1.2,\" - \")","v":" - "}," - "]
[138,{"$f":"IFERROR(IF(Розрахунок!B146=\"\",\"\",Розрахунок!B146),\" - \")","v":""},{"$f":"IFERROR(Розрахунок!D146,\" - \")","v":" - "},{"$f":"IFERROR(Розрахунок!E146,\" - \")","v":" - "},{"$f":"IFERROR(IF(Розрахунок!F146=\"\",\"\",Розрахунок!F146),\" - \")","v":" - "},{"$f":"IFERROR(IF(Розрахунок!G146=\"\",\"\",Розрахунок!G146),\" - \")","v":""},{"$f":"IFERROR(IF(Розрахунок!H146=\"\",\"\",Розрахунок!H146),\" - \")","v":" - "},{"$f":"IFERROR(Розрахунок!J146/1.2,\" - \")","v":" - "}," - "]
[139,{"$f":"IFERROR(IF(Розрахунок!B147=\"\",\"\",Розрахунок!B147),\" - \")","v":""},{"$f":"IFERROR(Розрахунок!D147,\" - \")","v":" - "},{"$f":"IFERROR(Розрахунок!E147,\" - \")","v":" - "},{"$f":"IFERROR(IF(Розрахунок!F147=\"\",\"\",Розрахунок!F147),\" - \")","v":" - "},{"$f":"IFERROR(IF(Розрахунок!G147=\"\",\"\",Розрахунок!G147),\" - \")","v":""},{"$f":"IFERROR(IF(Розрахунок!H147=\"\",\"\",Розрахунок!H147),\" - \")","v":" - "},{"$f":"IFERROR(Розрахунок!J147/1.2,\" - \")","v":" - "}," - "]
[140,{"$f":"IFERROR(IF(Розрахунок!B148=\"\",\"\",Розрахунок!B148),\" - \")","v":""},{"$f":"IFERROR(Розрахунок!D148,\" - \")","v":" - "},{"$f":"IFERROR(Розрахунок!E148,\" - \")","v":" - "},{"$f":"IFERROR(IF(Розрахунок!F148=\"\",\"\",Розрахунок!F148),\" - \")","v":" - "},{"$f":"IFERROR(IF(Розрахунок!G148=\"\",\"\",Розрахунок!G148),\" - \")","v":""},{"$f":"IFERROR(IF(Розрахунок!H148=\"\",\"\",Розрахунок!H148),\" - \")","v":" - "},{"$f":"IFERROR(Розрахунок!J148/1.2,\" - \")","v":" - "}," - "]
[141,{"$f":"IFERROR(IF(Розрахунок!B149=\"\",\"\",Розрахунок!B149),\" - \")","v":""},{"$f":"IFERROR(Розрахунок!D149,\" - \")","v":" - "},{"$f":"IFERROR(Розрахунок!E149,\" - \")","v":" - "},{"$f":"IFERROR(IF(Розрахунок!F149=\"\",\"\",Розрахунок!F149),\" - \")","v":" - "},{"$f":"IFERROR(IF(Розрахунок!G149=\"\",\"\",Розрахунок!G149),\" - \")","v":""},{"$f":"IFERROR(IF(Розрахунок!H149=\"\",\"\",Розрахунок!H149),\" - \")","v":" - "},{"$f":"IFERROR(Розрахунок!J149/1.2,\" - \")","v":" - "}," - "]
[142,{"$f":"IFERROR(IF(Розрахунок!B150=\"\",\"\",Розрахунок!B150),\" - \")","v":""},{"$f":"IFERROR(Розрахунок!D150,\" - \")","v":" - "},{"$f":"IFERROR(Розрахунок!E150,\" - \")","v":" - "},{"$f":"IFERROR(IF(Розрахунок!F150=\"\",\"\",Розрахунок!F150),\" - \")","v":" - "},{"$f":"IFERROR(IF(Розрахунок!G150=\"\",\"\",Розрахунок!G150),\" - \")","v":""},{"$f":"IFERROR(IF(Розрахунок!H150=\"\",\"\",Розрахунок!H150),\" - \")","v":" - "},{"$f":"IFERROR(Розрахунок!J150/1.2,\" - \")","v":" - "}," - "]
[143,{"$f":"IFERROR(IF(Розрахунок!B151=\"\",\"\",Розрахунок!B151),\" - \")","v":""},{"$f":"IFERROR(Розрахунок!D151,\" - \")","v":" - "},{"$f":"IFERROR(Розрахунок!E151,\" - \")","v":" - "},{"$f":"IFERROR(IF(Розрахунок!F151=\"\",\"\",Розрахунок!F151),\" - \")","v":" - "},{"$f":"IFERROR(IF(Розрахунок!G151=\"\",\"\",Розрахунок!G151),\" - \")","v":""},{"$f":"IFERROR(IF(Розрахунок!H151=\"\",\"\",Розрахунок!H151),\" - \")","v":" - "},{"$f":"IFERROR(Розрахунок!J151/1.2,\" - \")","v":" - "}," - "]
[144,{"$f":"IFERROR(IF(Розрахунок!B152=\"\",\"\",Розрахунок!B152),\" - \")","v":""},{"$f":"IFERROR(Розрахунок!D152,\" - \")","v":" - "},{"$f":"IFERROR(Розрахунок!E152,\" - \")","v":" - "},{"$f":"IFERROR(IF(Розрахунок!F152=\"\",\"\",Розрахунок!F152),\" - \")","v":" - "},{"$f":"IFERROR(IF(Розрахунок!G152=\"\",\"\",Розрахунок!G152),\" - \")","v":""},{"$f":"IFERROR(IF(Розрахунок!H152=\"\",\"\",Розрахунок!H152),\" - \")","v":" - "},{"$f":"IFERROR(Розрахунок!J152/1.2,\" - \")","v":" - "}," - "]
[145,{"$f":"IFERROR(IF(Розрахунок!B153=\"\",\"\",Розрахунок!B153),\" - \")","v":""},{"$f":"IFERROR(Розрахунок!D153,\" - \")","v":" - "},{"$f":"IFERROR(Розрахунок!E153,\" - \")","v":" - "},{"$f":"IFERROR(IF(Розрахунок!F153=\"\",\"\",Розрахунок!F153),\" - \")","v":" - "},{"$f":"IFERROR(IF(Розрахунок!G153=\"\",\"\",Розрахунок!G153),\" - \")","v":""},{"$f":"IFERROR(IF(Розрахунок!H153=\"\",\"\",Розрахунок!H153),\" - \")","v":" - "},{"$f":"IFERROR(Розрахунок!J153/1.2,\" - \")","v":" - "}," - "]
[146,{"$f":"IFERROR(IF(Розрахунок!B154=\"\",\"\",Розрахунок!B154),\" - \")","v":""},{"$f":"IFERROR(Розрахунок!D154,\" - \")","v":" - "},{"$f":"IFERROR(Розрахунок!E154,\" - \")","v":" - "},{"$f":"IFERROR(IF(Розрахунок!F154=\"\",\"\",Розрахунок!F154),\" - \")","v":" - "},{"$f":"IFERROR(IF(Розрахунок!G154=\"\",\"\",Розрахунок!G154),\" - \")","v":""},{"$f":"IFERROR(IF(Розрахунок!H154=\"\",\"\",Розрахунок!H154),\" - \")","v":" - "},{"$f":"IFERROR(Розрахунок!J154/1.2,\" - \")","v":" - "}," - "]
[147,{"$f":"IFERROR(IF(Розрахунок!B155=\"\",\"\",Розрахунок!B155),\" - \")","v":""},{"$f":"IFERROR(Розрахунок!D155,\" - \")","v":" - "},{"$f":"IFERROR(Розрахунок!E155,\" - \")","v":" - "},{"$f":"IFERROR(IF(Розрахунок!F155=\"\",\"\",Розрахунок!F155),\" - \")","v":" - "},{"$f":"IFERROR(IF(Розрахунок!G155=\"\",\"\",Розрахунок!G155),\" - \")","v":""},{"$f":"IFERROR(IF(Розрахунок!H155=\"\",\"\",Розрахунок!H155),\" - \")","v":" - "},{"$f":"IFERROR(Розрахунок!J155/1.2,\" - \")","v":" - "}," - "]
[148,{"$f":"IFERROR(IF(Розрахунок!B156=\"\",\"\",Розрахунок!B156),\" - \")","v":""},{"$f":"IFERROR(Розрахунок!D156,\" - \")","v":" - "},{"$f":"IFERROR(Розрахунок!E156,\" - \")","v":" - "},{"$f":"IFERROR(IF(Розрахунок!F156=\"\",\"\",Розрахунок!F156),\" - \")","v":" - "},{"$f":"IFERROR(IF(Розрахунок!G156=\"\",\"\",Розрахунок!G156),\" - \")","v":""},{"$f":"IFERROR(IF(Розрахунок!H156=\"\",\"\",Розрахунок!H156),\" - \")","v":" - "},{"$f":"IFERROR(Розрахунок!J156/1.2,\" - \")","v":" - "}," - "]
[149,{"$f":"IFERROR(IF(Розрахунок!B157=\"\",\"\",Розрахунок!B157),\" - \")","v":""},{"$f":"IFERROR(Розрахунок!D157,\" - \")","v":" - "},{"$f":"IFERROR(Розрахунок!E157,\" - \")","v":" - "},{"$f":"IFERROR(IF(Розрахунок!F157=\"\",\"\",Розрахунок!F157),\" - \")","v":" - "},{"$f":"IFERROR(IF(Розрахунок!G157=\"\",\"\",Розрахунок!G157),\" - \")","v":""},{"$f":"IFERROR(IF(Розрахунок!H157=\"\",\"\",Розрахунок!H157),\" - \")","v":" - "},{"$f":"IFERROR(Розрахунок!J157/1.2,\" - \")","v":" - "}," - "]
[150,{"$f":"IFERROR(IF(Розрахунок!B158=\"\",\"\",Розрахунок!B158),\" - \")","v":""},{"$f":"IFERROR(Розрахунок!D158,\" - \")","v":" - "},{"$f":"IFERROR(Розрахунок!E158,\" - \")","v":" - "},{"$f":"IFERROR(IF(Розрахунок!F158=\"\",\"\",Розрахунок!F158),\" - \")","v":" - "},{"$f":"IFERROR(IF(Розрахунок!G158=\"\",\"\",Розрахунок!G158),\" - \")","v":""},{"$f":"IFERROR(IF(Розрахунок!H158=\"\",\"\",Розрахунок!H158),\" - \")","v":" - "},{"$f":"IFERROR(Розрахунок!J158/1.2,\" - \")","v":" - "}," - "]
[151,{"$f":"IFERROR(IF(Розрахунок!B159=\"\",\"\",Розрахунок!B159),\" - \")","v":""},{"$f":"IFERROR(Розрахунок!D159,\" - \")","v":" - "},{"$f":"IFERROR(Розрахунок!E159,\" - \")","v":" - "},{"$f":"IFERROR(IF(Розрахунок!F159=\"\",\"\",Розрахунок!F159),\" - \")","v":" - "},{"$f":"IFERROR(IF(Розрахунок!G159=\"\",\"\",Розрахунок!G159),\" - \")","v":""},{"$f":"IFERROR(IF(Розрахунок!H159=\"\",\"\",Розрахунок!H159),\" - \")","v":" - "},{"$f":"IFERROR(Розрахунок!J159/1.2,\" - \")","v":" - "}," - "]
[152,{"$f":"IFERROR(IF(Розрахунок!B160=\"\",\"\",Розрахунок!B160),\" - \")","v":""},{"$f":"IFERROR(Розрахунок!D160,\" - \")","v":" - "},{"$f":"IFERROR(Розрахунок!E160,\" - \")","v":" - "},{"$f":"IFERROR(IF(Розрахунок!F160=\"\",\"\",Розрахунок!F160),\" - \")","v":" - "},{"$f":"IFERROR(IF(Розрахунок!G160=\"\",\"\",Розрахунок!G160),\" - \")","v":""},{"$f":"IFERROR(IF(Розрахунок!H160=\"\",\"\",Розрахунок!H160),\" - \")","v":" - "},{"$f":"IFERROR(Розрахунок!J160/1.2,\" - \")","v":" - "}," - "]
[153,{"$f":"IFERROR(IF(Розрахунок!B161=\"\",\"\",Розрахунок!B161),\" - \")","v":""},{"$f":"IFERROR(Розрахунок!D161,\" - \")","v":" - "},{"$f":"IFERROR(Розрахунок!E161,\" - \")","v":" - "},{"$f":"IFERROR(IF(Розрахунок!F161=\"\",\"\",Розрахунок!F161),\" - \")","v":" - "},{"$f":"IFERROR(IF(Розрахунок!G161=\"\",\"\",Розрахунок!G161),\" - \")","v":""},{"$f":"IFERROR(IF(Розрахунок!H161=\"\",\"\",Розрахунок!H161),\" - \")","v":" - "},{"$f":"IFERROR(Розрахунок!J161/1.2,\" - \")","v":" - "}," - "]
[154,{"$f":"IFERROR(IF(Розрахунок!B162=\"\",\"\",Розрахунок!B162),\" - \")","v":""},{"$f":"IFERROR(Розрахунок!D162,\" - \")","v":" - "},{"$f":"IFERROR(Розрахунок!E162,\" - \")","v":" - "},{"$f":"IFERROR(IF(Розрахунок!F162=\"\",\"\",Розрахунок!F162),\" - \")","v":" - "},{"$f":"IFERROR(IF(Розрахунок!G162=\"\",\"\",Розрахунок!G162),\" - \")","v":""},{"$f":"IFERROR(IF(Розрахунок!H162=\"\",\"\",Розрахунок!H162),\" - \")","v":" - "},{"$f":"IFERROR(Розрахунок!J162/1.2,\" - \")","v":" - "}," - "]
[155,{"$f":"IFERROR(IF(Розрахунок!B163=\"\",\"\",Розрахунок!B163),\" - \")","v":""},{"$f":"IFERROR(Розрахунок!D163,\" - \")","v":" - "},{"$f":"IFERROR(Розрахунок!E163,\" - \")","v":" - "},{"$f":"IFERROR(IF(Розрахунок!F163=\"\",\"\",Розрахунок!F163),\" - \")","v":" - "},{"$f":"IFERROR(IF(Розрахунок!G163=\"\",\"\",Розрахунок!G163),\" - \")","v":""},{"$f":"IFERROR(IF(Розрахунок!H163=\"\",\"\",Розрахунок!H163),\" - \")","v":" - "},{"$f":"IFERROR(Розрахунок!J163/1.2,\" - \")","v":" - "}," - "]
[156,{"$f":"IFERROR(IF(Розрахунок!B164=\"\",\"\",Розрахунок!B164),\" - \")","v":""},{"$f":"IFERROR(Розрахунок!D164,\" - \")","v":" - "},{"$f":"IFERROR(Розрахунок!E164,\" - \")","v":" - "},{"$f":"IFERROR(IF(Розрахунок!F164=\"\",\"\",Розрахунок!F164),\" - \")","v":" - "},{"$f":"IFERROR(IF(Розрахунок!G164=\"\",\"\",Розрахунок!G164),\" - \")","v":""},{"$f":"IFERROR(IF(Розрахунок!H164=\"\",\"\",Розрахунок!H164),\" - \")","v":" - "},{"$f":"IFERROR(Розрахунок!J164/1.2,\" - \")","v":" - "}," - "]
[157,{"$f":"IFERROR(IF(Розрахунок!B165=\"\",\"\",Розрахунок!B165),\" - \")","v":""},{"$f":"IFERROR(Розрахунок!D165,\" - \")","v":" - "},{"$f":"IFERROR(Розрахунок!E165,\" - \")","v":" - "},{"$f":"IFERROR(IF(Розрахунок!F165=\"\",\"\",Розрахунок!F165),\" - \")","v":" - "},{"$f":"IFERROR(IF(Розрахунок!G165=\"\",\"\",Розрахунок!G165),\" - \")","v":""},{"$f":"IFERROR(IF(Розрахунок!H165=\"\",\"\",Розрахунок!H165),\" - \")","v":" - "},{"$f":"IFERROR(Розрахунок!J165/1.2,\" - \")","v":" - "}," - "]
[158,{"$f":"IFERROR(IF(Розрахунок!B166=\"\",\"\",Розрахунок!B166),\" - \")","v":""},{"$f":"IFERROR(Розрахунок!D166,\" - \")","v":" - "},{"$f":"IFERROR(Розрахунок!E166,\" - \")","v":" - "},{"$f":"IFERROR(IF(Розрахунок!F166=\"\",\"\",Розрахунок!F166),\" - \")","v":" - "},{"$f":"IFERROR(IF(Розрахунок!G166=\"\",\"\",Розрахунок!G166),\" - \")","v":""},{"$f":"IFERROR(IF(Розрахунок!H166=\"\",\"\",Розрахунок!H166),\" - \")","v":" - "},{"$f":"IFERROR(Розрахунок!J166/1.2,\" - \")","v":" - "}," - "]
[159,{"$f":"IFERROR(IF(Розрахунок!B167=\"\",\"\",Розрахунок!B167),\" - \")","v":""},{"$f":"IFERROR(Розрахунок!D167,\" - \")","v":" - "},{"$f":"IFERROR(Розрахунок!E167,\" - \")","v":" - "},{"$f":"IFERROR(IF(Розрахунок!F167=\"\",\"\",Розрахунок!F167),\" - \")","v":" - "},{"$f":"IFERROR(IF(Розрахунок!G167=\"\",\"\",Розрахунок!G167),\" - \")","v":""},{"$f":"IFERROR(IF(Розрахунок!H167=\"\",\"\",Розрахунок!H167),\" - \")","v":" - "},{"$f":"IFERROR(Розрахунок!J167/1.2,\" - \")","v":" - "}," - "]
[160,{"$f":"IFERROR(IF(Розрахунок!B168=\"\",\"\",Розрахунок!B168),\" - \")","v":""},{"$f":"IFERROR(Розрахунок!D168,\" - \")","v":" - "},{"$f":"IFERROR(Розрахунок!E168,\" - \")","v":" - "},{"$f":"IFERROR(IF(Розрахунок!F168=\"\",\"\",Розрахунок!F168),\" - \")","v":" - "},{"$f":"IFERROR(IF(Розрахунок!G168=\"\",\"\",Розрахунок!G168),\" - \")","v":""},{"$f":"IFERROR(IF(Розрахунок!H168=\"\",\"\",Розрахунок!H168),\" - \")","v":" - "},{"$f":"IFERROR(Розрахунок!J168/1.2,\" - \")","v":" - "}," - "]
[161,{"$f":"IFERROR(IF(Розрахунок!B169=\"\",\"\",Розрахунок!B169),\" - \")","v":""},{"$f":"IFERROR(Розрахунок!D169,\" - \")","v":" - "},{"$f":"IFERROR(Розрахунок!E169,\" - \")","v":" - "},{"$f":"IFERROR(IF(Розрахунок!F169=\"\",\"\",Розрахунок!F169),\" - \")","v":" - "},{"$f":"IFERROR(IF(Розрахунок!G169=\"\",\"\",Розрахунок!G169),\" - \")","v":""},{"$f":"IFERROR(IF(Розрахунок!H169=\"\",\"\",Розрахунок!H169),\" - \")","v":" - "},{"$f":"IFERROR(Розрахунок!J169/1.2,\" - \")","v":" - "},{"$f":"IFERROR(H174*F174,\" - \")","v":" - "}]
[162,{"$f":"IFERROR(IF(Розрахунок!B170=\"\",\"\",Розрахунок!B170),\" - \")","v":""},{"$f":"IFERROR(Розрахунок!D170,\" - \")","v":" - "},{"$f":"IFERROR(Розрахунок!E170,\" - \")","v":" - "},{"$f":"IFERROR(IF(Розрахунок!F170=\"\",\"\",Розрахунок!F170),\" - \")","v":" - "},{"$f":"IFERROR(IF(Розрахунок!G170=\"\",\"\",Розрахунок!G170),\" - \")","v":""},{"$f":"IFERROR(IF(Розрахунок!H170=\"\",\"\",Розрахунок!H170),\" - \")","v":" - "},{"$f":"IFERROR(Розрахунок!J170/1.2,\" - \")","v":" - "},{"$f":"IFERROR(H175*F175,\" - \")","v":" - "}]
[163,{"$f":"IFERROR(IF(Розрахунок!B171=\"\",\"\",Розрахунок!B171),\" - \")","v":""},{"$f":"IFERROR(Розрахунок!D171,\" - \")","v":" - "},{"$f":"IFERROR(Розрахунок!E171,\" - \")","v":" - "},{"$f":"IFERROR(IF(Розрахунок!F171=\"\",\"\",Розрахунок!F171),\" - \")","v":" - "},{"$f":"IFERROR(IF(Розрахунок!G171=\"\",\"\",Розрахунок!G171),\" - \")","v":""},{"$f":"IFERROR(IF(Розрахунок!H171=\"\",\"\",Розрахунок!H171),\" - \")","v":" - "},{"$f":"IFERROR(Розрахунок!J171/1.2,\" - \")","v":" - "}," - "]
[164,{"$f":"IFERROR(IF(Розрахунок!B172=\"\",\"\",Розрахунок!B172),\" - \")","v":""},{"$f":"IFERROR(Розрахунок!D172,\" - \")","v":" - "},{"$f":"IFERROR(Розрахунок!E172,\" - \")","v":" - "},{"$f":"IFERROR(IF(Розрахунок!F172=\"\",\"\",Розрахунок!F172),\" - \")","v":" - "},{"$f":"IFERROR(IF(Розрахунок!G172=\"\",\"\",Розрахунок!G172),\" - \")","v":""},{"$f":"IFERROR(IF(Розрахунок!H172=\"\",\"\",Розрахунок!H172),\" - \")","v":" - "},{"$f":"IFERROR(Розрахунок!J172/1.2,\" - \")","v":" - "}," - "]
[165,{"$f":"IFERROR(IF(Розрахунок!B173=\"\",\"\",Розрахунок!B173),\" - \")","v":""},{"$f":"IFERROR(Розрахунок!D173,\" - \")","v":" - "},{"$f":"IFERROR(Розрахунок!E173,\" - \")","v":" - "},{"$f":"IFERROR(IF(Розрахунок!F173=\"\",\"\",Розрахунок!F173),\" - \")","v":" - "},{"$f":"IFERROR(IF(Розрахунок!G173=\"\",\"\",Розрахунок!G173),\" - \")","v":""},{"$f":"IFERROR(IF(Розрахунок!H173=\"\",\"\",Розрахунок!H173),\" - \")","v":" - "},{"$f":"IFERROR(Розрахунок!J173/1.2,\" - \")","v":" - "}," - "]
[166,{"$f":"IFERROR(IF(Розрахунок!B174=\"\",\"\",Розрахунок!B174),\" - \")","v":""},{"$f":"IFERROR(Розрахунок!D174,\" - \")","v":" - "},{"$f":"IFERROR(Розрахунок!E174,\" - \")","v":" - "},{"$f":"IFERROR(IF(Розрахунок!F174=\"\",\"\",Розрахунок!F174),\" - \")","v":" - "},{"$f":"IFERROR(IF(Розрахунок!G174=\"\",\"\",Розрахунок!G174),\" - \")","v":""},{"$f":"IFERROR(IF(Розрахунок!H174=\"\",\"\",Розрахунок!H174),\" - \")","v":" - "},{"$f":"IFERROR(Розрахунок!J174/1.2,\" - \")","v":" - "}," - "]
[167,{"$f":"IFERROR(IF(Розрахунок!B175=\"\",\"\",Розрахунок!B175),\" - \")","v":""},{"$f":"IFERROR(Розрахунок!D175,\" - \")","v":" - "},{"$f":"IFERROR(Розрахунок!E175,\" - \")","v":" - "},{"$f":"IFERROR(IF(Розрахунок!F175=\"\",\"\",Розрахунок!F175),\" - \")","v":" - "},{"$f":"IFERROR(IF(Розрахунок!G175=\"\",\"\",Розрахунок!G175),\" - \")","v":""},{"$f":"IFERROR(IF(Розрахунок!H175=\"\",\"\",Розрахунок!H175),\" - \")","v":" - "},{"$f":"IFERROR(Розрахунок!J175/1.2,\" - \")","v":" - "}," - "]
[168,{"$f":"IFERROR(IF(Розрахунок!B176=\"\",\"\",Розрахунок!B176),\" - \")","v":""},{"$f":"IFERROR(Розрахунок!D176,\" - \")","v":" - "},{"$f":"IFERROR(Розрахунок!E176,\" - \")","v":" - "},{"$f":"IFERROR(IF(Розрахунок!F176=\"\",\"\",Розрахунок!F176),\" - \")","v":" - "},{"$f":"IFERROR(IF(Розрахунок!G176=\"\",\"\",Розрахунок!G176),\" - \")","v":""},{"$f":"IFERROR(IF(Розрахунок!H176=\"\",\"\",Розрахунок!H176),\" - \")","v":" - "},{"$f":"IFERROR(Розрахунок!J176/1.2,\" - \")","v":" - "}," - "]
[169,{"$f":"IFERROR(IF(Розрахунок!B177=\"\",\"\",Розрахунок!B177),\" - \")","v":""},{"$f":"IFERROR(Розрахунок!D177,\" - \")","v":" - "},{"$f":"IFERROR(Розрахунок!E177,\" - \")","v":" - "},{"$f":"IFERROR(IF(Розрахунок!F177=\"\",\"\",Розрахунок!F177),\" - \")","v":" - "},{"$f":"IFERROR(IF(Розрахунок!G177=\"\",\"\",Розрахунок!G177),\" - \")","v":""},{"$f":"IFERROR(IF(Розрахунок!H177=\"\",\"\",Розрахунок!H177),\" - \")","v":" - "},{"$f":"IFERROR(Розрахунок!J177/1.2,\" - \")","v":" - "}," - "]
[170,{"$f":"IFERROR(IF(Розрахунок!B178=\"\",\"\",Розрахунок!B178),\" - \")","v":""},{"$f":"IFERROR(Розрахунок!D178,\" - \")","v":" - "},{"$f":"IFERROR(Розрахунок!E178,\" - \")","v":" - "},{"$f":"IFERROR(IF(Розрахунок!F178=\"\",\"\",Розрахунок!F178),\" - \")","v":" - "},{"$f":"IFERROR(IF(Розрахунок!G178=\"\",\"\",Розрахунок!G178),\" - \")","v":""},{"$f":"IFERROR(IF(Розрахунок!H178=\"\",\"\",Розрахунок!H178),\" - \")","v":" - "},{"$f":"IFERROR(Розрахунок!J178/1.2,\" - \")","v":" - "}," - "]
[171,{"$f":"IFERROR(IF(Розрахунок!B179=\"\",\"\",Розрахунок!B179),\" - \")","v":""},{"$f":"IFERROR(Розрахунок!D179,\" - \")","v":" - "},{"$f":"IFERROR(Розрахунок!E179,\" - \")","v":" - "},{"$f":"IFERROR(IF(Розрахунок!F179=\"\",\"\",Розрахунок!F179),\" - \")","v":" - "},{"$f":"IFERROR(IF(Розрахунок!G179=\"\",\"\",Розрахунок!G179),\" - \")","v":""},{"$f":"IFERROR(IF(Розрахунок!H179=\"\",\"\",Розрахунок!H179),\" - \")","v":" - "},{"$f":"IFERROR(Розрахунок!J179/1.2,\" - \")","v":" - "}," - "]
[172,{"$f":"IFERROR(IF(Розрахунок!B180=\"\",\"\",Розрахунок!B180),\" - \")","v":""},{"$f":"IFERROR(Розрахунок!D180,\" - \")","v":" - "},{"$f":"IFERROR(Розрахунок!E180,\" - \")","v":" - "},{"$f":"IFERROR(IF(Розрахунок!F180=\"\",\"\",Розрахунок!F180),\" - \")","v":" - "},{"$f":"IFERROR(IF(Розрахунок!G180=\"\",\"\",Розрахунок!G180),\" - \")","v":""},{"$f":"IFERROR(IF(Розрахунок!H180=\"\",\"\",Розрахунок!H180),\" - \")","v":" - "},{"$f":"IFERROR(Розрахунок!J180/1.2,\" - \")","v":" - "}," - "]
[173,{"$f":"IFERROR(IF(Розрахунок!B181=\"\",\"\",Розрахунок!B181),\" - \")","v":""},{"$f":"IFERROR(Розрахунок!D181,\" - \")","v":" - "},{"$f":"IFERROR(Розрахунок!E181,\" - \")","v":" - "},{"$f":"IFERROR(IF(Розрахунок!F181=\"\",\"\",Розрахунок!F181),\" - \")","v":" - "},{"$f":"IFERROR(IF(Розрахунок!G181=\"\",\"\",Розрахунок!G181),\" - \")","v":""},{"$f":"IFERROR(IF(Розрахунок!H181=\"\",\"\",Розрахунок!H181),\" - \")","v":" - "},{"$f":"IFERROR(Розрахунок!J181/1.2,\" - \")","v":" - "}," - "]
[174,{"$f":"IFERROR(IF(Розрахунок!B182=\"\",\"\",Розрахунок!B182),\" - \")","v":""},{"$f":"IFERROR(Розрахунок!D182,\" - \")","v":" - "},{"$f":"IFERROR(Розрахунок!E182,\" - \")","v":" - "},{"$f":"IFERROR(IF(Розрахунок!F182=\"\",\"\",Розрахунок!F182),\" - \")","v":" - "},{"$f":"IFERROR(IF(Розрахунок!G182=\"\",\"\",Розрахунок!G182),\" - \")","v":""},{"$f":"IFERROR(IF(Розрахунок!H182=\"\",\"\",Розрахунок!H182),\" - \")","v":" - "},{"$f":"IFERROR(Розрахунок!J182/1.2,\" - \")","v":" - "}," - "]
[175,{"$f":"IFERROR(IF(Розрахунок!B183=\"\",\"\",Розрахунок!B183),\" - \")","v":""},{"$f":"IFERROR(Розрахунок!D183,\" - \")","v":" - "},{"$f":"IFERROR(Розрахунок!E183,\" - \")","v":" - "},{"$f":"IFERROR(IF(Розрахунок!F183=\"\",\"\",Розрахунок!F183),\" - \")","v":" - "},{"$f":"IFERROR(IF(Розрахунок!G183=\"\",\"\",Розрахунок!G183),\" - \")","v":""},{"$f":"IFERROR(IF(Розрахунок!H183=\"\",\"\",Розрахунок!H183),\" - \")","v":" - "},{"$f":"IFERROR(Розрахунок!J183/1.2,\" - \")","v":" - "}," - "]
[176,{"$f":"IFERROR(IF(Розрахунок!B184=\"\",\"\",Розрахунок!B184),\" - \")","v":""},{"$f":"IFERROR(Розрахунок!D184,\" - \")","v":" - "},{"$f":"IFERROR(Розрахунок!E184,\" - \")","v":" - "},{"$f":"IFERROR(IF(Розрахунок!F184=\"\",\"\",Розрахунок!F184),\" - \")","v":" - "},{"$f":"IFERROR(IF(Розрахунок!G184=\"\",\"\",Розрахунок!G184),\" - \")","v":""},{"$f":"IFERROR(IF(Розрахунок!H184=\"\",\"\",Розрахунок!H184),\" - \")","v":" - "},{"$f":"IFERROR(Розрахунок!J184/1.2,\" - \")","v":" - "}," - "]
[177,{"$f":"IFERROR(IF(Розрахунок!B185=\"\",\"\",Розрахунок!B185),\" - \")","v":""},{"$f":"IFERROR(Розрахунок!D185,\" - \")","v":" - "},{"$f":"IFERROR(Розрахунок!E185,\" - \")","v":" - "},{"$f":"IFERROR(IF(Розрахунок!F185=\"\",\"\",Розрахунок!F185),\" - \")","v":" - "},{"$f":"IFERROR(IF(Розрахунок!G185=\"\",\"\",Розрахунок!G185),\" - \")","v":""},{"$f":"IFERROR(IF(Розрахунок!H185=\"\",\"\",Розрахунок!H185),\" - \")","v":" - "},{"$f":"IFERROR(Розрахунок!J185/1.2,\" - \")","v":" - "}," - "]
[178,{"$f":"IFERROR(IF(Розрахунок!B186=\"\",\"\",Розрахунок!B186),\" - \")","v":""},{"$f":"IFERROR(Розрахунок!D186,\" - \")","v":" - "},{"$f":"IFERROR(Розрахунок!E186,\" - \")","v":" - "},{"$f":"IFERROR(IF(Розрахунок!F186=\"\",\"\",Розрахунок!F186),\" - \")","v":" - "},{"$f":"IFERROR(IF(Розрахунок!G186=\"\",\"\",Розрахунок!G186),\" - \")","v":""},{"$f":"IFERROR(IF(Розрахунок!H186=\"\",\"\",Розрахунок!H186),\" - \")","v":" - "},{"$f":"IFERROR(Розрахунок!J186/1.2,\" - \")","v":" - "}," - "]
[179,{"$f":"IFERROR(IF(Розрахунок!B187=\"\",\"\",Розрахунок!B187),\" - \")","v":""},{"$f":"IFERROR(Розрахунок!D187,\" - \")","v":" - "},{"$f":"IFERROR(Розрахунок!E187,\" - \")","v":" - "},{"$f":"IFERROR(IF(Розрахунок!F187=\"\",\"\",Розрахунок!F187),\" - \")","v":" - "},{"$f":"IFERROR(IF(Розрахунок!G187=\"\",\"\",Розрахунок!G187),\" - \")","v":""},{"$f":"IFERROR(IF(Розрахунок!H187=\"\",\"\",Розрахунок!H187),\" - \")","v":" - "},{"$f":"IFERROR(Розрахунок!J187/1.2,\" - \")","v":" - "}," - "]
[180,{"$f":"IFERROR(IF(Розрахунок!B188=\"\",\"\",Розрахунок!B188),\" - \")","v":""},{"$f":"IFERROR(Розрахунок!D188,\" - \")","v":" - "},{"$f":"IFERROR(Розрахунок!E188,\" - \")","v":" - "},{"$f":"IFERROR(IF(Розрахунок!F188=\"\",\"\",Розрахунок!F188),\" - \")","v":" - "},{"$f":"IFERROR(IF(Розрахунок!G188=\"\",\"\",Розрахунок!G188),\" - \")","v":""},{"$f":"IFERROR(IF(Розрахунок!H188=\"\",\"\",Розрахунок!H188),\" - \")","v":" - "},{"$f":"IFERROR(Розрахунок!J188/1.2,\" - \")","v":" - "}," - "]
[181,{"$f":"IFERROR(IF(Розрахунок!B189=\"\",\"\",Розрахунок!B189),\" - \")","v":""},{"$f":"IFERROR(Розрахунок!D189,\" - \")","v":" - "},{"$f":"IFERROR(Розрахунок!E189,\" - \")","v":" - "},{"$f":"IFERROR(IF(Розрахунок!F189=\"\",\"\",Розрахунок!F189),\" - \")","v":" - "},{"$f":"IFERROR(IF(Розрахунок!G189=\"\",\"\",Розрахунок!G189),\" - \")","v":""},{"$f":"IFERROR(IF(Розрахунок!H189=\"\",\"\",Розрахунок!H189),\" - \")","v":" - "},{"$f":"IFERROR(Розрахунок!J189/1.2,\" - \")","v":" - "}," - "]
[182,{"$f":"IFERROR(IF(Розрахунок!B190=\"\",\"\",Розрахунок!B190),\" - \")","v":""},{"$f":"IFERROR(Розрахунок!D190,\" - \")","v":" - "},{"$f":"IFERROR(Розрахунок!E190,\" - \")","v":" - "},{"$f":"IFERROR(IF(Розрахунок!F190=\"\",\"\",Розрахунок!F190),\" - \")","v":" - "},{"$f":"IFERROR(IF(Розрахунок!G190=\"\",\"\",Розрахунок!G190),\" - \")","v":""},{"$f":"IFERROR(IF(Розрахунок!H190=\"\",\"\",Розрахунок!H190),\" - \")","v":" - "},{"$f":"IFERROR(Розрахунок!J190/1.2,\" - \")","v":" - "}," - "]
[183,{"$f":"IFERROR(IF(Розрахунок!B191=\"\",\"\",Розрахунок!B191),\" - \")","v":""},{"$f":"IFERROR(Розрахунок!D191,\" - \")","v":" - "},{"$f":"IFERROR(Розрахунок!E191,\" - \")","v":" - "},{"$f":"IFERROR(IF(Розрахунок!F191=\"\",\"\",Розрахунок!F191),\" - \")","v":" - "},{"$f":"IFERROR(IF(Розрахунок!G191=\"\",\"\",Розрахунок!G191),\" - \")","v":""},{"$f":"IFERROR(IF(Розрахунок!H191=\"\",\"\",Розрахунок!H191),\" - \")","v":" - "},{"$f":"IFERROR(Розрахунок!J191/1.2,\" - \")","v":" - "}," - "]
[184,{"$f":"IFERROR(IF(Розрахунок!B192=\"\",\"\",Розрахунок!B192),\" - \")","v":""},{"$f":"IFERROR(Розрахунок!D192,\" - \")","v":" - "},{"$f":"IFERROR(Розрахунок!E192,\" - \")","v":" - "},{"$f":"IFERROR(IF(Розрахунок!F192=\"\",\"\",Розрахунок!F192),\" - \")","v":" - "},{"$f":"IFERROR(IF(Розрахунок!G192=\"\",\"\",Розрахунок!G192),\" - \")","v":""},{"$f":"IFERROR(IF(Розрахунок!H192=\"\",\"\",Розрахунок!H192),\" - \")","v":" - "},{"$f":"IFERROR(Розрахунок!J192/1.2,\" - \")","v":" - "}," - "]
[185,{"$f":"IFERROR(IF(Розрахунок!B193=\"\",\"\",Розрахунок!B193),\" - \")","v":""},{"$f":"IFERROR(Розрахунок!D193,\" - \")","v":" - "},{"$f":"IFERROR(Розрахунок!E193,\" - \")","v":" - "},{"$f":"IFERROR(IF(Розрахунок!F193=\"\",\"\",Розрахунок!F193),\" - \")","v":" - "},{"$f":"IFERROR(IF(Розрахунок!G193=\"\",\"\",Розрахунок!G193),\" - \")","v":""},{"$f":"IFERROR(IF(Розрахунок!H193=\"\",\"\",Розрахунок!H193),\" - \")","v":" - "},{"$f":"IFERROR(Розрахунок!J193/1.2,\" - \")","v":" - "}," - "]
[186,{"$f":"IFERROR(IF(Розрахунок!B194=\"\",\"\",Розрахунок!B194),\" - \")","v":""},{"$f":"IFERROR(Розрахунок!D194,\" - \")","v":" - "},{"$f":"IFERROR(Розрахунок!E194,\" - \")","v":" - "},{"$f":"IFERROR(IF(Розрахунок!F194=\"\",\"\",Розрахунок!F194),\" - \")","v":" - "},{"$f":"IFERROR(IF(Розрахунок!G194=\"\",\"\",Розрахунок!G194),\" - \")","v":""},{"$f":"IFERROR(IF(Розрахунок!H194=\"\",\"\",Розрахунок!H194),\" - \")","v":" - "},{"$f":"IFERROR(Розрахунок!J194/1.2,\" - \")","v":" - "}," - "]
[187,{"$f":"IFERROR(IF(Розрахунок!B195=\"\",\"\",Розрахунок!B195),\" - \")","v":""},{"$f":"IFERROR(Розрахунок!D195,\" - \")","v":" - "},{"$f":"IFERROR(Розрахунок!E195,\" - \")","v":" - "},{"$f":"IFERROR(IF(Розрахунок!F195=\"\",\"\",Розрахунок!F195),\" - \")","v":" - "},{"$f":"IFERROR(IF(Розрахунок!G195=\"\",\"\",Розрахунок!G195),\" - \")","v":""},{"$f":"IFERROR(IF(Розрахунок!H195=\"\",\"\",Розрахунок!H195),\" - \")","v":" - "},{"$f":"IFERROR(Розрахунок!J195/1.2,\" - \")","v":" - "}," - "]
[188,{"$f":"IFERROR(IF(Розрахунок!B196=\"\",\"\",Розрахунок!B196),\" - \")","v":""},{"$f":"IFERROR(Розрахунок!D196,\" - \")","v":" - "},{"$f":"IFERROR(Розрахунок!E196,\" - \")","v":" - "},{"$f":"IFERROR(IF(Розрахунок!F196=\"\",\"\",Розрахунок!F196),\" - \")","v":" - "},{"$f":"IFERROR(IF(Розрахунок!G196=\"\",\"\",Розрахунок!G196),\" - \")","v":""},{"$f":"IFERROR(IF(Розрахунок!H196=\"\",\"\",Розрахунок!H196),\" - \")","v":" - "},{"$f":"IFERROR(Розрахунок!J196/1.2,\" - \")","v":" - "}," - "]
[189,{"$f":"IFERROR(IF(Розрахунок!B197=\"\",\"\",Розрахунок!B197),\" - \")","v":""},{"$f":"IFERROR(Розрахунок!D197,\" - \")","v":" - "},{"$f":"IFERROR(Розрахунок!E197,\" - \")","v":" - "},{"$f":"IFERROR(IF(Розрахунок!F197=\"\",\"\",Розрахунок!F197),\" - \")","v":" - "},{"$f":"IFERROR(IF(Розрахунок!G197=\"\",\"\",Розрахунок!G197),\" - \")","v":""},{"$f":"IFERROR(IF(Розрахунок!H197=\"\",\"\",Розрахунок!H197),\" - \")","v":" - "},{"$f":"IFERROR(Розрахунок!J197/1.2,\" - \")","v":" - "}," - "]
[190,{"$f":"IFERROR(IF(Розрахунок!B198=\"\",\"\",Розрахунок!B198),\" - \")","v":""},{"$f":"IFERROR(Розрахунок!D198,\" - \")","v":" - "},{"$f":"IFERROR(Розрахунок!E198,\" - \")","v":" - "},{"$f":"IFERROR(IF(Розрахунок!F198=\"\",\"\",Розрахунок!F198),\" - \")","v":" - "},{"$f":"IFERROR(IF(Розрахунок!G198=\"\",\"\",Розрахунок!G198),\" - \")","v":""},{"$f":"IFERROR(IF(Розрахунок!H198=\"\",\"\",Розрахунок!H198),\" - \")","v":" - "},{"$f":"IFERROR(Розрахунок!J198/1.2,\" - \")","v":" - "}," - "]
[191,{"$f":"IFERROR(IF(Розрахунок!B199=\"\",\"\",Розрахунок!B199),\" - \")","v":""},{"$f":"IFERROR(Розрахунок!D199,\" - \")","v":" - "},{"$f":"IFERROR(Розрахунок!E199,\" - \")","v":" - "},{"$f":"IFERROR(IF(Розрахунок!F199=\"\",\"\",Розрахунок!F199),\" - \")","v":" - "},{"$f":"IFERROR(IF(Розрахунок!G199=\"\",\"\",Розрахунок!G199),\" - \")","v":""},{"$f":"IFERROR(IF(Розрахунок!H199=\"\",\"\",Розрахунок!H199),\" - \")","v":" - "},{"$f":"IFERROR(Розрахунок!J199/1.2,\" - \")","v":" - "}," - "]
[192,{"$f":"IFERROR(IF(Розрахунок!B200=\"\",\"\",Розрахунок!B200),\" - \")","v":""},{"$f":"IFERROR(Розрахунок!D200,\" - \")","v":" - "},{"$f":"IFERROR(Розрахунок!E200,\" - \")","v":" - "},{"$f":"IFERROR(IF(Розрахунок!F200=\"\",\"\",Розрахунок!F200),\" - \")","v":" - "},{"$f":"IFERROR(IF(Розрахунок!G200=\"\",\"\",Розрахунок!G200),\" - \")","v":""},{"$f":"IFERROR(IF(Розрахунок!H200=\"\",\"\",Розрахунок!H200),\" - \")","v":" - "},{"$f":"IFERROR(Розрахунок!J200/1.2,\" - \")","v":" - "}," - "]
[193,{"$f":"IFERROR(IF(Розрахунок!B201=\"\",\"\",Розрахунок!B201),\" - \")","v":""},{"$f":"IFERROR(Розрахунок!D201,\" - \")","v":" - "},{"$f":"IFERROR(Розрахунок!E201,\" - \")","v":" - "},{"$f":"IFERROR(IF(Розрахунок!F201=\"\",\"\",Розрахунок!F201),\" - \")","v":" - "},{"$f":"IFERROR(IF(Розрахунок!G201=\"\",\"\",Розрахунок!G201),\" - \")","v":""},{"$f":"IFERROR(IF(Розрахунок!H201=\"\",\"\",Розрахунок!H201),\" - \")","v":" - "},{"$f":"IFERROR(Розрахунок!J201/1.2,\" - \")","v":" - "}," - "]
[194,{"$f":"IFERROR(IF(Розрахунок!B202=\"\",\"\",Розрахунок!B202),\" - \")","v":""},{"$f":"IFERROR(Розрахунок!D202,\" - \")","v":" - "},{"$f":"IFERROR(Розрахунок!E202,\" - \")","v":" - "},{"$f":"IFERROR(IF(Розрахунок!F202=\"\",\"\",Розрахунок!F202),\" - \")","v":" - "},{"$f":"IFERROR(IF(Розрахунок!G202=\"\",\"\",Розрахунок!G202),\" - \")","v":""},{"$f":"IFERROR(IF(Розрахунок!H202=\"\",\"\",Розрахунок!H202),\" - \")","v":" - "},{"$f":"IFERROR(Розрахунок!J202/1.2,\" - \")","v":" - "}," - "]
[195,{"$f":"IFERROR(IF(Розрахунок!B203=\"\",\"\",Розрахунок!B203),\" - \")","v":""},{"$f":"IFERROR(Розрахунок!D203,\" - \")","v":" - "},{"$f":"IFERROR(Розрахунок!E203,\" - \")","v":" - "},{"$f":"IFERROR(IF(Розрахунок!F203=\"\",\"\",Розрахунок!F203),\" - \")","v":" - "},{"$f":"IFERROR(IF(Розрахунок!G203=\"\",\"\",Розрахунок!G203),\" - \")","v":""},{"$f":"IFERROR(IF(Розрахунок!H203=\"\",\"\",Розрахунок!H203),\" - \")","v":" - "},{"$f":"IFERROR(Розрахунок!J203/1.2,\" - \")","v":" - "}," - "]
[196,{"$f":"IFERROR(IF(Розрахунок!B204=\"\",\"\",Розрахунок!B204),\" - \")","v":""},{"$f":"IFERROR(Розрахунок!D204,\" - \")","v":" - "},{"$f":"IFERROR(Розрахунок!E204,\" - \")","v":" - "},{"$f":"IFERROR(IF(Розрахунок!F204=\"\",\"\",Розрахунок!F204),\" - \")","v":" - "},{"$f":"IFERROR(IF(Розрахунок!G204=\"\",\"\",Розрахунок!G204),\" - \")","v":""},{"$f":"IFERROR(IF(Розрахунок!H204=\"\",\"\",Розрахунок!H204),\" - \")","v":" - "},{"$f":"IFERROR(Розрахунок!J204/1.2,\" - \")","v":" - "}," - "]
[197,{"$f":"IFERROR(IF(Розрахунок!B205=\"\",\"\",Розрахунок!B205),\" - \")","v":""},{"$f":"IFERROR(Розрахунок!D205,\" - \")","v":" - "},{"$f":"IFERROR(Розрахунок!E205,\" - \")","v":" - "},{"$f":"IFERROR(IF(Розрахунок!F205=\"\",\"\",Розрахунок!F205),\" - \")","v":" - "},{"$f":"IFERROR(IF(Розрахунок!G205=\"\",\"\",Розрахунок!G205),\" - \")","v":""},{"$f":"IFERROR(IF(Розрахунок!H205=\"\",\"\",Розрахунок!H205),\" - \")","v":" - "},{"$f":"IFERROR(Розрахунок!J205/1.2,\" - \")","v":" - "}," - "]
[198,{"$f":"IFERROR(IF(Розрахунок!B206=\"\",\"\",Розрахунок!B206),\" - \")","v":""},{"$f":"IFERROR(Розрахунок!D206,\" - \")","v":" - "},{"$f":"IFERROR(Розрахунок!E206,\" - \")","v":" - "},{"$f":"IFERROR(IF(Розрахунок!F206=\"\",\"\",Розрахунок!F206),\" - \")","v":" - "},{"$f":"IFERROR(IF(Розрахунок!G206=\"\",\"\",Розрахунок!G206),\" - \")","v":""},{"$f":"IFERROR(IF(Розрахунок!H206=\"\",\"\",Розрахунок!H206),\" - \")","v":" - "},{"$f":"IFERROR(Розрахунок!J206/1.2,\" - \")","v":" - "}," - "]
[199,{"$f":"IFERROR(IF(Розрахунок!B207=\"\",\"\",Розрахунок!B207),\" - \")","v":""},{"$f":"IFERROR(Розрахунок!D207,\" - \")","v":" - "},{"$f":"IFERROR(Розрахунок!E207,\" - \")","v":" - "},{"$f":"IFERROR(IF(Розрахунок!F207=\"\",\"\",Розрахунок!F207),\" - \")","v":" - "},{"$f":"IFERROR(IF(Розрахунок!G207=\"\",\"\",Розрахунок!G207),\" - \")","v":""},{"$f":"IFERROR(IF(Розрахунок!H207=\"\",\"\",Розрахунок!H207),\" - \")","v":" - "},{"$f":"IFERROR(Розрахунок!J207/1.2,\" - \")","v":" - "}," - "]
[200,{"$f":"IFERROR(IF(Розрахунок!B208=\"\",\"\",Розрахунок!B208),\" - \")","v":""},{"$f":"IFERROR(Розрахунок!D208,\" - \")","v":" - "},{"$f":"IFERROR(Розрахунок!E208,\" - \")","v":" - "},{"$f":"IFERROR(IF(Розрахунок!F208=\"\",\"\",Розрахунок!F208),\" - \")","v":" - "},{"$f":"IFERROR(IF(Розрахунок!G208=\"\",\"\",Розрахунок!G208),\" - \")","v":""},{"$f":"IFERROR(IF(Розрахунок!H208=\"\",\"\",Розрахунок!H208),\" - \")","v":" - "},{"$f":"IFERROR(Розрахунок!J208/1.2,\" - \")","v":" - "}," - "]
["Сума без ПДВ:",null,null,null,null,null,null,null,{"$f":"SUM(I14:I213)","v":0}]
["ПДВ:",null,null,null,null,null,null,null,{"$f":"ROUND(I214*0.2,2)","v":0}]
["Всього з ПДВ:",null,null,null,null,null,null,null,{"$f":"I214+I215","v":0}]
[]
[]
[null,"Контактна особа: ",null,"тел: _______________"]

{"sheet":"MPG","index":5,"n_rows":53,"n_cols":6,"rows_kept":53,"cut":false,"hidden":true,"merged":[]}
["LBU name","BU","MPG name","MPG code 2019","Завод-виробник: ","Гарантія: "]
["EPMV","EPDS","MV Relay Protect DA","3M","уточнюйте","12/18 місяців"]
["EPMV","EPDS","MV IT Indoor 35kV","BP","ABB s.r.o., Чеська Республіка","24/30 місяців"]
["EPMV","EPDS","MV CB Ind Vac 35kV","BR","ABB SpA., Італія","12/18 місяців"]
["EPMV","EPDS","MV Switch Apparatus","BS","ABB SpA., Італія","12/18 місяців"]
["EPMV","EPDS","MV Contactors","BT","ABB SpA., Італія","12/18 місяців"]
["EPMV","EPDS","MV CB Ind SF6 35kV","BU","ABB SpA., Італія","12/18 місяців"]
["EPMV","EPDS","MV/LV Compact Subst","DV",null,"12/18 місяців"]
["EPMV","EPDS","MV PoleMounted App","DY","уточнюйте","12/18 місяців"]
["EPMV","EPDS","MV IT Outdoor","DZ","ABB s.r.o., Чеська Республіка","12/18 місяців"]
["EPMV","EPDS","MV Cassettes, trucks","MW","ABB SpA., Італія","12/18 місяців"]
["EPMV","EPDS","MV SWG Primary","NH",null,"12/18 місяців"]
["EPMV","EPDS","MV Fuses","NI","уточнюйте","12/18 місяців"]
["EPMV","EPDS","MV CB Outdoor","NO","ABB India Limited, Індія","12/18 місяців"]
["EPMV","EPDS","MV CB Ind Vac 10kV","NR","ABB SpA., Італія","12/18 місяців"]
["EPMV","EPDS","MV SWG Secondary","NT","ABB AS, Норвегія","12/18 місяців"]
["EPMV","EPDS","MV CB Ind SF6 10kV","NU","ABB SpA., Італія","12/18 місяців"]
["EPMV","EPDS","MV IT Indoor 10kV","NY","ABB s.r.o., Чеська Республіка","24/30 місяців"]
["EPMV","EPDS","MV Railway Products","BH","уточнюйте","12/18 місяців"]
["EPMV","EPDS","MV RCCT","U5","ABB s.r.o., Чеська Республіка","24/30 місяців"]
["EPBS","EPPC","MCCBs FormulA + acc.","A0"]
["EPBS","EPPC","MCCBs Tmax,XT ≤800A+","A1"]
["EPBS","EPPC","MCCBs Tmax > 800A","A2"]
["EPBS","EPPC","ACBs Emax","A3"]
["EPBS","EPPC","ACBs Emax acc.","A4"]
["EPBS","EPPC","OT,CO,ATS ≤800A+acc.","B6"]
["EPBS","EPPC","OT,CO,ATS > 800A","B7"]
["EPBS","EPPC","CAM, OS, Encl. swt.","C3"]
["EPBS","EPPC","Fusegear","E7"]
["EPBS","EPPC","Kabeldon IP-system","F1"]
["EPED","EPPC","Automation DB","G7"]
["EPED","EPPC","Main DB","H4"]
["EPCP","EPPC","ControlGear Equip","N3"]
["EPCP","EPPC","Safety Products","S4"]
["EPCP","EPPC","Electronic Products","S7"]
["EPSO","EPPC","SolarPowerOneProject","CB"]
["EPSO","EPPC","Solar/Power One","CC"]
["EPPC","EPPC","Power Protection/UPS","CD"]
["EPPC","EPPC","EV Chargers","BJ"]
["EPED","EPBP","Consumer units","AR"]
["EPED","EPBP","Sub DB","H6"]
["EPED","EPBP","Modular Equip Home","I1"]
["EPED","EPBP","Modular Equip Std","I4"]
["EPED","EPBP","Power Quality Equip","J5"]
["EPED","EPBP","Install Materials","K7"]
["EPED","EPBP","Modular Equip Basic","V4"]
["EPWA","EPBP","WA/Industrial","AM"]
["EPWA","EPBP","F&H/DES/Contr.syst.","X5"]
["EPWA","EPBP","WA/Design","Y2"]
["EPWA","EPBP","WA/Standard","Y3"]
["EPWA","EPBP","WA/Elbi","Y4"]
["EPWA","EPBP","WA/EIB equipment","M7"]
[null,"EP","EP Service","BK"]